{"text_format":"1","workbook":"xlsx","n_sheets":13,"sheets":["Start","Driftsgrensopdeling","Grise","Kvæg","Planteavl","Maskiner","Udskrift","Budget grise, hjælpeark","Budget kvæg, hjælpeark","#Lister","#Log","#Import","Ark1"],"not_rendered":{"charts":0,"images":0,"macros":1,"external_links":1,"defined_names":80,"comments":10,"pivot_tables":0},"unopened":[],"bounds":{"document_bytes":16777216,"sheet_cells":100000,"rows_first":2000,"rows_last":500,"rows_between":2000,"halvings":0,"cell_chars":16384,"cell_head_chars":4096},"cells_cut":0,"cells_raw":0,"read":"whole","date_system":"1900"}

{"sheet":"Start","index":0,"n_rows":1816,"n_cols":22,"rows_kept":1816,"cut":false,"hidden":false,"merged":[]}
[null,null,null,null,"Skjul tomme kolonner",null,null,null,"Vis/skjul 1",1,true]
[null,null,null,null,null,null,null,null,"Vis/skjul 2",2,true]
[null,null,null,null,null,null,null,null,"Vis/skjul 3",3,true]
[null,null,null,null,null,null,null,null,null,4]
["Skjul tomme rækker","Vis tomme rækker","Vis tomme rækker",null,null,null,null,null,null,5]
[null,null,null,null,null,null,null,null,null,6]
[null,null,null,null,null,null,null,null,null,7]
[null,null,null,null,null,null,null,null,null,8]
["Vis tomme rækker","Vis/skjul 2","Vis/skjul 3",null,null,null,null,null,null,9]
[1,2,3,4,5,6,7,8,9,10]
[true,true,true,null,null,null,null,null,null,null,null,null,null,null,null,null,null,null,"Versionsnummer:",null,2024,",1"]
[null,null,null,null,null,null,null,null,null,null,null,"Grunddata"]
[null,null,null,null,null,null,null,null,null,null,null,"Navn:"]
[]
[]
[null,null,null,null,null,null,null,null,null,null,null,null,"Seneste\nregnskab","Budget år 1","Budget år 2","Budget år 3"]
[null,null,null,null,null,null,null,null,null,null,null,null,2023,{"$f":"+År0+1","v":2024},{"$f":"+År1+1","v":2025},{"$f":"+År2+1","v":2026}]
[]
[]
[]
[]
[]
[]
[]
[]
[]
[]
[]
[]
[]
[]
[]
[]
[]
[]
[]
[]
[]
[]
[]
[]
[]
[]
[]
[]
[]
[]
[]
[]
[]
[]
[]
[]
[]
[]
[]
[]
[]
[]
[]
[]
[]
[]
[]
[]
[]
[]
[]
[]
[]
[]
[]
[]
[]
[]
[]
[]
[]
[]
[]
[]
[]
[]
[]
[]
[]
[]
[]
[]
[]
[]
[]
[]
[]
[]
[]
[]
[]
[]
[]
[]
[]
[]
[]
[]
[]
[]
[]
[]
[]
[]
[]
[]
[]
[]
[]
[]
[]
[]
[]
[]
[]
[]
[]
[]
[]
[]
[]
[]
[]
[]
[]
[]
[]
[]
[]
[]
[]
[]
[]
[]
[]
[]
[]
[]
[]
[]
[]
[]
[]
[]
[]
[]
[]
[]
[]
[]
[]
[]
[]
[]
[]
[]
[]
[]
[]
[]
[]
[]
[]
[]
[]
[]
[]
[]
[]
[]
[]
[]
[]
[]
[]
[]
[]
[]
[]
[]
[]
[]
[]
[]
[]
[]
[]
[]
[]
[]
[]
[]
[]
[]
[]
[]
[]
[]
[]
[]
[]
[]
[]
[]
[]
[]
[]
[]
[]
[]
[]
[]
[]
[]
[]
[]
[]
[]
[]
[]
[]
[]
[]
[]
[]
[]
[]
[]
[]
[]
[]
[]
[]
[]
[]
[]
[]
[]
[]
[]
[]
[]
[]
[]
[]
[]
[]
[]
[]
[]
[]
[]
[]
[]
[]
[]
[]
[]
[]
[]
[]
[]
[]
[]
[]
[]
[]
[]
[]
[]
[]
[]
[]
[]
[]
[]
[]
[]
[]
[]
[]
[]
[]
[]
[]
[]
[]
[]
[]
[]
[]
[]
[]
[]
[]
[]
[]
[]
[]
[]
[]
[]
[]
[]
[]
[]
[]
[]
[]
[]
[]
[]
[]
[]
[]
[]
[]
[]
[]
[]
[]
[]
[]
[]
[]
[]
[]
[]
[]
[]
[]
[]
[]
[]
[]
[]
[]
[]
[]
[]
[]
[]
[]
[]
[]
[]
[]
[]
[]
[]
[]
[]
[]
[]
[]
[]
[]
[]
[]
[]
[]
[]
[]
[]
[]
[]
[]
[]
[]
[]
[]
[]
[]
[]
[]
[]
[]
[]
[]
[]
[]
[]
[]
[]
[]
[]
[]
[]
[]
[]
[]
[]
[]
[]
[]
[]
[]
[]
[]
[]
[]
[]
[]
[]
[]
[]
[]
[]
[]
[]
[]
[]
[]
[]
[]
[]
[]
[]
[]
[]
[]
[]
[]
[]
[]
[]
[]
[]
[]
[]
[]
[]
[]
[]
[]
[]
[]
[]
[]
[]
[]
[]
[]
[]
[]
[]
[]
[]
[]
[]
[]
[]
[]
[]
[]
[]
[]
[]
[]
[]
[]
[]
[]
[]
[]
[]
[]
[]
[]
[]
[]
[]
[]
[]
[]
[]
[]
[]
[]
[]
[]
[]
[]
[]
[]
[]
[]
[]
[]
[]
[]
[]
[]
[]
[]
[]
[]
[]
[]
[]
[]
[]
[]
[]
[]
[]
[]
[]
[]
[]
[]
[]
[]
[]
[]
[]
[]
[]
[]
[]
[]
[]
[]
[]
[]
[]
[]
[]
[]
[]
[]
[]
[]
[]
[]
[]
[]
[]
[]
[]
[]
[]
[]
[]
[]
[]
[]
[]
[]
[]
[]
[]
[]
[]
[]
[]
[]
[]
[]
[]
[]
[]
[]
[]
[]
[]
[]
[]
[]
[]
[]
[]
[]
[]
[]
[]
[]
[]
[]
[]
[]
[]
[]
[]
[]
[]
[]
[]
[]
[]
[]
[]
[]
[]
[]
[]
[]
[]
[]
[]
[]
[]
[]
[]
[]
[]
[]
[]
[]
[]
[]
[]
[]
[]
[]
[]
[]
[]
[]
[]
[]
[]
[]
[]
[]
[]
[]
[]
[]
[]
[]
[]
[]
[]
[]
[]
[]
[]
[]
[]
[]
[]
[]
[]
[]
[]
[]
[]
[]
[]
[]
[]
[]
[]
[]
[]
[]
[]
[]
[]
[]
[]
[]
[]
[]
[]
[]
[]
[]
[]
[]
[]
[]
[]
[]
[]
[]
[]
[]
[]
[]
[]
[]
[]
[]
[]
[]
[]
[]
[]
[]
[]
[]
[]
[]
[]
[]
[]
[]
[]
[]
[]
[]
[]
[]
[]
[]
[]
[]
[]
[]
[]
[]
[]
[]
[]
[]
[]
[]
[]
[]
[]
[]
[]
[]
[]
[]
[]
[]
[]
[]
[]
[]
[]
[]
[]
[]
[]
[]
[]
[]
[]
[]
[]
[]
[]
[]
[]
[]
[]
[]
[]
[]
[]
[]
[]
[]
[]
[]
[]
[]
[]
[]
[]
[]
[]
[]
[]
[]
[]
[]
[]
[]
[]
[]
[]
[]
[]
[]
[]
[]
[]
[]
[]
[]
[]
[]
[]
[]
[]
[]
[]
[]
[]
[]
[]
[]
[]
[]
[]
[]
[]
[]
[]
[]
[]
[]
[]
[]
[]
[]
[]
[]
[]
[]
[]
[]
[]
[]
[]
[]
[]
[]
[]
[]
[]
[]
[]
[]
[]
[]
[]
[]
[]
[]
[]
[]
[]
[]
[]
[]
[]
[]
[]
[]
[]
[]
[]
[]
[]
[]
[]
[]
[]
[]
[]
[]
[]
[]
[]
[]
[]
[]
[]
[]
[]
[]
[]
[]
[]
[]
[]
[]
[]
[]
[]
[]
[]
[]
[]
[]
[]
[]
[]
[]
[]
[]
[]
[]
[]
[]
[]
[]
[]
[]
[]
[]
[]
[]
[]
[]
[]
[]
[]
[]
[]
[]
[]
[]
[]
[]
[]
[]
[]
[]
[]
[]
[]
[]
[]
[]
[]
[]
[]
[]
[]
[]
[]
[]
[]
[]
[]
[]
[]
[]
[]
[]
[]
[]
[]
[]
[]
[]
[]
[]
[]
[]
[]
[]
[]
[]
[]
[]
[]
[]
[]
[]
[]
[]
[]
[]
[]
[]
[]
[]
[]
[]
[]
[]
[]
[]
[]
[]
[]
[]
[]
[]
[]
[]
[]
[]
[]
[]
[]
[]
[]
[]
[]
[]
[]
[]
[]
[]
[]
[]
[]
[]
[]
[]
[]
[]
[]
[]
[]
[]
[]
[]
[]
[]
[]
[]
[]
[]
[]
[]
[]
[]
[]
[]
[]
[]
[]
[]
[]
[]
[]
[]
[]
[]
[]
[]
[]
[]
[]
[]
[]
[]
[]
[]
[]
[]
[]
[]
[]
[]
[]
[]
[]
[]
[]
[]
[]
[]
[]
[]
[]
[]
[]
[]
[]
[]
[]
[]
[]
[]
[]
[]
[]
[]
[]
[]
[]
[]
[]
[]
[]
[]
[]
[]
[]
[]
[]
[]
[]
[]
[]
[]
[]
[]
[]
[]
[]
[]
[]
[]
[]
[]
[]
[]
[]
[]
[]
[]
[]
[]
[]
[]
[]
[]
[]
[]
[]
[]
[]
[]
[]
[]
[]
[]
[]
[]
[]
[]
[]
[]
[]
[]
[]
[]
[]
[]
[]
[]
[]
[]
[]
[]
[]
[]
[]
[]
[]
[]
[]
[]
[]
[]
[]
[]
[]
[]
[]
[]
[]
[]
[]
[]
[]
[]
[]
[]
[]
[]
[]
[]
[]
[]
[]
[]
[]
[]
[]
[]
[]
[]
[]
[]
[]
[]
[]
[]
[]
[]
[]
[]
[]
[]
[]
[]
[]
[]
[]
[]
[]
[]
[]
[]
[]
[]
[]
[]
[]
[]
[]
[]
[]
[]
[]
[]
[]
[]
[]
[]
[]
[]
[]
[]
[]
[]
[]
[]
[]
[]
[]
[]
[]
[]
[]
[]
[]
[]
[]
[]
[]
[]
[]
[]
[]
[]
[]
[]
[]
[]
[]
[]
[]
[]
[]
[]
[]
[]
[]
[]
[]
[]
[]
[]
[]
[]
[]
[]
[]
[]
[]
[]
[]
[]
[]
[]
[]
[]
[]
[]
[]
[]
[]
[]
[]
[]
[]
[]
[]
[]
[]
[]
[]
[]
[]
[]
[]
[]
[]
[]
[]
[]
[]
[]
[]
[]
[]
[]
[]
[]
[]
[]
[]
[]
[]
[]
[]
[]
[]
[]
[]
[]
[]
[]
[]
[]
[]
[]
[]
[]
[]
[]
[]
[]
[]
[]
[]
[]
[]
[]
[]
[]
[]
[]
[]
[]
[]
[]
[]
[]
[]
[]
[]
[]
[]
[]
[]
[]
[]
[]
[]
[]
[]
[]
[]
[]
[]
[]
[]
[]
[]
[]
[]
[]
[]
[]
[]
[]
[]
[]
[]
[]
[]
[]
[]
[]
[]
[]
[]
[]
[]
[]
[]
[]
[]
[]
[]
[]
[]
[]
[]
[]
[]
[]
[]
[]
[]
[]
[]
[]
[]
[]
[]
[]
[]
[]
[]
[]
[]
[]
[]
[]
[]
[]
[]
[]
[]
[]
[]
[]
[]
[]
[]
[]
[]
[]
[]
[]
[]
[]
[]
[]
[]
[]
[]
[]
[]
[]
[]
[]
[]
[]
[]
[]
[]
[]
[]
[]
[]
[]
[]
[]
[]
[]
[]
[]
[]
[]
[]
[]
[]
[]
[]
[]
[]
[]
[]
[]
[]
[]
[]
[]
[]
[]
[]
[]
[]
[]
[]
[]
[]
[]
[]
[]
[]
[]
[]
[]
[]
[]
[]
[]
[]
[]
[]
[]
[]
[]
[]
[]
[]
[]
[]
[]
[]
[]
[]
[]
[]
[]
[]
[]
[]
[]
[]
[]
[]
[]
[]
[]
[]
[]
[]
[]
[]
[]
[]
[]
[]
[]
[]
[]
[]
[]
[]
[]
[]
[]
[]
[]
[]
[]
[]
[]
[]
[]
[]
[]
[]
[]
[]
[]
[]
[]
[]
[]
[]
[]
[]
[]
[]
[]
[]
[]
[]
[]
[]
[]
[]
[]
[]
[]
[]
[]
[]
[]
[]
[]
[]
[]
[]
[]
[]
[]
[]
[]
[]
[]
[]
[]
[]
[]
[]
[]
[]
[]
[]
[]
[]
[]
[]
[]
[]
[]
[]
[]
[]
[]
[]
[]
[]
[]
[]
[]
[]
[]
[]
[]
[]
[]
[]
[]
[]
[]
[]
[]
[]
[]
[]
[]
[]
[]
[]
[]
[]
[]
[]
[]
[]
[]
[]
[]
[]
[]
[]
[]
[]
[]
[]
[]
[]
[]
[]
[]
[]
[]
[]
[]
[]
[]
[]
[]
[]
[]
[]
[]
[]
[]
[]
[]
[]
[]
[]
[]
[]
[]
[]
[]
[]
[]
[]
[]
[]
[]
[]
[]
[]
[]
[]
[]
[]
[]
[]
[]
[]
[]
[]
[]
[]
[]
[]
[]
[]
[]
[]
[]
[]
[]
[]
[]
[]
[]
[]
[]
[]
[]
[]
[]
[]
[]
[null,true]
[null,true]
[null,true]
[null,true]
[null,true]
[null,true]
[null,true]
[null,true]
[null,true]
[null,true]
[null,true]
[null,true]
[null,true]
[null,true]
[null,true]
[null,true]
[null,true]
[null,true]
[null,true]
[null,true]
[null,true]
[null,true]
[null,false]
[null,false]
[null,false]
[null,false]
[null,false]
[null,false]
[null,false]
[null,false]
[null,false]
[null,false]
[null,false]
[null,false]
[null,false]
[null,false]
[null,false]
[null,false,true]
[null,false,true]
[null,false,true]
[null,false,true]
[null,false,true]
[null,false,true]
[null,false,true]
[null,false,true]
[null,false,true]
[null,false,true]
[null,false,true]
[null,false,true]
[null,null,true]
[null,null,true]
[null,null,true]
[null,null,true]
[null,null,true]
[null,null,true]
[null,null,true]
[null,null,true]
[null,null,true]
[null,null,true]
[null,null,false]
[null,null,false]
[null,null,false]
[null,null,false]
[null,null,false]
[null,null,false]
[null,null,false]
[null,null,false]
[null,null,false]
[null,null,false]
[null,null,false]
[null,null,false]
[null,null,false]
[null,null,false]
[null,null,false]
[null,null,false]
[null,null,false]
[null,null,false]
[null,null,false]
[null,null,false]
[null,null,false]
[null,null,false]
[null,null,false]
[null,null,false]
[null,null,false]
[null,null,false]
[null,null,false]

{"sheet":"Driftsgrensopdeling","index":1,"n_rows":1822,"n_cols":20,"rows_kept":1822,"cut":false,"hidden":false,"merged":[]}
[null,null,null,null,"Skjul tomme kolonner",null,null,null,"Vis/skjul 1",1,true]
[null,null,null,null,null,null,null,null,"Vis/skjul 2",2,true]
[null,null,null,null,null,null,null,null,"Vis/skjul 3",3,true]
[null,null,null,null,null,null,null,null,"Markør1",4,null,null,null,null,1,1,1,1,1]
["Skjul tomme rækker",null,null,null,null,null,null,null,"Markør2",5]
[null,null,null,null,null,null,null,null,"Min. bredde",6,null,null,null,"xxxxxxxxxxxx",{"$f":"N6","v":"xxxxxxxxxxxx"},"xxxxxxxxxxxx","xxxxxxxxxxxx","xxxxxxxxxxxx","xxxxxxxxxxxx","xxxxxxxxxxxx"]
[null,null,null,null,null,null,null,null,null,7]
[null,null,null,null,null,null,null,null,null,8]
["Vis tomme rækker","Vis/skjul 2","Vis/skjul 3","Markør1","Markør2",null,null,null,null,9]
[1,2,3,4,5,6,7,8,9,10]
[]
[]
[null,null,null,null,null,null,null,null,null,null,null,"Trin 1: Opdeling af resultatopgørelse i driftsgrene"]
[]
[]
[]
[]
[]
[true,null,null,null,"Intet fordelt?",null,"Restfordelingskolonne",null,null,null,null,"Resultatopgørelse",null,"I alt","Svin","Kvæg","Planteavl","Maskinhus","Andet","Ufordelt"]
[{"$f":"OR(N20<>0,O20<>0,P20<>0,Q20<>0,R20<>0,S20<>0,T20<>0)","v":false},null,null,1,{"$f":"OR(O20:S20<>0)","v":false},null,null,null,null,null,null,"Afgrøder",null,null,null,null,null,null,null,{"$f":"N20:N58-O20:O58-P20:P58-Q20:Q58-R20:R58-S20:S58","v":0}]
[{"$f":"OR(N21<>0,O21<>0,P21<>0,Q21<>0,R21<>0,S21<>0,T21<>0)","v":false},null,null,1,{"$f":"OR(O21:S21<>0)","v":false},null,null,null,null,null,null,"Mælk",null,null,null,null,null,null,null,0]
[false,null,null,1,{"$f":"OR(O22:S22<>0)","v":false},null,null,null,null,null,null,"Kvæg",null,null,null,null,null,null,null,0]
[false,null,null,1,{"$f":"OR(O23:S23<>0)","v":false},null,null,null,null,null,null,"Svin",null,null,null,null,null,null,null,0]
[false,null,null,1,{"$f":"OR(O24:S24<>0)","v":false},null,null,null,null,null,null,"Fjerkræ",null,null,null,null,null,null,null,0]
[false,null,null,1,{"$f":"OR(O25:S25<>0)","v":false},null,null,null,null,null,null,"Pelsdyr",null,null,null,null,null,null,null,0]
[false,null,null,1,{"$f":"OR(O26:S26<>0)","v":false},null,null,null,null,null,null,"Får",null,null,null,null,null,null,null,0]
[false,null,null,1,{"$f":"OR(O27:S27<>0)","v":false},null,null,null,null,null,null,"Husdyr i øvrigt",null,null,null,null,null,null,null,0]
[false,null,null,1,{"$f":"OR(O28:S28<>0)","v":false},null,null,null,null,null,null,"Skovindtægter",null,null,null,null,null,null,null,0]
[false,null,null,1,{"$f":"OR(O29:S29<>0)","v":false},null,null,null,null,null,null,"Maskinstationsindtægter",null,null,null,null,null,null,null,0]
[false,null,null,1,{"$f":"OR(O30:S30<>0)","v":false},null,null,null,null,null,null,"Andre landbrugsindtægter",null,null,null,null,null,null,null,0]
[true,null,null,null,null,null,null,null,null,null,null,"Bruttoudbytte",null,{"$f":"SUM(N20:N30)","v":0},0,0,0,0,0,0]
[false,null,null,1,{"$f":"OR(O32:S32<>0)","v":false},null,null,null,null,null,null,"Udsæd",null,null,null,null,null,null,null,0]
[false,null,null,1,{"$f":"OR(O33:S33<>0)","v":false},null,null,null,null,null,null,"Gødning",null,null,null,null,null,null,null,0]
[false,null,null,1,{"$f":"OR(O34:S34<>0)","v":false},null,null,null,null,null,null,"Planteværn",null,null,null,null,null,null,null,0]
[false,null,null,1,{"$f":"OR(O35:S35<>0)","v":false},null,null,null,null,null,null,"Diverse vedr. markbrug",null,null,null,null,null,null,null,0]
[false,null,null,1,{"$f":"OR(O36:S36<>0)","v":false},null,null,null,null,null,null,"Korn",null,null,null,null,null,null,null,0]
[false,null,null,1,{"$f":"OR(O37:S37<>0)","v":false},null,null,null,null,null,null,"Færdigblanding m.v.",null,null,null,null,null,null,null,0]
[false,null,null,1,{"$f":"OR(O38:S38<>0)","v":false},null,null,null,null,null,null,"Andet indkøbt foder",null,null,null,null,null,null,null,0]
[false,null,null,1,{"$f":"OR(O39:S39<>0)","v":false},null,null,null,null,null,null,"Eget grovfoder",null,null,null,null,null,null,null,0]
[false,null,null,1,{"$f":"OR(O40:S40<>0)","v":false},null,null,null,null,null,null,"Dyrlæge og medicin",null,null,null,null,null,null,null,0]
[false,null,null,1,{"$f":"OR(O41:S41<>0)","v":false},null,null,null,null,null,null,"Diverse vedr. husdyr",null,null,null,null,null,null,null,0]
[false,null,null,1,{"$f":"OR(O42:S42<>0)","v":false},null,null,null,null,null,null,"Skovomkostninger",null,null,null,null,null,null,null,0]
[false,null,null,1,{"$f":"OR(O43:S43<>0)","v":false},null,null,null,null,null,null,"Diverse vedr. andet",null,null,null,null,null,null,null,0]
[true,null,null,null,null,null,null,null,null,null,null,"Stykomkostninger",null,{"$f":"SUM(N32:N43)","v":0},{"$f":"SUM(O32:O43)","v":0},{"$f":"SUM(P32:P43)","v":0},0,0,0,0]
[true,null,null,null,null,null,null,null,null,null,null,"Dækningsbidrag i alt",null,{"$f":"+N44+N31","v":0},0,0,0,0,0,0]
[false,null,null,1,{"$f":"OR(O46:S46<>0)","v":false},null,null,null,null,null,null,"Energi",null,null,null,null,null,null,null,0]
[false,null,null,1,{"$f":"OR(O47:S47<>0)","v":false},null,null,null,null,null,null,"Maskinstation m.m.",null,null,null,null,null,null,null,0]
[false,null,null,1,{"$f":"OR(O48:S48<>0)","v":false},null,null,null,null,null,null,"Vedligehold",null,null,null,null,null,null,null,0]
[false,null,null,1,{"$f":"OR(O49:S49<>0)","v":false},null,null,null,null,null,null,"Investering over driften",null,null,null,null,null,null,null,0]
[false,null,null,1,{"$f":"OR(O50:S50<>0)","v":false},null,null,null,null,null,null,"Lønomkostninger",null,null,null,null,null,null,null,0]
[false,null,null,1,{"$f":"OR(O51:S51<>0)","v":false},null,null,null,null,null,null,"Ejendomsskat og forsikringer",null,null,null,null,null,null,null,0]
[false,null,null,1,{"$f":"OR(O52:S52<>0)","v":false},null,null,null,null,null,null,"Diverse omkostninger",null,null,null,null,null,null,null,0]
[true,null,null,null,null,null,null,null,null,null,null,"Kontante kap. omk.",null,{"$f":"+N46:S46+N47:S47+N48:S48+N49:S49+N50:S50+N51:S51+N52:S52","v":0},0,0,0,0,0,0]
[false,null,null,1,{"$f":"OR(O54:S54<>0)","v":false},null,null,null,null,null,null,"Af- og nedskrivninger",null,null,null,null,null,null,null,0]
[true,null,null,null,{"$f":"OR(O55:S55<>0)","v":false},null,null,null,null,null,null,"Kapacitetsomkostninger i alt",null,{"$f":"+_xlfn.ANCHORARRAY(N53)+N54:S54","v":0},0,0,0,0,0,0]
[false,null,null,1,{"$f":"OR(O56:S56<>0)","v":false},null,null,null,null,null,null,"Anden indtj. (inkl. EU tilskud)",null,null,null,null,null,null,null,0]
[false,null,null,1,{"$f":"OR(O57:S57<>0)","v":false},null,null,null,null,null,null,"Finansiering i alt",null,null,null,null,null,null,null,0]
[true,null,null,null,null,null,null,null,null,null,null,"Resultat efter finansiering",null,{"$f":"+_xlfn.ANCHORARRAY(N55)+N56:S56+N57:S57+N45:S45","v":0},0,0,0,0,0,0]
[true]
[true,null,null,1,{"$f":"OR(O60:S60<>0)","v":false},null,null,null,null,null,null,"Ejeraflønning",null,null,null,null,null,null,null,{"$f":"+N60-O60-P60-Q60-R60-S60","v":0}]
[]
[]
[]
[]
[]
[]
[]
[]
[]
[]
[]
[]
[]
[]
[]
[]
[]
[]
[]
[]
[]
[]
[]
[]
[]
[]
[]
[]
[]
[]
[]
[]
[]
[]
[]
[]
[]
[]
[]
[]
[]
[]
[]
[]
[]
[]
[]
[]
[]
[]
[]
[]
[]
[]
[]
[]
[]
[]
[]
[]
[]
[]
[]
[]
[]
[]
[]
[]
[]
[]
[]
[]
[]
[]
[]
[]
[]
[]
[]
[]
[]
[]
[]
[]
[]
[]
[]
[]
[]
[]
[]
[]
[]
[]
[]
[]
[]
[]
[]
[]
[]
[]
[]
[]
[]
[]
[]
[]
[]
[]
[]
[]
[]
[]
[]
[]
[]
[]
[]
[]
[]
[]
[]
[]
[]
[]
[]
[]
[]
[]
[]
[]
[]
[]
[]
[]
[]
[]
[]
[]
[]
[]
[]
[]
[]
[]
[]
[]
[]
[]
[]
[]
[]
[]
[]
[]
[]
[]
[]
[]
[]
[]
[]
[]
[]
[]
[]
[]
[]
[]
[]
[]
[]
[]
[]
[]
[]
[]
[]
[]
[]
[]
[]
[]
[]
[]
[]
[]
[]
[]
[]
[]
[]
[]
[]
[]
[]
[]
[]
[]
[]
[]
[]
[]
[]
[]
[]
[]
[]
[]
[]
[]
[]
[]
[]
[]
[]
[]
[]
[]
[]
[]
[]
[]
[]
[]
[]
[]
[]
[]
[]
[]
[]
[]
[]
[]
[]
[]
[]
[]
[]
[]
[]
[]
[]
[]
[]
[]
[]
[]
[]
[]
[]
[]
[]
[]
[]
[]
[]
[]
[]
[]
[]
[]
[]
[]
[]
[]
[]
[]
[]
[]
[]
[]
[]
[]
[]
[]
[]
[]
[]
[]
[]
[]
[]
[]
[]
[]
[]
[]
[]
[]
[]
[]
[]
[]
[]
[]
[]
[]
[]
[]
[]
[]
[]
[]
[]
[]
[]
[]
[]
[]
[]
[]
[]
[]
[]
[]
[]
[]
[]
[]
[]
[]
[]
[]
[]
[]
[]
[]
[]
[]
[]
[]
[]
[]
[]
[]
[]
[]
[]
[]
[]
[]
[]
[]
[]
[]
[]
[]
[]
[]
[]
[]
[]
[]
[]
[]
[]
[]
[]
[]
[]
[]
[]
[]
[]
[]
[]
[]
[]
[]
[]
[]
[]
[]
[]
[]
[]
[]
[]
[]
[]
[]
[]
[]
[]
[]
[]
[]
[]
[]
[]
[]
[]
[]
[]
[]
[]
[]
[]
[]
[]
[]
[]
[]
[]
[]
[]
[]
[]
[]
[]
[]
[]
[]
[]
[]
[]
[]
[]
[]
[]
[]
[]
[]
[]
[]
[]
[]
[]
[]
[]
[]
[]
[]
[]
[]
[]
[]
[]
[]
[]
[]
[]
[]
[]
[]
[]
[]
[]
[]
[]
[]
[]
[]
[]
[]
[]
[]
[]
[]
[]
[]
[]
[]
[]
[]
[]
[]
[]
[]
[]
[]
[]
[]
[]
[]
[]
[]
[]
[]
[]
[]
[]
[]
[]
[]
[]
[]
[]
[]
[]
[]
[]
[]
[]
[]
[]
[]
[]
[]
[]
[]
[]
[]
[]
[]
[]
[]
[]
[]
[]
[]
[]
[]
[]
[]
[]
[]
[]
[]
[]
[]
[]
[]
[]
[]
[]
[]
[]
[]
[]
[]
[]
[]
[]
[]
[]
[]
[]
[]
[]
[]
[]
[]
[]
[]
[]
[]
[]
[]
[]
[]
[]
[]
[]
[]
[]
[]
[]
[]
[]
[]
[]
[]
[]
[]
[]
[]
[]
[]
[]
[]
[]
[]
[]
[]
[]
[]
[]
[]
[]
[]
[]
[]
[]
[]
[]
[]
[]
[]
[]
[]
[]
[]
[]
[]
[]
[]
[]
[]
[]
[]
[]
[]
[]
[]
[]
[]
[]
[]
[]
[]
[]
[]
[]
[]
[]
[]
[]
[]
[]
[]
[]
[]
[]
[]
[]
[]
[]
[]
[]
[]
[]
[]
[]
[]
[]
[]
[]
[]
[]
[]
[]
[]
[]
[]
[]
[]
[]
[]
[]
[]
[]
[]
[]
[]
[]
[]
[]
[]
[]
[]
[]
[]
[]
[]
[]
[]
[]
[]
[]
[]
[]
[]
[]
[]
[]
[]
[]
[]
[]
[]
[]
[]
[]
[]
[]
[]
[]
[]
[]
[]
[]
[]
[]
[]
[]
[]
[]
[]
[]
[]
[]
[]
[]
[]
[]
[]
[]
[]
[]
[]
[]
[]
[]
[]
[]
[]
[]
[]
[]
[]
[]
[]
[]
[]
[]
[]
[]
[]
[]
[]
[]
[]
[]
[]
[]
[]
[]
[]
[]
[]
[]
[]
[]
[]
[]
[]
[]
[]
[]
[]
[]
[]
[]
[]
[]
[]
[]
[]
[]
[]
[]
[]
[]
[]
[]
[]
[]
[]
[]
[]
[]
[]
[]
[]
[]
[]
[]
[]
[]
[]
[]
[]
[]
[]
[]
[]
[]
[]
[]
[]
[]
[]
[]
[]
[]
[]
[]
[]
[]
[]
[]
[]
[]
[]
[]
[]
[]
[]
[]
[]
[]
[]
[]
[]
[]
[]
[]
[]
[]
[]
[]
[]
[]
[]
[]
[]
[]
[]
[]
[]
[]
[]
[]
[]
[]
[]
[]
[]
[]
[]
[]
[]
[]
[]
[]
[]
[]
[]
[]
[]
[]
[]
[]
[]
[]
[]
[]
[]
[]
[]
[]
[]
[]
[]
[]
[]
[]
[]
[]
[]
[]
[]
[]
[]
[]
[]
[]
[]
[]
[]
[]
[]
[]
[]
[]
[]
[]
[]
[]
[]
[]
[]
[]
[]
[]
[]
[]
[]
[]
[]
[]
[]
[]
[]
[]
[]
[]
[]
[]
[]
[]
[]
[]
[]
[]
[]
[]
[]
[]
[]
[]
[]
[]
[]
[]
[]
[]
[]
[]
[]
[]
[]
[]
[]
[]
[]
[]
[]
[]
[]
[]
[]
[]
[]
[]
[]
[]
[]
[]
[]
[]
[]
[]
[]
[]
[]
[]
[]
[]
[]
[]
[]
[]
[]
[]
[]
[]
[]
[]
[]
[]
[]
[]
[]
[]
[]
[]
[]
[]
[]
[]
[]
[]
[]
[]
[]
[]
[]
[]
[]
[]
[]
[]
[]
[]
[]
[]
[]
[]
[]
[]
[]
[]
[]
[]
[]
[]
[]
[]
[]
[]
[]
[]
[]
[]
[]
[]
[]
[]
[]
[]
[]
[]
[]
[]
[]
[]
[]
[]
[]
[]
[]
[]
[]
[]
[]
[]
[]
[]
[]
[]
[]
[]
[]
[]
[]
[]
[]
[]
[]
[]
[]
[]
[]
[]
[]
[]
[]
[]
[]
[]
[]
[]
[]
[]
[]
[]
[]
[]
[]
[]
[]
[]
[]
[]
[]
[]
[]
[]
[]
[]
[]
[]
[]
[]
[]
[]
[]
[]
[]
[]
[]
[]
[]
[]
[]
[]
[]
[]
[]
[]
[]
[]
[]
[]
[]
[]
[]
[]
[]
[]
[]
[]
[]
[]
[]
[]
[]
[]
[]
[]
[]
[]
[]
[]
[]
[]
[]
[]
[]
[]
[]
[]
[]
[]
[]
[]
[]
[]
[]
[]
[]
[]
[]
[]
[]
[]
[]
[]
[]
[]
[]
[]
[]
[]
[]
[]
[]
[]
[]
[]
[]
[]
[]
[]
[]
[]
[]
[]
[]
[]
[]
[]
[]
[]
[]
[]
[]
[]
[]
[]
[]
[]
[]
[]
[]
[]
[]
[]
[]
[]
[]
[]
[]
[]
[]
[]
[]
[]
[]
[]
[]
[]
[]
[]
[]
[]
[]
[]
[]
[]
[]
[]
[]
[]
[]
[]
[]
[]
[]
[]
[]
[]
[]
[]
[]
[]
[]
[]
[]
[]
[]
[]
[]
[]
[]
[]
[]
[]
[]
[]
[]
[]
[]
[]
[]
[]
[]
[]
[]
[]
[]
[]
[]
[]
[]
[]
[]
[]
[]
[]
[]
[]
[]
[]
[]
[]
[]
[]
[]
[]
[]
[]
[]
[]
[]
[]
[]
[]
[]
[]
[]
[]
[]
[]
[]
[]
[]
[]
[]
[]
[]
[]
[]
[]
[]
[]
[]
[]
[]
[]
[]
[]
[]
[]
[]
[]
[]
[]
[]
[]
[]
[]
[]
[]
[]
[]
[]
[]
[]
[]
[]
[]
[]
[]
[]
[]
[]
[]
[]
[]
[]
[]
[]
[]
[]
[]
[]
[]
[]
[]
[]
[]
[]
[]
[]
[]
[]
[]
[]
[]
[]
[]
[]
[]
[]
[]
[]
[]
[]
[]
[]
[]
[]
[]
[]
[]
[]
[]
[]
[]
[]
[]
[]
[]
[]
[]
[]
[]
[]
[]
[]
[]
[]
[]
[]
[]
[]
[]
[]
[]
[]
[]
[]
[]
[]
[]
[]
[]
[]
[]
[]
[]
[]
[]
[]
[]
[]
[]
[]
[]
[]
[]
[]
[]
[]
[]
[]
[]
[]
[]
[]
[]
[]
[]
[]
[]
[]
[]
[]
[]
[]
[]
[]
[]
[]
[]
[]
[]
[]
[]
[]
[]
[]
[]
[]
[]
[]
[]
[]
[]
[]
[]
[]
[]
[]
[]
[]
[]
[]
[]
[]
[]
[]
[]
[]
[]
[]
[]
[]
[]
[]
[]
[]
[]
[]
[]
[]
[]
[]
[]
[]
[]
[]
[]
[]
[]
[]
[]
[]
[]
[]
[]
[]
[]
[]
[]
[]
[]
[]
[]
[]
[]
[]
[]
[]
[]
[]
[]
[]
[]
[]
[]
[]
[]
[]
[]
[]
[]
[]
[]
[]
[]
[]
[]
[]
[]
[]
[]
[]
[]
[]
[]
[]
[]
[]
[]
[]
[]
[]
[]
[]
[]
[]
[]
[]
[]
[]
[]
[]
[]
[]
[]
[]
[]
[]
[]
[]
[]
[]
[]
[]
[]
[]
[]
[]
[]
[]
[]
[]
[]
[]
[]
[]
[]
[]
[]
[]
[]
[]
[]
[]
[]
[]
[]
[]
[]
[]
[]
[]
[]
[]
[]
[]
[]
[]
[]
[]
[]
[]
[]
[]
[]
[]
[]
[]
[]
[]
[]
[]
[]
[]
[]
[]
[]
[]
[]
[]
[]
[]
[]
[]
[]
[]
[]
[]
[]
[]
[]
[]
[]
[]
[]
[]
[]
[]
[]
[]
[]
[]
[]
[]
[]
[]
[]
[]
[]
[]
[]
[]
[]
[]
[]
[]
[]
[]
[]
[]
[]
[]
[]
[]
[]
[]
[]
[]
[]
[]
[]
[]
[]
[]
[null,true]
[null,true]
[null,true]
[null,true]
[null,true]
[null,true]
[null,true]
[null,true]
[null,true]
[null,true]
[null,true]
[null,true]
[null,true]
[null,true]
[null,true]
[null,true]
[null,true]
[null,true]
[null,true]
[null,true]
[null,true]
[null,true]
[null,false]
[null,false]
[null,false]
[null,false]
[null,false]
[null,false]
[null,false]
[null,false]
[null,false]
[null,false]
[null,false]
[null,false]
[null,false]
[null,false]
[null,false]
[null,false,true]
[null,false,true]
[null,false,true]
[null,false,true]
[null,false,true]
[null,false,true]
[null,false,true]
[null,false,true]
[null,false,true]
[null,false,true]
[null,false,true]
[null,false,true]
[null,null,true]
[null,null,true]
[null,null,true]
[null,null,true]
[null,null,true]
[null,null,true]
[null,null,true]
[null,null,true]
[null,null,true]
[null,null,true]
[null,null,false]
[null,null,false]
[null,null,false]
[null,null,false]
[null,null,false]
[null,null,false]
[null,null,false]
[null,null,false]
[null,null,false]
[null,null,false]
[null,null,false]
[null,null,false]
[null,null,false]
[null,null,false]
[null,null,false]
[null,null,false]
[null,null,false]
[null,null,false]
[null,null,false]
[null,null,false]
[null,null,false]
[null,null,false]
[null,null,false]
[null,null,false]
[null,null,false]
[null,null,false]
[null,null,false]

{"sheet":"Grise","index":2,"n_rows":641,"n_cols":43,"rows_kept":641,"cut":false,"hidden":false,"merged":[[620,16,620,19],[640,16,640,17],[637,16,637,17],[634,16,634,17],[493,18,493,20],[640,18,640,19],[637,18,637,19],[634,18,634,19],[516,20,516,21],[631,16,631,18],[625,16,625,18],[516,17,516,18],[518,15,518,18],[518,19,518,22],[506,16,506,17],[505,16,505,17],[483,20,483,22],[153,14,153,16],[153,17,153,20],[172,15,172,18],[172,19,172,22],[279,15,279,18],[279,19,279,22],[169,16,169,18],[139,23,139,25],[508,12,508,13],[507,12,507,13],[504,12,504,13],[503,12,503,13],[502,12,502,13],[146,17,146,18],[145,17,145,18],[270,16,270,17],[380,16,380,17],[496,16,496,17],[493,16,493,17],[377,18,377,20],[490,18,490,19],[483,18,483,19],[490,20,490,22],[511,16,511,19],[512,16,512,19],[12,12,12,31],[498,10,498,22],[382,10,382,22],[150,10,150,23],[148,10,148,23],[384,19,384,22],[384,15,384,18],[17,12,17,16],[86,26,86,28],[86,29,86,31],[139,17,139,19],[139,20,139,22],[139,26,139,28],[139,29,139,31],[508,16,508,17],[507,16,507,17],[22,23,22,26],[29,26,35,26],[24,26,26,26],[86,17,86,19],[86,20,86,22],[22,15,22,18],[22,19,22,22],[41,15,41,17],[41,18,41,19],[86,15,86,16],[504,16,504,17],[503,16,503,17],[502,16,502,17],[86,23,86,25]]}
[null,null,null,null,"Skjul tomme kolonner",null,null,null,"Vis/skjul 1",1,true]
[null,null,null,null,null,null,null,null,"Vis/skjul 2",2,true]
[null,null,null,null,null,null,null,null,"Vis/skjul 3",3,true]
[null,null,null,null,null,null,null,null,"Markør1",4,null,null,null,null,null,null,null,null,null,null,1,1,1,2,2,2,3,3,3]
["Skjul tomme rækker","Vis tomme rækker",null,null,null,null,null,null,"Markør2",5,null,null,null,null,null,null,null,3,2,1,3,2,1,3,2,1,3,2,1]
[null,null,null,null,null,null,null,null,"Min. bredde",6,null,null,null,null,"xxxxxxxxx",{"$f":"O6","v":"xxxxxxxxx"},{"$f":"P6","v":"xxxxxxxxx"},"xxxxxxxxx","xxxxxxxxx","xxxxxxxxx","xxxxxxxxx","xxxxxxxxx","xxxxxxxxx","xxxxxxxxx","xxxxxxxxx","xxxxxxxxx","xxxxxxxxx","xxxxxxxxx","xxxxxxxxx","xxxxxxxxx","xxxxxxxxx","xxxxxxxxx","xxxxxxxxx","xxxxxxxxx","xxxxxxxxx","xxxxxxxxx","xxxxxxxxx","xxxxxxxxx","xxxxxxxxx","xxxxxxxxx","xxxxxxxxx","xxxxxxxxx","xxxxxxxxx"]
[null,null,null,null,null,null,null,null,null,7]
[null,null,null,null,null,null,null,null,null,8]
["Vis tomme rækker","Vis/skjul 2","Vis/skjul 3","Markør1","Markør2",null,null,null,"Kol. nr",9,11,null,13,14,15,16,17,18,19,20,21,22,23,24,25,26,27,28,29,30,31]
[1,2,3,4,5,6,7,8,9,10]
[true,null,true]
[true,null,null,null,null,null,null,null,null,null,null,null,null,null,null,null,null,null,null,null,null,null,0]
[true,null,null,1,null,null,null,null,null,null,null,null,"Indtastning"]
[true]
[true]
[true,null,null,null,null,null,null,null,null,null,null,null,"Vælg opdeling:"]
[true]
[true,null,null,null,null,null,null,null,null,null,null,null,"Søer inkl. smågrise"]
[true]
[true,null,null,null,null,null,null,null,null,null,null,null,"Indtast besætning fra balancen"]
[true]
[true]
[true,null,null,null,null,null,null,null,null,null,null,null,null,null,null,"Primo",null,null,null,"Ultimo",null,null,null,"Forskydning"]
[true,null,null,null,null,null,null,null,null,null,null,null,"Svin på stald",null,"gns. vægt","Antal","kg.","Pris","Beløb","Antal","kg.","Pris","Beløb","Antal","kg.","Kr.","Kr."]
[{"$f":"IF(SUM(P25:W25)=0,FALSE,TRUE)","v":false},null,null,null,null,null,null,null,null,null,null,null,"Orner",null,null,null,null,{"$f":"IF(ISERROR(S25:S36/P25:P36),0,S25:S36/P25:P36)","v":0},null,null,null,{"$f":"IF(ISERROR(W25:W36/T25:T36),0,W25:W36/T25:T36)","v":0},null,{"$f":"T25:T36-P25:P36","v":0},null,{"$f":"W25:W36-S25:S36","v":0},{"$f":"+Z25+Z26+Z27","v":0}]
[{"$f":"IF(SUM(P26:W26)=0,FALSE,TRUE)","v":false},null,null,null,null,null,null,null,null,null,null,null,"Søer og gylte",null,null,null,null,0,null,null,null,0,null,0,null,0]
[false,null,null,null,null,null,null,null,null,null,null,null,"Sopolte",null,null,null,null,0,null,null,null,0,null,0,null,0]
[false,null,null,null,null,null,null,null,null,null,null,null,"Smågrise, 7-30 kg.",null,18.5,null,{"$f":"O28:O36*P28:P36","v":0},0,null,null,{"$f":"+O28:O36*T28:T36","v":0},0,null,0,{"$f":"+_xlfn.ANCHORARRAY(U28)-_xlfn.ANCHORARRAY(Q28)","v":0},0,{"$f":"+Z28","v":0}]
[false,null,null,null,null,null,null,null,null,null,null,null,"Smågrise u. 7 kg. (ved søer)",null,6,null,0,0,null,null,0,0,null,0,0,0,{"$f":"+Z29","v":0}]
[false,null,null,null,null,null,null,null,null,null,null,null,"Slagtesvin over 90 kg.",null,{"$f":"(90+S69)/2","v":99},null,0,0,null,null,0,0,null,0,0,0,{"$f":"SUM(Z30:Z36)","v":0}]
[false,null,null,null,null,null,null,null,null,null,null,null,"Slagtesvin 75 - 90 kg.",null,82.5,null,0,0,null,null,0,0,null,0,0,0]
[false,null,null,null,null,null,null,null,null,null,null,null,"Slagtesvin 60 - 75 kg.",null,67.5,null,0,0,null,null,0,0,null,0,0,0]
[false,null,null,null,null,null,null,null,null,null,null,null,"Slagtesvin 45 - 60 kg.",null,52.5,null,0,0,null,null,0,0,null,0,0,0]
[false,null,null,null,null,null,null,null,null,null,null,null,"Slagtesvin 30 - 45 kg.",null,37.5,null,0,0,null,null,0,0,null,0,0,0]
[false,null,null,null,null,null,null,null,null,null,null,null,"Slagtesvin 60 - 90 kg.",null,75,null,0,0,null,null,0,0,null,0,0,0]
[false,null,null,null,null,null,null,null,null,null,null,null,"Slagtesvin 30 - 60 kg.",null,45,null,0,0,null,null,0,0,null,0,0,0]
[true,null,null,null,null,null,null,null,null,null,null,null,"Besætningsværdi i alt",null,null,{"$f":"SUM(P25:P36)","v":0},{"$f":"SUM(_xlfn.ANCHORARRAY(Q28))","v":0},null,{"$f":"SUM(S25:S36)","v":0},{"$f":"SUM(T25:T36)","v":0},{"$f":"SUM(_xlfn.ANCHORARRAY(U28))","v":0},null,{"$f":"SUM(W25:W36)","v":0},{"$f":"SUM(X25:X36)","v":0},{"$f":"SUM(_xlfn.ANCHORARRAY(Y28))","v":0},null,{"$f":"SUM(AA25:AA36)","v":0}]
[true]
[true,null,null,null,null,null,null,null,null,null,null,null,"Indtast bruttoudbytte"]
[true]
[true]
[true,null,null,null,null,null,null,"prod gren","Søer ekskl. små","Søer inkl. små",null,null,null,null,null,"Antal og beløb",null,null,"Vægt"]
[true,null,null,null,null,null,null,null,null,null,null,null,"Bruttoudbytte svin",null,null,"Antal","Pris","Beløb","pr. stk.","kg. i alt"]
[{"$f":"IF(SUM(P44:R44)=0,FALSE,TRUE)","v":false},null,null,null,null,null,null,{"$f":"IF($M$18=\"Søer inkl. smågrise\",J44,I44)","v":"søer"},"søer","søer",null,null,"Salg orner",null,null,null,{"$f":"IF(ISERROR(R44:R51/P44:P51),0,R44:R51/P44:P51)","v":0}]
[{"$f":"IF(SUM(P45:R45)=0,FALSE,TRUE)","v":false},null,null,null,null,null,null,"søer","søer","søer",null,null,"Salg af søer og gylte",null,null,null,0]
[false,null,null,null,null,null,null,"søer","søer","søer",null,null,"Søer og gylte, døde/kasserede",null,null,null,0]
[false,null,null,null,null,null,null,"søer","søer","søer",null,null,"Salg af polte",null,null,null,0,null,null,0]
[false,null,null,null,null,null,null,"søer","søer","søer",null,null,"Indkøb orner",null,null,null,0]
[false,null,null,null,null,null,null,"søer","søer","søer",null,null,"Overførte polte",null,null,{"$f":"-P64-P71","v":0},0,{"$f":"-R64-R71","v":0}]
[false,null,null,null,null,null,null,"søer","søer","søer",null,null,"Indkøbte polte",null,null,null,0]
[false,null,null,null,null,null,null,"søer","søer","søer",null,null,"Indkøbte søer",null,null,null,0]
[false,null,null,null,null,null,null,"søer","søer","søer",null,null,"Forskydning avlsdyr",null,null,{"$f":"SUM(T25:T27)-SUM(P25:P27)","v":0},null,{"$f":"SUM(W25:W27)-SUM(S25:S27)","v":0}]
[{"$f":"IF(COUNTIF(A44:A52,TRUE)>0,TRUE,FALSE)","v":false},null,null,null,null,null,null,"søer","søer","søer",null,null,"Tilvækst avlsdyr",null,null,{"$f":"SUM(P44:P52)","v":0},null,{"$f":"SUM(R44:R52)","v":0}]
[false,null,null,null,null,null,null,"søer","søer","søer",null,null,"7 kg. grise solgt",null,null,null,{"$f":"IF(ISERROR(R54:R56/P54:P56),0,R54:R56/P54:P56)","v":0},null,null,{"$f":"P54:P56*S54:S56","v":0}]
[false,null,null,null,null,null,null,0,"søer",null,null,null,"7 kg. grise overført til smågrise",null,null,{"$f":"-P60","v":0},0,null,7,0]
[false,null,null,null,null,null,null,"søer","søer","søer",null,null,"Pattegrise døde",null,null,null,0,null,6,0]
[false,null,null,null,null,null,null,"søer","søer","søer",null,null,"Forskydning pattegrise",null,null,{"$f":"T29-P29","v":0},null,{"$f":"W29-S29","v":0},null,{"$f":"+U29-Q29","v":0}]
[{"$f":"IF(COUNTIF(A54:A57,TRUE)>0,TRUE,FALSE)","v":false},null,null,null,null,null,null,0,"søer",null,null,null,"Tilvækst pattegrise",null,null,{"$f":"SUM(P54:P57)","v":0},null,{"$f":"SUM(R54:R57)","v":0},null,{"$f":"SUM(T54:T57)","v":0}]
[false,null,null,null,null,null,null,"søer","smågrise","søer",null,null,"7 kg. grise indkøbt",null,null,null,{"$f":"IF(ISERROR(R59:R64/P59:P64),0,R59:R64/P59:P64)","v":0},null,null,{"$f":"P59:P64*S59:S64","v":0}]
[false,null,null,null,null,null,null,0,"smågrise",null,null,null,"7 kg. grise overført fra søer",null,null,{"$f":"-P59-P61-P62-P63-P64-P65","v":0},0,{"$f":"-R55","v":0},{"$f":"+S55","v":7},0]
[false,null,null,null,null,null,null,"søer","smågrise","søer",null,null,"Smågrise, overført til sl. svin",null,null,null,0,null,34,0]
[false,null,null,null,null,null,null,"søer","smågrise","søer",null,null,"Smågrise, solgt",null,null,null,0,null,32,0]
[false,null,null,null,null,null,null,"søer","smågrise","søer",null,null,"Døde smågrise",null,null,null,0,null,15,0]
[false,null,null,null,null,null,null,"søer","smågrise","søer",null,null,"Polte overført til søer",null,null,null,0,null,40,0]
[false,null,null,null,null,null,null,"søer","smågrise","søer",null,null,"Forskydning smågrise",null,null,{"$f":"+T28-P28","v":0},null,{"$f":"+W28-S28","v":0},null,{"$f":"U28-Q28","v":0}]
[{"$f":"IF(COUNTIF(A59:A65,TRUE)>0,TRUE,FALSE)","v":false},null,null,null,null,null,null,"søer",null,"søer",null,null,"Tilvækst smågrise",null,null,{"$f":"SUM(P59:P65)","v":0},null,{"$f":"SUM(R59:R65)","v":0},null,{"$f":"SUM(T59:T65)","v":0}]
[false,null,null,null,null,null,null,"slagtesvin","slagtesvin","slagtesvin",null,null,"Smågrise indkøbt",null,null,null,{"$f":"IF(ISERROR(R67:R74/P67:P74),0,R67:R74/P67:P74)","v":0},null,32,{"$f":"P67:P74*S67:S74","v":0}]
[false,null,null,null,null,null,null,"slagtesvin","slagtesvin","slagtesvin",null,null,"Smågrise overf. fra smågrisestald",null,null,{"$f":"-P61","v":0},0,{"$f":"-R61","v":0},{"$f":"+S61","v":34},0]
[false,null,null,null,null,null,null,"slagtesvin","slagtesvin","slagtesvin",null,null,"Slagtesvin solgt (levende vægt)",null,null,null,0,null,108,0]
[false,null,null,null,null,null,null,"slagtesvin","slagtesvin","slagtesvin",null,null,"Andre svin",null,null,null,0,null,null,0]
[false,null,null,null,null,null,null,"slagtesvin","slagtesvin","slagtesvin",null,null,"Polte overført til søer",null,null,null,0,null,85,0]
[false,null,null,null,null,null,null,"slagtesvin","slagtesvin","slagtesvin",null,null,"Døde og kasserede slagtesvin",null,null,null,0,null,50,0]
[false,null,null,null,null,null,null,"slagtesvin","slagtesvin","slagtesvin",null,null,"Efterbetaling",null,null,null,0,null,null,0]
[false,null,null,null,null,null,null,"slagtesvin","slagtesvin","slagtesvin",null,null,"Til husholdning",null,null,null,0,null,108,0]
[false,null,null,null,null,null,null,"slagtesvin","slagtesvin","slagtesvin",null,null,"Forskydning, slagtesvin",null,null,{"$f":"+T30+T31+T32+T33+T34+T35+T36-P30-P31-P32-P33-P34-P35-P36","v":0},null,{"$f":"+W30+W31+W32+W33+W34+W35+W36-S30-S31-S32-S33-S34-S35-S36","v":0},null,{"$f":"+U30+U31+U32+U33+U34+U35+U36-Q30-Q31-Q32-Q33-Q34-Q35-Q36","v":0}]
[{"$f":"IF(COUNTIF(A67:A75,TRUE)>0,TRUE,FALSE)","v":false},null,null,null,null,null,null,"slagtesvin","slagtesvin","slagtesvin",null,null,"Tilvækst slagtesvin",null,null,{"$f":"SUM(P67:P75)","v":0},null,{"$f":"SUM(R67:R75)","v":0},null,{"$f":"SUM(T67:T75)","v":0}]
[false,null,null,null,null,null,null,"søer","søer","søer",null,null,"Div. søer"]
[false,null,null,null,null,null,null,"søer","smågrise","søer",null,null,"Div smågrise"]
[false,null,null,null,null,null,null,"slagtesvin","slagtesvin","slagtesvin",null,null,"Div. slagtesvin"]
[{"$f":"IF(COUNTIF(A77:A79,TRUE)>0,TRUE,FALSE)","v":false},null,null,null,null,null,null,"søer",null,"søer",null,null,"Andet",null,null,null,null,{"$f":"SUM(R77:R79)","v":0}]
[true,null,null,null,null,null,null,null,null,null,null,null,"Bruttoudbytte i alt",null,null,null,null,{"$f":"+R53+R58+R66+R76+R80","v":0}]
[true,null,null,null,null,null,null,null,null,null,null,null,null,null,null,null,"Kontrol:",{"$f":"Driftsgrensopdeling!O31","v":0}]
[true]
[true,null,null,null,null,null,null,null,null,null,null,null,"Omkostninger"]
[true]
[true,null,null,null,null,null,null,null,"Fodergruppe"]
[true,null,null,null,null,null,"Søer",null,null,null,null,null,null,null,null,"FE pr. kg.",null,"Mængde og beløb",null,null,"Søer",null,null,"Smågrise",null,null,"Slagtesvin",null,null,"Ufordelt"]
[true,null,null,null,null,null,"Smågrise",null,null,null,null,null,"Foder svin",null,null,"FEsv","FEso","kg.","Pris","Beløb","kg.","Pris","Beløb","kg.","Pris","Beløb","kg.","Pris","Beløb","kg.","Pris","Beløb"]
[{"$f":"IF(SUM(R89:AC89)=0,FALSE,TRUE)","v":false},null,null,1,null,null,"Slagtesvin",null,null,null,null,null,"Byg",null,null,1.05,1.04,null,null,null,null,null,null,null,null,null,null,null,null,0,{"$f":"IF(ISERROR(AF89:AF137/AD89:AD137),0,AF89:AF137/AD89:AD137)","v":0},{"$f":"T89:T137-W89:W137-Z89:Z137-AC89:AC137","v":0}]
[{"$f":"IF(SUM(R90:AC90)=0,FALSE,TRUE)","v":false},null,null,1,null,null,null,null,null,null,null,null,"Hvede",null,null,1.1499999999999999,1.1299999999999999,null,null,null,null,null,null,null,null,null,null,null,null,0,0,0]
[false,null,null,1,null,null,null,null,null,null,null,null,"Rug",null,null,1.0900000000000001,1.0900000000000001,null,null,null,null,null,null,null,null,null,null,null,null,0,0,0]
[false,null,null,1,null,null,null,null,null,null,null,null,"Havre",null,null,0.97,0.9,null,null,null,null,null,null,null,null,null,null,null,null,0,0,0]
[false,null,null,1,null,null,null,null,null,null,null,null,"Triticale",null,null,1.1299999999999999,1.1000000000000001,null,null,null,null,null,null,null,null,null,null,null,null,0,0,0]
[false,null,null,1,null,null,null,null,null,null,null,null,"Foderkorn",null,null,1.04,1.04,null,null,null,null,null,null,null,null,null,null,null,null,0,0,0]
[false,null,null,1,null,null,null,null,null,null,null,null,null,null,null,1.04,1.04,null,null,null,null,null,null,null,null,null,null,null,null,0,0,0]
[false,null,null,1,null,null,null,null,null,null,null,null,"Rapsfrø DL",null,null,2.0699999999999998,2.0499999999999998,null,null,null,null,null,null,null,null,null,null,null,null,0,0,0]
[false,null,null,1,null,null,null,null,null,null,null,null,"Rapsskrå",null,null,0.71,0.77,null,null,null,null,null,null,null,null,null,null,null,null,0,0,0]
[false,null,null,1,null,null,null,null,null,null,null,null,"Rapskage 9% fedt",null,null,0.89,0.95,null,null,null,null,null,null,null,null,null,null,null,null,0,0,0]
[false,null,null,1,null,null,null,null,null,null,null,null,"Sojaskrå",null,null,0.88,0.91,null,null,null,null,null,null,null,null,null,null,null,null,0,0,0]
[false,null,null,1,null,null,null,null,null,null,null,null,"Sojaskrå, afskallet",null,null,0.93,0.96,null,null,null,null,null,null,null,null,null,null,null,null,0,0,0]
[false,null,null,1,null,null,null,null,null,null,null,null,"Sojaprodukt HP300",null,null,0.95,0.98,null,null,null,null,null,null,null,null,null,null,null,null,0,0,0]
[false,null,null,1,null,null,null,null,null,null,null,null,"Soyaproteinkoncentrat",null,null,0.95,0.98,null,null,null,null,null,null,null,null,null,null,null,null,0,0,0]
[false,null,null,1,null,null,null,null,null,null,null,null,"Lupin, blå, øko",null,null,0.79,0.89,null,null,null,null,null,null,null,null,null,null,null,null,0,0,0]
[false,null,null,1,null,null,null,null,null,null,null,null,"Ærter",null,null,1.01,1.02,null,null,null,null,null,null,null,null,null,null,null,null,0,0,0]
[false,null,null,1,null,null,null,null,null,null,null,null,"Hestebønner",null,null,0.84,0.87,null,null,null,null,null,null,null,null,null,null,null,null,0,0,0]
[false,null,null,1,null,null,null,null,null,null,null,null,"Roepiller, umellaseret",null,null,0.5,0.65,null,null,null,null,null,null,null,null,null,null,null,null,0,0,0]
[false,null,null,1,null,null,null,null,null,null,null,null,"Melasse, roe",null,null,0.78,0.75,null,null,null,null,null,null,null,null,null,null,null,null,0,0,0]
[false,null,null,1,null,null,null,null,null,null,null,null,"Kartoffelproteinkoncentrat",null,null,1.0900000000000001,1.07,null,null,null,null,null,null,null,null,null,null,null,null,0,0,0]
[false,null,null,1,null,null,null,null,null,null,null,null,"Lucernepiller",null,null,0.39,0.5,null,null,null,null,null,null,null,null,null,null,null,null,0,0,0]
[false,null,null,1,null,null,null,null,null,null,null,null,"Grønpiller",null,null,0.39,0.49,null,null,null,null,null,null,null,null,null,null,null,null,0,0,0]
[false,null,null,1,null,null,null,null,null,null,null,null,"Skummetmælkspulver",null,null,1.29,1.24,null,null,null,null,null,null,null,null,null,null,null,null,0,0,0]
[false,null,null,1,null,null,null,null,null,null,null,null,"Valle, kat. A",null,null,7.0000000000000007E-2,0.06,null,null,null,null,null,null,null,null,null,null,null,null,0,0,0]
[false,null,null,1,null,null,null,null,null,null,null,null,"Valle, kat. B",null,null,0.08,0.08,null,null,null,null,null,null,null,null,null,null,null,null,0,0,0]
[false,null,null,1,null,null,null,null,null,null,null,null,"Vallepulver, sød",null,null,1.36,1.31,null,null,null,null,null,null,null,null,null,null,null,null,0,0,0]
[false,null,null,1,null,null,null,null,null,null,null,null,"Fiskemel, standard",null,null,1.1299999999999999,1.1000000000000001,null,null,null,null,null,null,null,null,null,null,null,null,0,0,0]
[false,null,null,1,null,null,null,null,null,null,null,null,"Fiskemel lt",null,null,1.17,1.1399999999999999,null,null,null,null,null,null,null,null,null,null,null,null,0,0,0]
[false,null,null,1,null,null,null,null,null,null,null,null,"Lumino 17/3 fiskepulp",null,null,0.35,0.34,null,null,null,null,null,null,null,null,null,null,null,null,0,0,0]
[false,null,null,1,null,null,null,null,null,null,null,null,"Fiskepulp H-pro",null,null,0.61,0.59,null,null,null,null,null,null,null,null,null,null,null,null,0,0,0]
[false,null,null,1,null,null,null,null,null,null,null,null,"Svinefedt 92/10",null,null,3.79,3.64,null,null,null,null,null,null,null,null,null,null,null,null,0,0,0]
[false,null,null,1,null,null,null,null,null,null,null,null,"Palmeolie",null,null,3.81,3.66,null,null,null,null,null,null,null,null,null,null,null,null,0,0,0]
[false,null,null,1,null,null,null,null,null,null,null,null,"Rapsolie",null,null,4.04,3.88,null,null,null,null,null,null,null,null,null,null,null,null,0,0,0]
[false,null,null,1,null,null,null,null,null,null,null,null,"PFAD",null,null,3.77,3.62,null,null,null,null,null,null,null,null,null,null,null,null,0,0,0]
[false,null,null,1,null,null,null,null,null,null,null,null,"Gærfløde, Nova",null,null,0.16,0.16,null,null,null,null,null,null,null,null,null,null,null,null,0,0,0]
[false,null,null,1,null,null,null,null,null,null,null,null,"Gærfløde, sprit",null,null,0.22,0.24,null,null,null,null,null,null,null,null,null,null,null,null,0,0,0]
[false,null,null,1,null,null,null,null,null,null,null,null,"Syremajs",null,null,1.1000000000000001,1.1000000000000001,null,null,null,null,null,null,null,null,null,null,null,null,0,0,0]
[false,null,null,1,null,null,null,null,null,null,null,null,"Soyaolie",null,null,4,4,null,null,null,null,null,null,null,null,null,null,null,null,0,0,0]
[false,null,null,1,null,null,null,null,null,null,null,null,"Tilskudsfoder, søer",null,null,1.04,1.04,null,null,null,null,null,null,null,null,null,null,null,null,0,0,0]
[false,null,null,1,null,null,null,null,null,null,null,null,"Tilskudsfoder, smågrise",null,null,1.1000000000000001,1.1000000000000001,null,null,null,null,null,null,null,null,null,null,null,null,0,0,0]
[false,null,null,1,null,null,null,null,null,null,null,null,"Tilskudsfoder, slagtesvin",null,null,1.02,1.02,null,null,null,null,null,null,null,null,null,null,null,null,0,0,0]
[false,null,null,1,null,null,null,null,null,null,null,null,"Forblanding, slagtesvin",null,null,null,null,null,null,null,null,null,null,null,null,null,null,null,null,0,0,0]
[false,null,null,1,null,null,null,null,null,null,null,null,"Forblanding, smågrise",null,null,null,null,null,null,null,null,null,null,null,null,null,null,null,null,0,0,0]
[false,null,null,1,null,null,null,null,null,null,null,null,"Forblanding, Søer",null,null,null,null,null,null,null,null,null,null,null,null,null,null,null,null,0,0,0]
[false,null,null,1,null,null,null,null,null,null,null,null,"Startfoder",null,null,1.1399999999999999,1.1399999999999999,null,null,null,null,null,null,null,null,null,null,null,null,0,0,0]
[false,null,null,1,null,null,null,null,null,null,null,null,"Færdigblanding, smågrise",null,null,1.1000000000000001,1.1000000000000001,null,null,null,null,null,null,null,null,null,null,null,null,0,0,0]
[false,null,null,1,null,null,null,null,null,null,null,null,"Færdigblanding, slagtesvin",null,null,1.04,1.04,null,null,null,null,null,null,null,null,null,null,null,null,0,0,0]
[false,null,null,1,null,null,null,null,null,null,null,null,"Hjælpestofer m.m.",null,null,null,null,null,null,null,null,null,null,null,null,null,null,null,null,0,0,0]
[false,null,null,1,null,null,null,null,null,null,null,null,"Mineraler",null,null,null,null,null,null,null,null,null,null,null,null,null,null,null,null,0,0,0]
[true,null,null,2,{"$f":"COUNT(D89:D137)","v":49},null,null,null,null,null,null,null,"Foder i alt",null,null,null,null,{"$f":"SUM(R89:R137)","v":0},null,{"$f":"SUM(T89:T137)","v":0},{"$f":"SUM(U89:U137)","v":0},null,{"$f":"SUM(W89:W137)","v":0},{"$f":"SUM(X89:X137)","v":0},null,{"$f":"SUM(Z89:Z137)","v":0},{"$f":"SUM(AA89:AA137)","v":0},null,{"$f":"SUM(AC89:AC137)","v":0},{"$f":"SUM(AD89:AD137)","v":0},null,{"$f":"SUM(AF89:AF137)","v":0}]
[true]
[true,null,null,null,null,null,null,null,null,null,null,null,null,null,null,null,null,{"$f":"+R87","v":"Mængde og beløb"},null,null,{"$f":"+U87","v":"Søer"},null,null,{"$f":"+X87","v":"Smågrise"},null,null,{"$f":"+AA87","v":"Slagtesvin"},null,null,"Ufordelt"]
[true,null,null,null,null,null,null,null,null,null,null,null,"Dyrlæge og diverse",null,null,null,null,null,null,"Beløb",null,null,"Beløb",null,null,"Beløb",null,null,"Beløb","Mængde","Pris","Beløb"]
[true,null,null,3,null,null,null,null,null,null,null,null,"Dyrlæge og medicin",null,null,null,null,null,null,null,null,null,null,null,null,null,null,null,null,null,null,{"$f":"T142:T144-W142:W144-AC142:AC144-Z142:Z144","v":0}]
[true,null,null,3,null,null,null,null,null,null,null,null,"Diverse vedr. husdyr",null,null,null,null,null,null,null,null,null,null,null,null,null,null,null,null,null,null,0]
[true,null,null,4,{"$f":"COUNT(D142:D143)","v":2},null,null,null,null,null,null,null,"Dyrlæge og diverse i alt",null,null,null,null,null,null,{"$f":"SUM(T142:T143)","v":0},null,null,{"$f":"SUM(W142:W143)","v":0},null,null,{"$f":"SUM(Z142:Z143)","v":0},null,null,{"$f":"SUM(AC142:AC143)","v":0},null,null,0]
[true]
[true,null,null,null,null,null,null,null,null,null,null,null,null,null,null,null,null,"Omkostninger i alt",null,{"$f":"+T138+T144","v":0}]
[true,null,null,null,null,null,null,null,null,null,null,null,null,null,null,null,null,"Kontrol ift. indl. opdeling:",null,{"$f":"Driftsgrensopdeling!O44","v":0}]
[true]
[null,null,null,null,null,null,null,null,null,null,"Output"]
[]
[null,{"$f":"OR(B173,B280)","v":false},null,null,null,{"$f":"COUNTIF(B151:B1005,TRUE)","v":0},null,null,null,null,"Søer"]
[null,{"$f":"B151","v":false},null,null,null,0]
[null,{"$f":"B152","v":false},null,null,null,null,null,null,null,null,null,null,"Dyreomsætning, hele bedriften"]
[null,false,null,null,null,null,null,null,null,null,null,null,null,null,"Tilgang",null,null,"Afgang"]
[null,false,null,null,null,null,null,null,null,null,null,null,null,null,"Primo","Køb","Overført","Overført","Salg","Døde","Ultimo"]
[null,false,null,null,null,null,null,null,null,null,null,null,"Orner",null,{"$f":"P25","v":0},{"$f":"-P48","v":0},null,null,{"$f":"P44","v":0},null,{"$f":"T25","v":0}]
[null,false]
[null,false,null,null,null,null,null,null,null,null,null,null,"Søer/gylte",null,{"$f":"P26","v":0},{"$f":"-P51","v":0},{"$f":"R158+S158+T158+U158-P158-O158","v":0},null,{"$f":"+P45","v":0},{"$f":"+P46","v":0},{"$f":"T26","v":0}]
[null,false,null,null,null,null,null,null,null,null,null,null,"Sopolte",null,{"$f":"P27","v":0},{"$f":"-P50","v":0},{"$f":"R159+S159+T159+U159-P159-O159","v":0},{"$f":"Q158","v":0},{"$f":"+P47","v":0},null,{"$f":"T27","v":0}]
[null,false,null,null,null,null,null,null,null,null,null,null,"Slagtesvin",null,{"$f":"P30+P31+P32+P33+P34+P35+P36","v":0},{"$f":"-P67","v":0},{"$f":"R160+S160+T160+U160-P160-O160","v":0},{"$f":"Q159","v":0},{"$f":"+P69+P70+P74","v":0},{"$f":"+P72","v":0},{"$f":"T30+T31+T32+T33+T34+T35+T36","v":0}]
[null,false,null,null,null,null,null,null,null,null,null,null,"Smågrise (klima)",null,{"$f":"P28","v":0},{"$f":"-P59","v":0},{"$f":"R161+S161+T161+U161-P161-O161","v":0},{"$f":"Q160","v":0},{"$f":"+P62","v":0},{"$f":"+P63","v":0},{"$f":"+T28","v":0}]
[null,false,null,null,null,null,null,null,null,null,null,null,"Grise ved søer",null,{"$f":"P29","v":0},null,{"$f":"R162+S162+T162+U162-P162-O162","v":0},{"$f":"Q161","v":0},{"$f":"+P54","v":0},{"$f":"+P56","v":0},{"$f":"+T29","v":0}]
[null,false]
[null,false,null,null,null,null,null,null,null,null,null,null,"Beregning af produktionsomfang:"]
[null,false,null,null,null,null,null,null,null,null,null,null,"Produktionsomfanget angives i antal årssøer. En årsso beregnes som 365 foderdage."]
[null,false,null,null,null,null,null,null,null,null,null,null,"Foderdage kan aflæses i P-rapporten, men man kan også anslå den ud fra status primo og ultimo såfremt der har har været"]
[null,false,null,null,null,null,null,null,null,null,null,null,"en jævn produktion over året."]
[null,false]
[null,false,null,null,null,null,null,null,null,null,null,null,null,"Foderdage søer og gylte:"]
[null,false,null,null,null,null,null,null,null,null,null,null,null,"Antal årssøer:",null,null,{"$f":"TEXT(Q169,\"#.##0\")&\" dage / 365 dage =\"","v":"0 dage / 365 dage ="},null,null,{"$f":"Q169/365","v":0},"årssøer"]
[null,false]
[null,false]
[null,{"$f":"OR(SUM(P175:W212)<>0,P214:W268<>0)","v":false},null,null,null,null,null,null,"Prod.gren:",1,null,null,{"$f":"\"Kalkule, \"&VLOOKUP(J173,tblProdGren[],2)","v":"Kalkule, Søer med smågrise"},null,null,"I alt",null,null,null,{"$f":"\"Pr. \"&VLOOKUP(J173,tblProdGren[],3)","v":"Pr. årsso"}]
[null,{"$f":"B173","v":false},null,null,null,null,null,null,null,{"$f":"ÅrssøerAntal","v":0},null,null,{"$f":"J174","v":0},{"$f":"VLOOKUP(J173,tblProdGren[],4)","v":"årssøer"},null,"Antal","kg.","Pris","Beløb","Antal","Vægt","Pris","Beløb"]
[null,{"$f":"IF(SUM(P175:S175)=0,FALSE,TRUE)","v":false},null,null,null,null,null,null,{"$f":"IF(M18=\"Søer inkl. smågrise\",1,0)","v":1},{"$f":"IF(OR(J173=1,J173=2),1,0)*I175","v":1},null,null,{"$f":"$M$44:$M$81","v":"Salg orner"},null,null,{"$f":"DyrOmsSøerAntal*J175:J183","v":0},null,{"$f":"IF(ISERROR(_xlfn.ANCHORARRAY(S175)/_xlfn.ANCHORARRAY(P175)),0,_xlfn.ANCHORARRAY(S175)/_xlfn.ANCHORARRAY(P175))","v":0},{"$f":"DyrOmsSøerKr*J175:J183","v":0},{"$f":"IF(ISERROR(P175:P212/M174),0,P175:P212/M174)","v":0},{"$f":"IF(ISERROR(Q175:Q212/P175:P212),0,Q175:Q212/P175:P212)","v":0},{"$f":"R175:R212","v":0},{"$f":"IF(ISERROR(S175:S212/M174),0,S175:S212/M174)","v":0}]
[null,false,null,null,null,null,null,null,null,{"$f":"J175","v":1},null,null,"Salg af søer og gylte",null,null,0,null,0,0,0,0,0,0]
[null,false,null,null,null,null,null,null,null,{"$f":"J176","v":1},null,null,"Søer og gylte, døde/kasserede",null,null,0,null,0,0,0,0,0,0]
[null,false,null,null,null,null,null,null,null,1,null,null,"Salg af polte",null,null,0,null,0,0,0,0,0,0]
[null,false,null,null,null,null,null,null,null,1,null,null,"Indkøb orner",null,null,0,null,0,0,0,0,0,0]
[null,false,null,null,null,null,null,null,null,1,null,null,"Overførte polte",null,null,0,null,0,0,0,0,0,0]
[null,false,null,null,null,null,null,null,null,1,null,null,"Indkøbte polte",null,null,0,null,0,0,0,0,0,0]
[null,false,null,null,null,null,null,null,null,1,null,null,"Indkøbte søer",null,null,0,null,0,0,0,0,0,0]
[null,false,null,null,null,null,null,null,null,1,null,null,"Forskydning avlsdyr",null,null,0,null,0,0,0,0,0,0]
[null,false,null,null,null,null,null,null,null,1,null,null,"Tilvækst avlsdyr",null,null,{"$f":"IF($J184=1,SUM(_xlfn.ANCHORARRAY(P175)),0)","v":0},null,null,{"$f":"IF($J184=1,SUM(_xlfn.ANCHORARRAY(S175)),0)","v":0},0,0,0,0]
[null,false,null,null,null,null,null,null,null,{"$f":"J184","v":1},null,null,"7 kg. grise solgt",null,null,{"$f":"DyrOmsPatgrAntal*J185:J188","v":0},{"$f":"DyrOmsPatgrKg*J185:J188","v":0},{"$f":"IF(ISERROR(S185:S188/_xlfn.ANCHORARRAY(P185)),0,S185:S188/_xlfn.ANCHORARRAY(P185))","v":0},{"$f":"DyrOmsPatgrKr*J185:J188","v":0},0,0,0,0]
[null,false,null,null,null,null,null,null,null,{"$f":"IF(J173=2,1,0)*I175","v":0},null,null,"7 kg. grise overført til smågrise",null,null,0,0,0,0,0,0,0,0]
[null,false,null,null,null,null,null,null,null,{"$f":"J185","v":1},null,null,"Pattegrise døde",null,null,0,0,0,0,0,0,0,0]
[null,false,null,null,null,null,null,null,null,{"$f":"J187","v":1},null,null,"Forskydning pattegrise",null,null,0,0,0,0,0,0,0,0]
[null,false,null,null,null,null,null,null,null,{"$f":"J186","v":0},null,null,"Tilvækst pattegrise",null,null,{"$f":"IF($J189=1,SUM(_xlfn.ANCHORARRAY(P185)),0)","v":0},{"$f":"IF($J189=1,SUM(_xlfn.ANCHORARRAY(Q185)),0)","v":0},null,{"$f":"IF($J189=1,SUM(_xlfn.ANCHORARRAY(S185)),0)","v":0},0,0,0,0]
[null,false,null,null,null,null,null,null,null,{"$f":"IF(OR(J173=1,J173=3),1,0)*I175","v":1},null,null,"7 kg. grise indkøbt",null,null,{"$f":"DyrOmsSmågriseAntal*$J190:$J196","v":0},{"$f":"DyrOmsSmågriseKg*$J190:$J196","v":0},{"$f":"IF(ISERROR(_xlfn.ANCHORARRAY(S190)/_xlfn.ANCHORARRAY(P190)),0,_xlfn.ANCHORARRAY(S190)/_xlfn.ANCHORARRAY(P190))","v":0},{"$f":"DyrOmsSmågriseKr*$J190:$J196","v":0},0,0,0,0]
[null,false,null,null,null,null,null,null,null,{"$f":"IF(J173=3,1,0)*I175","v":0},null,null,"7 kg. grise overført fra søer",null,null,0,0,0,0,0,0,0,0]
[null,false,null,null,null,null,null,null,null,{"$f":"J190","v":1},null,null,"Smågrise, overført til sl. svin",null,null,0,0,0,0,0,0,0,0]
[null,false,null,null,null,null,null,null,null,{"$f":"J192","v":1},null,null,"Smågrise, solgt",null,null,0,0,0,0,0,0,0,0]
[null,false,null,null,null,null,null,null,null,{"$f":"J193","v":1},null,null,"Døde smågrise",null,null,0,0,0,0,0,0,0,0]
[null,false,null,null,null,null,null,null,null,{"$f":"J194","v":1},null,null,"Polte overført til søer",null,null,0,0,0,0,0,0,0,0]
[null,false,null,null,null,null,null,null,null,{"$f":"J195","v":1},null,null,"Forskydning smågrise",null,null,0,0,0,0,0,0,0,0]
[null,false,null,null,null,null,null,null,null,{"$f":"J196","v":1},null,null,"Tilvækst smågrise",null,null,{"$f":"IF($J197=1,IF(J189=1,SUM(_xlfn.ANCHORARRAY(P190)),SUM(P185:P196)),0)","v":0},{"$f":"IF($J197=1,IF(K189=1,SUM(_xlfn.ANCHORARRAY(Q190)),SUM(Q185:Q196)),0)","v":0},null,{"$f":"IF($J197=1,IF(M189=1,SUM(_xlfn.ANCHORARRAY(S190)),SUM(S185:S196)),0)","v":0},0,0,0,0]
[null,false,null,null,null,null,null,null,null,{"$f":"IF(J173=4,1,0)*I175","v":0},null,null,"Smågrise indkøbt",null,null,{"$f":"DyrOmsSlsvinAntal*$J198:$J206","v":0},{"$f":"DyrOmsSlsvinKg*$J198:$J206","v":0},{"$f":"IF(ISERROR(_xlfn.ANCHORARRAY(S198)/_xlfn.ANCHORARRAY(P198)),0,_xlfn.ANCHORARRAY(S198)/_xlfn.ANCHORARRAY(P198))","v":0},{"$f":"DyrOmsSlsvinKr*$J198:$J206","v":0},0,0,0,0]
[null,false,null,null,null,null,null,null,null,{"$f":"J198","v":0},null,null,"Smågrise overf. fra smågrisestald",null,null,0,0,0,0,0,0,0,0]
[null,false,null,null,null,null,null,null,null,{"$f":"J199","v":0},null,null,"Slagtesvin solgt (levende vægt)",null,null,0,0,0,0,0,0,0,0]
[null,false,null,null,null,null,null,null,null,0,null,null,"Andre svin",null,null,0,0,0,0,0,0,0,0]
[null,false,null,null,null,null,null,null,null,0,null,null,"Polte overført til søer",null,null,0,0,0,0,0,0,0,0]
[null,false,null,null,null,null,null,null,null,0,null,null,"Døde og kasserede slagtesvin",null,null,0,0,0,0,0,0,0,0]
[null,false,null,null,null,null,null,null,null,0,null,null,"Efterbetaling",null,null,0,0,0,0,0,0,0,0]
[null,false,null,null,null,null,null,null,null,0,null,null,"Til husholdning",null,null,0,0,0,0,0,0,0,0]
[null,false,null,null,null,null,null,null,null,0,null,null,"Forskydning, slagtesvin",null,null,0,0,0,0,0,0,0,0]
[null,false,null,null,null,null,null,null,null,0,null,null,"Tilvækst slagtesvin",null,null,{"$f":"IF($J207=1,SUM(_xlfn.ANCHORARRAY(P198)),0)","v":0},{"$f":"IF($J207=1,SUM(_xlfn.ANCHORARRAY(Q198)),0)","v":0},null,{"$f":"IF($J207=1,SUM(_xlfn.ANCHORARRAY(S198)),0)","v":0},0,0,0,0]
[null,false,null,null,null,null,null,null,null,{"$f":"J175","v":1},null,null,"Div. søer",null,null,null,null,null,{"$f":"DivIndt*J208:J210","v":0},0,0,0,0]
[null,false,null,null,null,null,null,null,null,{"$f":"J190","v":1},null,null,"Div smågrise",null,null,null,null,null,0,0,0,0,0]
[null,false,null,null,null,null,null,null,null,{"$f":"J198","v":0},null,null,"Div. slagtesvin",null,null,null,null,null,0,0,0,0,0]
[null,false,null,null,null,null,null,null,null,1,null,null,"Andet",null,null,null,null,null,{"$f":"IF($J211=1,SUM(_xlfn.ANCHORARRAY(S208)),0)","v":0},0,0,0,0]
[null,false,null,null,null,null,null,null,null,1,null,null,"Bruttoudbytte i alt",null,null,null,null,null,{"$f":"+S184+S189+S197+S207+S211","v":0},0,0,0,0]
[null,{"$f":"B174","v":false},null,null,null,null,null,null,null,null,null,null,null,null,null,"Fe.","kg.","Pris/kg.","Beløb","Fe.","kg.","Pris/kg.","Beløb"]
[null,{"$f":"IF(SUM(P214:S214)=0,FALSE,TRUE)","v":false},null,null,null,null,null,null,null,null,null,null,{"$f":"IF($M$89:$M$137=\"\",\"\",$M$89:$M$137)","v":"Byg"},null,null,{"$f":"_xlfn.IFS(J173=1,KgFoderSøer*FEsoPrKg+KgFoderSmågrise*FEsvPrKg,J173=2,KgFoderSøer*FEsoPrKg,J173=3,KgFoderSmågrise*FEsvPrKg,J173=4,KgFoderSlagtesvin*FEsvPrKg)*I175","v":0},{"$f":"_xlfn.IFS(J173=1,KgFoderSøer+KgFoderSmågrise,J173=2,KgFoderSøer,J173=3,KgFoderSmågrise,J173=4,KgFoderSlagtesvin)*I175","v":0},{"$f":"IF(ISERROR(_xlfn.ANCHORARRAY(S214)/_xlfn.ANCHORARRAY(Q214)),0,_xlfn.ANCHORARRAY(S214)/_xlfn.ANCHORARRAY(Q214))","v":0},{"$f":"_xlfn.IFS(J173=1,KrFoderSøer+KrFoderSmågrise,J173=2,KrFoderSøer,J173=3,KrFoderSmågrise,J173=4,KrFoderSlagtesvin)*I175","v":0},{"$f":"IF(ISERROR(P214:P263/M174),0,P214:P263/M174)","v":0},{"$f":"IF(ISERROR(Q214:Q263/M174),0,Q214:Q263/M174)","v":0},{"$f":"R214:R268","v":0},{"$f":"IF(ISERROR(S214:S263/M174),0,S214:S263/M174)","v":0}]
[null,{"$f":"IF(SUM(P215:S215)=0,FALSE,TRUE)","v":false},null,null,null,null,null,null,null,null,null,null,"Hvede",null,null,0,0,0,0,0,0,0,0]
[null,{"$f":"IF(SUM(P216:S216)=0,FALSE,TRUE)","v":false},null,null,null,null,null,null,null,null,null,null,"Rug",null,null,0,0,0,0,0,0,0,0]
[null,false,null,null,null,null,null,null,null,null,null,null,"Havre",null,null,0,0,0,0,0,0,0,0]
[null,false,null,null,null,null,null,null,null,null,null,null,"Triticale",null,null,0,0,0,0,0,0,0,0]
[null,false,null,null,null,null,null,null,null,null,null,null,"Foderkorn",null,null,0,0,0,0,0,0,0,0]
[null,false,null,null,null,null,null,null,null,null,null,null,"",null,null,0,0,0,0,0,0,0,0]
[null,false,null,null,null,null,null,null,null,null,null,null,"Rapsfrø DL",null,null,0,0,0,0,0,0,0,0]
[null,false,null,null,null,null,null,null,null,null,null,null,"Rapsskrå",null,null,0,0,0,0,0,0,0,0]
[null,false,null,null,null,null,null,null,null,null,null,null,"Rapskage 9% fedt",null,null,0,0,0,0,0,0,0,0]
[null,false,null,null,null,null,null,null,null,null,null,null,"Sojaskrå",null,null,0,0,0,0,0,0,0,0]
[null,false,null,null,null,null,null,null,null,null,null,null,"Sojaskrå, afskallet",null,null,0,0,0,0,0,0,0,0]
[null,false,null,null,null,null,null,null,null,null,null,null,"Sojaprodukt HP300",null,null,0,0,0,0,0,0,0,0]
[null,false,null,null,null,null,null,null,null,null,null,null,"Soyaproteinkoncentrat",null,null,0,0,0,0,0,0,0,0]
[null,false,null,null,null,null,null,null,null,null,null,null,"Lupin, blå, øko",null,null,0,0,0,0,0,0,0,0]
[null,false,null,null,null,null,null,null,null,null,null,null,"Ærter",null,null,0,0,0,0,0,0,0,0]
[null,false,null,null,null,null,null,null,null,null,null,null,"Hestebønner",null,null,0,0,0,0,0,0,0,0]
[null,false,null,null,null,null,null,null,null,null,null,null,"Roepiller, umellaseret",null,null,0,0,0,0,0,0,0,0]
[null,false,null,null,null,null,null,null,null,null,null,null,"Melasse, roe",null,null,0,0,0,0,0,0,0,0]
[null,false,null,null,null,null,null,null,null,null,null,null,"Kartoffelproteinkoncentrat",null,null,0,0,0,0,0,0,0,0]
[null,false,null,null,null,null,null,null,null,null,null,null,"Lucernepiller",null,null,0,0,0,0,0,0,0,0]
[null,false,null,null,null,null,null,null,null,null,null,null,"Grønpiller",null,null,0,0,0,0,0,0,0,0]
[null,false,null,null,null,null,null,null,null,null,null,null,"Skummetmælkspulver",null,null,0,0,0,0,0,0,0,0]
[null,false,null,null,null,null,null,null,null,null,null,null,"Valle, kat. A",null,null,0,0,0,0,0,0,0,0]
[null,false,null,null,null,null,null,null,null,null,null,null,"Valle, kat. B",null,null,0,0,0,0,0,0,0,0]
[null,false,null,null,null,null,null,null,null,null,null,null,"Vallepulver, sød",null,null,0,0,0,0,0,0,0,0]
[null,false,null,null,null,null,null,null,null,null,null,null,"Fiskemel, standard",null,null,0,0,0,0,0,0,0,0]
[null,false,null,null,null,null,null,null,null,null,null,null,"Fiskemel lt",null,null,0,0,0,0,0,0,0,0]
[null,false,null,null,null,null,null,null,null,null,null,null,"Lumino 17/3 fiskepulp",null,null,0,0,0,0,0,0,0,0]
[null,false,null,null,null,null,null,null,null,null,null,null,"Fiskepulp H-pro",null,null,0,0,0,0,0,0,0,0]
[null,false,null,null,null,null,null,null,null,null,null,null,"Svinefedt 92/10",null,null,0,0,0,0,0,0,0,0]
[null,false,null,null,null,null,null,null,null,null,null,null,"Palmeolie",null,null,0,0,0,0,0,0,0,0]
[null,false,null,null,null,null,null,null,null,null,null,null,"Rapsolie",null,null,0,0,0,0,0,0,0,0]
[null,false,null,null,null,null,null,null,null,null,null,null,"PFAD",null,null,0,0,0,0,0,0,0,0]
[null,false,null,null,null,null,null,null,null,null,null,null,"Gærfløde, Nova",null,null,0,0,0,0,0,0,0,0]
[null,false,null,null,null,null,null,null,null,null,null,null,"Gærfløde, sprit",null,null,0,0,0,0,0,0,0,0]
[null,false,null,null,null,null,null,null,null,null,null,null,"Syremajs",null,null,0,0,0,0,0,0,0,0]
[null,false,null,null,null,null,null,null,null,null,null,null,"Soyaolie",null,null,0,0,0,0,0,0,0,0]
[null,false,null,null,null,null,null,null,null,null,null,null,"Tilskudsfoder, søer",null,null,0,0,0,0,0,0,0,0]
[null,false,null,null,null,null,null,null,null,null,null,null,"Tilskudsfoder, smågrise",null,null,0,0,0,0,0,0,0,0]
[null,false,null,null,null,null,null,null,null,null,null,null,"Tilskudsfoder, slagtesvin",null,null,0,0,0,0,0,0,0,0]
[null,false,null,null,null,null,null,null,null,null,null,null,"Forblanding, slagtesvin",null,null,0,0,0,0,0,0,0,0]
[null,false,null,null,null,null,null,null,null,null,null,null,"Forblanding, smågrise",null,null,0,0,0,0,0,0,0,0]
[null,false,null,null,null,null,null,null,null,null,null,null,"Forblanding, Søer",null,null,0,0,0,0,0,0,0,0]
[null,false,null,null,null,null,null,null,null,null,null,null,"Startfoder",null,null,0,0,0,0,0,0,0,0]
[null,false,null,null,null,null,null,null,null,null,null,null,"Færdigblanding, smågrise",null,null,0,0,0,0,0,0,0,0]
[null,false,null,null,null,null,null,null,null,null,null,null,"Færdigblanding, slagtesvin",null,null,0,0,0,0,0,0,0,0]
[null,false,null,null,null,null,null,null,null,null,null,null,"Hjælpestofer m.m.",null,null,0,0,0,0,0,0,0,0]
[null,false,null,null,null,null,null,null,null,null,null,null,"Mineraler",null,null,0,0,0,0,0,0,0,0]
[null,{"$f":"B213","v":false},null,null,null,null,null,null,null,null,null,null,"Foder i alt",null,null,{"$f":"SUM(_xlfn.ANCHORARRAY(P214))","v":0},{"$f":"SUM(_xlfn.ANCHORARRAY(Q214))","v":0},null,{"$f":"SUM(_xlfn.ANCHORARRAY(S214))","v":0},0,0,0,0]
[null,false,null,null,null,null,null,null,null,null,null,null,{"$f":"$M$142:$M$144","v":"Dyrlæge og medicin"},null,null,null,null,null,{"$f":"_xlfn.IFS(J173=1,DivSøer+DivSmågrise,J173=2,DivSøer,J173=3,DivSmågrise,J173=4,DivSlagtesvin)*I175","v":0},null,null,0,{"$f":"IF(ISERROR(S264:S268/M174),0,S264:S268/M174)","v":0}]
[null,false,null,null,null,null,null,null,null,null,null,null,"Diverse vedr. husdyr",null,null,null,null,null,0,null,null,0,0]
[null,{"$f":"B263","v":false},null,null,null,null,null,null,null,null,null,null,"Dyrlæge og diverse i alt",null,null,null,null,null,{"$f":"SUM(_xlfn.ANCHORARRAY(S264))","v":0},null,null,0,0]
[null,{"$f":"B266","v":false},null,null,null,null,null,null,null,null,null,null,"Stykomkostninger i alt",null,null,null,null,null,{"$f":"+S263+S266","v":0},null,null,0,0]
[null,{"$f":"B267","v":false},null,null,null,null,null,null,null,null,null,null,"Dækningsbidrag",null,null,null,null,null,{"$f":"+S212+S267","v":0},null,null,0,0]
[null,{"$f":"B268","v":false}]
[null,false,null,null,null,null,null,null,null,null,null,null,"Gennemsnitlig pris pr. Fe:"]
[null,false,null,null,null,null,null,null,null,null,null,null,null,{"$f":"TEXT(-S263,\"#.##0\")&\" kr. / \"&TEXT(-P263,\"#.##0\")&\" Fe. =\"","v":"0 kr. / 0 Fe. ="},null,null,{"$f":"+S263/P263","v":{"$error":"#DIV/0!"}},null,"kr./fe."]
[null,false]
[null,false,null,null,null,null,null,null,null,null,null,null,"Foderforbrug pr. årsso"]
[null,false,null,null,null,null,null,null,null,null,null,null,null,"Det er relevant at kunne udregne forbrug af sofoder pr. årsso samt smågrisefoder pr. smågris, men det vil kræve en højere"]
[null,false,null,null,null,null,null,null,null,null,null,null,null,"detaljeringsgrad i foderforbruget. Her nøjes vi med at beregne totale FE pr årsso. Den er væsentlig påvirket af antal grise"]
[null,false,null,null,null,null,null,null,null,null,null,null,null,"pr. årsso, og er derfor umiddelbart svært at bruge til benchmark."]
[null,false]
[null,false,null,null,null,null,null,null,null,null,null,null,null,{"$f":"TEXT(-P263,\"#.##0\")&\" Fe. / \"&TEXT(ÅrssøerAntal,\"#.##0\")&\" årssøer =\"","v":"0 Fe. / 0 årssøer ="},null,null,null,{"$f":"-P263/ÅrssøerAntal","v":{"$error":"#DIV/0!"}},"fe. pr. årsso"]
[null,false]
[null,{"$f":"OR(SUM(P282:W319)<>0,P321:W375<>0)","v":false},null,null,null,null,null,null,"Prod.gren:",2,null,null,{"$f":"\"Kalkule, \"&VLOOKUP(J280,tblProdGren[],2)","v":"Kalkule, Søer"},null,null,"I alt",null,null,null,{"$f":"\"Pr. \"&VLOOKUP(J280,tblProdGren[],3)","v":"Pr. årsso"}]
[null,{"$f":"B280","v":false},null,null,null,null,null,null,null,{"$f":"T170","v":0},null,null,{"$f":"J281","v":0},{"$f":"VLOOKUP(J280,tblProdGren[],4)","v":"årssøer"},null,"Antal","kg.","Pris","Beløb","Antal","Vægt","Pris","Beløb"]
[null,{"$f":"IF(SUM(P282:S282)=0,FALSE,TRUE)","v":false},null,null,null,null,null,null,{"$f":"IF(M18=\"Søer og smågrise opdelt i to produktionsgrene\",1,0)","v":0},{"$f":"IF(OR(J280=1,J280=2),1,0)*I282","v":0},null,null,{"$f":"$M$44:$M$81","v":"Salg orner"},null,null,{"$f":"DyrOmsSøerAntal*J282:J290","v":0},null,{"$f":"IF(ISERROR(_xlfn.ANCHORARRAY(S282)/_xlfn.ANCHORARRAY(P282)),0,_xlfn.ANCHORARRAY(S282)/_xlfn.ANCHORARRAY(P282))","v":0},{"$f":"DyrOmsSøerKr*J282:J290","v":0},{"$f":"IF(ISERROR(P282:P319/M281),0,P282:P319/M281)","v":0},{"$f":"IF(ISERROR(Q282:Q319/P282:P319),0,Q282:Q319/P282:P319)","v":0},{"$f":"R282:R319","v":0},{"$f":"IF(ISERROR(S282:S319/M281),0,S282:S319/M281)","v":0}]
[null,false,null,null,null,null,null,null,null,{"$f":"J282","v":0},null,null,"Salg af søer og gylte",null,null,0,null,0,0,0,0,0,0]
[null,false,null,null,null,null,null,null,null,{"$f":"J283","v":0},null,null,"Søer og gylte, døde/kasserede",null,null,0,null,0,0,0,0,0,0]
[null,false,null,null,null,null,null,null,null,0,null,null,"Salg af polte",null,null,0,null,0,0,0,0,0,0]
[null,false,null,null,null,null,null,null,null,0,null,null,"Indkøb orner",null,null,0,null,0,0,0,0,0,0]
[null,false,null,null,null,null,null,null,null,0,null,null,"Overførte polte",null,null,0,null,0,0,0,0,0,0]
[null,false,null,null,null,null,null,null,null,0,null,null,"Indkøbte polte",null,null,0,null,0,0,0,0,0,0]
[null,false,null,null,null,null,null,null,null,0,null,null,"Indkøbte søer",null,null,0,null,0,0,0,0,0,0]
[null,false,null,null,null,null,null,null,null,0,null,null,"Forskydning avlsdyr",null,null,0,null,0,0,0,0,0,0]
[null,false,null,null,null,null,null,null,null,0,null,null,"Tilvækst avlsdyr",null,null,{"$f":"IF($J291=1,SUM(_xlfn.ANCHORARRAY(P282)),0)","v":0},null,null,{"$f":"IF($J291=1,SUM(_xlfn.ANCHORARRAY(S282)),0)","v":0},0,0,0,0]
[null,false,null,null,null,null,null,null,null,{"$f":"J291","v":0},null,null,"7 kg. grise solgt",null,null,{"$f":"DyrOmsPatgrAntal*J292:J295","v":0},{"$f":"DyrOmsPatgrKg*J292:J295","v":0},{"$f":"IF(ISERROR(S292:S295/_xlfn.ANCHORARRAY(P292)),0,S292:S295/_xlfn.ANCHORARRAY(P292))","v":0},{"$f":"DyrOmsPatgrKr*J292:J295","v":0},0,0,0,0]
[null,false,null,null,null,null,null,null,null,{"$f":"IF(J280=2,1,0)*I282","v":0},null,null,"7 kg. grise overført til smågrise",null,null,0,0,0,0,0,0,0,0]
[null,false,null,null,null,null,null,null,null,{"$f":"J292","v":0},null,null,"Pattegrise døde",null,null,0,0,0,0,0,0,0,0]
[null,false,null,null,null,null,null,null,null,{"$f":"J294","v":0},null,null,"Forskydning pattegrise",null,null,0,0,0,0,0,0,0,0]
[null,false,null,null,null,null,null,null,null,{"$f":"J293","v":0},null,null,"Tilvækst pattegrise",null,null,{"$f":"IF($J296=1,SUM(_xlfn.ANCHORARRAY(P292)),0)","v":0},{"$f":"IF($J296=1,SUM(_xlfn.ANCHORARRAY(Q292)),0)","v":0},null,{"$f":"IF($J296=1,SUM(_xlfn.ANCHORARRAY(S292)),0)","v":0},0,0,0,0]
[null,false,null,null,null,null,null,null,null,{"$f":"IF(OR(J280=1,J280=3),1,0)*I282","v":0},null,null,"7 kg. grise indkøbt",null,null,{"$f":"DyrOmsSmågriseAntal*$J297:$J303","v":0},{"$f":"DyrOmsSmågriseKg*$J297:$J303","v":0},{"$f":"IF(ISERROR(_xlfn.ANCHORARRAY(S297)/_xlfn.ANCHORARRAY(P297)),0,_xlfn.ANCHORARRAY(S297)/_xlfn.ANCHORARRAY(P297))","v":0},{"$f":"DyrOmsSmågriseKr*$J297:$J303","v":0},0,0,0,0]
[null,false,null,null,null,null,null,null,null,{"$f":"IF(J280=3,1,0)*I282","v":0},null,null,"7 kg. grise overført fra søer",null,null,0,0,0,0,0,0,0,0]
[null,false,null,null,null,null,null,null,null,{"$f":"J297","v":0},null,null,"Smågrise, overført til sl. svin",null,null,0,0,0,0,0,0,0,0]
[null,false,null,null,null,null,null,null,null,{"$f":"J299","v":0},null,null,"Smågrise, solgt",null,null,0,0,0,0,0,0,0,0]
[null,false,null,null,null,null,null,null,null,{"$f":"J300","v":0},null,null,"Døde smågrise",null,null,0,0,0,0,0,0,0,0]
[null,false,null,null,null,null,null,null,null,{"$f":"J301","v":0},null,null,"Polte overført til søer",null,null,0,0,0,0,0,0,0,0]
[null,false,null,null,null,null,null,null,null,{"$f":"J302","v":0},null,null,"Forskydning smågrise",null,null,0,0,0,0,0,0,0,0]
[null,false,null,null,null,null,null,null,null,{"$f":"J303","v":0},null,null,"Tilvækst smågrise",null,null,{"$f":"IF($J304=1,IF(J296=1,SUM(_xlfn.ANCHORARRAY(P297)),SUM(P292:P303)),0)","v":0},{"$f":"IF($J304=1,IF(K296=1,SUM(_xlfn.ANCHORARRAY(Q297)),SUM(Q292:Q303)),0)","v":0},null,{"$f":"IF($J304=1,IF(M296=1,SUM(_xlfn.ANCHORARRAY(S297)),SUM(S292:S303)),0)","v":0},0,0,0,0]
[null,false,null,null,null,null,null,null,null,{"$f":"IF(J280=4,1,0)*I282","v":0},null,null,"Smågrise indkøbt",null,null,{"$f":"DyrOmsSlsvinAntal*$J305:$J313","v":0},{"$f":"DyrOmsSlsvinKg*$J305:$J313","v":0},{"$f":"IF(ISERROR(_xlfn.ANCHORARRAY(S305)/_xlfn.ANCHORARRAY(P305)),0,_xlfn.ANCHORARRAY(S305)/_xlfn.ANCHORARRAY(P305))","v":0},{"$f":"DyrOmsSlsvinKr*$J305:$J313","v":0},0,0,0,0]
[null,false,null,null,null,null,null,null,null,{"$f":"J305","v":0},null,null,"Smågrise overf. fra smågrisestald",null,null,0,0,0,0,0,0,0,0]
[null,false,null,null,null,null,null,null,null,{"$f":"J306","v":0},null,null,"Slagtesvin solgt (levende vægt)",null,null,0,0,0,0,0,0,0,0]
[null,false,null,null,null,null,null,null,null,0,null,null,"Andre svin",null,null,0,0,0,0,0,0,0,0]
[null,false,null,null,null,null,null,null,null,0,null,null,"Polte overført til søer",null,null,0,0,0,0,0,0,0,0]
[null,false,null,null,null,null,null,null,null,0,null,null,"Døde og kasserede slagtesvin",null,null,0,0,0,0,0,0,0,0]
[null,false,null,null,null,null,null,null,null,0,null,null,"Efterbetaling",null,null,0,0,0,0,0,0,0,0]
[null,false,null,null,null,null,null,null,null,0,null,null,"Til husholdning",null,null,0,0,0,0,0,0,0,0]
[null,false,null,null,null,null,null,null,null,0,null,null,"Forskydning, slagtesvin",null,null,0,0,0,0,0,0,0,0]
[null,false,null,null,null,null,null,null,null,0,null,null,"Tilvækst slagtesvin",null,null,{"$f":"IF($J314=1,SUM(_xlfn.ANCHORARRAY(P305)),0)","v":0},{"$f":"IF($J314=1,SUM(_xlfn.ANCHORARRAY(Q305)),0)","v":0},null,{"$f":"IF($J314=1,SUM(_xlfn.ANCHORARRAY(S305)),0)","v":0},0,0,0,0]
[null,false,null,null,null,null,null,null,null,{"$f":"J282","v":0},null,null,"Div. søer",null,null,null,null,null,{"$f":"DivIndt*J315:J317","v":0},0,0,0,0]
[null,false,null,null,null,null,null,null,null,{"$f":"J297","v":0},null,null,"Div smågrise",null,null,null,null,null,0,0,0,0,0]
[null,false,null,null,null,null,null,null,null,{"$f":"J305","v":0},null,null,"Div. slagtesvin",null,null,null,null,null,0,0,0,0,0]
[null,false,null,null,null,null,null,null,null,1,null,null,"Andet",null,null,null,null,null,{"$f":"IF($J318=1,SUM(_xlfn.ANCHORARRAY(S315)),0)","v":0},0,0,0,0]
[null,false,null,null,null,null,null,null,null,1,null,null,"Bruttoudbytte i alt",null,null,null,null,null,{"$f":"+S291+S296+S304+S314+S318","v":0},0,0,0,0]
[null,{"$f":"B281","v":false},null,null,null,null,null,null,null,null,null,null,null,null,null,"Fe.","kg.","Pris/kg.","Beløb","Fe.","kg.","Pris/kg.","Beløb"]
[null,{"$f":"IF(SUM(P321:S321)=0,FALSE,TRUE)","v":false},null,null,null,null,null,null,null,null,null,null,{"$f":"IF($M$89:$M$137=\"\",\"\",$M$89:$M$137)","v":"Byg"},null,null,{"$f":"_xlfn.IFS(J280=1,KgFoderSøer*FEsoPrKg+KgFoderSmågrise*FEsvPrKg,J280=2,KgFoderSøer*FEsoPrKg,J280=3,KgFoderSmågrise*FEsvPrKg,J280=4,KgFoderSlagtesvin*FEsvPrKg)*I282","v":0},{"$f":"_xlfn.IFS(J280=1,KgFoderSøer+KgFoderSmågrise,J280=2,KgFoderSøer,J280=3,KgFoderSmågrise,J280=4,KgFoderSlagtesvin)*I282","v":0},{"$f":"IF(ISERROR(_xlfn.ANCHORARRAY(S321)/_xlfn.ANCHORARRAY(Q321)),0,_xlfn.ANCHORARRAY(S321)/_xlfn.ANCHORARRAY(Q321))","v":0},{"$f":"_xlfn.IFS(J280=1,KrFoderSøer+KrFoderSmågrise,J280=2,KrFoderSøer,J280=3,KrFoderSmågrise,J280=4,KrFoderSlagtesvin)*I282","v":0},{"$f":"IF(ISERROR(P321:P370/M281),0,P321:P370/M281)","v":0},{"$f":"IF(ISERROR(Q321:Q370/M281),0,Q321:Q370/M281)","v":0},{"$f":"R321:R375","v":0},{"$f":"IF(ISERROR(S321:S370/M281),0,S321:S370/M281)","v":0}]
[null,{"$f":"IF(SUM(P322:S322)=0,FALSE,TRUE)","v":false},null,null,null,null,null,null,null,null,null,null,"Hvede",null,null,0,0,0,0,0,0,0,0]
[null,{"$f":"IF(SUM(P323:S323)=0,FALSE,TRUE)","v":false},null,null,null,null,null,null,null,null,null,null,"Rug",null,null,0,0,0,0,0,0,0,0]
[null,false,null,null,null,null,null,null,null,null,null,null,"Havre",null,null,0,0,0,0,0,0,0,0]
[null,false,null,null,null,null,null,null,null,null,null,null,"Triticale",null,null,0,0,0,0,0,0,0,0]
[null,false,null,null,null,null,null,null,null,null,null,null,"Foderkorn",null,null,0,0,0,0,0,0,0,0]
[null,false,null,null,null,null,null,null,null,null,null,null,"",null,null,0,0,0,0,0,0,0,0]
[null,false,null,null,null,null,null,null,null,null,null,null,"Rapsfrø DL",null,null,0,0,0,0,0,0,0,0]
[null,false,null,null,null,null,null,null,null,null,null,null,"Rapsskrå",null,null,0,0,0,0,0,0,0,0]
[null,false,null,null,null,null,null,null,null,null,null,null,"Rapskage 9% fedt",null,null,0,0,0,0,0,0,0,0]
[null,false,null,null,null,null,null,null,null,null,null,null,"Sojaskrå",null,null,0,0,0,0,0,0,0,0]
[null,false,null,null,null,null,null,null,null,null,null,null,"Sojaskrå, afskallet",null,null,0,0,0,0,0,0,0,0]
[null,false,null,null,null,null,null,null,null,null,null,null,"Sojaprodukt HP300",null,null,0,0,0,0,0,0,0,0]
[null,false,null,null,null,null,null,null,null,null,null,null,"Soyaproteinkoncentrat",null,null,0,0,0,0,0,0,0,0]
[null,false,null,null,null,null,null,null,null,null,null,null,"Lupin, blå, øko",null,null,0,0,0,0,0,0,0,0]
[null,false,null,null,null,null,null,null,null,null,null,null,"Ærter",null,null,0,0,0,0,0,0,0,0]
[null,false,null,null,null,null,null,null,null,null,null,null,"Hestebønner",null,null,0,0,0,0,0,0,0,0]
[null,false,null,null,null,null,null,null,null,null,null,null,"Roepiller, umellaseret",null,null,0,0,0,0,0,0,0,0]
[null,false,null,null,null,null,null,null,null,null,null,null,"Melasse, roe",null,null,0,0,0,0,0,0,0,0]
[null,false,null,null,null,null,null,null,null,null,null,null,"Kartoffelproteinkoncentrat",null,null,0,0,0,0,0,0,0,0]
[null,false,null,null,null,null,null,null,null,null,null,null,"Lucernepiller",null,null,0,0,0,0,0,0,0,0]
[null,false,null,null,null,null,null,null,null,null,null,null,"Grønpiller",null,null,0,0,0,0,0,0,0,0]
[null,false,null,null,null,null,null,null,null,null,null,null,"Skummetmælkspulver",null,null,0,0,0,0,0,0,0,0]
[null,false,null,null,null,null,null,null,null,null,null,null,"Valle, kat. A",null,null,0,0,0,0,0,0,0,0]
[null,false,null,null,null,null,null,null,null,null,null,null,"Valle, kat. B",null,null,0,0,0,0,0,0,0,0]
[null,false,null,null,null,null,null,null,null,null,null,null,"Vallepulver, sød",null,null,0,0,0,0,0,0,0,0]
[null,false,null,null,null,null,null,null,null,null,null,null,"Fiskemel, standard",null,null,0,0,0,0,0,0,0,0]
[null,false,null,null,null,null,null,null,null,null,null,null,"Fiskemel lt",null,null,0,0,0,0,0,0,0,0]
[null,false,null,null,null,null,null,null,null,null,null,null,"Lumino 17/3 fiskepulp",null,null,0,0,0,0,0,0,0,0]
[null,false,null,null,null,null,null,null,null,null,null,null,"Fiskepulp H-pro",null,null,0,0,0,0,0,0,0,0]
[null,false,null,null,null,null,null,null,null,null,null,null,"Svinefedt 92/10",null,null,0,0,0,0,0,0,0,0]
[null,false,null,null,null,null,null,null,null,null,null,null,"Palmeolie",null,null,0,0,0,0,0,0,0,0]
[null,false,null,null,null,null,null,null,null,null,null,null,"Rapsolie",null,null,0,0,0,0,0,0,0,0]
[null,false,null,null,null,null,null,null,null,null,null,null,"PFAD",null,null,0,0,0,0,0,0,0,0]
[null,false,null,null,null,null,null,null,null,null,null,null,"Gærfløde, Nova",null,null,0,0,0,0,0,0,0,0]
[null,false,null,null,null,null,null,null,null,null,null,null,"Gærfløde, sprit",null,null,0,0,0,0,0,0,0,0]
[null,false,null,null,null,null,null,null,null,null,null,null,"Syremajs",null,null,0,0,0,0,0,0,0,0]
[null,false,null,null,null,null,null,null,null,null,null,null,"Soyaolie",null,null,0,0,0,0,0,0,0,0]
[null,false,null,null,null,null,null,null,null,null,null,null,"Tilskudsfoder, søer",null,null,0,0,0,0,0,0,0,0]
[null,false,null,null,null,null,null,null,null,null,null,null,"Tilskudsfoder, smågrise",null,null,0,0,0,0,0,0,0,0]
[null,false,null,null,null,null,null,null,null,null,null,null,"Tilskudsfoder, slagtesvin",null,null,0,0,0,0,0,0,0,0]
[null,false,null,null,null,null,null,null,null,null,null,null,"Forblanding, slagtesvin",null,null,0,0,0,0,0,0,0,0]
[null,false,null,null,null,null,null,null,null,null,null,null,"Forblanding, smågrise",null,null,0,0,0,0,0,0,0,0]
[null,false,null,null,null,null,null,null,null,null,null,null,"Forblanding, Søer",null,null,0,0,0,0,0,0,0,0]
[null,false,null,null,null,null,null,null,null,null,null,null,"Startfoder",null,null,0,0,0,0,0,0,0,0]
[null,false,null,null,null,null,null,null,null,null,null,null,"Færdigblanding, smågrise",null,null,0,0,0,0,0,0,0,0]
[null,false,null,null,null,null,null,null,null,null,null,null,"Færdigblanding, slagtesvin",null,null,0,0,0,0,0,0,0,0]
[null,false,null,null,null,null,null,null,null,null,null,null,"Hjælpestofer m.m.",null,null,0,0,0,0,0,0,0,0]
[null,false,null,null,null,null,null,null,null,null,null,null,"Mineraler",null,null,0,0,0,0,0,0,0,0]
[null,{"$f":"B320","v":false},null,null,null,null,null,null,null,null,null,null,"Foder i alt",null,null,{"$f":"SUM(_xlfn.ANCHORARRAY(P321))","v":0},{"$f":"SUM(_xlfn.ANCHORARRAY(Q321))","v":0},null,{"$f":"SUM(_xlfn.ANCHORARRAY(S321))","v":0},0,0,0,0]
[null,false,null,null,null,null,null,null,null,null,null,null,{"$f":"$M$142:$M$144","v":"Dyrlæge og medicin"},null,null,null,null,null,{"$f":"_xlfn.IFS(J280=1,DivSøer+DivSmågrise,J280=2,DivSøer,J280=3,DivSmågrise,J280=4,DivSlagtesvin)*I282","v":0},null,null,0,{"$f":"IF(ISERROR(S371:S375/M281),0,S371:S375/M281)","v":0}]
[null,false,null,null,null,null,null,null,null,null,null,null,"Diverse vedr. husdyr",null,null,null,null,null,0,null,null,0,0]
[null,{"$f":"B370","v":false},null,null,null,null,null,null,null,null,null,null,"Dyrlæge og diverse i alt",null,null,null,null,null,{"$f":"SUM(_xlfn.ANCHORARRAY(S371))","v":0},null,null,0,0]
[null,{"$f":"B373","v":false},null,null,null,null,null,null,null,null,null,null,"Stykomkostninger i alt",null,null,null,null,null,{"$f":"+S370+S373","v":0},null,null,0,0]
[null,{"$f":"B374","v":false},null,null,null,null,null,null,null,null,null,null,"Dækningsbidrag",null,null,null,null,null,{"$f":"+S319+S374","v":0},null,null,0,0]
[null,false]
[null,{"$f":"OR(B280=TRUE,B173=TRUE)","v":false},null,null,null,null,null,null,null,null,null,null,"Fravænnede grise pr. årsso:"]
[null,{"$f":"B377","v":false},null,null,null,null,null,null,null,null,null,null,null,{"$f":"TEXT(AntalFravGrise,\"#.##0\")&\" frav. grise / \"&TEXT(ÅrssøerAntal,\"#.##0\")&\" årssøer =\"","v":"0 frav. grise / 0 årssøer ="},null,null,null,{"$f":"AntalFravGrise/ÅrssøerAntal","v":{"$error":"#DIV/0!"}},"frav. grise pr. årsso"]
[null,{"$f":"B378","v":false}]
[null,false,null,null,null,null,null,null,null,null,null,null,"Gennemsnitlig pris pr. Fe:"]
[null,false,null,null,null,null,null,null,null,null,null,null,null,{"$f":"TEXT(-S370,\"#.##0\")&\" kr. / \"&TEXT(-P370,\"#.##0\")&\" Fe. =\"","v":"0 kr. / 0 Fe. ="},null,null,{"$f":"+S370/P370","v":{"$error":"#DIV/0!"}},null,"kr./fe."]
[null,{"$f":"B383","v":false}]
[null,{"$f":"B384","v":false},null,null,null,null,null,null,null,null,"Smågrise"]
[null,{"$f":"B385","v":false}]
[null,{"$f":"OR(SUM(P387:W424)<>0,P426:W480<>0)","v":false},null,null,null,null,null,null,"Prod.gren:",3,null,null,{"$f":"\"Kalkule, \"&VLOOKUP(J385,tblProdGren[],2)","v":"Kalkule, Smågrise"},null,null,"I alt",null,null,null,{"$f":"\"Pr. \"&VLOOKUP(J385,tblProdGren[],3)","v":"Pr. prod. smågris"}]
[null,{"$f":"B385","v":false},null,null,null,null,null,null,null,{"$f":"ProdSmågriseAntal","v":{"$error":"#DIV/0!"}},null,null,{"$f":"J386","v":{"$error":"#DIV/0!"}},{"$f":"VLOOKUP(J385,tblProdGren[],4)","v":"prod. smågrise"},null,"Antal","kg.","Pris","Beløb","Antal","Vægt","Pris","Beløb"]
[null,{"$f":"IF(SUM(P387:S387)=0,FALSE,TRUE)","v":false},null,null,null,null,null,null,{"$f":"IF(M18=\"Søer og smågrise opdelt i to produktionsgrene\",1,0)","v":0},{"$f":"IF(OR(J385=1,J385=2),1,0)*I387","v":0},null,null,{"$f":"$M$44:$M$81","v":"Salg orner"},null,null,{"$f":"DyrOmsSøerAntal*J387:J395","v":0},null,{"$f":"IF(ISERROR(_xlfn.ANCHORARRAY(S387)/_xlfn.ANCHORARRAY(P387)),0,_xlfn.ANCHORARRAY(S387)/_xlfn.ANCHORARRAY(P387))","v":0},{"$f":"DyrOmsSøerKr*J387:J395","v":0},{"$f":"IF(ISERROR(P387:P424/M386),0,P387:P424/M386)","v":0},{"$f":"IF(ISERROR(Q387:Q424/P387:P424),0,Q387:Q424/P387:P424)","v":0},{"$f":"R387:R424","v":0},{"$f":"IF(ISERROR(S387:S424/M386),0,S387:S424/M386)","v":0}]
[null,false,null,null,null,null,null,null,null,{"$f":"J387","v":0},null,null,"Salg af søer og gylte",null,null,0,null,0,0,0,0,0,0]
[null,false,null,null,null,null,null,null,null,{"$f":"J388","v":0},null,null,"Søer og gylte, døde/kasserede",null,null,0,null,0,0,0,0,0,0]
[null,false,null,null,null,null,null,null,null,0,null,null,"Salg af polte",null,null,0,null,0,0,0,0,0,0]
[null,false,null,null,null,null,null,null,null,0,null,null,"Indkøb orner",null,null,0,null,0,0,0,0,0,0]
[null,false,null,null,null,null,null,null,null,0,null,null,"Overførte polte",null,null,0,null,0,0,0,0,0,0]
[null,false,null,null,null,null,null,null,null,0,null,null,"Indkøbte polte",null,null,0,null,0,0,0,0,0,0]
[null,false,null,null,null,null,null,null,null,0,null,null,"Indkøbte søer",null,null,0,null,0,0,0,0,0,0]
[null,false,null,null,null,null,null,null,null,0,null,null,"Forskydning avlsdyr",null,null,0,null,0,0,0,0,0,0]
[null,false,null,null,null,null,null,null,null,0,null,null,"Tilvækst avlsdyr",null,null,{"$f":"IF($J396=1,SUM(_xlfn.ANCHORARRAY(P387)),0)","v":0},null,null,{"$f":"IF($J396=1,SUM(_xlfn.ANCHORARRAY(S387)),0)","v":0},0,0,0,0]
[null,false,null,null,null,null,null,null,null,{"$f":"J396","v":0},null,null,"7 kg. grise solgt",null,null,{"$f":"DyrOmsPatgrAntal*J397:J400","v":0},{"$f":"DyrOmsPatgrKg*J397:J400","v":0},{"$f":"IF(ISERROR(S397:S400/_xlfn.ANCHORARRAY(P397)),0,S397:S400/_xlfn.ANCHORARRAY(P397))","v":0},{"$f":"DyrOmsPatgrKr*J397:J400","v":0},0,0,0,0]
[null,false,null,null,null,null,null,null,null,{"$f":"IF(J385=2,1,0)*I387","v":0},null,null,"7 kg. grise overført til smågrise",null,null,0,0,0,0,0,0,0,0]
[null,false,null,null,null,null,null,null,null,{"$f":"J397","v":0},null,null,"Pattegrise døde",null,null,0,0,0,0,0,0,0,0]
[null,false,null,null,null,null,null,null,null,{"$f":"J399","v":0},null,null,"Forskydning pattegrise",null,null,0,0,0,0,0,0,0,0]
[null,false,null,null,null,null,null,null,null,{"$f":"J398","v":0},null,null,"Tilvækst pattegrise",null,null,{"$f":"IF($J401=1,SUM(_xlfn.ANCHORARRAY(P397)),0)","v":0},{"$f":"IF($J401=1,SUM(_xlfn.ANCHORARRAY(Q397)),0)","v":0},null,{"$f":"IF($J401=1,SUM(_xlfn.ANCHORARRAY(S397)),0)","v":0},0,0,0,0]
[null,false,null,null,null,null,null,null,null,{"$f":"IF(OR(J385=1,J385=3),1,0)*I387","v":0},null,null,"7 kg. grise indkøbt",null,null,{"$f":"DyrOmsSmågriseAntal*$J402:$J408","v":0},{"$f":"DyrOmsSmågriseKg*$J402:$J408","v":0},{"$f":"IF(ISERROR(_xlfn.ANCHORARRAY(S402)/_xlfn.ANCHORARRAY(P402)),0,_xlfn.ANCHORARRAY(S402)/_xlfn.ANCHORARRAY(P402))","v":0},{"$f":"DyrOmsSmågriseKr*$J402:$J408","v":0},0,0,0,0]
[null,false,null,null,null,null,null,null,null,{"$f":"IF(J385=3,1,0)*I387","v":0},null,null,"7 kg. grise overført fra søer",null,null,0,0,0,0,0,0,0,0]
[null,false,null,null,null,null,null,null,null,{"$f":"J402","v":0},null,null,"Smågrise, overført til sl. svin",null,null,0,0,0,0,0,0,0,0]
[null,false,null,null,null,null,null,null,null,{"$f":"J404","v":0},null,null,"Smågrise, solgt",null,null,0,0,0,0,0,0,0,0]
[null,false,null,null,null,null,null,null,null,{"$f":"J405","v":0},null,null,"Døde smågrise",null,null,0,0,0,0,0,0,0,0]
[null,false,null,null,null,null,null,null,null,{"$f":"J406","v":0},null,null,"Polte overført til søer",null,null,0,0,0,0,0,0,0,0]
[null,false,null,null,null,null,null,null,null,{"$f":"J407","v":0},null,null,"Forskydning smågrise",null,null,0,0,0,0,0,0,0,0]
[null,false,null,null,null,null,null,null,null,{"$f":"J408","v":0},null,null,"Tilvækst smågrise",null,null,{"$f":"IF($J409=1,IF(J401=1,SUM(_xlfn.ANCHORARRAY(P402)),SUM(P397:P408)),0)","v":0},{"$f":"IF($J409=1,IF(K401=1,SUM(_xlfn.ANCHORARRAY(Q402)),SUM(Q397:Q408)),0)","v":0},null,{"$f":"IF($J409=1,IF(M401=1,SUM(_xlfn.ANCHORARRAY(S402)),SUM(S397:S408)),0)","v":0},0,0,0,0]
[null,false,null,null,null,null,null,null,null,{"$f":"IF(J385=4,1,0)*I387","v":0},null,null,"Smågrise indkøbt",null,null,{"$f":"DyrOmsSlsvinAntal*$J410:$J418","v":0},{"$f":"DyrOmsSlsvinKg*$J410:$J418","v":0},{"$f":"IF(ISERROR(_xlfn.ANCHORARRAY(S410)/_xlfn.ANCHORARRAY(P410)),0,_xlfn.ANCHORARRAY(S410)/_xlfn.ANCHORARRAY(P410))","v":0},{"$f":"DyrOmsSlsvinKr*$J410:$J418","v":0},0,0,0,0]
[null,false,null,null,null,null,null,null,null,{"$f":"J410","v":0},null,null,"Smågrise overf. fra smågrisestald",null,null,0,0,0,0,0,0,0,0]
[null,false,null,null,null,null,null,null,null,{"$f":"J411","v":0},null,null,"Slagtesvin solgt (levende vægt)",null,null,0,0,0,0,0,0,0,0]
[null,false,null,null,null,null,null,null,null,0,null,null,"Andre svin",null,null,0,0,0,0,0,0,0,0]
[null,false,null,null,null,null,null,null,null,0,null,null,"Polte overført til søer",null,null,0,0,0,0,0,0,0,0]
[null,false,null,null,null,null,null,null,null,0,null,null,"Døde og kasserede slagtesvin",null,null,0,0,0,0,0,0,0,0]
[null,false,null,null,null,null,null,null,null,0,null,null,"Efterbetaling",null,null,0,0,0,0,0,0,0,0]
[null,false,null,null,null,null,null,null,null,0,null,null,"Til husholdning",null,null,0,0,0,0,0,0,0,0]
[null,false,null,null,null,null,null,null,null,0,null,null,"Forskydning, slagtesvin",null,null,0,0,0,0,0,0,0,0]
[null,false,null,null,null,null,null,null,null,0,null,null,"Tilvækst slagtesvin",null,null,{"$f":"IF($J419=1,SUM(_xlfn.ANCHORARRAY(P410)),0)","v":0},{"$f":"IF($J419=1,SUM(_xlfn.ANCHORARRAY(Q410)),0)","v":0},null,{"$f":"IF($J419=1,SUM(_xlfn.ANCHORARRAY(S410)),0)","v":0},0,0,0,0]
[null,false,null,null,null,null,null,null,null,{"$f":"J387","v":0},null,null,"Div. søer",null,null,null,null,null,{"$f":"DivIndt*J420:J422","v":0},0,0,0,0]
[null,false,null,null,null,null,null,null,null,{"$f":"J402","v":0},null,null,"Div smågrise",null,null,null,null,null,0,0,0,0,0]
[null,false,null,null,null,null,null,null,null,{"$f":"J410","v":0},null,null,"Div. slagtesvin",null,null,null,null,null,0,0,0,0,0]
[null,false,null,null,null,null,null,null,null,1,null,null,"Andet",null,null,null,null,null,{"$f":"IF($J423=1,SUM(_xlfn.ANCHORARRAY(S420)),0)","v":0},0,0,0,0]
[null,false,null,null,null,null,null,null,null,1,null,null,"Bruttoudbytte i alt",null,null,null,null,null,{"$f":"+S396+S401+S409+S419+S423","v":0},0,0,0,0]
[null,{"$f":"B386","v":false},null,null,null,null,null,null,null,null,null,null,null,null,null,"Fe.","kg.","Pris/kg.","Beløb","Fe.","kg.","Pris/kg.","Beløb"]
[null,{"$f":"IF(SUM(P426:S426)=0,FALSE,TRUE)","v":false},null,null,null,null,null,null,null,null,null,null,{"$f":"IF($M$89:$M$137=\"\",\"\",$M$89:$M$137)","v":"Byg"},null,null,{"$f":"_xlfn.IFS(J385=1,KgFoderSøer*FEsoPrKg+KgFoderSmågrise*FEsvPrKg,J385=2,KgFoderSøer*FEsoPrKg,J385=3,KgFoderSmågrise*FEsvPrKg,J385=4,KgFoderSlagtesvin*FEsvPrKg)*I387","v":0},{"$f":"_xlfn.IFS(J385=1,KgFoderSøer+KgFoderSmågrise,J385=2,KgFoderSøer,J385=3,KgFoderSmågrise,J385=4,KgFoderSlagtesvin)*I387","v":0},{"$f":"IF(ISERROR(_xlfn.ANCHORARRAY(S426)/_xlfn.ANCHORARRAY(Q426)),0,_xlfn.ANCHORARRAY(S426)/_xlfn.ANCHORARRAY(Q426))","v":0},{"$f":"_xlfn.IFS(J385=1,KrFoderSøer+KrFoderSmågrise,J385=2,KrFoderSøer,J385=3,KrFoderSmågrise,J385=4,KrFoderSlagtesvin)*I387","v":0},{"$f":"IF(ISERROR(P426:P475/M386),0,P426:P475/M386)","v":0},{"$f":"IF(ISERROR(Q426:Q475/M386),0,Q426:Q475/M386)","v":0},{"$f":"R426:R480","v":0},{"$f":"IF(ISERROR(S426:S475/M386),0,S426:S475/M386)","v":0}]
[null,{"$f":"IF(SUM(P427:S427)=0,FALSE,TRUE)","v":false},null,null,null,null,null,null,null,null,null,null,"Hvede",null,null,0,0,0,0,0,0,0,0]
[null,{"$f":"IF(SUM(P428:S428)=0,FALSE,TRUE)","v":false},null,null,null,null,null,null,null,null,null,null,"Rug",null,null,0,0,0,0,0,0,0,0]
[null,false,null,null,null,null,null,null,null,null,null,null,"Havre",null,null,0,0,0,0,0,0,0,0]
[null,false,null,null,null,null,null,null,null,null,null,null,"Triticale",null,null,0,0,0,0,0,0,0,0]
[null,false,null,null,null,null,null,null,null,null,null,null,"Foderkorn",null,null,0,0,0,0,0,0,0,0]
[null,false,null,null,null,null,null,null,null,null,null,null,"",null,null,0,0,0,0,0,0,0,0]
[null,false,null,null,null,null,null,null,null,null,null,null,"Rapsfrø DL",null,null,0,0,0,0,0,0,0,0]
[null,false,null,null,null,null,null,null,null,null,null,null,"Rapsskrå",null,null,0,0,0,0,0,0,0,0]
[null,false,null,null,null,null,null,null,null,null,null,null,"Rapskage 9% fedt",null,null,0,0,0,0,0,0,0,0]
[null,false,null,null,null,null,null,null,null,null,null,null,"Sojaskrå",null,null,0,0,0,0,0,0,0,0]
[null,false,null,null,null,null,null,null,null,null,null,null,"Sojaskrå, afskallet",null,null,0,0,0,0,0,0,0,0]
[null,false,null,null,null,null,null,null,null,null,null,null,"Sojaprodukt HP300",null,null,0,0,0,0,0,0,0,0]
[null,false,null,null,null,null,null,null,null,null,null,null,"Soyaproteinkoncentrat",null,null,0,0,0,0,0,0,0,0]
[null,false,null,null,null,null,null,null,null,null,null,null,"Lupin, blå, øko",null,null,0,0,0,0,0,0,0,0]
[null,false,null,null,null,null,null,null,null,null,null,null,"Ærter",null,null,0,0,0,0,0,0,0,0]
[null,false,null,null,null,null,null,null,null,null,null,null,"Hestebønner",null,null,0,0,0,0,0,0,0,0]
[null,false,null,null,null,null,null,null,null,null,null,null,"Roepiller, umellaseret",null,null,0,0,0,0,0,0,0,0]
[null,false,null,null,null,null,null,null,null,null,null,null,"Melasse, roe",null,null,0,0,0,0,0,0,0,0]
[null,false,null,null,null,null,null,null,null,null,null,null,"Kartoffelproteinkoncentrat",null,null,0,0,0,0,0,0,0,0]
[null,false,null,null,null,null,null,null,null,null,null,null,"Lucernepiller",null,null,0,0,0,0,0,0,0,0]
[null,false,null,null,null,null,null,null,null,null,null,null,"Grønpiller",null,null,0,0,0,0,0,0,0,0]
[null,false,null,null,null,null,null,null,null,null,null,null,"Skummetmælkspulver",null,null,0,0,0,0,0,0,0,0]
[null,false,null,null,null,null,null,null,null,null,null,null,"Valle, kat. A",null,null,0,0,0,0,0,0,0,0]
[null,false,null,null,null,null,null,null,null,null,null,null,"Valle, kat. B",null,null,0,0,0,0,0,0,0,0]
[null,false,null,null,null,null,null,null,null,null,null,null,"Vallepulver, sød",null,null,0,0,0,0,0,0,0,0]
[null,false,null,null,null,null,null,null,null,null,null,null,"Fiskemel, standard",null,null,0,0,0,0,0,0,0,0]
[null,false,null,null,null,null,null,null,null,null,null,null,"Fiskemel lt",null,null,0,0,0,0,0,0,0,0]
[null,false,null,null,null,null,null,null,null,null,null,null,"Lumino 17/3 fiskepulp",null,null,0,0,0,0,0,0,0,0]
[null,false,null,null,null,null,null,null,null,null,null,null,"Fiskepulp H-pro",null,null,0,0,0,0,0,0,0,0]
[null,false,null,null,null,null,null,null,null,null,null,null,"Svinefedt 92/10",null,null,0,0,0,0,0,0,0,0]
[null,false,null,null,null,null,null,null,null,null,null,null,"Palmeolie",null,null,0,0,0,0,0,0,0,0]
[null,false,null,null,null,null,null,null,null,null,null,null,"Rapsolie",null,null,0,0,0,0,0,0,0,0]
[null,false,null,null,null,null,null,null,null,null,null,null,"PFAD",null,null,0,0,0,0,0,0,0,0]
[null,false,null,null,null,null,null,null,null,null,null,null,"Gærfløde, Nova",null,null,0,0,0,0,0,0,0,0]
[null,false,null,null,null,null,null,null,null,null,null,null,"Gærfløde, sprit",null,null,0,0,0,0,0,0,0,0]
[null,false,null,null,null,null,null,null,null,null,null,null,"Syremajs",null,null,0,0,0,0,0,0,0,0]
[null,false,null,null,null,null,null,null,null,null,null,null,"Soyaolie",null,null,0,0,0,0,0,0,0,0]
[null,false,null,null,null,null,null,null,null,null,null,null,"Tilskudsfoder, søer",null,null,0,0,0,0,0,0,0,0]
[null,false,null,null,null,null,null,null,null,null,null,null,"Tilskudsfoder, smågrise",null,null,0,0,0,0,0,0,0,0]
[null,false,null,null,null,null,null,null,null,null,null,null,"Tilskudsfoder, slagtesvin",null,null,0,0,0,0,0,0,0,0]
[null,false,null,null,null,null,null,null,null,null,null,null,"Forblanding, slagtesvin",null,null,0,0,0,0,0,0,0,0]
[null,false,null,null,null,null,null,null,null,null,null,null,"Forblanding, smågrise",null,null,0,0,0,0,0,0,0,0]
[null,false,null,null,null,null,null,null,null,null,null,null,"Forblanding, Søer",null,null,0,0,0,0,0,0,0,0]
[null,false,null,null,null,null,null,null,null,null,null,null,"Startfoder",null,null,0,0,0,0,0,0,0,0]
[null,false,null,null,null,null,null,null,null,null,null,null,"Færdigblanding, smågrise",null,null,0,0,0,0,0,0,0,0]
[null,false,null,null,null,null,null,null,null,null,null,null,"Færdigblanding, slagtesvin",null,null,0,0,0,0,0,0,0,0]
[null,false,null,null,null,null,null,null,null,null,null,null,"Hjælpestofer m.m.",null,null,0,0,0,0,0,0,0,0]
[null,false,null,null,null,null,null,null,null,null,null,null,"Mineraler",null,null,0,0,0,0,0,0,0,0]
[null,{"$f":"B425","v":false},null,null,null,null,null,null,null,null,null,null,"Foder i alt",null,null,{"$f":"SUM(_xlfn.ANCHORARRAY(P426))","v":0},{"$f":"SUM(_xlfn.ANCHORARRAY(Q426))","v":0},null,{"$f":"SUM(_xlfn.ANCHORARRAY(S426))","v":0},0,0,0,0]
[null,false,null,null,null,null,null,null,null,null,null,null,{"$f":"$M$142:$M$144","v":"Dyrlæge og medicin"},null,null,null,null,null,{"$f":"_xlfn.IFS(J385=1,DivSøer+DivSmågrise,J385=2,DivSøer,J385=3,DivSmågrise,J385=4,DivSlagtesvin)*I387","v":0},null,null,0,{"$f":"IF(ISERROR(S476:S480/M386),0,S476:S480/M386)","v":0}]
[null,false,null,null,null,null,null,null,null,null,null,null,"Diverse vedr. husdyr",null,null,null,null,null,0,null,null,0,0]
[null,{"$f":"B475","v":false},null,null,null,null,null,null,null,null,null,null,"Dyrlæge og diverse i alt",null,null,null,null,null,{"$f":"SUM(_xlfn.ANCHORARRAY(S476))","v":0},null,null,0,0]
[null,{"$f":"B478","v":false},null,null,null,null,null,null,null,null,null,null,"Stykomkostninger i alt",null,null,null,null,null,{"$f":"+S475+S478","v":0},null,null,0,0]
[null,{"$f":"B479","v":false},null,null,null,null,null,null,null,null,null,null,"Dækningsbidrag",null,null,null,null,null,{"$f":"+S424+S479","v":0},null,null,0,0]
[null,{"$f":"OR(B280=TRUE,B173=TRUE)","v":false}]
[null,false,null,null,null,null,null,null,null,null,null,null,"Gennemsnitlig afgangsvægt for smågrise:"]
[null,false,null,null,null,null,null,null,null,null,null,null,null,"Beregnes som det vægtede gennemsnit af solgte og overførte smågrise."]
[null,false,null,null,null,null,null,null,null,null,null,null,null,{"$f":"\"(\"&TEXT(-SmågriseOverførtTilSlagtKg,\"#.##0\")&\" kg. overf. + \"&TEXT(SmågriseSolgtKg,\"#.##0\")&\" kg. solgte) / (\"&TEXT(SmågriseOverførtTilSlagtAntal,\"#.##0\")&\" stk. overf. + \"&TEXT(SmågriseSolgtAntal,\"#.##0\")&\"stk. solgte) =\"","v":"(0 kg. overf. + 0 kg. solgte) / (0 stk. overf. + 0stk. solgte) ="},null,null,null,null,{"$f":"(SmågriseOverførtTilSlagtKg+SmågriseSolgtKg)/(SmågriseOverførtTilSlagtAntal+SmågriseSolgtAntal)","v":{"$error":"#DIV/0!"}},null,"kg. pr. smågris"]
[null,false]
[null,false,null,null,null,null,null,null,null,null,null,null,"Producerede smågrise:"]
[null,false,null,null,null,null,null,null,null,null,null,null,null,"Antal producerede smågrise er det antal der har forladt stalden +/- en værdi for den besætningsforskydning der har været."]
[null,false,null,null,null,null,null,null,null,null,null,null,null,"Den beregnes som de totale kg. smågrise solgt eller overført plus kg. besætningsforskydning divideret med den "]
[null,false,null,null,null,null,null,null,null,null,null,null,null,"gennemsnitlige afgangsvægt"]
[null,false]
[null,false,null,null,null,null,null,null,null,null,null,null,null,{"$f":"\"(\"&TEXT(SmågriseOverførtTilSlagtKg,\"#.##0\")&\" + \"&TEXT(SmågriseSolgtKg,\"#.##0\")&\" + \"&TEXT(SmågriseForskydningKg,\"#.##0\")&\") / \"&TEXT(AfgangsvægtSmågriseGnsKg,\"#.##0,0\")&\" =\"","v":{"$error":"#DIV/0!"}},null,null,null,null,{"$f":"(SmågriseOverførtTilSlagtKg+SmågriseSolgtKg+SmågriseForskydningKg)/AfgangsvægtSmågriseGnsKg","v":{"$error":"#DIV/0!"}},null,"producerede smågrise"]
[null,false]
[null,false,null,null,null,null,null,null,null,null,null,null,"Producerede smågrise pr. årsso:"]
[null,false,null,null,null,null,null,null,null,null,null,null,null,{"$f":"TEXT(ProdSmågriseAntal,\"#.##0\")&\" prod. grise / \"&TEXT(ÅrssøerAntal,\"#.##0\")&\" årssøer =\"","v":{"$error":"#DIV/0!"}},null,null,{"$f":"+ProdSmågriseAntal/ÅrssøerAntal","v":{"$error":"#DIV/0!"}},null,"prod. smågrise pr. årsso"]
[null,{"$f":"+B480","v":false}]
[null,false,null,null,null,null,null,null,null,null,null,null,"Gennemsnitlig pris pr. Fe:"]
[null,false,null,null,null,null,null,null,null,null,null,null,null,{"$f":"TEXT(-S475,\"#.##0\")&\" kr. / \"&TEXT(-P475,\"#.##0\")&\" Fe. =\"","v":"0 kr. / 0 Fe. ="},null,null,{"$f":"+S475/P475","v":{"$error":"#DIV/0!"}},null,"kr./fe."]
[null,{"$f":"B499","v":false}]
[null,{"$f":"B500","v":false},null,null,null,null,null,null,null,null,"Slagtesvin"]
[null,{"$f":"B501","v":false}]
[null,{"$f":"B502","v":false},null,null,null,null,null,null,null,null,null,null,"Dyreomsætning slagtesvin"]
[null,false,null,null,null,null,null,null,null,null,null,null,"Tilgang",null,"stk.","kg.","Afgang",null,"stk.","kg."]
[null,false,null,null,null,null,null,null,null,null,null,null,"Besætning primo",null,{"$f":"SUM(P30:P36)","v":0},{"$f":"SUM(Q30:Q36)","v":0},"Besætning ultimo",null,{"$f":"SUM(T30:T36)","v":0},{"$f":"SUM(U30:U36)","v":0}]
[null,false,null,null,null,null,null,null,null,null,null,null,"Indkøbte smågrise",null,{"$f":"-P67","v":0},{"$f":"-T67","v":0},"Slagtesvin solgt",null,{"$f":"P69","v":0},{"$f":"T69","v":0}]
[null,false,null,null,null,null,null,null,null,null,null,null,"Smågrise fra søer",null,{"$f":"-P68","v":0},{"$f":"-T68","v":0},"Andre svin, afgang",null,{"$f":"P70","v":0},{"$f":"T70","v":0}]
[null,false,null,null,null,null,null,null,null,null,null,null,null,null,null,null,"Polte overført til søer",null,{"$f":"P71","v":0},{"$f":"T71","v":0}]
[null,false,null,null,null,null,null,null,null,null,null,null,null,null,null,null,"Døde slagtesvin",null,{"$f":"P72","v":0},{"$f":"T72","v":0}]
[null,false,null,null,null,null,null,null,null,null,null,null,"Tilvækst (Saldo)",null,{"$f":"S509-O503-O504-O505","v":0},{"$f":"+T509-P503-P504-P505","v":0},"Til husholdning",null,{"$f":"P74","v":0},{"$f":"T74","v":0}]
[null,false,null,null,null,null,null,null,null,null,null,null,"I alt (Balance)",null,{"$f":"SUM(O503:O508)","v":0},{"$f":"SUM(P503:P508)","v":0},"I alt (Balance)",null,{"$f":"SUM(S503:S508)","v":0},{"$f":"SUM(T503:T508)","v":0}]
[null,false]
[null,false,null,null,null,null,null,null,null,null,null,null,"Beregning af kg. tilvækst pr. dyr:"]
[null,false,null,null,null,null,null,null,null,null,null,null,null,"Afgangsvægt til slagt, levende:",null,null,{"$f":"\"(\"&TEXT(T504,\"#.##0\")&\" kg. / \"&TEXT(S504,\"#.##0\")&\" stk.) = \"","v":"(0 kg. / 0 stk.) = "},null,null,null,{"$f":"IF(ISERROR(T504/S504),0,T504/S504)","v":0},"kg."]
[null,false,null,null,null,null,null,null,null,null,null,null,null,"- Gns. indgangsvægt:",null,null,{"$f":"\"(\"&TEXT(P504,\"#.##0\")&\"+\"&TEXT(P505,\"#.##0\")&\") / (\"&TEXT(O504,\"#.##0\")&\"+\"&TEXT(O505,\"#.##0\")&\") =\"","v":"(0+0) / (0+0) ="},null,null,null,{"$f":"IF(ISERROR(+(P504+P505)/(O504+O505)),0,+(P504+P505)/(O504+O505))","v":0},"kg."]
[null,false,null,null,null,null,null,null,null,null,null,null,null,"= Gennemsnitlig tilvækst:",null,null,null,null,null,null,{"$f":"+U512-U513","v":0},"kg."]
[null,false]
[null,false,null,null,null,null,null,null,null,null,null,null,"Beregning af produktionsomfang:"]
[null,{"$f":"B518","v":false},null,null,null,null,null,null,null,null,null,null,null,"Tilvækst divideret med gns. tilvækst:",null,null,null,{"$f":"TEXT(P508,\"#.##0\")&\"kg. / \"&TEXT(U514,\"#.##0,0\")&\" kg. =\"","v":"0kg. / 0,0 kg. ="},null,{"$f":"IF(ISERROR(P508/U514),0,P508/U514)","v":0},"prod. slagtesvin"]
[null,{"$f":"B519","v":false}]
[null,{"$f":"OR(SUM(P521:W558)<>0,P560:W614<>0)","v":false},null,null,null,null,null,null,"Prod.gren:",4,null,null,{"$f":"\"Kalkule, \"&VLOOKUP(J519,tblProdGren[],2)","v":"Kalkule, Slagtesvin"},null,null,"I alt",null,null,null,{"$f":"\"Pr. \"&VLOOKUP(J519,tblProdGren[],3)","v":"Pr. prod. sl. svin"}]
[null,{"$f":"B519","v":false},null,null,null,null,null,null,null,{"$f":"ProdSlagtesvinAntal","v":0},null,null,{"$f":"J520","v":0},{"$f":"VLOOKUP(J519,tblProdGren[],4)","v":"prod. slagtesvin"},null,"Antal","kg.","Pris","Beløb","Antal","Vægt","Pris","Beløb"]
[null,{"$f":"IF(SUM(P521:S521)=0,FALSE,TRUE)","v":false},null,null,null,null,null,null,1,{"$f":"IF(OR(J519=1,J519=2),1,0)*I521","v":0},null,null,{"$f":"$M$44:$M$81","v":"Salg orner"},null,null,{"$f":"DyrOmsSøerAntal*J521:J529","v":0},null,{"$f":"IF(ISERROR(_xlfn.ANCHORARRAY(S521)/_xlfn.ANCHORARRAY(P521)),0,_xlfn.ANCHORARRAY(S521)/_xlfn.ANCHORARRAY(P521))","v":0},{"$f":"DyrOmsSøerKr*J521:J529","v":0},{"$f":"IF(ISERROR(P521:P558/M520),0,P521:P558/M520)","v":0},{"$f":"IF(ISERROR(Q521:Q558/P521:P558),0,Q521:Q558/P521:P558)","v":0},{"$f":"R521:R558","v":0},{"$f":"IF(ISERROR(S521:S558/M520),0,S521:S558/M520)","v":0}]
[null,false,null,null,null,null,null,null,null,{"$f":"J521","v":0},null,null,"Salg af søer og gylte",null,null,0,null,0,0,0,0,0,0]
[null,false,null,null,null,null,null,null,null,{"$f":"J522","v":0},null,null,"Søer og gylte, døde/kasserede",null,null,0,null,0,0,0,0,0,0]
[null,false,null,null,null,null,null,null,null,0,null,null,"Salg af polte",null,null,0,null,0,0,0,0,0,0]
[null,false,null,null,null,null,null,null,null,0,null,null,"Indkøb orner",null,null,0,null,0,0,0,0,0,0]
[null,false,null,null,null,null,null,null,null,0,null,null,"Overførte polte",null,null,0,null,0,0,0,0,0,0]
[null,false,null,null,null,null,null,null,null,0,null,null,"Indkøbte polte",null,null,0,null,0,0,0,0,0,0]
[null,false,null,null,null,null,null,null,null,0,null,null,"Indkøbte søer",null,null,0,null,0,0,0,0,0,0]
[null,false,null,null,null,null,null,null,null,0,null,null,"Forskydning avlsdyr",null,null,0,null,0,0,0,0,0,0]
[null,false,null,null,null,null,null,null,null,0,null,null,"Tilvækst avlsdyr",null,null,{"$f":"IF(J530=1,SUM(_xlfn.ANCHORARRAY(P521)),0)","v":0},null,null,{"$f":"IF(J530=1,SUM(_xlfn.ANCHORARRAY(S521)),0)","v":0},0,0,0,0]
[null,false,null,null,null,null,null,null,null,{"$f":"J530","v":0},null,null,"7 kg. grise solgt",null,null,{"$f":"DyrOmsPatgrAntal*J531:J534","v":0},{"$f":"DyrOmsPatgrKg*J531:J534","v":0},{"$f":"IF(ISERROR(S531:S534/_xlfn.ANCHORARRAY(P531)),0,S531:S534/_xlfn.ANCHORARRAY(P531))","v":0},{"$f":"DyrOmsPatgrKr*J531:J534","v":0},0,0,0,0]
[null,false,null,null,null,null,null,null,null,{"$f":"IF(J519=2,1,0)*I521","v":0},null,null,"7 kg. grise overført til smågrise",null,null,0,0,0,0,0,0,0,0]
[null,false,null,null,null,null,null,null,null,{"$f":"J531","v":0},null,null,"Pattegrise døde",null,null,0,0,0,0,0,0,0,0]
[null,false,null,null,null,null,null,null,null,{"$f":"J533","v":0},null,null,"Forskydning pattegrise",null,null,0,0,0,0,0,0,0,0]
[null,false,null,null,null,null,null,null,null,{"$f":"J532","v":0},null,null,"Tilvækst pattegrise",null,null,{"$f":"IF($J535=1,SUM(_xlfn.ANCHORARRAY(P531)),0)","v":0},{"$f":"IF($J535=1,SUM(_xlfn.ANCHORARRAY(Q531)),0)","v":0},null,{"$f":"IF($J535=1,SUM(_xlfn.ANCHORARRAY(S531)),0)","v":0},0,0,0,0]
[null,false,null,null,null,null,null,null,null,{"$f":"IF(OR(J519=1,J519=3),1,0)*I521","v":0},null,null,"7 kg. grise indkøbt",null,null,{"$f":"DyrOmsSmågriseAntal*$J536:$J542","v":0},{"$f":"DyrOmsSmågriseKg*$J536:$J542","v":0},{"$f":"IF(ISERROR(_xlfn.ANCHORARRAY(S536)/_xlfn.ANCHORARRAY(P536)),0,_xlfn.ANCHORARRAY(S536)/_xlfn.ANCHORARRAY(P536))","v":0},{"$f":"DyrOmsSmågriseKr*$J536:$J542","v":0},0,0,0,0]
[null,false,null,null,null,null,null,null,null,{"$f":"IF(J519=3,1,0)*I521","v":0},null,null,"7 kg. grise overført fra søer",null,null,0,0,0,0,0,0,0,0]
[null,false,null,null,null,null,null,null,null,{"$f":"J536","v":0},null,null,"Smågrise, overført til sl. svin",null,null,0,0,0,0,0,0,0,0]
[null,false,null,null,null,null,null,null,null,{"$f":"J538","v":0},null,null,"Smågrise, solgt",null,null,0,0,0,0,0,0,0,0]
[null,false,null,null,null,null,null,null,null,{"$f":"J539","v":0},null,null,"Døde smågrise",null,null,0,0,0,0,0,0,0,0]
[null,false,null,null,null,null,null,null,null,{"$f":"J540","v":0},null,null,"Polte overført til søer",null,null,0,0,0,0,0,0,0,0]
[null,false,null,null,null,null,null,null,null,{"$f":"J541","v":0},null,null,"Forskydning smågrise",null,null,0,0,0,0,0,0,0,0]
[null,false,null,null,null,null,null,null,null,{"$f":"J542","v":0},null,null,"Tilvækst smågrise",null,null,{"$f":"IF($J543=1,IF(J535=1,SUM(_xlfn.ANCHORARRAY(P536)),SUM(P531:P542)),0)","v":0},{"$f":"IF($J543=1,IF(K535=1,SUM(_xlfn.ANCHORARRAY(Q536)),SUM(Q531:Q542)),0)","v":0},null,{"$f":"IF($J543=1,IF(M535=1,SUM(_xlfn.ANCHORARRAY(S536)),SUM(S531:S542)),0)","v":0},0,0,0,0]
[null,false,null,null,null,null,null,null,null,{"$f":"IF(J519=4,1,0)*I521","v":1},null,null,"Smågrise indkøbt",null,null,{"$f":"DyrOmsSlsvinAntal*$J544:$J552","v":0},{"$f":"DyrOmsSlsvinKg*$J544:$J552","v":0},{"$f":"IF(ISERROR(_xlfn.ANCHORARRAY(S544)/_xlfn.ANCHORARRAY(P544)),0,_xlfn.ANCHORARRAY(S544)/_xlfn.ANCHORARRAY(P544))","v":0},{"$f":"DyrOmsSlsvinKr*$J544:$J552","v":0},0,0,0,0]
[null,false,null,null,null,null,null,null,null,{"$f":"J544","v":1},null,null,"Smågrise overf. fra smågrisestald",null,null,0,0,0,0,0,0,0,0]
[null,false,null,null,null,null,null,null,null,{"$f":"J545","v":1},null,null,"Slagtesvin solgt (levende vægt)",null,null,0,0,0,0,0,0,0,0]
[null,false,null,null,null,null,null,null,null,1,null,null,"Andre svin",null,null,0,0,0,0,0,0,0,0]
[null,false,null,null,null,null,null,null,null,1,null,null,"Polte overført til søer",null,null,0,0,0,0,0,0,0,0]
[null,false,null,null,null,null,null,null,null,1,null,null,"Døde og kasserede slagtesvin",null,null,0,0,0,0,0,0,0,0]
[null,false,null,null,null,null,null,null,null,1,null,null,"Efterbetaling",null,null,0,0,0,0,0,0,0,0]
[null,false,null,null,null,null,null,null,null,1,null,null,"Til husholdning",null,null,0,0,0,0,0,0,0,0]
[null,false,null,null,null,null,null,null,null,1,null,null,"Forskydning, slagtesvin",null,null,0,0,0,0,0,0,0,0]
[null,false,null,null,null,null,null,null,null,1,null,null,"Tilvækst slagtesvin",null,null,{"$f":"IF($J553=1,SUM(_xlfn.ANCHORARRAY(P544)),0)","v":0},{"$f":"IF($J553=1,SUM(_xlfn.ANCHORARRAY(Q544)),0)","v":0},null,{"$f":"IF($J553=1,SUM(_xlfn.ANCHORARRAY(S544)),0)","v":0},0,0,0,0]
[null,false,null,null,null,null,null,null,null,{"$f":"J521","v":0},null,null,"Div. søer",null,null,null,null,null,{"$f":"DivIndt*J554:J556","v":0},0,0,0,0]
[null,false,null,null,null,null,null,null,null,{"$f":"J536","v":0},null,null,"Div smågrise",null,null,null,null,null,0,0,0,0,0]
[null,false,null,null,null,null,null,null,null,{"$f":"J544","v":1},null,null,"Div. slagtesvin",null,null,null,null,null,0,0,0,0,0]
[null,false,null,null,null,null,null,null,null,1,null,null,"Andet",null,null,null,null,null,{"$f":"IF($J557=1,SUM(_xlfn.ANCHORARRAY(S554)),0)","v":0},0,0,0,0]
[null,false,null,null,null,null,null,null,null,1,null,null,"Bruttoudbytte i alt",null,null,null,null,null,{"$f":"+S530+S535+S543+S553+S557","v":0},0,0,0,0]
[null,{"$f":"B520","v":false},null,null,null,null,null,null,null,null,null,null,null,null,null,"Fe.","kg.","Pris/kg.","Beløb","Fe.","kg.","Pris/kg.","Beløb"]
[null,{"$f":"IF(SUM(P560:S560)=0,FALSE,TRUE)","v":false},null,null,null,null,null,null,null,null,null,null,{"$f":"IF($M$89:$M$137=\"\",\"\",$M$89:$M$137)","v":"Byg"},null,null,{"$f":"_xlfn.IFS(J519=1,KgFoderSøer*FEsoPrKg+KgFoderSmågrise*FEsvPrKg,J519=2,KgFoderSøer*FEsoPrKg,J519=3,KgFoderSmågrise*FEsvPrKg,J519=4,KgFoderSlagtesvin*FEsvPrKg)","v":0},{"$f":"_xlfn.IFS(J519=1,KgFoderSøer+KgFoderSmågrise,J519=2,KgFoderSøer,J519=3,KgFoderSmågrise,J519=4,KgFoderSlagtesvin)","v":0},{"$f":"IF(ISERROR(_xlfn.ANCHORARRAY(S560)/_xlfn.ANCHORARRAY(Q560)),0,_xlfn.ANCHORARRAY(S560)/_xlfn.ANCHORARRAY(Q560))","v":0},{"$f":"_xlfn.IFS(J519=1,KrFoderSøer+KrFoderSmågrise,J519=2,KrFoderSøer,J519=3,KrFoderSmågrise,J519=4,KrFoderSlagtesvin)","v":0},{"$f":"IF(ISERROR(P560:P609/M520),0,P560:P609/M520)","v":0},{"$f":"IF(ISERROR(Q560:Q609/M520),0,Q560:Q609/M520)","v":0},{"$f":"R560:R614","v":0},{"$f":"IF(ISERROR(S560:S609/M520),0,S560:S609/M520)","v":0}]
[null,{"$f":"IF(SUM(P561:S561)=0,FALSE,TRUE)","v":false},null,null,null,null,null,null,null,null,null,null,"Hvede",null,null,0,0,0,0,0,0,0,0]
[null,{"$f":"IF(SUM(P562:S562)=0,FALSE,TRUE)","v":false},null,null,null,null,null,null,null,null,null,null,"Rug",null,null,0,0,0,0,0,0,0,0]
[null,false,null,null,null,null,null,null,null,null,null,null,"Havre",null,null,0,0,0,0,0,0,0,0]
[null,false,null,null,null,null,null,null,null,null,null,null,"Triticale",null,null,0,0,0,0,0,0,0,0]
[null,false,null,null,null,null,null,null,null,null,null,null,"Foderkorn",null,null,0,0,0,0,0,0,0,0]
[null,false,null,null,null,null,null,null,null,null,null,null,"",null,null,0,0,0,0,0,0,0,0]
[null,false,null,null,null,null,null,null,null,null,null,null,"Rapsfrø DL",null,null,0,0,0,0,0,0,0,0]
[null,false,null,null,null,null,null,null,null,null,null,null,"Rapsskrå",null,null,0,0,0,0,0,0,0,0]
[null,false,null,null,null,null,null,null,null,null,null,null,"Rapskage 9% fedt",null,null,0,0,0,0,0,0,0,0]
[null,false,null,null,null,null,null,null,null,null,null,null,"Sojaskrå",null,null,0,0,0,0,0,0,0,0]
[null,false,null,null,null,null,null,null,null,null,null,null,"Sojaskrå, afskallet",null,null,0,0,0,0,0,0,0,0]
[null,false,null,null,null,null,null,null,null,null,null,null,"Sojaprodukt HP300",null,null,0,0,0,0,0,0,0,0]
[null,false,null,null,null,null,null,null,null,null,null,null,"Soyaproteinkoncentrat",null,null,0,0,0,0,0,0,0,0]
[null,false,null,null,null,null,null,null,null,null,null,null,"Lupin, blå, øko",null,null,0,0,0,0,0,0,0,0]
[null,false,null,null,null,null,null,null,null,null,null,null,"Ærter",null,null,0,0,0,0,0,0,0,0]
[null,false,null,null,null,null,null,null,null,null,null,null,"Hestebønner",null,null,0,0,0,0,0,0,0,0]
[null,false,null,null,null,null,null,null,null,null,null,null,"Roepiller, umellaseret",null,null,0,0,0,0,0,0,0,0]
[null,false,null,null,null,null,null,null,null,null,null,null,"Melasse, roe",null,null,0,0,0,0,0,0,0,0]
[null,false,null,null,null,null,null,null,null,null,null,null,"Kartoffelproteinkoncentrat",null,null,0,0,0,0,0,0,0,0]
[null,false,null,null,null,null,null,null,null,null,null,null,"Lucernepiller",null,null,0,0,0,0,0,0,0,0]
[null,false,null,null,null,null,null,null,null,null,null,null,"Grønpiller",null,null,0,0,0,0,0,0,0,0]
[null,false,null,null,null,null,null,null,null,null,null,null,"Skummetmælkspulver",null,null,0,0,0,0,0,0,0,0]
[null,false,null,null,null,null,null,null,null,null,null,null,"Valle, kat. A",null,null,0,0,0,0,0,0,0,0]
[null,false,null,null,null,null,null,null,null,null,null,null,"Valle, kat. B",null,null,0,0,0,0,0,0,0,0]
[null,false,null,null,null,null,null,null,null,null,null,null,"Vallepulver, sød",null,null,0,0,0,0,0,0,0,0]
[null,false,null,null,null,null,null,null,null,null,null,null,"Fiskemel, standard",null,null,0,0,0,0,0,0,0,0]
[null,false,null,null,null,null,null,null,null,null,null,null,"Fiskemel lt",null,null,0,0,0,0,0,0,0,0]
[null,false,null,null,null,null,null,null,null,null,null,null,"Lumino 17/3 fiskepulp",null,null,0,0,0,0,0,0,0,0]
[null,false,null,null,null,null,null,null,null,null,null,null,"Fiskepulp H-pro",null,null,0,0,0,0,0,0,0,0]
[null,false,null,null,null,null,null,null,null,null,null,null,"Svinefedt 92/10",null,null,0,0,0,0,0,0,0,0]
[null,false,null,null,null,null,null,null,null,null,null,null,"Palmeolie",null,null,0,0,0,0,0,0,0,0]
[null,false,null,null,null,null,null,null,null,null,null,null,"Rapsolie",null,null,0,0,0,0,0,0,0,0]
[null,false,null,null,null,null,null,null,null,null,null,null,"PFAD",null,null,0,0,0,0,0,0,0,0]
[null,false,null,null,null,null,null,null,null,null,null,null,"Gærfløde, Nova",null,null,0,0,0,0,0,0,0,0]
[null,false,null,null,null,null,null,null,null,null,null,null,"Gærfløde, sprit",null,null,0,0,0,0,0,0,0,0]
[null,false,null,null,null,null,null,null,null,null,null,null,"Syremajs",null,null,0,0,0,0,0,0,0,0]
[null,false,null,null,null,null,null,null,null,null,null,null,"Soyaolie",null,null,0,0,0,0,0,0,0,0]
[null,false,null,null,null,null,null,null,null,null,null,null,"Tilskudsfoder, søer",null,null,0,0,0,0,0,0,0,0]
[null,false,null,null,null,null,null,null,null,null,null,null,"Tilskudsfoder, smågrise",null,null,0,0,0,0,0,0,0,0]
[null,false,null,null,null,null,null,null,null,null,null,null,"Tilskudsfoder, slagtesvin",null,null,0,0,0,0,0,0,0,0]
[null,false,null,null,null,null,null,null,null,null,null,null,"Forblanding, slagtesvin",null,null,0,0,0,0,0,0,0,0]
[null,false,null,null,null,null,null,null,null,null,null,null,"Forblanding, smågrise",null,null,0,0,0,0,0,0,0,0]
[null,false,null,null,null,null,null,null,null,null,null,null,"Forblanding, Søer",null,null,0,0,0,0,0,0,0,0]
[null,false,null,null,null,null,null,null,null,null,null,null,"Startfoder",null,null,0,0,0,0,0,0,0,0]
[null,false,null,null,null,null,null,null,null,null,null,null,"Færdigblanding, smågrise",null,null,0,0,0,0,0,0,0,0]
[null,false,null,null,null,null,null,null,null,null,null,null,"Færdigblanding, slagtesvin",null,null,0,0,0,0,0,0,0,0]
[null,false,null,null,null,null,null,null,null,null,null,null,"Hjælpestofer m.m.",null,null,0,0,0,0,0,0,0,0]
[null,false,null,null,null,null,null,null,null,null,null,null,"Mineraler",null,null,0,0,0,0,0,0,0,0]
[null,{"$f":"B559","v":false},null,null,null,null,null,null,null,null,null,null,"Foder i alt",null,null,{"$f":"SUM(_xlfn.ANCHORARRAY(P560))","v":0},{"$f":"SUM(_xlfn.ANCHORARRAY(Q560))","v":0},null,{"$f":"SUM(_xlfn.ANCHORARRAY(S560))","v":0},0,0,0,0]
[null,false,null,null,null,null,null,null,null,null,null,null,{"$f":"$M$142:$M$144","v":"Dyrlæge og medicin"},null,null,null,null,null,{"$f":"_xlfn.IFS(J519=1,DivSøer+DivSmågrise,J519=2,DivSøer,J519=3,DivSmågrise,J519=4,DivSlagtesvin)","v":0},null,null,0,{"$f":"IF(ISERROR(S610:S614/M520),0,S610:S614/M520)","v":0}]
[null,false,null,null,null,null,null,null,null,null,null,null,"Diverse vedr. husdyr",null,null,null,null,null,0,null,null,0,0]
[null,{"$f":"B609","v":false},null,null,null,null,null,null,null,null,null,null,"Dyrlæge og diverse i alt",null,null,null,null,null,{"$f":"SUM(_xlfn.ANCHORARRAY(S610))","v":0},null,null,0,0]
[null,{"$f":"B612","v":false},null,null,null,null,null,null,null,null,null,null,"Stykomkostninger i alt",null,null,null,null,null,{"$f":"+S609+S612","v":0},null,null,0,0]
[null,{"$f":"B613","v":false},null,null,null,null,null,null,null,null,null,null,"Dækningsbidrag",null,null,null,null,null,{"$f":"+S558+S613","v":0},null,null,0,0]
[null,false]
[null,false]
[null,false,null,null,null,null,null,null,null,null,null,null,"Gennemsnitspris pr. slagtesvin"]
[null,false,null,null,null,null,null,null,null,null,null,null,"Den gennemsnitlige pris pr. leveret svin beregnes som betaling fra slagteriet inkl. efterbetaling divideret med"]
[null,false,null,null,null,null,null,null,null,null,null,null,"det leverede antal dyr"]
[null,false]
[null,false,null,null,null,null,null,null,null,null,null,null,null,"Pris pr. leveret slagtesvin:",null,null,{"$f":"\"(\"&TEXT(S546,\"#.##0\")&\"+\"&TEXT(S550,\"#.##0\")&\") kr. / \"&TEXT(P546,\"#.##0\")&\" stk. =\"","v":"(0+0) kr. / 0 stk. ="},null,null,null,{"$f":"(S546+S550)/P546","v":{"$error":"#DIV/0!"}},"kr."]
[null,false]
[null,false,null,null,null,null,null,null,null,null,null,null,"Gennemsnitspris pr. kg. slagtesvin (slagtevægt)"]
[null,false,null,null,null,null,null,null,null,null,null,null,"Den gennemsnitlige pris pr. kg. leveret svin beregnes som pris pr. slagtesvin divideret med slagtevægten."]
[null,false]
[null,false,null,null,null,null,null,null,null,null,null,null,null,"Pris pr. kg. slagtesvin:",null,null,{"$f":"TEXT(U621,\"#.##0\")&\" kr. / \"&TEXT(S69/1.31,\"#.##0\")&\" kg. =\"","v":{"$error":"#DIV/0!"}},null,null,{"$f":"U621/(S69/1.31)","v":{"$error":"#DIV/0!"}},"kr."]
[null,false]
[null,false,null,null,null,null,null,null,null,null,null,null,"Gennemsnitspris pr. indsat smågris"]
[null,false,null,null,null,null,null,null,null,null,null,null,"Den gennemsnitlige pris pr. indsat smågris beregnes som den samlede værdi af de indsatte smågrise divideret"]
[null,false,null,null,null,null,null,null,null,null,null,null,"med antal dyr."]
[null,false]
[null,false,null,null,null,null,null,null,null,null,null,null,null,"Pris pr. indsat smågris:",null,null,{"$f":"\"(\"&TEXT(-S544,\"#.##0\")&\"+\"&TEXT(-S545,\"#.##0\")&\") kr. / (\"&TEXT(-P544,\"#.##0\")&\"+\"&TEXT(-P545,\"#.##0\")&\") stk. =\"","v":"(0+0) kr. / (0+0) stk. ="},null,null,{"$f":"(S545+S544)/(P544+P545)","v":{"$error":"#DIV/0!"}},"kr."]
[null,false]
[null,false,null,null,null,null,null,null,null,null,null,null,"Pris pr. Fe:"]
[null,false,null,null,null,null,null,null,null,null,null,null,null,{"$f":"TEXT(-S609,\"#.##0\")&\" kr. / \"&TEXT(-P609,\"#.##0\")&\" Fe. =\"","v":"0 kr. / 0 Fe. ="},null,null,{"$f":"+S609/P609","v":{"$error":"#DIV/0!"}},null,"kr./fe."]
[null,false]
[null,false,null,null,null,null,null,null,null,null,null,null,"Foderforbrug pr. kg. tilvækst"]
[null,false,null,null,null,null,null,null,null,null,null,null,null,{"$f":"TEXT(-P609,\"#.##0\")&\" Fe. / \"&TEXT(Q553,\"#.##0\")&\" kg. tilvækst =\"","v":"0 Fe. / 0 kg. tilvækst ="},null,null,{"$f":"-P609/Q553","v":{"$error":"#DIV/0!"}},null,"fe/kg. tilvækst"]
[null,false]
[null,false,null,null,null,null,null,null,null,null,null,null,"Dødelighed"]
[null,false,null,null,null,null,null,null,null,null,null,null,null,{"$f":"TEXT(P549,\"#.##0\")&\" døde grise / \"&TEXT(ProdSlagtesvinAntal,\"#.##0\")&\" prod. slagtesvin =\"","v":"0 døde grise / 0 prod. slagtesvin ="},null,null,{"$f":"P549/ProdSlagtesvinAntal","v":{"$error":"#DIV/0!"}},null,"døde"]

{"sheet":"Kvæg","index":3,"n_rows":413,"n_cols":32,"rows_kept":413,"cut":false,"hidden":false,"merged":[[411,18,411,19],[406,18,406,19],[399,19,399,20],[394,19,394,20],[411,15,411,17],[406,15,406,17],[394,15,394,17],[399,15,399,17],[135,17,135,18],[134,17,134,18],[265,16,265,17],[262,16,262,17],[252,16,252,17],[265,18,265,19],[252,18,252,19],[137,10,137,23],[162,15,162,18],[162,19,162,22],[277,19,277,20],[298,17,298,18],[298,20,298,21],[282,10,282,22],[294,16,294,17],[293,16,293,17],[280,18,280,20],[300,15,300,18],[300,19,300,22],[139,10,139,23],[142,14,142,16],[142,17,142,20],[155,15,155,17],[158,15,158,17],[160,15,160,17],[155,19,155,20],[158,19,158,20],[160,19,160,20],[290,16,290,17],[289,16,289,17],[288,16,288,17],[287,16,287,17],[286,16,286,17],[128,17,128,19],[128,20,128,22],[128,23,128,25],[128,26,128,28],[128,29,128,31],[75,26,75,28],[75,29,75,31],[12,12,12,31],[18,15,18,18],[18,19,18,22],[38,15,38,17],[38,18,38,19],[75,15,75,16],[75,17,75,19],[75,20,75,22],[75,23,75,25],[18,23,18,26],[20,26,23,26],[24,26,28,26]]}
[null,null,null,null,"Skjul tomme kolonner",null,null,null,"Vis/skjul 1",1,true]
[null,null,null,null,null,null,null,null,"Vis/skjul 2",2,true]
[null,null,null,null,null,null,null,null,"Vis/skjul 3",3,true]
[null,null,null,null,null,null,null,null,"Markør1",4,null,null,null,null,null,null,null,null,null,null,1,1,1,1,1,1,1,1,1]
["Skjul tomme rækker","Vis tomme rækker",null,null,null,null,null,null,"Markør2",5,null,null,null,null,null,null,null,3,2,1,3,2,1,3,2,1,3,2,1]
[null,null,null,null,null,null,null,null,"Min. bredde",6,null,null,null,null,"x",{"$f":"O6","v":"x"},{"$f":"P6","v":"x"},"x","x","x","x","x","x","x","x","x","x","x","x","x","x","x"]
[null,null,null,null,null,null,null,null,null,7]
[null,null,null,null,null,null,null,null,null,8]
["Vis tomme rækker","Vis/skjul 2","Vis/skjul 3","Markør1","Markør2",null,null,null,"Kol. nr",9,11,null,13,14,15,16,17,18,19,20,21,22,23,24,25,26,27,28,29,30,31]
[1,2,3,4,5,6,7,8,9,10]
[true,null,true]
[true]
[true,null,null,1,null,null,null,null,null,null,null,null,"Indtastning"]
[true]
[true]
[true,null,null,null,null,null,null,null,null,null,null,null,"Indtast besætning fra balancetatus"]
[true]
[true]
[true,null,null,null,null,null,null,null,null,null,null,null,null,null,null,"Primo",null,null,null,"Ultimo",null,null,null,"Forskydning"]
[true,null,null,null,null,null,null,null,null,null,null,null,"Dyr på stald",null,"gns. vægt","Antal","kg.","Pris","Beløb","Antal","kg.","Pris","Beløb","Antal","kg.","Kr.","Kr."]
[{"$f":"IF(SUM(P21:W21)=0,FALSE,TRUE)","v":false},null,null,null,null,null,null,null,null,null,null,null,"Avlstyre",null,null,null,null,{"$f":"IF(ISERROR(S21:S33/P21:P33),0,S21:S33/P21:P33)","v":0},null,null,null,{"$f":"IF(ISERROR(W21:W33/T21:T33),0,W21:W33/T21:T33)","v":0},null,{"$f":"+T21:T33-P21:P33","v":0},null,{"$f":"+W21:W33-S21:S33","v":0},{"$f":"+Z21+Z22+Z23+Z24","v":0}]
[{"$f":"IF(SUM(P22:W22)=0,FALSE,TRUE)","v":false},null,null,null,null,null,null,null,null,null,null,null,"Køer",null,null,null,null,0,null,null,null,0,null,0,null,0]
[false,null,null,null,null,null,null,null,null,null,null,null,"Kvier (inkl. kviekalve)",null,null,null,null,0,null,null,null,0,null,0,null,0]
[false,null,null,null,null,null,null,null,null,null,null,null,"Tyrekalve hos køer",null,null,null,null,0,null,null,null,0,null,0,null,0]
[false,null,null,null,null,null,null,null,null,null,null,null,"Slagtekalve",null,350,null,{"$f":"O25:O33*P25:P33","v":0},0,null,null,{"$f":"T25:T33*O25:O33","v":0},0,null,0,{"$f":"+_xlfn.ANCHORARRAY(U25)-_xlfn.ANCHORARRAY(Q25)","v":0},0,{"$f":"SUM(Z25:Z29)","v":0}]
[false,null,null,null,null,null,null,null,null,null,null,null,"Slagtekalve",null,250,null,0,0,null,null,0,0,null,0,0,0]
[false,null,null,null,null,null,null,null,null,null,null,null,"Slagtekalve",null,150,null,0,0,null,null,0,0,null,0,0,0]
[false,null,null,null,null,null,null,null,null,null,null,null,"Slagtekalve",null,75,null,0,0,null,null,0,0,null,0,0,0]
[false,null,null,null,null,null,null,null,null,null,null,null,"Slagtekalve",null,null,null,0,0,null,null,0,0,null,0,0,0]
[false,null,null,null,null,null,null,null,null,null,null,null,null,null,null,null,0,0,null,null,0,0,null,0,0,0]
[false,null,null,null,null,null,null,null,null,null,null,null,null,null,null,null,0,0,null,null,0,0,null,0,0,0]
[false,null,null,null,null,null,null,null,null,null,null,null,null,null,null,null,0,0,null,null,0,0,null,0,0,0]
[false,null,null,null,null,null,null,null,null,null,null,null,null,null,null,null,0,0,null,null,0,0,null,0,0,0]
[true,null,null,null,null,null,null,null,null,null,null,null,"Besætningsværdi i alt",null,null,{"$f":"SUM(P21:P33)","v":0},null,null,{"$f":"SUM(S21:S33)","v":0},{"$f":"SUM(T21:T33)","v":0},null,null,{"$f":"SUM(W21:W33)","v":0},{"$f":"SUM(X21:X33)","v":0},null,null,{"$f":"SUM(AA21:AA33)","v":0}]
[true]
[true,null,null,null,null,null,null,null,null,null,null,null,"Indtast bruttoudbytte"]
[true]
[true]
[true,null,null,null,null,null,null,null,null,null,null,null,null,null,null,"Antal og beløb",null,null,"Vægt"]
[true,null,null,null,null,null,null,null,null,null,null,null,"Bruttoudbytte kvæg",null,null,"Antal","Pris","Beløb","pr. stk.","kg. i alt"]
[{"$f":"IF(SUM(P41:R41)=0,FALSE,TRUE)","v":false},null,null,null,null,null,null,null,null,null,null,null,"Salg af mælk",null,null,null,{"$f":"IF(ISERROR(R41:R45/P41:P45),0,R41:R45/P41:P45)","v":0}]
[false,null,null,null,null,null,null,null,null,null,null,null,"Tillæg/fradrag mælk",null,null,null,0]
[false,null,null,null,null,null,null,null,null,null,null,null,"Efterbetaling, mælk",null,null,null,0]
[false,null,null,null,null,null,null,null,null,null,null,null,"Mælk overført til kalve",null,null,null,0]
[false,null,null,null,null,null,null,null,null,null,null,null,"Mælk i alt",null,null,{"$f":"SUM(P41:P44)","v":0},0,{"$f":"SUM(R41:R44)","v":0}]
[false,null,null,null,null,null,null,null,null,null,null,null,"Salg af køer (inkl. efterbetaling)",null,null,null,{"$f":"IF(ISERROR(R46:R55/P46:P55),0,R46:R55/P46:P55)","v":0},null,null,{"$f":"P46:P55*S46:S55","v":0}]
[false,null,null,null,null,null,null,null,null,null,null,null,"Indkøb af køer",null,null,null,0,null,null,0]
[false,null,null,null,null,null,null,null,null,null,null,null,"Køer, døde/kasserede",null,null,null,0,null,null,0]
[false,null,null,null,null,null,null,null,null,null,null,null,"Salg af kvier",null,null,null,0,null,null,0]
[false,null,null,null,null,null,null,null,null,null,null,null,"Indkøb af kvier",null,null,null,0,null,null,0]
[false,null,null,null,null,null,null,null,null,null,null,null,"Kvier, døde/kasserede",null,null,null,0,null,null,0]
[false,null,null,null,null,null,null,null,null,null,null,null,"Salg af kalve",null,null,null,0,null,null,0]
[false,null,null,null,null,null,null,null,null,null,null,null,"Indkøb af spædkalve",null,null,null,0,null,null,0]
[false,null,null,null,null,null,null,null,null,null,null,null,"Kalve, døde/kasserede",null,null,null,0,null,null,0]
[false,null,null,null,null,null,null,null,null,null,null,null,"Tyrekalve overført til slagtekalve",null,null,null,0,null,null,0]
[false,null,null,null,null,null,null,null,null,null,null,null,"Slagtepræmier"]
[false,null,null,null,null,null,null,null,null,null,null,null,"Forskydning køer og kvier",null,null,{"$f":"SUM(T21:T24)-SUM(P21:P24)","v":0},null,{"$f":"SUM(W21:W24)-SUM(S21:S24)","v":0}]
[{"$f":"IF(COUNTIF(A46:A57,TRUE)>0,TRUE,FALSE)","v":false},null,null,null,null,null,null,null,null,null,null,null,"Tilvækst malkekvæg",null,null,{"$f":"SUM(P46:P57)","v":0},null,{"$f":"SUM(R46:R57)","v":0}]
[false,null,null,null,null,null,null,null,null,null,null,null,"Tyrekalve indkøbt",null,null,null,{"$f":"IF(ISERROR(R59:R65/P59:P65),0,R59:R65/P59:P65)","v":0},null,null,{"$f":"P59:P63*S59:S63","v":0}]
[false,null,null,null,null,null,null,null,null,null,null,null,"Tyrekalve overf. fra malkekvæg",null,null,{"$f":"-P55","v":0},0,{"$f":"-R55","v":0},{"$f":"S55","v":0},0]
[false,null,null,null,null,null,null,null,null,null,null,null,"Slagtekalve solgt (levende vægt)",null,null,null,0,null,null,0]
[false,null,null,null,null,null,null,null,null,null,null,null,"Døde og kasserede slagtekalve",null,null,null,0,null,null,0]
[false,null,null,null,null,null,null,null,null,null,null,null,"Til husholdning",null,null,null,0,null,null,0]
[false,null,null,null,null,null,null,null,null,null,null,null,"Slagtepræmie",null,null,null,0]
[false,null,null,null,null,null,null,null,null,null,null,null,"Forskydning, slagteklave",null,null,{"$f":"SUM(T25:T29)-SUM(P25:P29)","v":0},0,{"$f":"SUM(W25:W29)-SUM(S25:S29)","v":0},null,{"$f":"+U27+U28+U29+U30+U31+U32+U33-Q27-Q28-Q29-Q30-Q31-Q32-Q33","v":0}]
[{"$f":"IF(COUNTIF(A59:A65,TRUE)>0,TRUE,FALSE)","v":false},null,null,null,null,null,null,null,null,null,null,null,"Tilvækst slagtekalve",null,null,{"$f":"SUM(P59:P65)","v":0},null,{"$f":"SUM(R59:R65)","v":0},null,{"$f":"SUM(T59:T65)","v":0}]
[false,null,null,null,null,null,null,null,null,null,null,null,"Div. indtægter malkekvæg"]
[false,null,null,null,null,null,null,null,null,null,null,null,"Div. indtægter slagtekalve"]
[{"$f":"IF(COUNTIF(A67:A68,TRUE)>0,TRUE,FALSE)","v":false},null,null,null,null,null,null,null,null,null,null,null,"Andet",null,null,null,null,{"$f":"SUM(R67:R68)","v":0}]
[true,null,null,null,null,null,null,null,null,null,null,null,"Bruttoudbytte i alt",null,null,null,null,{"$f":"+R58+R66+R69+R45","v":0}]
[true,null,null,null,null,null,null,null,null,null,null,null,null,null,null,null,"Kontrol:",{"$f":"Driftsgrensopdeling!P31","v":0}]
[true]
[true,null,null,null,null,null,null,null,null,null,null,null,"Omkostninger"]
[true]
[true,null,null,null,null,null,null,null,"Fodergruppe"]
[true,null,null,null,null,null,"Søer",null,null,null,null,null,null,null,null,"Enhed",null,"Mængde og beløb",null,null,"Malkekvæg",null,null,"Slagtekalve",null,null,null,null,null,"Ufordelt"]
[true,null,null,null,null,null,"Smågrise",null,null,null,null,null,"Foder kvæg",null,null,null,"(kg. ell. FEN)","kg./FEN","Pris","Beløb","kg./FEN","Pris","Beløb","kg./FEN","Pris","Beløb","kg./FEN","Pris","Beløb","kg.","Pris","Beløb"]
[{"$f":"IF(SUM(R78:AC78)=0,FALSE,TRUE)","v":false},null,null,1,null,null,"Slagtesvin",null,null,null,null,null,null,null,null,null,null,null,null,null,null,null,null,null,null,null,null,null,null,0,{"$f":"IF(ISERROR(AF78:AF126/AD78:AD126),0,AF78:AF126/AD78:AD126)","v":0},{"$f":"T78:T126-W78:W126-Z78:Z126-AC78:AC126","v":0}]
[{"$f":"IF(SUM(R79:AC79)=0,FALSE,TRUE)","v":false},null,null,1,null,null,null,null,null,null,null,null,null,null,null,null,null,null,null,null,null,null,null,null,null,null,null,null,null,0,0,0]
[false,null,null,1,null,null,null,null,null,null,null,null,null,null,null,null,null,null,null,null,null,null,null,null,null,null,null,null,null,0,0,0]
[false,null,null,1,null,null,null,null,null,null,null,null,null,null,null,null,null,null,null,null,null,null,null,null,null,null,null,null,null,0,0,0]
[false,null,null,1,null,null,null,null,null,null,null,null,null,null,null,null,null,null,null,null,null,null,null,null,null,null,null,null,null,0,0,0]
[false,null,null,1,null,null,null,null,null,null,null,null,null,null,null,null,null,null,null,null,null,null,null,null,null,null,null,null,null,0,0,0]
[false,null,null,1,null,null,null,null,null,null,null,null,null,null,null,null,null,null,null,null,null,null,null,null,null,null,null,null,null,0,0,0]
[false,null,null,1,null,null,null,null,null,null,null,null,null,null,null,null,null,null,null,null,null,null,null,null,null,null,null,null,null,0,0,0]
[false,null,null,1,null,null,null,null,null,null,null,null,null,null,null,null,null,null,null,null,null,null,null,null,null,null,null,null,null,0,0,0]
[false,null,null,1,null,null,null,null,null,null,null,null,null,null,null,null,null,null,null,null,null,null,null,null,null,null,null,null,null,0,0,0]
[false,null,null,1,null,null,null,null,null,null,null,null,null,null,null,null,null,null,null,null,null,null,null,null,null,null,null,null,null,0,0,0]
[false,null,null,1,null,null,null,null,null,null,null,null,null,null,null,null,null,null,null,null,null,null,null,null,null,null,null,null,null,0,0,0]
[false,null,null,1,null,null,null,null,null,null,null,null,null,null,null,null,null,null,null,null,null,null,null,null,null,null,null,null,null,0,0,0]
[false,null,null,1,null,null,null,null,null,null,null,null,null,null,null,null,null,null,null,null,null,null,null,null,null,null,null,null,null,null,0,0]
[false,null,null,1,null,null,null,null,null,null,null,null,null,null,null,null,null,null,null,null,null,null,null,null,null,null,null,null,null,null,0,0]
[false,null,null,1,null,null,null,null,null,null,null,null,null,null,null,null,null,null,null,null,null,null,null,null,null,null,null,null,null,null,0,0]
[false,null,null,1,null,null,null,null,null,null,null,null,null,null,null,null,null,null,null,null,null,null,null,null,null,null,null,null,null,null,0,0]
[false,null,null,1,null,null,null,null,null,null,null,null,null,null,null,null,null,null,null,null,null,null,null,null,null,null,null,null,null,null,0,0]
[false,null,null,1,null,null,null,null,null,null,null,null,null,null,null,null,null,null,null,null,null,null,null,null,null,null,null,null,null,null,0,0]
[false,null,null,1,null,null,null,null,null,null,null,null,null,null,null,null,null,null,null,null,null,null,null,null,null,null,null,null,null,null,0,0]
[false,null,null,1,null,null,null,null,null,null,null,null,null,null,null,null,null,null,null,null,null,null,null,null,null,null,null,null,null,null,0,0]
[false,null,null,1,null,null,null,null,null,null,null,null,null,null,null,null,null,null,null,null,null,null,null,null,null,null,null,null,null,null,0,0]
[false,null,null,1,null,null,null,null,null,null,null,null,null,null,null,null,null,null,null,null,null,null,null,null,null,null,null,null,null,null,0,0]
[false,null,null,1,null,null,null,null,null,null,null,null,null,null,null,null,null,null,null,null,null,null,null,null,null,null,null,null,null,null,0,0]
[false,null,null,1,null,null,null,null,null,null,null,null,null,null,null,null,null,null,null,null,null,null,null,null,null,null,null,null,null,null,0,0]
[false,null,null,1,null,null,null,null,null,null,null,null,null,null,null,null,null,null,null,null,null,null,null,null,null,null,null,null,null,null,0,0]
[false,null,null,1,null,null,null,null,null,null,null,null,null,null,null,null,null,null,null,null,null,null,null,null,null,null,null,null,null,null,0,0]
[false,null,null,1,null,null,null,null,null,null,null,null,null,null,null,null,null,null,null,null,null,null,null,null,null,null,null,null,null,null,0,0]
[false,null,null,1,null,null,null,null,null,null,null,null,null,null,null,null,null,null,null,null,null,null,null,null,null,null,null,null,null,null,0,0]
[false,null,null,1,null,null,null,null,null,null,null,null,null,null,null,null,null,null,null,null,null,null,null,null,null,null,null,null,null,null,0,0]
[false,null,null,1,null,null,null,null,null,null,null,null,null,null,null,null,null,null,null,null,null,null,null,null,null,null,null,null,null,null,0,0]
[false,null,null,1,null,null,null,null,null,null,null,null,null,null,null,null,null,null,null,null,null,null,null,null,null,null,null,null,null,null,0,0]
[false,null,null,1,null,null,null,null,null,null,null,null,null,null,null,null,null,null,null,null,null,null,null,null,null,null,null,null,null,null,0,0]
[false,null,null,1,null,null,null,null,null,null,null,null,null,null,null,null,null,null,null,null,null,null,null,null,null,null,null,null,null,null,0,0]
[false,null,null,1,null,null,null,null,null,null,null,null,null,null,null,null,null,null,null,null,null,null,null,null,null,null,null,null,null,null,0,0]
[false,null,null,1,null,null,null,null,null,null,null,null,null,null,null,null,null,null,null,null,null,null,null,null,null,null,null,null,null,null,0,0]
[false,null,null,1,null,null,null,null,null,null,null,null,null,null,null,null,null,null,null,null,null,null,null,null,null,null,null,null,null,null,0,0]
[false,null,null,1,null,null,null,null,null,null,null,null,null,null,null,null,null,null,null,null,null,null,null,null,null,null,null,null,null,null,0,0]
[false,null,null,1,null,null,null,null,null,null,null,null,null,null,null,null,null,null,null,null,null,null,null,null,null,null,null,null,null,null,0,0]
[false,null,null,1,null,null,null,null,null,null,null,null,null,null,null,null,null,null,null,null,null,null,null,null,null,null,null,null,null,null,0,0]
[false,null,null,1,null,null,null,null,null,null,null,null,null,null,null,null,null,null,null,null,null,null,null,null,null,null,null,null,null,null,0,0]
[false,null,null,1,null,null,null,null,null,null,null,null,null,null,null,null,null,null,null,null,null,null,null,null,null,null,null,null,null,null,0,0]
[false,null,null,1,null,null,null,null,null,null,null,null,null,null,null,null,null,null,null,null,null,null,null,null,null,null,null,null,null,null,0,0]
[false,null,null,1,null,null,null,null,null,null,null,null,null,null,null,null,null,null,null,null,null,null,null,null,null,null,null,null,null,null,0,0]
[false,null,null,1,null,null,null,null,null,null,null,null,null,null,null,null,null,null,null,null,null,null,null,null,null,null,null,null,null,null,0,0]
[false,null,null,1,null,null,null,null,null,null,null,null,null,null,null,null,null,null,null,null,null,null,null,null,null,null,null,null,null,null,0,0]
[false,null,null,1,null,null,null,null,null,null,null,null,null,null,null,null,null,null,null,null,null,null,null,null,null,null,null,null,null,null,0,0]
[false,null,null,1,null,null,null,null,null,null,null,null,null,null,null,null,null,null,null,null,null,null,null,null,null,null,null,null,null,null,0,0]
[false,null,null,1,null,null,null,null,null,null,null,null,"Mælk fra køer",null,null,null,"Kg.",{"$f":"-P44","v":0},null,{"$f":"-R44","v":0},null,null,null,null,null,null,null,null,null,null,0,0]
[true,null,null,2,{"$f":"COUNT(D78:D126)","v":49},null,null,null,null,null,null,null,"Foder i alt",null,null,null,null,{"$f":"SUM(R78:R126)","v":0},null,{"$f":"SUM(T78:T126)","v":0},{"$f":"SUM(U78:U126)","v":0},null,{"$f":"SUM(W78:W126)","v":0},{"$f":"SUM(X78:X126)","v":0},null,{"$f":"SUM(Z78:Z126)","v":0},{"$f":"SUM(AA78:AA126)","v":0},null,{"$f":"SUM(AC78:AC126)","v":0},{"$f":"SUM(AD78:AD126)","v":0},null,{"$f":"SUM(AF78:AF126)","v":0}]
[true]
[true,null,null,null,null,null,null,null,null,null,null,null,null,null,null,null,null,{"$f":"+R76","v":"Mængde og beløb"},null,null,{"$f":"+U76","v":"Malkekvæg"},null,null,{"$f":"X76","v":"Slagtekalve"},null,null,null,null,null,"Ufordelt"]
[true,null,null,null,null,null,null,null,null,null,null,null,"Dyrlæge og diverse",null,null,null,null,null,null,"Beløb",null,null,"Beløb",null,null,"Beløb",null,null,"Beløb","Mængde","Pris","Beløb"]
[true,null,null,3,null,null,null,null,null,null,null,null,"Dyrlæge og medicin",null,null,null,null,null,null,null,null,null,null,null,null,null,null,null,null,null,null,{"$f":"T131:T133-W131:W133-AC131:AC133-Z131:Z133","v":0}]
[true,null,null,3,null,null,null,null,null,null,null,null,"Diverse vedr. husdyr",null,null,null,null,null,null,null,null,null,null,null,null,null,null,null,null,null,null,0]
[true,null,null,4,{"$f":"COUNT(D131:D132)","v":2},null,null,null,null,null,null,null,"Dyrlæge og diverse i alt",null,null,null,null,null,null,{"$f":"SUM(T131:T132)","v":0},null,null,null,null,null,null,null,null,null,null,null,0]
[true]
[true,null,null,null,null,null,null,null,null,null,null,null,null,null,null,null,null,"Omkostninger i alt",null,{"$f":"+T127+T133","v":0}]
[true,null,null,null,null,null,null,null,null,null,null,null,null,null,null,null,null,"Kontrol ift. indl. opdeling:",null,{"$f":"Driftsgrensopdeling!P44","v":0}]
[true]
[null,null,null,null,null,null,null,null,null,null,"Output"]
[]
[null,{"$f":"B141","v":false},null,null,null,{"$f":"COUNTIF(B140:B994,TRUE)","v":0},null,null,null,null,"Malkekvæg"]
[null,false,null,null,null,0]
[null,false,null,null,null,null,null,null,null,null,null,null,"Dyreomsætning, malkekvæg"]
[null,false,null,null,null,null,null,null,null,null,null,null,null,null,"Tilgang",null,null,"Afgang"]
[null,false,null,null,null,null,null,null,null,null,null,null,null,null,"Primo","Køb","Overført","Overført","Salg","Døde","Ultimo"]
[null,false,null,null,null,null,null,null,null,null,null,null,"Avlstyre",null,{"$f":"P21","v":0},null,null,null,null,null,{"$f":"T21","v":0}]
[null,false]
[null,false,null,null,null,null,null,null,null,null,null,null,"Køer",null,{"$f":"P22","v":0},{"$f":"-P47","v":0},{"$f":"R147+S147+T147+U147-P147-O147","v":0},null,{"$f":"+P46","v":0},{"$f":"+P48","v":0},{"$f":"T22","v":0}]
[null,false,null,null,null,null,null,null,null,null,null,null,"Kvier",null,{"$f":"P23","v":0},{"$f":"-P50","v":0},{"$f":"R148+S148+T148+U148-P148-O148","v":0},{"$f":"Q147","v":0},{"$f":"+P49","v":0},{"$f":"P51","v":0},{"$f":"T23","v":0}]
[null,false,null,null,null,null,null,null,null,null,null,null,"Spædkalve",null,{"$f":"P24","v":0},{"$f":"-P53","v":0},{"$f":"R149+S149+T149+U149-P149-O149","v":0},{"$f":"Q148","v":0},{"$f":"P52+P55","v":0},{"$f":"+P54","v":0},{"$f":"T24","v":0}]
[null,false]
[null,false,null,null,null,null,null,null,null,null,null,null,"Beregning af produktionsomfang:"]
[null,false,null,null,null,null,null,null,null,null,null,null,"Produktionsomfanget angives i antal årskøer og antal årsopdræt. En årsko beregnes som 365 foderdage."]
[null,false,null,null,null,null,null,null,null,null,null,null,"Hvis man ikke har kendskab til antal foderdage, kan antal årskøer aflæses i regnskabet."]
[null,false]
[null,false,null,null,null,null,null,null,null,null,null,null,null,"Foderdage køer:"]
[null,false,null,null,null,null,null,null,null,null,null,null,null,"Antal årskøer:",null,{"$f":"TEXT(P155,\"#.##0\")&\" dage / 365 dage =\"","v":"0 dage / 365 dage ="},null,null,{"$f":"P155/365","v":0},"årskøer"]
[null,false]
[null,false,null,null,null,null,null,null,null,null,null,null,null,"Foderdage opdræt:"]
[null,false,null,null,null,null,null,null,null,null,null,null,null,"Antal årsopdræt:",null,{"$f":"TEXT(P158,\"#.##0\")&\" dage / 365 dage =\"","v":"0 dage / 365 dage ="},null,null,{"$f":"P158/365","v":0},"årsopdræt"]
[null,false]
[null,false,null,null,null,null,null,null,null,null,null,null,null,"Årsopdræt pr. årsko:",null,{"$f":"TEXT(S159,\"#.##0\")&\" årsopdræt / \"&TEXT(S156,\"#.##0\")&\" årskøer =\"","v":"0 årsopdræt / 0 årskøer ="},null,null,{"$f":"+S159/S156","v":{"$error":"#DIV/0!"}},"årsopdræt pr. årsko"]
[null,{"$f":"B163","v":false}]
[null,{"$f":"OR(SUM(P165:W194)<>0,SUM(P196:W250)<>0)","v":false},null,null,null,null,null,null,"Prod.gren:",5,null,null,{"$f":"\"Kalkule, \"&VLOOKUP(J163,tblProdGren[],2)","v":"Kalkule, Malkekvæg"},null,null,"I alt",null,null,null,{"$f":"\"Pr. \"&VLOOKUP(J163,tblProdGren[],3)","v":"Pr. årsko"}]
[null,{"$f":"B163","v":false},null,null,null,null,null,null,null,{"$f":"ÅrskøerAntal","v":0},null,null,{"$f":"J164","v":0},{"$f":"VLOOKUP(J163,tblProdGren[],4)","v":"årskøer"},null,"Antal",null,"Pris","Beløb","Antal",null,"Pris","Beløb"]
[null,{"$f":"IF(SUM(P165:S165)=0,FALSE,TRUE)","v":false},null,null,null,null,null,null,null,{"$f":"IF(J163=5,1,0)","v":1},null,null,{"$f":"$M$41:$M$70","v":"Salg af mælk"},null,null,{"$f":"$P$41:$P$44*J165:J168","v":0},null,{"$f":"IF(ISERROR(S165:S167/P165),0,S165:S167/P165)","v":0},{"$f":"$R$41:$R$44*J165:J168","v":0},{"$f":"IF(ISERROR(P165:P194/M164),0,P165:P194/M164)","v":0},{"$f":"IF(ISERROR(Q165:Q194/P165:P194),0,Q165:Q194/P165:P194)","v":0},{"$f":"R165:R194","v":0},{"$f":"IF(ISERROR(S165:S194/M164),0,S165:S194/M164)","v":0}]
[null,{"$f":"IF(SUM(P166:S166)=0,FALSE,TRUE)","v":false},null,null,null,null,null,null,null,{"$f":"J165","v":1},null,null,"Tillæg/fradrag mælk",null,null,0,null,0,0,0,0,0,0]
[null,{"$f":"IF(SUM(P167:S167)=0,FALSE,TRUE)","v":false},null,null,null,null,null,null,null,{"$f":"J166","v":1},null,null,"Efterbetaling, mælk",null,null,0,null,0,0,0,0,0,0]
[null,{"$f":"IF(SUM(P168:S168)=0,FALSE,TRUE)","v":false},null,null,null,null,null,null,null,{"$f":"J167","v":1},null,null,"Mælk overført til kalve",null,null,0,null,{"$f":"IF(ISERROR(S168/P168),0,S168/P168)","v":0},0,0,0,0,0]
[null,false,null,null,null,null,null,null,null,{"$f":"J168","v":1},null,null,"Mælk i alt",null,null,{"$f":"SUM(P165:P168)","v":0},null,null,{"$f":"SUM(S165:S168)","v":0},0,0,0,0]
[null,false,null,null,null,null,null,null,null,{"$f":"J169","v":1},null,null,"Salg af køer (inkl. efterbetaling)",null,null,{"$f":"DyrOmsKøerAntal*J170:J181","v":0},null,{"$f":"IF(ISERROR(_xlfn.ANCHORARRAY(S170)/_xlfn.ANCHORARRAY(P170)),0,_xlfn.ANCHORARRAY(S170)/_xlfn.ANCHORARRAY(P170))","v":0},{"$f":"DyrOmsKøerKr*J170:J181","v":0},0,0,0,0]
[null,false,null,null,null,null,null,null,null,1,null,null,"Indkøb af køer",null,null,0,null,0,0,0,0,0,0]
[null,false,null,null,null,null,null,null,null,1,null,null,"Køer, døde/kasserede",null,null,0,null,0,0,0,0,0,0]
[null,false,null,null,null,null,null,null,null,1,null,null,"Salg af kvier",null,null,0,null,0,0,0,0,0,0]
[null,false,null,null,null,null,null,null,null,1,null,null,"Indkøb af kvier",null,null,0,null,0,0,0,0,0,0]
[null,false,null,null,null,null,null,null,null,{"$f":"J173","v":1},null,null,"Kvier, døde/kasserede",null,null,0,null,0,0,0,0,0,0]
[null,false,null,null,null,null,null,null,null,1,null,null,"Salg af kalve",null,null,0,null,0,0,0,0,0,0]
[null,false,null,null,null,null,null,null,null,1,null,null,"Indkøb af spædkalve",null,null,0,null,0,0,0,0,0,0]
[null,false,null,null,null,null,null,null,null,1,null,null,"Kalve, døde/kasserede",null,null,0,null,0,0,0,0,0,0]
[null,{"$f":"IF(SUM(P179:S179)=0,FALSE,TRUE)","v":false},null,null,null,null,null,null,null,1,null,null,"Tyrekalve overført til slagtekalve",null,null,0,null,0,0,0,0,0,0]
[null,false,null,null,null,null,null,null,null,1,null,null,"Slagtepræmier",null,null,0,null,0,0,0,0,0,0]
[null,false,null,null,null,null,null,null,null,1,null,null,"Forskydning køer og kvier",null,null,0,null,0,0,0,0,0,0]
[null,false,null,null,null,null,null,null,null,1,null,null,"Tilvækst malkekvæg",null,null,{"$f":"SUM(_xlfn.ANCHORARRAY(P170))","v":0},{"$f":"IF($J182=1,IF(K165=1,SUM(_xlfn.ANCHORARRAY(Q170)),SUM(Q161:Q181)),0)","v":0},null,{"$f":"SUM(_xlfn.ANCHORARRAY(S170))","v":0},0,0,0,0]
[null,false,null,null,null,null,null,null,null,{"$f":"IF(J163=6,1,0)","v":0},null,null,"Tyrekalve indkøbt",null,null,{"$f":"DyrOmsKalveAntal*J183:J189","v":0},{"$f":"DyrOmsKalveKg*J183:J189","v":0},{"$f":"IF(ISERROR(_xlfn.ANCHORARRAY(S183)/_xlfn.ANCHORARRAY(P183)),0,_xlfn.ANCHORARRAY(S183)/_xlfn.ANCHORARRAY(P183))","v":0},{"$f":"DyrOmsKalveKr*J183:J189","v":0},0,0,0,0]
[null,false,null,null,null,null,null,null,null,{"$f":"J183","v":0},null,null,"Tyrekalve overf. fra malkekvæg",null,null,0,0,0,0,0,0,0,0]
[null,false,null,null,null,null,null,null,null,{"$f":"J184","v":0},null,null,"Slagtekalve solgt (levende vægt)",null,null,0,0,0,0,0,0,0,0]
[null,false,null,null,null,null,null,null,null,0,null,null,"Døde og kasserede slagtekalve",null,null,0,0,0,0,0,0,0,0]
[null,false,null,null,null,null,null,null,null,0,null,null,"Til husholdning",null,null,0,0,0,0,0,0,0,0]
[null,false,null,null,null,null,null,null,null,0,null,null,"Slagtepræmie",null,null,0,0,0,0,0,0,0,0]
[null,false,null,null,null,null,null,null,null,0,null,null,"Forskydning, slagteklave",null,null,0,0,0,0,0,0,0,0]
[null,false,null,null,null,null,null,null,null,0,null,null,"Tilvækst slagtekalve",null,null,{"$f":"SUM(_xlfn.ANCHORARRAY(P183))","v":0},{"$f":"IF($J190=1,IF(K181=1,SUM(_xlfn.ANCHORARRAY(Q182)),SUM(Q172:Q189)),0)","v":0},null,{"$f":"SUM(_xlfn.ANCHORARRAY(S183))","v":0},0,0,0,0]
[null,false,null,null,null,null,null,null,null,{"$f":"J182","v":1},null,null,"Div. indtægter malkekvæg",null,null,null,null,null,{"$f":"R67","v":0},0,0,0,0]
[null,false,null,null,null,null,null,null,null,{"$f":"J190","v":0},null,null,"Div. indtægter slagtekalve",null,null,null,null,null,null,0,0,0,0]
[null,false,null,null,null,null,null,null,null,1,null,null,"Andet",null,null,null,null,null,{"$f":"SUM(S191:S192)","v":0},0,0,0,0]
[null,false,null,null,null,null,null,null,null,1,null,null,"Bruttoudbytte i alt",null,null,null,null,null,{"$f":"+S182+S190+S193+S169","v":0},0,0,0,0]
[null,{"$f":"B164","v":false},null,null,null,null,null,null,null,null,null,null,null,null,null,"kvantum",null,"Pris/enh.","Beløb","kvantum",null,"Pris/enh.","Beløb"]
[null,{"$f":"IF(SUM(P196:S196)=0,FALSE,TRUE)","v":false},null,null,null,null,null,null,null,null,null,null,{"$f":"IF($M$78:$M$126=\"\",\"\",$M$78:$M$126)","v":""},null,null,{"$f":"_xlfn.IFS(J163=5,EnhFoderKvæg,J163=6,EnhFoderKalve)","v":0},{"$f":"FoderEnhed","v":0},{"$f":"IF(ISERROR(_xlfn.ANCHORARRAY(S196)/_xlfn.ANCHORARRAY(P196)),0,_xlfn.ANCHORARRAY(S196)/_xlfn.ANCHORARRAY(P196))","v":0},{"$f":"_xlfn.IFS(J163=5,KrFoderKvæg,J163=6,KrFoderKalve)","v":0},{"$f":"IF(ISERROR(P196:P245/M164),0,P196:P245/M164)","v":0},{"$f":"FoderEnhed","v":0},{"$f":"R196:R250","v":0},{"$f":"IF(ISERROR(S196:S245/M164),0,S196:S245/M164)","v":0}]
[null,{"$f":"IF(SUM(P197:S197)=0,FALSE,TRUE)","v":false},null,null,null,null,null,null,null,null,null,null,"",null,null,0,0,0,0,0,0,0,0]
[null,{"$f":"IF(SUM(P198:S198)=0,FALSE,TRUE)","v":false},null,null,null,null,null,null,null,null,null,null,"",null,null,0,0,0,0,0,0,0,0]
[null,false,null,null,null,null,null,null,null,null,null,null,"",null,null,0,0,0,0,0,0,0,0]
[null,false,null,null,null,null,null,null,null,null,null,null,"",null,null,0,0,0,0,0,0,0,0]
[null,false,null,null,null,null,null,null,null,null,null,null,"",null,null,0,0,0,0,0,0,0,0]
[null,false,null,null,null,null,null,null,null,null,null,null,"",null,null,0,0,0,0,0,0,0,0]
[null,false,null,null,null,null,null,null,null,null,null,null,"",null,null,0,0,0,0,0,0,0,0]
[null,false,null,null,null,null,null,null,null,null,null,null,"",null,null,0,0,0,0,0,0,0,0]
[null,false,null,null,null,null,null,null,null,null,null,null,"",null,null,0,0,0,0,0,0,0,0]
[null,false,null,null,null,null,null,null,null,null,null,null,"",null,null,0,0,0,0,0,0,0,0]
[null,false,null,null,null,null,null,null,null,null,null,null,"",null,null,0,0,0,0,0,0,0,0]
[null,false,null,null,null,null,null,null,null,null,null,null,"",null,null,0,0,0,0,0,0,0,0]
[null,false,null,null,null,null,null,null,null,null,null,null,"",null,null,0,0,0,0,0,0,0,0]
[null,false,null,null,null,null,null,null,null,null,null,null,"",null,null,0,0,0,0,0,0,0,0]
[null,false,null,null,null,null,null,null,null,null,null,null,"",null,null,0,0,0,0,0,0,0,0]
[null,false,null,null,null,null,null,null,null,null,null,null,"",null,null,0,0,0,0,0,0,0,0]
[null,false,null,null,null,null,null,null,null,null,null,null,"",null,null,0,0,0,0,0,0,0,0]
[null,false,null,null,null,null,null,null,null,null,null,null,"",null,null,0,0,0,0,0,0,0,0]
[null,false,null,null,null,null,null,null,null,null,null,null,"",null,null,0,0,0,0,0,0,0,0]
[null,false,null,null,null,null,null,null,null,null,null,null,"",null,null,0,0,0,0,0,0,0,0]
[null,false,null,null,null,null,null,null,null,null,null,null,"",null,null,0,0,0,0,0,0,0,0]
[null,false,null,null,null,null,null,null,null,null,null,null,"",null,null,0,0,0,0,0,0,0,0]
[null,false,null,null,null,null,null,null,null,null,null,null,"",null,null,0,0,0,0,0,0,0,0]
[null,false,null,null,null,null,null,null,null,null,null,null,"",null,null,0,0,0,0,0,0,0,0]
[null,false,null,null,null,null,null,null,null,null,null,null,"",null,null,0,0,0,0,0,0,0,0]
[null,false,null,null,null,null,null,null,null,null,null,null,"",null,null,0,0,0,0,0,0,0,0]
[null,false,null,null,null,null,null,null,null,null,null,null,"",null,null,0,0,0,0,0,0,0,0]
[null,false,null,null,null,null,null,null,null,null,null,null,"",null,null,0,0,0,0,0,0,0,0]
[null,false,null,null,null,null,null,null,null,null,null,null,"",null,null,0,0,0,0,0,0,0,0]
[null,false,null,null,null,null,null,null,null,null,null,null,"",null,null,0,0,0,0,0,0,0,0]
[null,false,null,null,null,null,null,null,null,null,null,null,"",null,null,0,0,0,0,0,0,0,0]
[null,false,null,null,null,null,null,null,null,null,null,null,"",null,null,0,0,0,0,0,0,0,0]
[null,false,null,null,null,null,null,null,null,null,null,null,"",null,null,0,0,0,0,0,0,0,0]
[null,false,null,null,null,null,null,null,null,null,null,null,"",null,null,0,0,0,0,0,0,0,0]
[null,false,null,null,null,null,null,null,null,null,null,null,"",null,null,0,0,0,0,0,0,0,0]
[null,false,null,null,null,null,null,null,null,null,null,null,"",null,null,0,0,0,0,0,0,0,0]
[null,false,null,null,null,null,null,null,null,null,null,null,"",null,null,0,0,0,0,0,0,0,0]
[null,false,null,null,null,null,null,null,null,null,null,null,"",null,null,0,0,0,0,0,0,0,0]
[null,false,null,null,null,null,null,null,null,null,null,null,"",null,null,0,0,0,0,0,0,0,0]
[null,false,null,null,null,null,null,null,null,null,null,null,"",null,null,0,0,0,0,0,0,0,0]
[null,false,null,null,null,null,null,null,null,null,null,null,"",null,null,0,0,0,0,0,0,0,0]
[null,false,null,null,null,null,null,null,null,null,null,null,"",null,null,0,0,0,0,0,0,0,0]
[null,false,null,null,null,null,null,null,null,null,null,null,"",null,null,0,0,0,0,0,0,0,0]
[null,false,null,null,null,null,null,null,null,null,null,null,"",null,null,0,0,0,0,0,0,0,0]
[null,false,null,null,null,null,null,null,null,null,null,null,"",null,null,0,0,0,0,0,0,0,0]
[null,false,null,null,null,null,null,null,null,null,null,null,"",null,null,0,0,0,0,0,0,0,0]
[null,false,null,null,null,null,null,null,null,null,null,null,"",null,null,0,0,0,0,0,0,0,0]
[null,false,null,null,null,null,null,null,null,null,null,null,"Mælk fra køer",null,null,0,"Kg.",0,0,0,"Kg.",0,0]
[null,{"$f":"B195","v":false},null,null,null,null,null,null,null,null,null,null,"Foder i alt",null,null,{"$f":"SUM(_xlfn.ANCHORARRAY(P196))","v":0},{"$f":"SUM(_xlfn.ANCHORARRAY(Q196))","v":0},null,{"$f":"SUM(_xlfn.ANCHORARRAY(S196))","v":0},0,null,0,0]
[null,{"$f":"IF(SUM(P246:S246)=0,FALSE,TRUE)","v":false},null,null,null,null,null,null,null,null,null,null,{"$f":"$M$131:$M$133","v":"Dyrlæge og medicin"},null,null,null,null,null,{"$f":"_xlfn.IFS(J163=5,$W$131:$W$132,J163=6,$Z$131:$Z$132)","v":0},null,null,0,{"$f":"IF(ISERROR(S246:S250/M164),0,S246:S250/M164)","v":0}]
[null,{"$f":"IF(SUM(P247:S247)=0,FALSE,TRUE)","v":false},null,null,null,null,null,null,null,null,null,null,"Diverse vedr. husdyr",null,null,null,null,null,0,null,null,0,0]
[null,{"$f":"B245","v":false},null,null,null,null,null,null,null,null,null,null,"Dyrlæge og diverse i alt",null,null,null,null,null,{"$f":"SUM(_xlfn.ANCHORARRAY(S246))","v":0},null,null,0,0]
[null,{"$f":"B248","v":false},null,null,null,null,null,null,null,null,null,null,"Stykomkostninger i alt",null,null,null,null,null,{"$f":"+S245+S248","v":0},null,null,0,0]
[null,{"$f":"B249","v":false},null,null,null,null,null,null,null,null,null,null,"Dækningsbidrag",null,null,null,null,null,{"$f":"+S249+S194","v":0},null,null,0,0]
[null,false]
[null,false,null,null,null,null,null,null,null,null,null,null,"Fødte kalve pr. årsko"]
[null,false,null,null,null,null,null,null,null,null,null,null,null,{"$f":"TEXT(Q149,\"#.##0\")&\" fødte kalve / \"&TEXT(ÅrskøerAntal,\"#.##0\")&\" årskøer =\"","v":"0 fødte kalve / 0 årskøer ="},null,null,{"$f":"Q149/ÅrskøerAntal","v":{"$error":"#DIV/0!"}},null,"fødte kalve pr. årsko"]
[null,false]
[null,false,null,null,null,null,null,null,null,null,null,null,"Udskiftningsprocent"]
[null,false,null,null,null,null,null,null,null,null,null,null,null,"Udskiftningsprocenten udregnes som gennemsnittet af indsatte og udsatte køer divideret med antal årskøer"]
[null,false]
[null,false,null,null,null,null,null,null,null,null,null,null,null,{"$f":"\"(\"&TEXT(P147+Q147,\"#.##0\")&\" indsatte + \"&TEXT(R147+S147+T147,\"#.##0\")&\" udsatte) / 2 /\"&TEXT(ÅrskøerAntal,\"#.##0\")&\" årskøer\"","v":"(0 indsatte + 0 udsatte) / 2 /0 årskøer"},null,null,null,{"$f":"(P147+Q147+R147+S147+T147)/2/ÅrskøerAntal","v":{"$error":"#DIV/0!"}}]
[null,false]
[null,false,null,null,null,null,null,null,null,null,null,null,"Kodødelighed:"]
[null,false,null,null,null,null,null,null,null,null,null,null,null,"Kodødeligheden udregnes som antal døde køer divideret med antal årskøer"]
[null,false]
[null,false,null,null,null,null,null,null,null,null,null,null,null,{"$f":"TEXT(P48,\"#.##0\")&\" døde / \"&TEXT(ÅrskøerAntal,\"#.##0\")&\" årskøer =\"","v":"0 døde / 0 årskøer ="},null,null,{"$f":"P48/ÅrskøerAntal","v":{"$error":"#DIV/0!"}}]
[null,false]
[null,false,null,null,null,null,null,null,null,null,null,null,"Kg. mælk leveret pr. årsko"]
[null,false,null,null,null,null,null,null,null,null,null,null,null,{"$f":"TEXT(P169,\"#.##0\")&\" kg. mælk / \"&TEXT(ÅrskøerAntal,\"#.##0\")&\" årskøer =\"","v":"0 kg. mælk / 0 årskøer ="},null,null,{"$f":"P169/ÅrskøerAntal","v":{"$error":"#DIV/0!"}},null,"kg. mælk pr. årsko"]
[null,false]
[null,false,null,null,null,null,null,null,null,null,null,null,"KG. EKM leveret i alt"]
[null,false,null,null,null,null,null,null,null,null,null,null,null,"Der er forskel på hvor meget energi mælken indeholder fra bedrift til bedrift, idet fedt- og proteinindholdet varierer."]
[null,false,null,null,null,null,null,null,null,null,null,null,null,"For at kunne sammenligne mælkeydelse mellem forskellige bedrifter, omregnes mælkemængden derfor til"]
[null,false,null,null,null,null,null,null,null,null,null,null,null,"mælk (EKM)."]
[null,false,null,null,null,null,null,null,null,null,null,null,null,"Et kg. EKM svarer til 3,14 MJ (MegaJoule)"]
[null,false,null,null,null,null,null,null,null,null,null,null,null,"Derfor gælder:    Kg EKM = kg mælk x ((0,383 x fedtprocent + 0,242 x proteinprocent + 0,7832) / 3,14)"]
[null,false]
[null,false,null,null,null,null,null,null,null,null,null,null,null,"Fedtprocent i den leverede mælk:"]
[null,false,null,null,null,null,null,null,null,null,null,null,null,"Proteinprocent i den leverede mælk:"]
[null,false]
[null,false,null,null,null,null,null,null,null,null,null,null,null,{"$f":"TEXT(P169,\"#.##0\")&\" kg. mælk * ((0,383 * \"&TEXT(Q275*100,\"#.##0,00\")&\" + 0,242 * \"&TEXT(Q276*100,\"#.##0,00\")&\" + 0,7832) / 3,14\"","v":"0 kg. mælk * ((0,383 * 0,00 + 0,242 * 0,00 + 0,7832) / 3,14"},null,null,null,null,{"$f":"P169*((0.383*Q275*100+0.242*Q276*100+0.7832)/3.14)","v":0},"kg. EKM"]
[null,false]
[null,false,null,null,null,null,null,null,null,null,null,null,"KG. EKM leveret pr. årsko:"]
[null,false,null,null,null,null,null,null,null,null,null,null,null,{"$f":"TEXT(S278,\"#.##0\")&\" kg. EKM / \"&TEXT(ÅrskøerAntal,\"#.##0\")&\" årskøer =\"","v":"0 kg. EKM / 0 årskøer ="},null,null,null,{"$f":"S278/ÅrskøerAntal","v":{"$error":"#DIV/0!"}},"kg. EKM pr. årsko"]
[null,false]
[null,{"$f":"B284","v":false},null,null,null,null,null,null,null,null,"Slagtekalve"]
[null,false]
[null,false,null,null,null,null,null,null,null,null,null,null,"Dyreomsætning slagtekalve"]
[null,false,null,null,null,null,null,null,null,null,null,null,"Tilgang",null,"stk.","kg.","Afgang",null,"stk.","kg."]
[null,false,null,null,null,null,null,null,null,null,null,null,"Besætning primo",null,{"$f":"SUM(P25:P29)","v":0},{"$f":"SUM(Q25:Q29)","v":0},"Besætning ultimo",null,{"$f":"SUM(T25:T29)","v":0},{"$f":"SUM(U25:U29)","v":0}]
[null,false,null,null,null,null,null,null,null,null,null,null,"Indkøbte kalve",null,{"$f":"-P59","v":0},{"$f":"-T59","v":0},"Slagtekalve solgt",null,{"$f":"P61","v":0},{"$f":"T61","v":0}]
[null,false,null,null,null,null,null,null,null,null,null,null,"Kalve fra egne køer",null,{"$f":"-P60","v":0},{"$f":"-T60","v":0},"Døde slagtekalve",null,{"$f":"P62","v":0},{"$f":"T62","v":0}]
[null,false,null,null,null,null,null,null,null,null,null,null,"Tilvækst (Saldo)",null,{"$f":"S291-O287-O288-O289","v":0},{"$f":"+T291-P287-P288-P289","v":0},"Til husholdning",null,{"$f":"P63","v":0},{"$f":"T63","v":0}]
[null,false,null,null,null,null,null,null,null,null,null,null,"I alt (Balance)",null,{"$f":"SUM(O287:O290)","v":0},{"$f":"SUM(P287:P290)","v":0},"I alt (Balance)",null,{"$f":"SUM(S287:S290)","v":0},{"$f":"SUM(T287:T290)","v":0}]
[null,false]
[null,false,null,null,null,null,null,null,null,null,null,null,"Beregning af kg. tilvækst pr. dyr:"]
[null,false,null,null,null,null,null,null,null,null,null,null,null,"Afgangsvægt til slagt, levende:",null,null,{"$f":"\"(\"&TEXT(T288,\"#.##0\")&\" kg. / \"&TEXT(S288,\"#.##0\")&\" stk.) = \"","v":"(0 kg. / 0 stk.) = "},null,null,null,{"$f":"IF(ISERROR(T288/S288),0,T288/S288)","v":0},"kg."]
[null,false,null,null,null,null,null,null,null,null,null,null,null,"- Gns. indgangsvægt:",null,null,{"$f":"\"(\"&TEXT(P288,\"#.##0\")&\"+\"&TEXT(P289,\"#.##0\")&\") / (\"&TEXT(O288,\"#.##0\")&\"+\"&TEXT(O289,\"#.##0\")&\") =\"","v":"(0+0) / (0+0) ="},null,null,null,{"$f":"IF(ISERROR(+(P288+P289)/(O288+O289)),0,+(P288+P289)/(O288+O289))","v":0},"kg."]
[null,false,null,null,null,null,null,null,null,null,null,null,null,"= Gennemsnitlig tilvækst:",null,null,null,null,null,null,{"$f":"+U294-U295","v":0},"kg."]
[null,false]
[null,false,null,null,null,null,null,null,null,null,null,null,"Beregning af produktionsomfang:"]
[null,false,null,null,null,null,null,null,null,null,null,null,null,"Tilvækst divideret med gns. tilvækst:",null,null,null,{"$f":"TEXT(P290,\"#.##0\")&\" kg. / \"&TEXT(U296,\"#.##0,0\")&\" kg. =\"","v":"0 kg. / 0,0 kg. ="},null,{"$f":"IF(ISERROR(P290/U296),0,P290/U296)","v":0},"prod. slagteklave"]
[null,false]
[null,{"$f":"OR(SUM(P303:W332)<>0,SUM(P334:W388)<>0)","v":false},null,null,null,null,null,null,"Prod.gren:",6,null,null,{"$f":"\"Kalkule, \"&VLOOKUP(J301,tblProdGren[],2)","v":"Kalkule, Slagtekalve"},null,null,"I alt",null,null,null,{"$f":"\"Pr. \"&VLOOKUP(J301,tblProdGren[],3)","v":"Pr. prod. sl. kalv"}]
[null,{"$f":"B301","v":false},null,null,null,null,null,null,null,{"$f":"ProdSlagtekalveAntal","v":0},null,null,{"$f":"J302","v":0},{"$f":"VLOOKUP(J301,tblProdGren[],4)","v":"prod sl. kalve"},null,"Antal","kg.","Pris","Beløb","Antal","Vægt","Pris","Beløb"]
[null,{"$f":"IF(SUM(P303:S303)=0,FALSE,TRUE)","v":false},null,null,null,null,null,null,null,{"$f":"IF(J301=5,1,0)","v":0},null,null,{"$f":"$M$41:$M$70","v":"Salg af mælk"},null,null,{"$f":"$P$41:$P$44*J303:J306","v":0},null,{"$f":"IF(ISERROR(S303:S305/P303),0,S303:S305/P303)","v":0},{"$f":"$R$41:$R$44*J303:J306","v":0},{"$f":"IF(ISERROR(P303:P332/M302),0,P303:P332/M302)","v":0},{"$f":"IF(ISERROR(Q303:Q332/P303:P332),0,Q303:Q332/P303:P332)","v":0},{"$f":"R303:R332","v":0},{"$f":"IF(ISERROR(S303:S332/M302),0,S303:S332/M302)","v":0}]
[null,false,null,null,null,null,null,null,null,{"$f":"J303","v":0},null,null,"Tillæg/fradrag mælk",null,null,0,null,0,0,0,0,0,0]
[null,false,null,null,null,null,null,null,null,{"$f":"J304","v":0},null,null,"Efterbetaling, mælk",null,null,0,null,0,0,0,0,0,0]
[null,false,null,null,null,null,null,null,null,{"$f":"J305","v":0},null,null,"Mælk overført til kalve",null,null,0,null,{"$f":"IF(ISERROR(S306/P306),0,S306/P306)","v":0},0,0,0,0,0]
[null,false,null,null,null,null,null,null,null,{"$f":"J306","v":0},null,null,"Mælk i alt",null,null,{"$f":"SUM(P303:P306)","v":0},null,null,{"$f":"SUM(S303:S306)","v":0},0,0,0,0]
[null,false,null,null,null,null,null,null,null,{"$f":"J307","v":0},null,null,"Salg af køer (inkl. efterbetaling)",null,null,{"$f":"DyrOmsKøerAntal*J308:J319","v":0},null,{"$f":"IF(ISERROR(_xlfn.ANCHORARRAY(S308)/_xlfn.ANCHORARRAY(P308)),0,_xlfn.ANCHORARRAY(S308)/_xlfn.ANCHORARRAY(P308))","v":0},{"$f":"DyrOmsKøerKr*J308:J319","v":0},0,0,0,0]
[null,false,null,null,null,null,null,null,null,0,null,null,"Indkøb af køer",null,null,0,null,0,0,0,0,0,0]
[null,false,null,null,null,null,null,null,null,0,null,null,"Køer, døde/kasserede",null,null,0,null,0,0,0,0,0,0]
[null,false,null,null,null,null,null,null,null,0,null,null,"Salg af kvier",null,null,0,null,0,0,0,0,0,0]
[null,false,null,null,null,null,null,null,null,0,null,null,"Indkøb af kvier",null,null,0,null,0,0,0,0,0,0]
[null,false,null,null,null,null,null,null,null,0,null,null,"Kvier, døde/kasserede",null,null,0,null,0,0,0,0,0,0]
[null,false,null,null,null,null,null,null,null,0,null,null,"Salg af kalve",null,null,0,null,0,0,0,0,0,0]
[null,false,null,null,null,null,null,null,null,0,null,null,"Indkøb af spædkalve",null,null,0,null,0,0,0,0,0,0]
[null,false,null,null,null,null,null,null,null,{"$f":"J314","v":0},null,null,"Kalve, døde/kasserede",null,null,0,null,0,0,0,0,0,0]
[null,false,null,null,null,null,null,null,null,{"$f":"J316","v":0},null,null,"Tyrekalve overført til slagtekalve",null,null,0,null,0,0,0,0,0,0]
[null,false,null,null,null,null,null,null,null,{"$f":"J317","v":0},null,null,"Slagtepræmier",null,null,0,null,0,0,0,0,0,0]
[null,false,null,null,null,null,null,null,null,{"$f":"J318","v":0},null,null,"Forskydning køer og kvier",null,null,0,null,0,0,0,0,0,0]
[null,false,null,null,null,null,null,null,null,{"$f":"J319","v":0},null,null,"Tilvækst malkekvæg",null,null,{"$f":"SUM(_xlfn.ANCHORARRAY(P308))","v":0},{"$f":"IF($J320=1,IF(K303=1,SUM(_xlfn.ANCHORARRAY(Q308)),SUM(Q299:Q319)),0)","v":0},null,{"$f":"SUM(_xlfn.ANCHORARRAY(S308))","v":0},0,0,0,0]
[null,false,null,null,null,null,null,null,null,{"$f":"IF(J301=6,1,0)","v":1},null,null,"Tyrekalve indkøbt",null,null,{"$f":"DyrOmsKalveAntal*J321:J327","v":0},{"$f":"DyrOmsKalveKg*J321:J327","v":0},{"$f":"IF(ISERROR(_xlfn.ANCHORARRAY(S321)/_xlfn.ANCHORARRAY(P321)),0,_xlfn.ANCHORARRAY(S321)/_xlfn.ANCHORARRAY(P321))","v":0},{"$f":"DyrOmsKalveKr*J321:J327","v":0},0,0,0,0]
[null,false,null,null,null,null,null,null,null,{"$f":"J321","v":1},null,null,"Tyrekalve overf. fra malkekvæg",null,null,0,0,0,0,0,0,0,0]
[null,false,null,null,null,null,null,null,null,{"$f":"J322","v":1},null,null,"Slagtekalve solgt (levende vægt)",null,null,0,0,0,0,0,0,0,0]
[null,false,null,null,null,null,null,null,null,1,null,null,"Døde og kasserede slagtekalve",null,null,0,0,0,0,0,0,0,0]
[null,false,null,null,null,null,null,null,null,1,null,null,"Til husholdning",null,null,0,0,0,0,0,0,0,0]
[null,false,null,null,null,null,null,null,null,1,null,null,"Slagtepræmie",null,null,0,0,0,0,0,0,0,0]
[null,false,null,null,null,null,null,null,null,1,null,null,"Forskydning, slagteklave",null,null,0,0,0,0,0,0,0,0]
[null,false,null,null,null,null,null,null,null,1,null,null,"Tilvækst slagtekalve",null,null,{"$f":"SUM(_xlfn.ANCHORARRAY(P321))","v":0},{"$f":"IF($J328=1,IF(K319=1,SUM(_xlfn.ANCHORARRAY(Q320)),SUM(Q310:Q327)),0)","v":0},null,{"$f":"SUM(_xlfn.ANCHORARRAY(S321))","v":0},0,0,0,0]
[null,false,null,null,null,null,null,null,null,{"$f":"J320","v":0},null,null,"Div. indtægter malkekvæg",null,null,null,null,null,null,0,0,0,0]
[null,false,null,null,null,null,null,null,null,{"$f":"J328","v":1},null,null,"Div. indtægter slagtekalve",null,null,null,null,null,{"$f":"+R68","v":0},0,0,0,0]
[null,false,null,null,null,null,null,null,null,1,null,null,"Andet",null,null,null,null,null,{"$f":"SUM(S329:S330)","v":0},0,0,0,0]
[null,false,null,null,null,null,null,null,null,1,null,null,"Bruttoudbytte i alt",null,null,null,null,null,{"$f":"+S320+S328+S331+S307","v":0},0,0,0,0]
[null,{"$f":"B302","v":false},null,null,null,null,null,null,null,null,null,null,null,null,null,"kvantum",null,"Pris/enh.","Beløb","kvantum",null,"Pris/enh.","Beløb"]
[null,{"$f":"IF(SUM(P334:S334)=0,FALSE,TRUE)","v":false},null,null,null,null,null,null,null,null,null,null,{"$f":"IF($M$78:$M$126=\"\",\"\",$M$78:$M$126)","v":""},null,null,{"$f":"_xlfn.IFS(J301=5,EnhFoderKvæg,J301=6,EnhFoderKalve)","v":0},{"$f":"FoderEnhed","v":0},{"$f":"IF(ISERROR(_xlfn.ANCHORARRAY(S334)/_xlfn.ANCHORARRAY(P334)),0,_xlfn.ANCHORARRAY(S334)/_xlfn.ANCHORARRAY(P334))","v":0},{"$f":"_xlfn.IFS(J301=5,KrFoderKvæg,J301=6,KrFoderKalve)","v":0},{"$f":"IF(ISERROR(P334:P383/M302),0,P334:P383/M302)","v":0},{"$f":"FoderEnhed","v":0},{"$f":"R334:R388","v":0},{"$f":"IF(ISERROR(S334:S383/M302),0,S334:S383/M302)","v":0}]
[null,{"$f":"IF(SUM(P335:S335)=0,FALSE,TRUE)","v":false},null,null,null,null,null,null,null,null,null,null,"",null,null,0,0,0,0,0,0,0,0]
[null,{"$f":"IF(SUM(P336:S336)=0,FALSE,TRUE)","v":false},null,null,null,null,null,null,null,null,null,null,"",null,null,0,0,0,0,0,0,0,0]
[null,false,null,null,null,null,null,null,null,null,null,null,"",null,null,0,0,0,0,0,0,0,0]
[null,false,null,null,null,null,null,null,null,null,null,null,"",null,null,0,0,0,0,0,0,0,0]
[null,false,null,null,null,null,null,null,null,null,null,null,"",null,null,0,0,0,0,0,0,0,0]
[null,false,null,null,null,null,null,null,null,null,null,null,"",null,null,0,0,0,0,0,0,0,0]
[null,false,null,null,null,null,null,null,null,null,null,null,"",null,null,0,0,0,0,0,0,0,0]
[null,false,null,null,null,null,null,null,null,null,null,null,"",null,null,0,0,0,0,0,0,0,0]
[null,false,null,null,null,null,null,null,null,null,null,null,"",null,null,0,0,0,0,0,0,0,0]
[null,false,null,null,null,null,null,null,null,null,null,null,"",null,null,0,0,0,0,0,0,0,0]
[null,false,null,null,null,null,null,null,null,null,null,null,"",null,null,0,0,0,0,0,0,0,0]
[null,false,null,null,null,null,null,null,null,null,null,null,"",null,null,0,0,0,0,0,0,0,0]
[null,false,null,null,null,null,null,null,null,null,null,null,"",null,null,0,0,0,0,0,0,0,0]
[null,false,null,null,null,null,null,null,null,null,null,null,"",null,null,0,0,0,0,0,0,0,0]
[null,false,null,null,null,null,null,null,null,null,null,null,"",null,null,0,0,0,0,0,0,0,0]
[null,false,null,null,null,null,null,null,null,null,null,null,"",null,null,0,0,0,0,0,0,0,0]
[null,false,null,null,null,null,null,null,null,null,null,null,"",null,null,0,0,0,0,0,0,0,0]
[null,false,null,null,null,null,null,null,null,null,null,null,"",null,null,0,0,0,0,0,0,0,0]
[null,false,null,null,null,null,null,null,null,null,null,null,"",null,null,0,0,0,0,0,0,0,0]
[null,false,null,null,null,null,null,null,null,null,null,null,"",null,null,0,0,0,0,0,0,0,0]
[null,false,null,null,null,null,null,null,null,null,null,null,"",null,null,0,0,0,0,0,0,0,0]
[null,false,null,null,null,null,null,null,null,null,null,null,"",null,null,0,0,0,0,0,0,0,0]
[null,false,null,null,null,null,null,null,null,null,null,null,"",null,null,0,0,0,0,0,0,0,0]
[null,false,null,null,null,null,null,null,null,null,null,null,"",null,null,0,0,0,0,0,0,0,0]
[null,false,null,null,null,null,null,null,null,null,null,null,"",null,null,0,0,0,0,0,0,0,0]
[null,false,null,null,null,null,null,null,null,null,null,null,"",null,null,0,0,0,0,0,0,0,0]
[null,false,null,null,null,null,null,null,null,null,null,null,"",null,null,0,0,0,0,0,0,0,0]
[null,false,null,null,null,null,null,null,null,null,null,null,"",null,null,0,0,0,0,0,0,0,0]
[null,false,null,null,null,null,null,null,null,null,null,null,"",null,null,0,0,0,0,0,0,0,0]
[null,false,null,null,null,null,null,null,null,null,null,null,"",null,null,0,0,0,0,0,0,0,0]
[null,false,null,null,null,null,null,null,null,null,null,null,"",null,null,0,0,0,0,0,0,0,0]
[null,false,null,null,null,null,null,null,null,null,null,null,"",null,null,0,0,0,0,0,0,0,0]
[null,false,null,null,null,null,null,null,null,null,null,null,"",null,null,0,0,0,0,0,0,0,0]
[null,false,null,null,null,null,null,null,null,null,null,null,"",null,null,0,0,0,0,0,0,0,0]
[null,false,null,null,null,null,null,null,null,null,null,null,"",null,null,0,0,0,0,0,0,0,0]
[null,false,null,null,null,null,null,null,null,null,null,null,"",null,null,0,0,0,0,0,0,0,0]
[null,false,null,null,null,null,null,null,null,null,null,null,"",null,null,0,0,0,0,0,0,0,0]
[null,false,null,null,null,null,null,null,null,null,null,null,"",null,null,0,0,0,0,0,0,0,0]
[null,false,null,null,null,null,null,null,null,null,null,null,"",null,null,0,0,0,0,0,0,0,0]
[null,false,null,null,null,null,null,null,null,null,null,null,"",null,null,0,0,0,0,0,0,0,0]
[null,false,null,null,null,null,null,null,null,null,null,null,"",null,null,0,0,0,0,0,0,0,0]
[null,false,null,null,null,null,null,null,null,null,null,null,"",null,null,0,0,0,0,0,0,0,0]
[null,false,null,null,null,null,null,null,null,null,null,null,"",null,null,0,0,0,0,0,0,0,0]
[null,false,null,null,null,null,null,null,null,null,null,null,"",null,null,0,0,0,0,0,0,0,0]
[null,false,null,null,null,null,null,null,null,null,null,null,"",null,null,0,0,0,0,0,0,0,0]
[null,false,null,null,null,null,null,null,null,null,null,null,"",null,null,0,0,0,0,0,0,0,0]
[null,false,null,null,null,null,null,null,null,null,null,null,"",null,null,0,0,0,0,0,0,0,0]
[null,false,null,null,null,null,null,null,null,null,null,null,"Mælk fra køer",null,null,0,"Kg.",0,0,0,"Kg.",0,0]
[null,{"$f":"B333","v":false},null,null,null,null,null,null,null,null,null,null,"Foder i alt",null,null,{"$f":"SUM(_xlfn.ANCHORARRAY(P334))","v":0},{"$f":"SUM(_xlfn.ANCHORARRAY(Q334))","v":0},null,{"$f":"SUM(_xlfn.ANCHORARRAY(S334))","v":0},0,null,0,0]
[null,false,null,null,null,null,null,null,null,null,null,null,{"$f":"$M$131:$M$133","v":"Dyrlæge og medicin"},null,null,null,null,null,{"$f":"_xlfn.IFS(J301=5,$W$131:$W$132,J301=6,$Z$131:$Z$132)","v":0},null,null,0,{"$f":"IF(ISERROR(S384:S388/M302),0,S384:S388/M302)","v":0}]
[null,false,null,null,null,null,null,null,null,null,null,null,"Diverse vedr. husdyr",null,null,null,null,null,0,null,null,0,0]
[null,{"$f":"B383","v":false},null,null,null,null,null,null,null,null,null,null,"Dyrlæge og diverse i alt",null,null,null,null,null,{"$f":"SUM(_xlfn.ANCHORARRAY(S384))","v":0},null,null,0,0]
[null,{"$f":"B386","v":false},null,null,null,null,null,null,null,null,null,null,"Stykomkostninger i alt",null,null,null,null,null,{"$f":"+S383+S386","v":0},null,null,0,0]
[null,{"$f":"B387","v":false},null,null,null,null,null,null,null,null,null,null,"Dækningsbidrag",null,null,null,null,null,{"$f":"+S387+S332","v":0},null,null,0,0]
[null,false]
[null,false,null,null,null,null,null,null,null,null,null,null,"Beregning af dagligtilvækst:"]
[null,false,null,null,null,null,null,null,null,null,null,null,null,"Den daglige tilvækst beregnes som kg. tilvækst i alt divideret med antal foderdage i alt. Dvs. den tilvækst der har været divideret med "]
[null,false,null,null,null,null,null,null,null,null,null,null,null,"den tid det har taget at skabe tilvæksten. For at få resultatet i gram ganges med 1000."]
[null,false]
[null,false,null,null,null,null,null,null,null,null,null,null,null,"Foderdage slagtekalve:"]
[null,false,null,null,null,null,null,null,null,null,null,null,null,"Daglig tilvækst:",null,{"$f":"TEXT(P290,\"#.##0\")&\" kg. tilvækst / \"&TEXT(P394,\"#.##0\")&\" dage * 1.000 =\"","v":"0 kg. tilvækst / 0 dage * 1.000 ="},null,null,{"$f":"+P290/P394*1000","v":{"$error":"#DIV/0!"}},"g daglig tilvækst"]
[null,false]
[null,false,null,null,null,null,null,null,null,null,null,null,"Foderomkostninger pr. foderdag:"]
[null,false,null,null,null,null,null,null,null,null,null,null,null,"Foderomkostninger pr. foderdag beregnes som de totale foderomkostninger divideret med antal foderdage."]
[null,false]
[null,false,null,null,null,null,null,null,null,null,null,null,null,"Foderomk. pr. foderdag:",null,{"$f":"TEXT(-S383,\"#.##0\")&\" kr. / \"&TEXT(P394,\"#.##0\")&\" dage =\"","v":"0 kr. / 0 dage ="},null,null,{"$f":"-S383/P394","v":{"$error":"#DIV/0!"}},"kr. pr. dag"]
[null,false]
[null,false,null,null,null,null,null,null,null,null,null,null,"Kr. pr. kg. slagtet"]
[null,false,null,null,null,null,null,null,null,null,null,null,null,"Kr. pr. kg. slagtet beregnes som den samlede slagsindtægt for slagtekalve divideret med antal kg. slagtevægt."]
[null,false]
[null,false,null,null,null,null,null,null,null,null,null,null,null,"Faktor (levende vægt/slagtevægt):",null,null,1.93]
[null,false]
[null,false,null,null,null,null,null,null,null,null,null,null,null,"Kr. pr. kg. slagtet:",null,{"$f":"TEXT(S323,\"#.##0\")&\" kr. / (\"&TEXT(Q323,\"#.##0\")&\" kg. levende / \"&TEXT(Q405,\"#.##0,00\")&\") =\"","v":"0 kr. / (0 kg. levende / 1,93) ="},null,null,{"$f":"+S323/(Q323/Q405)","v":{"$error":"#DIV/0!"}}]
[null,false]
[null,false,null,null,null,null,null,null,null,null,null,null,"Dødelighed:"]
[null,false,null,null,null,null,null,null,null,null,null,null,null,"Dødeligheden beregnes som antal døde divideret med antal producerede slagtekalve."]
[null,false]
[null,false,null,null,null,null,null,null,null,null,null,null,null,"Dødelighed:",null,{"$f":"TEXT(P324,\"#.##0\")&\" døde / \"&TEXT(T299,\"#.##0\")&\" producerede =\"","v":"0 døde / 0 producerede ="},null,null,{"$f":"+P324/ProdSlagtekalveAntal","v":{"$error":"#DIV/0!"}}]
[null,false]

{"sheet":"Planteavl","index":4,"n_rows":770,"n_cols":33,"rows_kept":770,"cut":false,"hidden":false,"merged":[[250,13,250,15],[250,16,250,18],[100,13,100,15],[100,16,100,18],[120,13,120,15],[120,16,120,18],[185,13,185,15],[185,16,185,18],[55,13,55,15],[55,16,55,18],[70,13,70,15],[70,16,70,18],[85,13,85,15],[85,16,85,18],[315,13,315,15],[315,16,315,18],[380,13,380,15],[380,16,380,18],[445,13,445,15],[445,16,445,18],[705,13,705,15],[705,16,705,18],[510,13,510,15],[510,16,510,18],[575,13,575,15],[575,16,575,18],[640,13,640,15],[640,16,640,18]]}
[null,null,null,null,"Skjul tomme kolonner",null,null,null,"Vis/skjul 1",1,true]
[null,null,null,null,null,null,null,null,"Vis/skjul 2",2,true]
[null,null,null,null,null,null,null,null,"Vis/skjul 3",3,true]
[null,null,null,null,null,null,null,null,"Markør1",4,null,null,null,null,null,null,null,null,null,1,1,1,1,1,1,1,1,1]
["Skjul tomme rækker","Vis tomme rækker",null,null,null,null,null,null,"Markør2",5,null,null,null,null,null,null,null,null,null,0,1,2,0,1,2,0,1,2]
[null,null,null,null,null,null,null,null,null,6]
[null,null,null,null,null,null,null,null,null,7]
[null,null,null,null,null,null,null,null,null,8]
["Vis tomme rækker","Vis/skjul 2","Vis/skjul 3","Markør1","Markør2",null,null,null,"Kol. nr",9]
[1,2,3,4,5,6,7,8,9,10,{"$f":"+J10+1","v":11},{"$f":"+K10+1","v":12},13,14,15,16,17,18,19,20,21,22,23,24,25,26,27,28,29,30,{"$f":"+AD10+1","v":31},{"$f":"+AE10+1","v":32},{"$f":"+AF10+1","v":33}]
[]
[]
[]
[true,null,null,null,null,null,null,null,null,null,null,"Afgrøder"]
[true]
[true]
[true]
[true,null,null,null,null,null,null,null,null,1]
[true,null,null,null,null,null,null,null,null,2]
[true,null,null,null,null,null,null,null,null,3]
[true,null,null,null,null,null,null,null,null,4]
[true,null,null,null,null,null,null,null,null,5]
[true,null,null,null,null,null,null,null,null,6]
[true,null,null,null,null,null,null,null,null,7]
[true,null,null,null,null,null,null,null,null,8]
[true,null,null,null,null,null,null,null,null,9]
[true,null,null,null,null,null,null,null,null,10]
[true,null,null,null,null,null,null,null,null,null,null,"I alt",{"$f":"SUM(M18:M27)","v":0}]
[true]
[true,null,null,null,null,null,null,null,null,null,null,"Udbytter"]
[true]
[true]
[true]
[true]
[true,null,null,null,null,null,null,null,null,null,null,null,null,"Kerne",null,null,null,"Grovfoder",null,null,null,"Halm",null,null,null,"I alt"]
[true,null,null,null,null,null,null,null,null,null,null,null,"ha.","Mængde","Mgd. pr. ha.","Pris","Beløb","Mængde","Mgd. pr. ha.","Pris","Beløb","Mængde","Mgd. pr. ha.","Pris","Beløb","Mængde","Pris","Beløb"]
[true,null,null,null,null,null,null,null,null,null,null,"Udbytte i alt",null,null,null,{"$f":"IF(ISERROR(Q37/N37),\"\",Q37/N37)","v":""},null,null,null,{"$f":"IF(ISERROR(U37/R37),\"\",U37/R37)","v":""},null,null,null,{"$f":"IF(ISERROR(Y37/V37),\"\",Y37/V37)","v":""},null,{"$f":"+N37+R37+V37","v":0},{"$f":"IF(ISERROR(AB37/Z37),\"\",AB37/Z37)","v":""},{"$f":"+Q37+U37+Y37","v":0}]
[{"$f":"OR(L38<>\"\",M38<>\"\",N38<>0,Q38<>0,R38<>0,U38<>0,V38<>0,Y38<>0)","v":false},null,null,null,null,null,null,null,null,1,null,{"$f":"IF(L18=\"\",\"\",L18)","v":""},{"$f":"IF(M18=\"\",\"\",M18)","v":""},null,{"$f":"IF(ISERROR(N38:N47/M38:M47),0,N38:N47/M38:M47)","v":0},"",null,null,{"$f":"IF(ISERROR(R38:R47/M38:M47),0,R38:R47/M38:M47)","v":0},"",null,null,{"$f":"IF(ISERROR(V38:V47/M38:M47),0,V38:V47/M38:M47)","v":0},""]
[{"$f":"OR(L39<>\"\",M39<>\"\",N39<>0,Q39<>0,R39<>0,U39<>0,V39<>0,Y39<>0)","v":false},null,null,null,null,null,null,null,null,2,null,"","",null,0,"",null,null,0,"",null,null,0,""]
[false,null,null,null,null,null,null,null,null,3,null,"","",null,0,"",null,null,0,"",null,null,0,""]
[false,null,null,null,null,null,null,null,null,4,null,"","",null,0,"",null,null,0,"",null,null,0,""]
[false,null,null,null,null,null,null,null,null,5,null,"","",null,0,"",null,null,0,"",null,null,0,""]
[false,null,null,null,null,null,null,null,null,6,null,"","",null,0,"",null,null,0,"",null,null,0,""]
[false,null,null,null,null,null,null,null,null,7,null,"","",null,0,"",null,null,0,"",null,null,0,""]
[false,null,null,null,null,null,null,null,null,8,null,"","",null,0,"",null,null,0,"",null,null,0,""]
[false,null,null,null,null,null,null,null,null,9,null,"","",null,0,"",null,null,0,"",null,null,0,""]
[false,null,null,null,null,null,null,null,null,10,null,"","",null,0,"",null,null,0,"",null,null,0,""]
[true,null,null,null,null,null,null,null,null,null,null,"Ufordelt",null,{"$f":"+N37-SUM(N38:N47)","v":0},null,null,{"$f":"+Q37-SUM(Q38:Q47)","v":0},{"$f":"+R37-SUM(R38:R47)","v":0},null,null,{"$f":"+U37-SUM(U38:U47)","v":0},{"$f":"+V37-SUM(V38:V47)","v":0},null,null,{"$f":"+Y37-SUM(Y38:Y47)","v":0}]
[true,null,null,null,null,null,null,null,null,null,null,null,null,null,null,null,null,null,null,null,null,null,null,null,null,null,"Kontrol:",{"$f":"Driftsgrensopdeling!Q31","v":0}]
[true,null,null,null,null,null,null,null,null,null,null,"Stykomkostninger"]
[true]
[true]
[true]
[true]
[true]
[true,null,null,null,null,null,null,null,null,null,null,null,null,"-------------- i alt -------------",null,null,"-------------- pr. ha. -------------"]
[true,null,null,null,null,null,null,null,null,null,null,"Udsæd","Ha.","Mængde","Pris","Beløb","Mængde","Pris","Beløb"]
[true,null,null,null,null,null,null,null,null,null,null,"Udsæd i alt",{"$f":"SUM(M59:M68)","v":0},null,{"$f":"IF(ISERROR(P58:P68/N58:N68),0,P58:P68/N58:N68)","v":0},{"$f":"Driftsgrensopdeling!Q32","v":0}]
[{"$f":"OR(L59<>\"\",M59<>\"\",N59<>0,P59<>0)","v":false},null,null,null,null,null,null,null,null,11,null,{"$f":"IF(L18=\"\",\"\",L18)","v":""},{"$f":"IF(M18=\"\",\"\",M18)","v":""},null,0,null,{"$f":"IF(ISERROR(N59:N68/M59:M68),0,N59:N68/M59:M68)","v":0},{"$f":"IF(ISERROR(S59:S68/Q59:Q68),0,S59:S68/Q59:Q68)","v":0},{"$f":"IF(ISERROR(P59:P68/M59:M68),0,P59:P68/M59:M68)","v":0}]
[{"$f":"OR(L60<>\"\",M60<>\"\",N60<>0,P60<>0)","v":false},null,null,null,null,null,null,null,null,{"$f":"J59+1","v":12},null,"","",null,0,null,0,0,0]
[false,null,null,null,null,null,null,null,null,{"$f":"J60+1","v":13},null,"","",null,0,null,0,0,0]
[false,null,null,null,null,null,null,null,null,14,null,"","",null,0,null,0,0,0]
[false,null,null,null,null,null,null,null,null,15,null,"","",null,0,null,0,0,0]
[false,null,null,null,null,null,null,null,null,16,null,"","",null,0,null,0,0,0]
[false,null,null,null,null,null,null,null,null,17,null,"","",null,0,null,0,0,0]
[false,null,null,null,null,null,null,null,null,18,null,"","",null,0,null,0,0,0]
[false,null,null,null,null,null,null,null,null,19,null,"","",null,0,null,0,0,0]
[false,null,null,null,null,null,null,null,null,20,null,"","",null,0,null,0,0,0]
[true,null,null,null,null,null,null,null,null,null,null,"Ufordelt",null,{"$f":"+N58-SUM(N59:N68)","v":0},null,{"$f":"+P58-SUM(P59:P68)","v":0}]
[true]
[true,null,null,null,null,null,null,null,null,null,null,null,null,"-------------- i alt -------------",null,null,"-------------- pr. ha. -------------"]
[true,null,null,null,null,null,null,null,null,null,null,"Gødning","Ha.","Mængde","Pris","Beløb","Mængde","Pris","Beløb"]
[true,null,null,null,null,null,null,null,null,null,null,{"$f":"L72&\" i alt\"","v":"Gødning i alt"},{"$f":"SUM(M74:M83)","v":0},null,{"$f":"IF(ISERROR(P73:P83/N73:N83),0,P73:P83/N73:N83)","v":0},{"$f":"Driftsgrensopdeling!Q33","v":0}]
[{"$f":"OR(L74<>\"\",M74<>\"\",N74<>0,P74<>0)","v":false},null,null,null,null,null,null,null,null,21,null,{"$f":"IF(L18=\"\",\"\",L18)","v":""},{"$f":"IF(M18=\"\",\"\",M18)","v":""},null,0,null,{"$f":"IF(ISERROR(N74:N83/M74:M83),0,N74:N83/M74:M83)","v":0},{"$f":"IF(ISERROR(S74:S83/Q74:Q83),0,S74:S83/Q74:Q83)","v":0},{"$f":"IF(ISERROR(P74:P83/M74:M83),0,P74:P83/M74:M83)","v":0}]
[{"$f":"OR(L75<>\"\",M75<>\"\",N75<>0,P75<>0)","v":false},null,null,null,null,null,null,null,null,{"$f":"J74+1","v":22},null,"","",null,0,null,0,0,0]
[false,null,null,null,null,null,null,null,null,{"$f":"J75+1","v":23},null,"","",null,0,null,0,0,0]
[false,null,null,null,null,null,null,null,null,24,null,"","",null,0,null,0,0,0]
[false,null,null,null,null,null,null,null,null,25,null,"","",null,0,null,0,0,0]
[false,null,null,null,null,null,null,null,null,26,null,"","",null,0,null,0,0,0]
[false,null,null,null,null,null,null,null,null,27,null,"","",null,0,null,0,0,0]
[false,null,null,null,null,null,null,null,null,28,null,"","",null,0,null,0,0,0]
[false,null,null,null,null,null,null,null,null,29,null,"","",null,0,null,0,0,0]
[false,null,null,null,null,null,null,null,null,30,null,"","",null,0,null,0,0,0]
[true,null,null,null,null,null,null,null,null,null,null,"Ufordelt",null,{"$f":"+N73-SUM(N74:N83)","v":0},null,{"$f":"+P73-SUM(P74:P83)","v":0}]
[true]
[true,null,null,null,null,null,null,null,null,null,null,null,null,"-------------- i alt -------------",null,null,"-------------- pr. ha. -------------"]
[true,null,null,null,null,null,null,null,null,null,null,"Planteværn","Ha.",null,null,"Beløb","Mængde","Pris","Beløb"]
[true,null,null,null,null,null,null,null,null,null,null,{"$f":"L87&\" i alt\"","v":"Planteværn i alt"},{"$f":"SUM(M89:M98)","v":0},null,null,{"$f":"Driftsgrensopdeling!Q34","v":0}]
[{"$f":"OR(L89<>\"\",M89<>\"\",P89<>0)","v":false},null,null,null,null,null,null,null,null,31,null,{"$f":"IF(L18=\"\",\"\",L18)","v":""},{"$f":"IF(M18=\"\",\"\",M18)","v":""},null,null,null,null,null,{"$f":"IF(ISERROR(P89:P98/M89:M98),0,P89:P98/M89:M98)","v":0}]
[{"$f":"OR(L90<>\"\",M90<>\"\",P90<>0)","v":false},null,null,null,null,null,null,null,null,{"$f":"J89+1","v":32},null,"","",null,null,null,null,null,0]
[false,null,null,null,null,null,null,null,null,{"$f":"J90+1","v":33},null,"","",null,null,null,null,null,0]
[false,null,null,null,null,null,null,null,null,34,null,"","",null,null,null,null,null,0]
[false,null,null,null,null,null,null,null,null,35,null,"","",null,null,null,null,null,0]
[false,null,null,null,null,null,null,null,null,36,null,"","",null,null,null,null,null,0]
[false,null,null,null,null,null,null,null,null,37,null,"","",null,null,null,null,null,0]
[false,null,null,null,null,null,null,null,null,38,null,"","",null,null,null,null,null,0]
[false,null,null,null,null,null,null,null,null,39,null,"","",null,null,null,null,null,0]
[false,null,null,null,null,null,null,null,null,40,null,"","",null,null,null,null,null,0]
[true,null,null,null,null,null,null,null,null,null,null,"Ufordelt",null,null,null,{"$f":"+P88-SUM(P89:P98)","v":0}]
[true]
[true,null,null,null,null,null,null,null,null,null,null,null,null,"-------------- i alt -------------",null,null,"-------------- pr. ha. -------------"]
[true,null,null,null,null,null,null,null,null,null,null,"Diverse","Ha.",null,null,"Beløb",null,null,"Beløb"]
[true,null,null,null,null,null,null,null,null,null,null,{"$f":"L102&\" i alt\"","v":"Diverse i alt"},{"$f":"SUM(M104:M113)","v":0},"Kr. Fordelt",null,{"$f":"Driftsgrensopdeling!Q35","v":0}]
[{"$f":"OR(L104<>\"\",M104<>\"\",N104<>0,P104<>0)","v":false},null,null,null,null,null,null,null,null,41,null,{"$f":"IF(L18=\"\",\"\",L18)","v":""},{"$f":"IF(M18=\"\",\"\",M18)","v":""},null,null,{"$f":"IF(ISERROR(($P$103-SUM($N$104:$N$113))/M28*M18:M27+N104:N113),0,($P$103-SUM($N$104:$N$113))/M28*M18:M27+N104:N113)","v":0},null,null,{"$f":"IF(ISERROR(P104:P113/M104:M113),0,P104:P113/M104:M113)","v":0}]
[{"$f":"OR(L105<>\"\",M105<>\"\",N105<>0,P105<>0)","v":false},null,null,null,null,null,null,null,null,{"$f":"J104+1","v":42},null,"","",null,null,0,null,null,0]
[false,null,null,null,null,null,null,null,null,{"$f":"J105+1","v":43},null,"","",null,null,0,null,null,0]
[false,null,null,null,null,null,null,null,null,44,null,"","",null,null,0,null,null,0]
[false,null,null,null,null,null,null,null,null,45,null,"","",null,null,0,null,null,0]
[false,null,null,null,null,null,null,null,null,46,null,"","",null,null,0,null,null,0]
[false,null,null,null,null,null,null,null,null,47,null,"","",null,null,0,null,null,0]
[false,null,null,null,null,null,null,null,null,48,null,"","",null,null,0,null,null,0]
[false,null,null,null,null,null,null,null,null,49,null,"","",null,null,0,null,null,0]
[false,null,null,null,null,null,null,null,null,50,null,"","",null,null,0,null,null,0]
[true,null,null,null,null,null,null,null,null,null,null,"Ufordelt",null,null,null,{"$f":"+P103-SUM(P104:P113)","v":0}]
[true]
[true,null,null,null,null,null,null,null,null,null,null,"Maskinomkostninger i kalkulen:"]
[true,null,null,null,null,"Vis detaljer:",null,{"$f":"IF(M117=\"Vis detaljer\",1,0)","v":1},null,null,null,"Visning i kalkuler:","Vis detaljer"]
[true,null,null,null,null,"Vis sum:",null,{"$f":"IF(M117=\"Vis ikke\",0,1)","v":1}]
[true,null,null,null,null,null,null,null,null,null,null,"Kalkuler"]
[true]
[null,{"$f":"B122","v":false},null,null,null,{"$f":"COUNTIF(B121:B769,TRUE)","v":0},null,null,null,null,null,null,null,"-------------- i alt -------------",null,null,"-------------- pr. ha. -------------"]
[null,{"$f":"OR(B123:B125,B127:B130,B133:B183)","v":false},null,null,null,0,1,null,null,null,null,{"$f":"IF(VLOOKUP(G122,$J$18:$M$28,3,FALSE)=\"\",\"\",VLOOKUP(G122,$J$18:$M$28,3,FALSE))","v":""},{"$f":"VLOOKUP(G122,$J$18:$M$27,4,FALSE)","v":0},"Mængde","Pris","Beløb","Mængde","Pris","Beløb"]
[null,{"$f":"IF(COUNTIF(N123:S123,\"<>0\")=0,FALSE,TRUE)","v":false},null,null,null,null,{"$f":"G122","v":1},5,null,null,null,{"$f":"IF($N$35=\"\",\"\",$N$35)","v":"Kerne"},null,{"$f":"VLOOKUP(G123,$J$38:$Y$47,H123,FALSE)","v":0},{"$f":"IF(ISERROR(P123/N123),0,P123/N123)","v":0},{"$f":"VLOOKUP(G123,$J$38:$Y$47,H123+3,FALSE)","v":0},{"$f":"IF(ISERROR(N123/M122),0,N123/M122)","v":0},{"$f":"IF(ISERROR(S123/Q123),0,S123/Q123)","v":0},{"$f":"IF(ISERROR(P123/M122),0,P123/M122)","v":0}]
[null,{"$f":"IF(COUNTIF(N124:S124,\"<>0\")=0,FALSE,TRUE)","v":false},null,null,null,null,{"$f":"G123","v":1},9,null,null,null,{"$f":"IF($R$35=\"\",\"\",$R$35)","v":"Grovfoder"},null,{"$f":"VLOOKUP(G124,$J$38:$Y$47,H124,FALSE)","v":0},{"$f":"IF(ISERROR(P124/N124),0,P124/N124)","v":0},{"$f":"VLOOKUP(G124,$J$38:$Y$47,H124+3,FALSE)","v":0},{"$f":"IF(ISERROR(N124/M122),0,N124/M122)","v":0},{"$f":"IF(ISERROR(S124/Q124),0,S124/Q124)","v":0},{"$f":"IF(ISERROR(P124/M122),0,P124/M122)","v":0}]
[null,{"$f":"IF(COUNTIF(N125:S125,\"<>0\")=0,FALSE,TRUE)","v":false},null,null,null,null,{"$f":"G124","v":1},13,null,null,null,{"$f":"IF($V$35=\"\",\"\",$V$35)","v":"Halm"},null,{"$f":"VLOOKUP(G125,$J$38:$Y$47,H125,FALSE)","v":0},{"$f":"IF(ISERROR(P125/N125),0,P125/N125)","v":0},{"$f":"VLOOKUP(G125,$J$38:$Y$47,H125+3,FALSE)","v":0},{"$f":"IF(ISERROR(N125/M122),0,N125/M122)","v":0},{"$f":"IF(ISERROR(S125/Q125),0,S125/Q125)","v":0},{"$f":"IF(ISERROR(P125/M122),0,P125/M122)","v":0}]
[null,{"$f":"B122","v":false},null,null,null,null,{"$f":"G125","v":1},null,null,null,null,"Bruttoudbytte i alt",null,null,null,{"$f":"SUM(P123:P125)","v":0},null,null,{"$f":"SUM(S123:S125)","v":0}]
[null,{"$f":"IF(COUNTIF(N127:S127,\"<>0\")=0,FALSE,TRUE)","v":false},null,null,null,null,{"$f":"G126+10","v":11},5,null,null,null,"Udsæd",null,{"$f":"VLOOKUP(G127,$J$59:$P$113,H127,FALSE)","v":0},{"$f":"IF(ISERROR(P127/N127),0,P127/N127)","v":0},{"$f":"VLOOKUP(G127,$J$59:$P$113,H127+2,FALSE)","v":0},{"$f":"IF(ISERROR(N127/M122),0,N127/M122)","v":0},{"$f":"IF(ISERROR(S127/Q127),0,S127/Q127)","v":0},{"$f":"IF(ISERROR(P127/M122),0,P127/M122)","v":0}]
[null,{"$f":"IF(COUNTIF(N128:S128,\"<>0\")=0,FALSE,TRUE)","v":false},null,null,null,null,{"$f":"G127+10","v":21},5,null,null,null,"Gødning",null,{"$f":"VLOOKUP(G128,$J$59:$P$113,H128,FALSE)","v":0},{"$f":"IF(ISERROR(P128/N128),0,P128/N128)","v":0},{"$f":"VLOOKUP(G128,$J$59:$P$113,H128+2,FALSE)","v":0},{"$f":"IF(ISERROR(N128/M122),0,N128/M122)","v":0},{"$f":"IF(ISERROR(S128/Q128),0,S128/Q128)","v":0},{"$f":"IF(ISERROR(P128/M122),0,P128/M122)","v":0}]
[null,{"$f":"IF(COUNTIF(N129:S129,\"<>0\")=0,FALSE,TRUE)","v":false},null,null,null,null,{"$f":"G128+10","v":31},5,null,null,null,"Planteværn",null,0,0,{"$f":"VLOOKUP(G129,$J$59:$P$113,H129+2,FALSE)","v":0},0,0,{"$f":"IF(ISERROR(P129/M122),0,P129/M122)","v":0}]
[null,{"$f":"IF(COUNTIF(N130:S130,\"<>0\")=0,FALSE,TRUE)","v":false},null,null,null,null,{"$f":"G129+10","v":41},5,null,null,null,"Diverse",null,0,0,{"$f":"VLOOKUP(G130,$J$59:$P$113,H130+2,FALSE)","v":0},0,0,{"$f":"IF(ISERROR(P130/M122),0,P130/M122)","v":0}]
[null,{"$f":"B122","v":false},null,null,null,null,null,null,null,null,null,"Stykomkostninger",null,null,null,{"$f":"SUM(P127:P130)","v":0},null,null,{"$f":"SUM(S127:S130)","v":0}]
[null,{"$f":"B131","v":false},null,null,null,null,null,null,null,"Opg. id",null,"Dækningsbidrag I",null,null,null,{"$f":"P126+P131","v":0},null,null,{"$f":"S126+S131","v":0}]
[null,{"$f":"IF(P133*$H$117=0,FALSE,TRUE)","v":false},null,null,null,null,null,null,null,{"$f":"tblOpgaveliste[Kolonne5]","v":0},null,{"$f":"tblOpgaveliste[Opgavenavn]","v":0},null,{"$f":"+Q133:Q182*M122","v":0},{"$f":"_xludf.IFERROR(P133/N133)","v":0},{"$f":"+S133:S182*M122","v":0},{"$f":"-VLOOKUP(_xlfn.ANCHORARRAY(J133),tblOpgaveliste[[Kolonne5]:[Maskinstationspris]],18+G122,FALSE)","v":0},{"$f":"VLOOKUP(_xlfn.ANCHORARRAY(J133),tblOpgaveliste[[Kolonne5]:[Maskinstationspris]],32,FALSE)","v":0},{"$f":"_xlfn.ANCHORARRAY(Q133)*_xlfn.ANCHORARRAY(R133)","v":0}]
[null,{"$f":"IF(P134*$H$117=0,FALSE,TRUE)","v":false},null,null,null,null,null,null,null,1,null,0,null,0,{"$f":"_xludf.IFERROR(P134/N134)","v":0},0,0,0,0]
[null,false,null,null,null,null,null,null,null,2,null,0,null,0,{"$f":"_xludf.IFERROR(P135/N135)","v":0},0,0,0,0]
[null,false,null,null,null,null,null,null,null,11,null,0,null,0,{"$f":"_xludf.IFERROR(P136/N136)","v":0},0,0,0,0]
[null,false,null,null,null,null,null,null,null,3,null,0,null,0,{"$f":"_xludf.IFERROR(P137/N137)","v":0},0,0,0,0]
[null,{"$f":"IF(P138*$H$117=0,FALSE,TRUE)","v":false},null,null,null,null,null,null,null,4,null,0,null,0,null,0,0,0,0]
[null,false,null,null,null,null,null,null,null,7,null,0,null,0,null,0,0,0,0]
[null,false,null,null,null,null,null,null,null,10,null,0,null,0,null,0,0,0,0]
[null,false,null,null,null,null,null,null,null,8,null,0,null,0,null,0,0,0,0]
[null,false,null,null,null,null,null,null,null,9,null,0,null,0,null,0,0,0,0]
[null,false,null,null,null,null,null,null,null,5,null,0,null,0,null,0,0,0,0]
[null,false,null,null,null,null,null,null,null,6,null,0,null,0,null,0,0,0,0]
[null,false,null,null,null,null,null,null,null,12,null,0,null,0,null,0,0,0,0]
[null,false,null,null,null,null,null,null,null,13,null,0,null,0,null,0,0,0,0]
[null,false,null,null,null,null,null,null,null,14,null,0,null,0,null,0,0,0,0]
[null,false,null,null,null,null,null,null,null,15,null,0,null,0,null,0,0,0,0]
[null,false,null,null,null,null,null,null,null,16,null,0,null,0,null,0,0,0,0]
[null,false,null,null,null,null,null,null,null,17,null,0,null,0,null,0,0,0,0]
[null,false,null,null,null,null,null,null,null,18,null,0,null,0,null,0,0,0,0]
[null,false,null,null,null,null,null,null,null,19,null,0,null,0,null,0,0,0,0]
[null,false,null,null,null,null,null,null,null,20,null,0,null,0,null,0,0,0,0]
[null,false,null,null,null,null,null,null,null,21,null,0,null,0,null,0,0,0,0]
[null,false,null,null,null,null,null,null,null,22,null,0,null,0,null,0,0,0,0]
[null,false,null,null,null,null,null,null,null,23,null,0,null,0,null,0,0,0,0]
[null,false,null,null,null,null,null,null,null,24,null,0,null,0,null,0,0,0,0]
[null,false,null,null,null,null,null,null,null,25,null,0,null,0,null,0,0,0,0]
[null,false,null,null,null,null,null,null,null,26,null,0,null,0,null,0,0,0,0]
[null,false,null,null,null,null,null,null,null,27,null,0,null,0,null,0,0,0,0]
[null,false,null,null,null,null,null,null,null,28,null,0,null,0,null,0,0,0,0]
[null,false,null,null,null,null,null,null,null,29,null,0,null,0,null,0,0,0,0]
[null,false,null,null,null,null,null,null,null,30,null,0,null,0,null,0,0,0,0]
[null,false,null,null,null,null,null,null,null,31,null,0,null,0,null,0,0,0,0]
[null,false,null,null,null,null,null,null,null,32,null,0,null,0,null,0,0,0,0]
[null,false,null,null,null,null,null,null,null,33,null,0,null,0,null,0,0,0,0]
[null,false,null,null,null,null,null,null,null,34,null,0,null,0,null,0,0,0,0]
[null,false,null,null,null,null,null,null,null,35,null,0,null,0,null,0,0,0,0]
[null,false,null,null,null,null,null,null,null,36,null,0,null,0,null,0,0,0,0]
[null,false,null,null,null,null,null,null,null,37,null,0,null,0,null,0,0,0,0]
[null,false,null,null,null,null,null,null,null,38,null,0,null,0,null,0,0,0,0]
[null,false,null,null,null,null,null,null,null,39,null,0,null,0,null,0,0,0,0]
[null,false,null,null,null,null,null,null,null,40,null,0,null,0,null,0,0,0,0]
[null,false,null,null,null,null,null,null,null,41,null,0,null,0,null,0,0,0,0]
[null,false,null,null,null,null,null,null,null,42,null,0,null,0,null,0,0,0,0]
[null,false,null,null,null,null,null,null,null,43,null,0,null,0,{"$f":"_xludf.IFERROR(P176/N176)","v":0},0,0,0,0]
[null,false,null,null,null,null,null,null,null,44,null,0,null,0,{"$f":"_xludf.IFERROR(P177/N177)","v":0},0,0,0,0]
[null,false,null,null,null,null,null,null,null,45,null,0,null,0,{"$f":"_xludf.IFERROR(P178/N178)","v":0},0,0,0,0]
[null,false,null,null,null,null,null,null,null,46,null,0,null,0,{"$f":"_xludf.IFERROR(P179/N179)","v":0},0,0,0,0]
[null,false,null,null,null,null,null,null,null,47,null,0,null,0,{"$f":"_xludf.IFERROR(P180/N180)","v":0},0,0,0,0]
[null,false,null,null,null,null,null,null,null,48,null,0,null,0,{"$f":"_xludf.IFERROR(P181/N181)","v":0},0,0,0,0]
[null,false,null,null,null,null,null,null,null,49,null,0,null,0,{"$f":"_xludf.IFERROR(P182/N182)","v":0},0,0,0,0]
[null,{"$f":"IF(P183=0,FALSE,TRUE)","v":false},null,null,null,null,null,null,null,null,null,"Maskinomkostninger",null,null,null,{"$f":"SUM(_xlfn.ANCHORARRAY(P133))*$H$118","v":0},null,null,{"$f":"SUM(S133:S182)*$H$118","v":0}]
[null,{"$f":"B183","v":false},null,null,null,null,null,null,null,null,null,"Dækningsbidrag II",null,null,null,{"$f":"+P132+P183","v":0},null,null,{"$f":"+S132+S183","v":0}]
[null,{"$f":"B132","v":false}]
[null,{"$f":"B187","v":false},null,null,null,null,null,null,null,null,null,null,null,"-------------- i alt -------------",null,null,"-------------- pr. ha. -------------"]
[null,{"$f":"OR(B188:B190,B192:B195,B198:B248)","v":false},null,null,null,null,{"$f":"+G122+1","v":2},null,null,null,null,{"$f":"IF(VLOOKUP(G187,$J$18:$M$28,3,FALSE)=\"\",\"\",VLOOKUP(G187,$J$18:$M$28,3,FALSE))","v":""},{"$f":"VLOOKUP(G187,$J$18:$M$27,4,FALSE)","v":0},"Mængde","Pris","Beløb","Mængde","Pris","Beløb"]
[null,{"$f":"IF(COUNTIF(N188:S188,\"<>0\")=0,FALSE,TRUE)","v":false},null,null,null,null,{"$f":"G187","v":2},5,null,null,null,{"$f":"IF($N$35=\"\",\"\",$N$35)","v":"Kerne"},null,{"$f":"VLOOKUP(G188,$J$38:$Y$47,H188,FALSE)","v":0},{"$f":"IF(ISERROR(P188/N188),0,P188/N188)","v":0},{"$f":"VLOOKUP(G188,$J$38:$Y$47,H188+3,FALSE)","v":0},{"$f":"IF(ISERROR(N188/M187),0,N188/M187)","v":0},{"$f":"IF(ISERROR(S188/Q188),0,S188/Q188)","v":0},{"$f":"IF(ISERROR(P188/M187),0,P188/M187)","v":0}]
[null,{"$f":"IF(COUNTIF(N189:S189,\"<>0\")=0,FALSE,TRUE)","v":false},null,null,null,null,{"$f":"G188","v":2},9,null,null,null,{"$f":"IF($R$35=\"\",\"\",$R$35)","v":"Grovfoder"},null,{"$f":"VLOOKUP(G189,$J$38:$Y$47,H189,FALSE)","v":0},{"$f":"IF(ISERROR(P189/N189),0,P189/N189)","v":0},{"$f":"VLOOKUP(G189,$J$38:$Y$47,H189+3,FALSE)","v":0},{"$f":"IF(ISERROR(N189/M187),0,N189/M187)","v":0},{"$f":"IF(ISERROR(S189/Q189),0,S189/Q189)","v":0},{"$f":"IF(ISERROR(P189/M187),0,P189/M187)","v":0}]
[null,{"$f":"IF(COUNTIF(N190:S190,\"<>0\")=0,FALSE,TRUE)","v":false},null,null,null,null,{"$f":"G189","v":2},13,null,null,null,{"$f":"IF($V$35=\"\",\"\",$V$35)","v":"Halm"},null,{"$f":"VLOOKUP(G190,$J$38:$Y$47,H190,FALSE)","v":0},{"$f":"IF(ISERROR(P190/N190),0,P190/N190)","v":0},{"$f":"VLOOKUP(G190,$J$38:$Y$47,H190+3,FALSE)","v":0},{"$f":"IF(ISERROR(N190/M187),0,N190/M187)","v":0},{"$f":"IF(ISERROR(S190/Q190),0,S190/Q190)","v":0},{"$f":"IF(ISERROR(P190/M187),0,P190/M187)","v":0}]
[null,{"$f":"B187","v":false},null,null,null,null,{"$f":"G190","v":2},null,null,null,null,"Bruttoudbytte i alt",null,null,null,{"$f":"SUM(P188:P190)","v":0},null,null,{"$f":"SUM(S188:S190)","v":0}]
[null,{"$f":"IF(COUNTIF(N192:S192,\"<>0\")=0,FALSE,TRUE)","v":false},null,null,null,null,{"$f":"G191+10","v":12},5,null,null,null,"Udsæd",null,{"$f":"VLOOKUP(G192,$J$59:$P$113,H192,FALSE)","v":0},{"$f":"IF(ISERROR(P192/N192),0,P192/N192)","v":0},{"$f":"VLOOKUP(G192,$J$59:$P$113,H192+2,FALSE)","v":0},{"$f":"IF(ISERROR(N192/M187),0,N192/M187)","v":0},{"$f":"IF(ISERROR(S192/Q192),0,S192/Q192)","v":0},{"$f":"IF(ISERROR(P192/M187),0,P192/M187)","v":0}]
[null,{"$f":"IF(COUNTIF(N193:S193,\"<>0\")=0,FALSE,TRUE)","v":false},null,null,null,null,{"$f":"G192+10","v":22},5,null,null,null,"Gødning",null,{"$f":"VLOOKUP(G193,$J$59:$P$113,H193,FALSE)","v":0},{"$f":"IF(ISERROR(P193/N193),0,P193/N193)","v":0},{"$f":"VLOOKUP(G193,$J$59:$P$113,H193+2,FALSE)","v":0},{"$f":"IF(ISERROR(N193/M187),0,N193/M187)","v":0},{"$f":"IF(ISERROR(S193/Q193),0,S193/Q193)","v":0},{"$f":"IF(ISERROR(P193/M187),0,P193/M187)","v":0}]
[null,{"$f":"IF(COUNTIF(N194:S194,\"<>0\")=0,FALSE,TRUE)","v":false},null,null,null,null,{"$f":"G193+10","v":32},5,null,null,null,"Planteværn",null,0,0,{"$f":"VLOOKUP(G194,$J$59:$P$113,H194+2,FALSE)","v":0},0,0,{"$f":"IF(ISERROR(P194/M187),0,P194/M187)","v":0}]
[null,{"$f":"IF(COUNTIF(N195:S195,\"<>0\")=0,FALSE,TRUE)","v":false},null,null,null,null,{"$f":"G194+10","v":42},5,null,null,null,"Diverse",null,0,0,{"$f":"VLOOKUP(G195,$J$59:$P$113,H195+2,FALSE)","v":0},0,0,{"$f":"IF(ISERROR(P195/M187),0,P195/M187)","v":0}]
[null,{"$f":"B187","v":false},null,null,null,null,null,null,null,null,null,"Stykomkostninger",null,null,null,{"$f":"SUM(P192:P195)","v":0},null,null,{"$f":"SUM(S192:S195)","v":0}]
[null,{"$f":"B196","v":false},null,null,null,null,null,null,null,"Opg. id",null,"Dækningsbidrag I",null,null,null,{"$f":"P191+P196","v":0},null,null,{"$f":"S191+S196","v":0}]
[null,{"$f":"IF(P198*$H$117=0,FALSE,TRUE)","v":false},null,null,null,null,null,null,null,{"$f":"tblOpgaveliste[Kolonne5]","v":0},null,{"$f":"tblOpgaveliste[Opgavenavn]","v":0},null,{"$f":"+Q198:Q247*M187","v":0},{"$f":"_xludf.IFERROR(P198/N198)","v":0},{"$f":"+S198:S247*M187","v":0},{"$f":"-VLOOKUP(_xlfn.ANCHORARRAY(J198),tblOpgaveliste[[Kolonne5]:[Maskinstationspris]],18+G187,FALSE)","v":0},{"$f":"VLOOKUP(_xlfn.ANCHORARRAY(J198),tblOpgaveliste[[Kolonne5]:[Maskinstationspris]],32,FALSE)","v":0},{"$f":"_xlfn.ANCHORARRAY(Q198)*_xlfn.ANCHORARRAY(R198)","v":0}]
[null,{"$f":"IF(P199*$H$117=0,FALSE,TRUE)","v":false},null,null,null,null,null,null,null,1,null,0,null,0,{"$f":"_xludf.IFERROR(P199/N199)","v":0},0,0,0,0]
[null,false,null,null,null,null,null,null,null,2,null,0,null,0,{"$f":"_xludf.IFERROR(P200/N200)","v":0},0,0,0,0]
[null,false,null,null,null,null,null,null,null,11,null,0,null,0,{"$f":"_xludf.IFERROR(P201/N201)","v":0},0,0,0,0]
[null,false,null,null,null,null,null,null,null,3,null,0,null,0,{"$f":"_xludf.IFERROR(P202/N202)","v":0},0,0,0,0]
[null,false,null,null,null,null,null,null,null,4,null,0,null,0,null,0,0,0,0]
[null,false,null,null,null,null,null,null,null,7,null,0,null,0,null,0,0,0,0]
[null,false,null,null,null,null,null,null,null,10,null,0,null,0,null,0,0,0,0]
[null,false,null,null,null,null,null,null,null,8,null,0,null,0,null,0,0,0,0]
[null,false,null,null,null,null,null,null,null,9,null,0,null,0,null,0,0,0,0]
[null,false,null,null,null,null,null,null,null,5,null,0,null,0,null,0,0,0,0]
[null,false,null,null,null,null,null,null,null,6,null,0,null,0,null,0,0,0,0]
[null,false,null,null,null,null,null,null,null,12,null,0,null,0,null,0,0,0,0]
[null,false,null,null,null,null,null,null,null,13,null,0,null,0,null,0,0,0,0]
[null,false,null,null,null,null,null,null,null,14,null,0,null,0,null,0,0,0,0]
[null,false,null,null,null,null,null,null,null,15,null,0,null,0,null,0,0,0,0]
[null,false,null,null,null,null,null,null,null,16,null,0,null,0,null,0,0,0,0]
[null,false,null,null,null,null,null,null,null,17,null,0,null,0,null,0,0,0,0]
[null,false,null,null,null,null,null,null,null,18,null,0,null,0,null,0,0,0,0]
[null,false,null,null,null,null,null,null,null,19,null,0,null,0,null,0,0,0,0]
[null,false,null,null,null,null,null,null,null,20,null,0,null,0,null,0,0,0,0]
[null,false,null,null,null,null,null,null,null,21,null,0,null,0,null,0,0,0,0]
[null,false,null,null,null,null,null,null,null,22,null,0,null,0,null,0,0,0,0]
[null,false,null,null,null,null,null,null,null,23,null,0,null,0,null,0,0,0,0]
[null,false,null,null,null,null,null,null,null,24,null,0,null,0,null,0,0,0,0]
[null,false,null,null,null,null,null,null,null,25,null,0,null,0,null,0,0,0,0]
[null,false,null,null,null,null,null,null,null,26,null,0,null,0,null,0,0,0,0]
[null,false,null,null,null,null,null,null,null,27,null,0,null,0,null,0,0,0,0]
[null,false,null,null,null,null,null,null,null,28,null,0,null,0,null,0,0,0,0]
[null,false,null,null,null,null,null,null,null,29,null,0,null,0,null,0,0,0,0]
[null,false,null,null,null,null,null,null,null,30,null,0,null,0,null,0,0,0,0]
[null,false,null,null,null,null,null,null,null,31,null,0,null,0,null,0,0,0,0]
[null,false,null,null,null,null,null,null,null,32,null,0,null,0,null,0,0,0,0]
[null,false,null,null,null,null,null,null,null,33,null,0,null,0,null,0,0,0,0]
[null,false,null,null,null,null,null,null,null,34,null,0,null,0,null,0,0,0,0]
[null,false,null,null,null,null,null,null,null,35,null,0,null,0,null,0,0,0,0]
[null,false,null,null,null,null,null,null,null,36,null,0,null,0,null,0,0,0,0]
[null,false,null,null,null,null,null,null,null,37,null,0,null,0,null,0,0,0,0]
[null,false,null,null,null,null,null,null,null,38,null,0,null,0,null,0,0,0,0]
[null,false,null,null,null,null,null,null,null,39,null,0,null,0,null,0,0,0,0]
[null,false,null,null,null,null,null,null,null,40,null,0,null,0,null,0,0,0,0]
[null,false,null,null,null,null,null,null,null,41,null,0,null,0,null,0,0,0,0]
[null,false,null,null,null,null,null,null,null,42,null,0,null,0,null,0,0,0,0]
[null,false,null,null,null,null,null,null,null,43,null,0,null,0,{"$f":"_xludf.IFERROR(P241/N241)","v":0},0,0,0,0]
[null,false,null,null,null,null,null,null,null,44,null,0,null,0,{"$f":"_xludf.IFERROR(P242/N242)","v":0},0,0,0,0]
[null,false,null,null,null,null,null,null,null,45,null,0,null,0,{"$f":"_xludf.IFERROR(P243/N243)","v":0},0,0,0,0]
[null,false,null,null,null,null,null,null,null,46,null,0,null,0,{"$f":"_xludf.IFERROR(P244/N244)","v":0},0,0,0,0]
[null,false,null,null,null,null,null,null,null,47,null,0,null,0,{"$f":"_xludf.IFERROR(P245/N245)","v":0},0,0,0,0]
[null,false,null,null,null,null,null,null,null,48,null,0,null,0,{"$f":"_xludf.IFERROR(P246/N246)","v":0},0,0,0,0]
[null,false,null,null,null,null,null,null,null,49,null,0,null,0,{"$f":"_xludf.IFERROR(P247/N247)","v":0},0,0,0,0]
[null,{"$f":"IF(P248=0,FALSE,TRUE)","v":false},null,null,null,null,null,null,null,null,null,"Maskinomkostninger",null,null,null,{"$f":"SUM(_xlfn.ANCHORARRAY(P198))*$H$118","v":0},null,null,{"$f":"SUM(S198:S247)*$H$118","v":0}]
[null,{"$f":"B248","v":false},null,null,null,null,null,null,null,null,null,"Dækningsbidrag II",null,null,null,{"$f":"+P197+P248","v":0},null,null,{"$f":"+S197+S248","v":0}]
[null,{"$f":"B197","v":false}]
[null,{"$f":"B252","v":false},null,null,null,null,null,null,null,null,null,null,null,"-------------- i alt -------------",null,null,"-------------- pr. ha. -------------"]
[null,{"$f":"OR(B253:B255,B257:B260,B263:B313)","v":false},null,null,null,null,{"$f":"+G187+1","v":3},null,null,null,null,{"$f":"IF(VLOOKUP(G252,$J$18:$M$28,3,FALSE)=\"\",\"\",VLOOKUP(G252,$J$18:$M$28,3,FALSE))","v":""},{"$f":"VLOOKUP(G252,$J$18:$M$27,4,FALSE)","v":0},"Mængde","Pris","Beløb","Mængde","Pris","Beløb"]
[null,{"$f":"IF(COUNTIF(N253:S253,\"<>0\")=0,FALSE,TRUE)","v":false},null,null,null,null,{"$f":"G252","v":3},5,null,null,null,{"$f":"IF($N$35=\"\",\"\",$N$35)","v":"Kerne"},null,{"$f":"VLOOKUP(G253,$J$38:$Y$47,H253,FALSE)","v":0},{"$f":"IF(ISERROR(P253/N253),0,P253/N253)","v":0},{"$f":"VLOOKUP(G253,$J$38:$Y$47,H253+3,FALSE)","v":0},{"$f":"IF(ISERROR(N253/M252),0,N253/M252)","v":0},{"$f":"IF(ISERROR(S253/Q253),0,S253/Q253)","v":0},{"$f":"IF(ISERROR(P253/M252),0,P253/M252)","v":0}]
[null,{"$f":"IF(COUNTIF(N254:S254,\"<>0\")=0,FALSE,TRUE)","v":false},null,null,null,null,{"$f":"G253","v":3},9,null,null,null,{"$f":"IF($R$35=\"\",\"\",$R$35)","v":"Grovfoder"},null,{"$f":"VLOOKUP(G254,$J$38:$Y$47,H254,FALSE)","v":0},{"$f":"IF(ISERROR(P254/N254),0,P254/N254)","v":0},{"$f":"VLOOKUP(G254,$J$38:$Y$47,H254+3,FALSE)","v":0},{"$f":"IF(ISERROR(N254/M252),0,N254/M252)","v":0},{"$f":"IF(ISERROR(S254/Q254),0,S254/Q254)","v":0},{"$f":"IF(ISERROR(P254/M252),0,P254/M252)","v":0}]
[null,{"$f":"IF(COUNTIF(N255:S255,\"<>0\")=0,FALSE,TRUE)","v":false},null,null,null,null,{"$f":"G254","v":3},13,null,null,null,{"$f":"IF($V$35=\"\",\"\",$V$35)","v":"Halm"},null,{"$f":"VLOOKUP(G255,$J$38:$Y$47,H255,FALSE)","v":0},{"$f":"IF(ISERROR(P255/N255),0,P255/N255)","v":0},{"$f":"VLOOKUP(G255,$J$38:$Y$47,H255+3,FALSE)","v":0},{"$f":"IF(ISERROR(N255/M252),0,N255/M252)","v":0},{"$f":"IF(ISERROR(S255/Q255),0,S255/Q255)","v":0},{"$f":"IF(ISERROR(P255/M252),0,P255/M252)","v":0}]
[null,{"$f":"B252","v":false},null,null,null,null,{"$f":"G255","v":3},null,null,null,null,"Bruttoudbytte i alt",null,null,null,{"$f":"SUM(P253:P255)","v":0},null,null,{"$f":"SUM(S253:S255)","v":0}]
[null,{"$f":"IF(COUNTIF(N257:S257,\"<>0\")=0,FALSE,TRUE)","v":false},null,null,null,null,{"$f":"G256+10","v":13},5,null,null,null,"Udsæd",null,{"$f":"VLOOKUP(G257,$J$59:$P$113,H257,FALSE)","v":0},{"$f":"IF(ISERROR(P257/N257),0,P257/N257)","v":0},{"$f":"VLOOKUP(G257,$J$59:$P$113,H257+2,FALSE)","v":0},{"$f":"IF(ISERROR(N257/M252),0,N257/M252)","v":0},{"$f":"IF(ISERROR(S257/Q257),0,S257/Q257)","v":0},{"$f":"IF(ISERROR(P257/M252),0,P257/M252)","v":0}]
[null,{"$f":"IF(COUNTIF(N258:S258,\"<>0\")=0,FALSE,TRUE)","v":false},null,null,null,null,{"$f":"G257+10","v":23},5,null,null,null,"Gødning",null,{"$f":"VLOOKUP(G258,$J$59:$P$113,H258,FALSE)","v":0},{"$f":"IF(ISERROR(P258/N258),0,P258/N258)","v":0},{"$f":"VLOOKUP(G258,$J$59:$P$113,H258+2,FALSE)","v":0},{"$f":"IF(ISERROR(N258/M252),0,N258/M252)","v":0},{"$f":"IF(ISERROR(S258/Q258),0,S258/Q258)","v":0},{"$f":"IF(ISERROR(P258/M252),0,P258/M252)","v":0}]
[null,{"$f":"IF(COUNTIF(N259:S259,\"<>0\")=0,FALSE,TRUE)","v":false},null,null,null,null,{"$f":"G258+10","v":33},5,null,null,null,"Planteværn",null,0,0,{"$f":"VLOOKUP(G259,$J$59:$P$113,H259+2,FALSE)","v":0},0,0,{"$f":"IF(ISERROR(P259/M252),0,P259/M252)","v":0}]
[null,{"$f":"IF(COUNTIF(N260:S260,\"<>0\")=0,FALSE,TRUE)","v":false},null,null,null,null,{"$f":"G259+10","v":43},5,null,null,null,"Diverse",null,0,0,{"$f":"VLOOKUP(G260,$J$59:$P$113,H260+2,FALSE)","v":0},0,0,{"$f":"IF(ISERROR(P260/M252),0,P260/M252)","v":0}]
[null,{"$f":"B252","v":false},null,null,null,null,null,null,null,null,null,"Stykomkostninger",null,null,null,{"$f":"SUM(P257:P260)","v":0},null,null,{"$f":"SUM(S257:S260)","v":0}]
[null,{"$f":"B261","v":false},null,null,null,null,null,null,null,"Opg. id",null,"Dækningsbidrag I",null,null,null,{"$f":"P256+P261","v":0},null,null,{"$f":"S256+S261","v":0}]
[null,{"$f":"IF(P263*$H$117=0,FALSE,TRUE)","v":false},null,null,null,null,null,null,null,{"$f":"tblOpgaveliste[Kolonne5]","v":0},null,{"$f":"tblOpgaveliste[Opgavenavn]","v":0},null,{"$f":"+Q263:Q312*M252","v":0},{"$f":"_xludf.IFERROR(P263/N263)","v":0},{"$f":"+S263:S312*M252","v":0},{"$f":"-VLOOKUP(_xlfn.ANCHORARRAY(J263),tblOpgaveliste[[Kolonne5]:[Maskinstationspris]],18+G252,FALSE)","v":0},{"$f":"VLOOKUP(_xlfn.ANCHORARRAY(J263),tblOpgaveliste[[Kolonne5]:[Maskinstationspris]],32,FALSE)","v":0},{"$f":"_xlfn.ANCHORARRAY(Q263)*_xlfn.ANCHORARRAY(R263)","v":0}]
[null,{"$f":"IF(P264*$H$117=0,FALSE,TRUE)","v":false},null,null,null,null,null,null,null,1,null,0,null,0,{"$f":"_xludf.IFERROR(P264/N264)","v":0},0,0,0,0]
[null,false,null,null,null,null,null,null,null,2,null,0,null,0,{"$f":"_xludf.IFERROR(P265/N265)","v":0},0,0,0,0]
[null,false,null,null,null,null,null,null,null,11,null,0,null,0,{"$f":"_xludf.IFERROR(P266/N266)","v":0},0,0,0,0]
[null,false,null,null,null,null,null,null,null,3,null,0,null,0,{"$f":"_xludf.IFERROR(P267/N267)","v":0},0,0,0,0]
[null,false,null,null,null,null,null,null,null,4,null,0,null,0,null,0,0,0,0]
[null,false,null,null,null,null,null,null,null,7,null,0,null,0,null,0,0,0,0]
[null,false,null,null,null,null,null,null,null,10,null,0,null,0,null,0,0,0,0]
[null,false,null,null,null,null,null,null,null,8,null,0,null,0,null,0,0,0,0]
[null,false,null,null,null,null,null,null,null,9,null,0,null,0,null,0,0,0,0]
[null,false,null,null,null,null,null,null,null,5,null,0,null,0,null,0,0,0,0]
[null,false,null,null,null,null,null,null,null,6,null,0,null,0,null,0,0,0,0]
[null,false,null,null,null,null,null,null,null,12,null,0,null,0,null,0,0,0,0]
[null,false,null,null,null,null,null,null,null,13,null,0,null,0,null,0,0,0,0]
[null,false,null,null,null,null,null,null,null,14,null,0,null,0,null,0,0,0,0]
[null,false,null,null,null,null,null,null,null,15,null,0,null,0,null,0,0,0,0]
[null,false,null,null,null,null,null,null,null,16,null,0,null,0,null,0,0,0,0]
[null,false,null,null,null,null,null,null,null,17,null,0,null,0,null,0,0,0,0]
[null,false,null,null,null,null,null,null,null,18,null,0,null,0,null,0,0,0,0]
[null,false,null,null,null,null,null,null,null,19,null,0,null,0,null,0,0,0,0]
[null,false,null,null,null,null,null,null,null,20,null,0,null,0,null,0,0,0,0]
[null,false,null,null,null,null,null,null,null,21,null,0,null,0,null,0,0,0,0]
[null,false,null,null,null,null,null,null,null,22,null,0,null,0,null,0,0,0,0]
[null,false,null,null,null,null,null,null,null,23,null,0,null,0,null,0,0,0,0]
[null,false,null,null,null,null,null,null,null,24,null,0,null,0,null,0,0,0,0]
[null,false,null,null,null,null,null,null,null,25,null,0,null,0,null,0,0,0,0]
[null,false,null,null,null,null,null,null,null,26,null,0,null,0,null,0,0,0,0]
[null,false,null,null,null,null,null,null,null,27,null,0,null,0,null,0,0,0,0]
[null,false,null,null,null,null,null,null,null,28,null,0,null,0,null,0,0,0,0]
[null,false,null,null,null,null,null,null,null,29,null,0,null,0,null,0,0,0,0]
[null,false,null,null,null,null,null,null,null,30,null,0,null,0,null,0,0,0,0]
[null,false,null,null,null,null,null,null,null,31,null,0,null,0,null,0,0,0,0]
[null,false,null,null,null,null,null,null,null,32,null,0,null,0,null,0,0,0,0]
[null,false,null,null,null,null,null,null,null,33,null,0,null,0,null,0,0,0,0]
[null,false,null,null,null,null,null,null,null,34,null,0,null,0,null,0,0,0,0]
[null,false,null,null,null,null,null,null,null,35,null,0,null,0,null,0,0,0,0]
[null,false,null,null,null,null,null,null,null,36,null,0,null,0,null,0,0,0,0]
[null,false,null,null,null,null,null,null,null,37,null,0,null,0,null,0,0,0,0]
[null,false,null,null,null,null,null,null,null,38,null,0,null,0,null,0,0,0,0]
[null,false,null,null,null,null,null,null,null,39,null,0,null,0,null,0,0,0,0]
[null,false,null,null,null,null,null,null,null,40,null,0,null,0,null,0,0,0,0]
[null,false,null,null,null,null,null,null,null,41,null,0,null,0,null,0,0,0,0]
[null,false,null,null,null,null,null,null,null,42,null,0,null,0,null,0,0,0,0]
[null,false,null,null,null,null,null,null,null,43,null,0,null,0,{"$f":"_xludf.IFERROR(P306/N306)","v":0},0,0,0,0]
[null,false,null,null,null,null,null,null,null,44,null,0,null,0,{"$f":"_xludf.IFERROR(P307/N307)","v":0},0,0,0,0]
[null,false,null,null,null,null,null,null,null,45,null,0,null,0,{"$f":"_xludf.IFERROR(P308/N308)","v":0},0,0,0,0]
[null,false,null,null,null,null,null,null,null,46,null,0,null,0,{"$f":"_xludf.IFERROR(P309/N309)","v":0},0,0,0,0]
[null,false,null,null,null,null,null,null,null,47,null,0,null,0,{"$f":"_xludf.IFERROR(P310/N310)","v":0},0,0,0,0]
[null,false,null,null,null,null,null,null,null,48,null,0,null,0,{"$f":"_xludf.IFERROR(P311/N311)","v":0},0,0,0,0]
[null,false,null,null,null,null,null,null,null,49,null,0,null,0,{"$f":"_xludf.IFERROR(P312/N312)","v":0},0,0,0,0]
[null,{"$f":"IF(P313=0,FALSE,TRUE)","v":false},null,null,null,null,null,null,null,null,null,"Maskinomkostninger",null,null,null,{"$f":"SUM(_xlfn.ANCHORARRAY(P263))*$H$118","v":0},null,null,{"$f":"SUM(S263:S312)*$H$118","v":0}]
[null,{"$f":"B313","v":false},null,null,null,null,null,null,null,null,null,"Dækningsbidrag II",null,null,null,{"$f":"+P262+P313","v":0},null,null,{"$f":"+S262+S313","v":0}]
[null,{"$f":"B262","v":false}]
[null,{"$f":"B317","v":false},null,null,null,null,null,null,null,null,null,null,null,"-------------- i alt -------------",null,null,"-------------- pr. ha. -------------"]
[null,{"$f":"OR(B318:B320,B322:B325,B328:B378)","v":false},null,null,null,null,{"$f":"+G252+1","v":4},null,null,null,null,{"$f":"IF(VLOOKUP(G317,$J$18:$M$28,3,FALSE)=\"\",\"\",VLOOKUP(G317,$J$18:$M$28,3,FALSE))","v":""},{"$f":"VLOOKUP(G317,$J$18:$M$27,4,FALSE)","v":0},"Mængde","Pris","Beløb","Mængde","Pris","Beløb"]
[null,{"$f":"IF(COUNTIF(N318:S318,\"<>0\")=0,FALSE,TRUE)","v":false},null,null,null,null,{"$f":"G317","v":4},5,null,null,null,{"$f":"IF($N$35=\"\",\"\",$N$35)","v":"Kerne"},null,{"$f":"VLOOKUP(G318,$J$38:$Y$47,H318,FALSE)","v":0},{"$f":"IF(ISERROR(P318/N318),0,P318/N318)","v":0},{"$f":"VLOOKUP(G318,$J$38:$Y$47,H318+3,FALSE)","v":0},{"$f":"IF(ISERROR(N318/M317),0,N318/M317)","v":0},{"$f":"IF(ISERROR(S318/Q318),0,S318/Q318)","v":0},{"$f":"IF(ISERROR(P318/M317),0,P318/M317)","v":0}]
[null,{"$f":"IF(COUNTIF(N319:S319,\"<>0\")=0,FALSE,TRUE)","v":false},null,null,null,null,{"$f":"G318","v":4},9,null,null,null,{"$f":"IF($R$35=\"\",\"\",$R$35)","v":"Grovfoder"},null,{"$f":"VLOOKUP(G319,$J$38:$Y$47,H319,FALSE)","v":0},{"$f":"IF(ISERROR(P319/N319),0,P319/N319)","v":0},{"$f":"VLOOKUP(G319,$J$38:$Y$47,H319+3,FALSE)","v":0},{"$f":"IF(ISERROR(N319/M317),0,N319/M317)","v":0},{"$f":"IF(ISERROR(S319/Q319),0,S319/Q319)","v":0},{"$f":"IF(ISERROR(P319/M317),0,P319/M317)","v":0}]
[null,{"$f":"IF(COUNTIF(N320:S320,\"<>0\")=0,FALSE,TRUE)","v":false},null,null,null,null,{"$f":"G319","v":4},13,null,null,null,{"$f":"IF($V$35=\"\",\"\",$V$35)","v":"Halm"},null,{"$f":"VLOOKUP(G320,$J$38:$Y$47,H320,FALSE)","v":0},{"$f":"IF(ISERROR(P320/N320),0,P320/N320)","v":0},{"$f":"VLOOKUP(G320,$J$38:$Y$47,H320+3,FALSE)","v":0},{"$f":"IF(ISERROR(N320/M317),0,N320/M317)","v":0},{"$f":"IF(ISERROR(S320/Q320),0,S320/Q320)","v":0},{"$f":"IF(ISERROR(P320/M317),0,P320/M317)","v":0}]
[null,{"$f":"B317","v":false},null,null,null,null,{"$f":"G320","v":4},null,null,null,null,"Bruttoudbytte i alt",null,null,null,{"$f":"SUM(P318:P320)","v":0},null,null,{"$f":"SUM(S318:S320)","v":0}]
[null,{"$f":"IF(COUNTIF(N322:S322,\"<>0\")=0,FALSE,TRUE)","v":false},null,null,null,null,{"$f":"G321+10","v":14},5,null,null,null,"Udsæd",null,{"$f":"VLOOKUP(G322,$J$59:$P$113,H322,FALSE)","v":0},{"$f":"IF(ISERROR(P322/N322),0,P322/N322)","v":0},{"$f":"VLOOKUP(G322,$J$59:$P$113,H322+2,FALSE)","v":0},{"$f":"IF(ISERROR(N322/M317),0,N322/M317)","v":0},{"$f":"IF(ISERROR(S322/Q322),0,S322/Q322)","v":0},{"$f":"IF(ISERROR(P322/M317),0,P322/M317)","v":0}]
[null,{"$f":"IF(COUNTIF(N323:S323,\"<>0\")=0,FALSE,TRUE)","v":false},null,null,null,null,{"$f":"G322+10","v":24},5,null,null,null,"Gødning",null,{"$f":"VLOOKUP(G323,$J$59:$P$113,H323,FALSE)","v":0},{"$f":"IF(ISERROR(P323/N323),0,P323/N323)","v":0},{"$f":"VLOOKUP(G323,$J$59:$P$113,H323+2,FALSE)","v":0},{"$f":"IF(ISERROR(N323/M317),0,N323/M317)","v":0},{"$f":"IF(ISERROR(S323/Q323),0,S323/Q323)","v":0},{"$f":"IF(ISERROR(P323/M317),0,P323/M317)","v":0}]
[null,{"$f":"IF(COUNTIF(N324:S324,\"<>0\")=0,FALSE,TRUE)","v":false},null,null,null,null,{"$f":"G323+10","v":34},5,null,null,null,"Planteværn",null,0,0,{"$f":"VLOOKUP(G324,$J$59:$P$113,H324+2,FALSE)","v":0},0,0,{"$f":"IF(ISERROR(P324/M317),0,P324/M317)","v":0}]
[null,{"$f":"IF(COUNTIF(N325:S325,\"<>0\")=0,FALSE,TRUE)","v":false},null,null,null,null,{"$f":"G324+10","v":44},5,null,null,null,"Diverse",null,0,0,{"$f":"VLOOKUP(G325,$J$59:$P$113,H325+2,FALSE)","v":0},0,0,{"$f":"IF(ISERROR(P325/M317),0,P325/M317)","v":0}]
[null,{"$f":"B317","v":false},null,null,null,null,null,null,null,null,null,"Stykomkostninger",null,null,null,{"$f":"SUM(P322:P325)","v":0},null,null,{"$f":"SUM(S322:S325)","v":0}]
[null,{"$f":"B326","v":false},null,null,null,null,null,null,null,"Opg. id",null,"Dækningsbidrag I",null,null,null,{"$f":"P321+P326","v":0},null,null,{"$f":"S321+S326","v":0}]
[null,{"$f":"IF(P328*$H$117=0,FALSE,TRUE)","v":false},null,null,null,null,null,null,null,{"$f":"tblOpgaveliste[Kolonne5]","v":0},null,{"$f":"tblOpgaveliste[Opgavenavn]","v":0},null,{"$f":"+Q328:Q377*M317","v":0},{"$f":"_xludf.IFERROR(P328/N328)","v":0},{"$f":"+S328:S377*M317","v":0},{"$f":"-VLOOKUP(_xlfn.ANCHORARRAY(J328),tblOpgaveliste[[Kolonne5]:[Maskinstationspris]],18+G317,FALSE)","v":0},{"$f":"VLOOKUP(_xlfn.ANCHORARRAY(J328),tblOpgaveliste[[Kolonne5]:[Maskinstationspris]],32,FALSE)","v":0},{"$f":"_xlfn.ANCHORARRAY(Q328)*_xlfn.ANCHORARRAY(R328)","v":0}]
[null,{"$f":"IF(P329*$H$117=0,FALSE,TRUE)","v":false},null,null,null,null,null,null,null,1,null,0,null,0,{"$f":"_xludf.IFERROR(P329/N329)","v":0},0,0,0,0]
[null,false,null,null,null,null,null,null,null,2,null,0,null,0,{"$f":"_xludf.IFERROR(P330/N330)","v":0},0,0,0,0]
[null,false,null,null,null,null,null,null,null,11,null,0,null,0,{"$f":"_xludf.IFERROR(P331/N331)","v":0},0,0,0,0]
[null,false,null,null,null,null,null,null,null,3,null,0,null,0,{"$f":"_xludf.IFERROR(P332/N332)","v":0},0,0,0,0]
[null,false,null,null,null,null,null,null,null,4,null,0,null,0,null,0,0,0,0]
[null,false,null,null,null,null,null,null,null,7,null,0,null,0,null,0,0,0,0]
[null,false,null,null,null,null,null,null,null,10,null,0,null,0,null,0,0,0,0]
[null,false,null,null,null,null,null,null,null,8,null,0,null,0,null,0,0,0,0]
[null,false,null,null,null,null,null,null,null,9,null,0,null,0,null,0,0,0,0]
[null,false,null,null,null,null,null,null,null,5,null,0,null,0,null,0,0,0,0]
[null,false,null,null,null,null,null,null,null,6,null,0,null,0,null,0,0,0,0]
[null,false,null,null,null,null,null,null,null,12,null,0,null,0,null,0,0,0,0]
[null,false,null,null,null,null,null,null,null,13,null,0,null,0,null,0,0,0,0]
[null,false,null,null,null,null,null,null,null,14,null,0,null,0,null,0,0,0,0]
[null,false,null,null,null,null,null,null,null,15,null,0,null,0,null,0,0,0,0]
[null,false,null,null,null,null,null,null,null,16,null,0,null,0,null,0,0,0,0]
[null,false,null,null,null,null,null,null,null,17,null,0,null,0,null,0,0,0,0]
[null,false,null,null,null,null,null,null,null,18,null,0,null,0,null,0,0,0,0]
[null,false,null,null,null,null,null,null,null,19,null,0,null,0,null,0,0,0,0]
[null,false,null,null,null,null,null,null,null,20,null,0,null,0,null,0,0,0,0]
[null,false,null,null,null,null,null,null,null,21,null,0,null,0,null,0,0,0,0]
[null,false,null,null,null,null,null,null,null,22,null,0,null,0,null,0,0,0,0]
[null,false,null,null,null,null,null,null,null,23,null,0,null,0,null,0,0,0,0]
[null,false,null,null,null,null,null,null,null,24,null,0,null,0,null,0,0,0,0]
[null,false,null,null,null,null,null,null,null,25,null,0,null,0,null,0,0,0,0]
[null,false,null,null,null,null,null,null,null,26,null,0,null,0,null,0,0,0,0]
[null,false,null,null,null,null,null,null,null,27,null,0,null,0,null,0,0,0,0]
[null,false,null,null,null,null,null,null,null,28,null,0,null,0,null,0,0,0,0]
[null,false,null,null,null,null,null,null,null,29,null,0,null,0,null,0,0,0,0]
[null,false,null,null,null,null,null,null,null,30,null,0,null,0,null,0,0,0,0]
[null,false,null,null,null,null,null,null,null,31,null,0,null,0,null,0,0,0,0]
[null,false,null,null,null,null,null,null,null,32,null,0,null,0,null,0,0,0,0]
[null,false,null,null,null,null,null,null,null,33,null,0,null,0,null,0,0,0,0]
[null,false,null,null,null,null,null,null,null,34,null,0,null,0,null,0,0,0,0]
[null,false,null,null,null,null,null,null,null,35,null,0,null,0,null,0,0,0,0]
[null,false,null,null,null,null,null,null,null,36,null,0,null,0,null,0,0,0,0]
[null,false,null,null,null,null,null,null,null,37,null,0,null,0,null,0,0,0,0]
[null,false,null,null,null,null,null,null,null,38,null,0,null,0,null,0,0,0,0]
[null,false,null,null,null,null,null,null,null,39,null,0,null,0,null,0,0,0,0]
[null,false,null,null,null,null,null,null,null,40,null,0,null,0,null,0,0,0,0]
[null,false,null,null,null,null,null,null,null,41,null,0,null,0,null,0,0,0,0]
[null,false,null,null,null,null,null,null,null,42,null,0,null,0,null,0,0,0,0]
[null,false,null,null,null,null,null,null,null,43,null,0,null,0,{"$f":"_xludf.IFERROR(P371/N371)","v":0},0,0,0,0]
[null,false,null,null,null,null,null,null,null,44,null,0,null,0,{"$f":"_xludf.IFERROR(P372/N372)","v":0},0,0,0,0]
[null,false,null,null,null,null,null,null,null,45,null,0,null,0,{"$f":"_xludf.IFERROR(P373/N373)","v":0},0,0,0,0]
[null,false,null,null,null,null,null,null,null,46,null,0,null,0,{"$f":"_xludf.IFERROR(P374/N374)","v":0},0,0,0,0]
[null,false,null,null,null,null,null,null,null,47,null,0,null,0,{"$f":"_xludf.IFERROR(P375/N375)","v":0},0,0,0,0]
[null,false,null,null,null,null,null,null,null,48,null,0,null,0,{"$f":"_xludf.IFERROR(P376/N376)","v":0},0,0,0,0]
[null,false,null,null,null,null,null,null,null,49,null,0,null,0,{"$f":"_xludf.IFERROR(P377/N377)","v":0},0,0,0,0]
[null,{"$f":"IF(P378=0,FALSE,TRUE)","v":false},null,null,null,null,null,null,null,null,null,"Maskinomkostninger",null,null,null,{"$f":"SUM(_xlfn.ANCHORARRAY(P328))*$H$118","v":0},null,null,{"$f":"SUM(S328:S377)*$H$118","v":0}]
[null,{"$f":"B378","v":false},null,null,null,null,null,null,null,null,null,"Dækningsbidrag II",null,null,null,{"$f":"+P327+P378","v":0},null,null,{"$f":"+S327+S378","v":0}]
[null,{"$f":"B327","v":false}]
[null,{"$f":"B382","v":false},null,null,null,null,null,null,null,null,null,null,null,"-------------- i alt -------------",null,null,"-------------- pr. ha. -------------"]
[null,{"$f":"OR(B383:B385,B387:B390,B393:B443)","v":false},null,null,null,null,{"$f":"+G317+1","v":5},null,null,null,null,{"$f":"IF(VLOOKUP(G382,$J$18:$M$28,3,FALSE)=\"\",\"\",VLOOKUP(G382,$J$18:$M$28,3,FALSE))","v":""},{"$f":"VLOOKUP(G382,$J$18:$M$27,4,FALSE)","v":0},"Mængde","Pris","Beløb","Mængde","Pris","Beløb"]
[null,{"$f":"IF(COUNTIF(N383:S383,\"<>0\")=0,FALSE,TRUE)","v":false},null,null,null,null,{"$f":"G382","v":5},5,null,null,null,{"$f":"IF($N$35=\"\",\"\",$N$35)","v":"Kerne"},null,{"$f":"VLOOKUP(G383,$J$38:$Y$47,H383,FALSE)","v":0},{"$f":"IF(ISERROR(P383/N383),0,P383/N383)","v":0},{"$f":"VLOOKUP(G383,$J$38:$Y$47,H383+3,FALSE)","v":0},{"$f":"IF(ISERROR(N383/M382),0,N383/M382)","v":0},{"$f":"IF(ISERROR(S383/Q383),0,S383/Q383)","v":0},{"$f":"IF(ISERROR(P383/M382),0,P383/M382)","v":0}]
[null,{"$f":"IF(COUNTIF(N384:S384,\"<>0\")=0,FALSE,TRUE)","v":false},null,null,null,null,{"$f":"G383","v":5},9,null,null,null,{"$f":"IF($R$35=\"\",\"\",$R$35)","v":"Grovfoder"},null,{"$f":"VLOOKUP(G384,$J$38:$Y$47,H384,FALSE)","v":0},{"$f":"IF(ISERROR(P384/N384),0,P384/N384)","v":0},{"$f":"VLOOKUP(G384,$J$38:$Y$47,H384+3,FALSE)","v":0},{"$f":"IF(ISERROR(N384/M382),0,N384/M382)","v":0},{"$f":"IF(ISERROR(S384/Q384),0,S384/Q384)","v":0},{"$f":"IF(ISERROR(P384/M382),0,P384/M382)","v":0}]
[null,{"$f":"IF(COUNTIF(N385:S385,\"<>0\")=0,FALSE,TRUE)","v":false},null,null,null,null,{"$f":"G384","v":5},13,null,null,null,{"$f":"IF($V$35=\"\",\"\",$V$35)","v":"Halm"},null,{"$f":"VLOOKUP(G385,$J$38:$Y$47,H385,FALSE)","v":0},{"$f":"IF(ISERROR(P385/N385),0,P385/N385)","v":0},{"$f":"VLOOKUP(G385,$J$38:$Y$47,H385+3,FALSE)","v":0},{"$f":"IF(ISERROR(N385/M382),0,N385/M382)","v":0},{"$f":"IF(ISERROR(S385/Q385),0,S385/Q385)","v":0},{"$f":"IF(ISERROR(P385/M382),0,P385/M382)","v":0}]
[null,{"$f":"B382","v":false},null,null,null,null,{"$f":"G385","v":5},null,null,null,null,"Bruttoudbytte i alt",null,null,null,{"$f":"SUM(P383:P385)","v":0},null,null,{"$f":"SUM(S383:S385)","v":0}]
[null,{"$f":"IF(COUNTIF(N387:S387,\"<>0\")=0,FALSE,TRUE)","v":false},null,null,null,null,{"$f":"G386+10","v":15},5,null,null,null,"Udsæd",null,{"$f":"VLOOKUP(G387,$J$59:$P$113,H387,FALSE)","v":0},{"$f":"IF(ISERROR(P387/N387),0,P387/N387)","v":0},{"$f":"VLOOKUP(G387,$J$59:$P$113,H387+2,FALSE)","v":0},{"$f":"IF(ISERROR(N387/M382),0,N387/M382)","v":0},{"$f":"IF(ISERROR(S387/Q387),0,S387/Q387)","v":0},{"$f":"IF(ISERROR(P387/M382),0,P387/M382)","v":0}]
[null,{"$f":"IF(COUNTIF(N388:S388,\"<>0\")=0,FALSE,TRUE)","v":false},null,null,null,null,{"$f":"G387+10","v":25},5,null,null,null,"Gødning",null,{"$f":"VLOOKUP(G388,$J$59:$P$113,H388,FALSE)","v":0},{"$f":"IF(ISERROR(P388/N388),0,P388/N388)","v":0},{"$f":"VLOOKUP(G388,$J$59:$P$113,H388+2,FALSE)","v":0},{"$f":"IF(ISERROR(N388/M382),0,N388/M382)","v":0},{"$f":"IF(ISERROR(S388/Q388),0,S388/Q388)","v":0},{"$f":"IF(ISERROR(P388/M382),0,P388/M382)","v":0}]
[null,{"$f":"IF(COUNTIF(N389:S389,\"<>0\")=0,FALSE,TRUE)","v":false},null,null,null,null,{"$f":"G388+10","v":35},5,null,null,null,"Planteværn",null,0,0,{"$f":"VLOOKUP(G389,$J$59:$P$113,H389+2,FALSE)","v":0},0,0,{"$f":"IF(ISERROR(P389/M382),0,P389/M382)","v":0}]
[null,{"$f":"IF(COUNTIF(N390:S390,\"<>0\")=0,FALSE,TRUE)","v":false},null,null,null,null,{"$f":"G389+10","v":45},5,null,null,null,"Diverse",null,0,0,{"$f":"VLOOKUP(G390,$J$59:$P$113,H390+2,FALSE)","v":0},0,0,{"$f":"IF(ISERROR(P390/M382),0,P390/M382)","v":0}]
[null,{"$f":"B382","v":false},null,null,null,null,null,null,null,null,null,"Stykomkostninger",null,null,null,{"$f":"SUM(P387:P390)","v":0},null,null,{"$f":"SUM(S387:S390)","v":0}]
[null,{"$f":"B391","v":false},null,null,null,null,null,null,null,"Opg. id",null,"Dækningsbidrag I",null,null,null,{"$f":"P386+P391","v":0},null,null,{"$f":"S386+S391","v":0}]
[null,{"$f":"IF(P393*$H$117=0,FALSE,TRUE)","v":false},null,null,null,null,null,null,null,{"$f":"tblOpgaveliste[Kolonne5]","v":0},null,{"$f":"tblOpgaveliste[Opgavenavn]","v":0},null,{"$f":"+Q393:Q442*M382","v":0},{"$f":"_xludf.IFERROR(P393/N393)","v":0},{"$f":"+S393:S442*M382","v":0},{"$f":"-VLOOKUP(_xlfn.ANCHORARRAY(J393),tblOpgaveliste[[Kolonne5]:[Maskinstationspris]],18+G382,FALSE)","v":0},{"$f":"VLOOKUP(_xlfn.ANCHORARRAY(J393),tblOpgaveliste[[Kolonne5]:[Maskinstationspris]],32,FALSE)","v":0},{"$f":"_xlfn.ANCHORARRAY(Q393)*_xlfn.ANCHORARRAY(R393)","v":0}]
[null,{"$f":"IF(P394*$H$117=0,FALSE,TRUE)","v":false},null,null,null,null,null,null,null,1,null,0,null,0,{"$f":"_xludf.IFERROR(P394/N394)","v":0},0,0,0,0]
[null,false,null,null,null,null,null,null,null,2,null,0,null,0,{"$f":"_xludf.IFERROR(P395/N395)","v":0},0,0,0,0]
[null,false,null,null,null,null,null,null,null,11,null,0,null,0,{"$f":"_xludf.IFERROR(P396/N396)","v":0},0,0,0,0]
[null,false,null,null,null,null,null,null,null,3,null,0,null,0,{"$f":"_xludf.IFERROR(P397/N397)","v":0},0,0,0,0]
[null,false,null,null,null,null,null,null,null,4,null,0,null,0,null,0,0,0,0]
[null,false,null,null,null,null,null,null,null,7,null,0,null,0,null,0,0,0,0]
[null,false,null,null,null,null,null,null,null,10,null,0,null,0,null,0,0,0,0]
[null,false,null,null,null,null,null,null,null,8,null,0,null,0,null,0,0,0,0]
[null,false,null,null,null,null,null,null,null,9,null,0,null,0,null,0,0,0,0]
[null,false,null,null,null,null,null,null,null,5,null,0,null,0,null,0,0,0,0]
[null,false,null,null,null,null,null,null,null,6,null,0,null,0,null,0,0,0,0]
[null,false,null,null,null,null,null,null,null,12,null,0,null,0,null,0,0,0,0]
[null,false,null,null,null,null,null,null,null,13,null,0,null,0,null,0,0,0,0]
[null,false,null,null,null,null,null,null,null,14,null,0,null,0,null,0,0,0,0]
[null,false,null,null,null,null,null,null,null,15,null,0,null,0,null,0,0,0,0]
[null,false,null,null,null,null,null,null,null,16,null,0,null,0,null,0,0,0,0]
[null,false,null,null,null,null,null,null,null,17,null,0,null,0,null,0,0,0,0]
[null,false,null,null,null,null,null,null,null,18,null,0,null,0,null,0,0,0,0]
[null,false,null,null,null,null,null,null,null,19,null,0,null,0,null,0,0,0,0]
[null,false,null,null,null,null,null,null,null,20,null,0,null,0,null,0,0,0,0]
[null,false,null,null,null,null,null,null,null,21,null,0,null,0,null,0,0,0,0]
[null,false,null,null,null,null,null,null,null,22,null,0,null,0,null,0,0,0,0]
[null,false,null,null,null,null,null,null,null,23,null,0,null,0,null,0,0,0,0]
[null,false,null,null,null,null,null,null,null,24,null,0,null,0,null,0,0,0,0]
[null,false,null,null,null,null,null,null,null,25,null,0,null,0,null,0,0,0,0]
[null,false,null,null,null,null,null,null,null,26,null,0,null,0,null,0,0,0,0]
[null,false,null,null,null,null,null,null,null,27,null,0,null,0,null,0,0,0,0]
[null,false,null,null,null,null,null,null,null,28,null,0,null,0,null,0,0,0,0]
[null,false,null,null,null,null,null,null,null,29,null,0,null,0,null,0,0,0,0]
[null,false,null,null,null,null,null,null,null,30,null,0,null,0,null,0,0,0,0]
[null,false,null,null,null,null,null,null,null,31,null,0,null,0,null,0,0,0,0]
[null,false,null,null,null,null,null,null,null,32,null,0,null,0,null,0,0,0,0]
[null,false,null,null,null,null,null,null,null,33,null,0,null,0,null,0,0,0,0]
[null,false,null,null,null,null,null,null,null,34,null,0,null,0,null,0,0,0,0]
[null,false,null,null,null,null,null,null,null,35,null,0,null,0,null,0,0,0,0]
[null,false,null,null,null,null,null,null,null,36,null,0,null,0,null,0,0,0,0]
[null,false,null,null,null,null,null,null,null,37,null,0,null,0,null,0,0,0,0]
[null,false,null,null,null,null,null,null,null,38,null,0,null,0,null,0,0,0,0]
[null,false,null,null,null,null,null,null,null,39,null,0,null,0,null,0,0,0,0]
[null,false,null,null,null,null,null,null,null,40,null,0,null,0,null,0,0,0,0]
[null,false,null,null,null,null,null,null,null,41,null,0,null,0,null,0,0,0,0]
[null,false,null,null,null,null,null,null,null,42,null,0,null,0,null,0,0,0,0]
[null,false,null,null,null,null,null,null,null,43,null,0,null,0,{"$f":"_xludf.IFERROR(P436/N436)","v":0},0,0,0,0]
[null,false,null,null,null,null,null,null,null,44,null,0,null,0,{"$f":"_xludf.IFERROR(P437/N437)","v":0},0,0,0,0]
[null,false,null,null,null,null,null,null,null,45,null,0,null,0,{"$f":"_xludf.IFERROR(P438/N438)","v":0},0,0,0,0]
[null,false,null,null,null,null,null,null,null,46,null,0,null,0,{"$f":"_xludf.IFERROR(P439/N439)","v":0},0,0,0,0]
[null,false,null,null,null,null,null,null,null,47,null,0,null,0,{"$f":"_xludf.IFERROR(P440/N440)","v":0},0,0,0,0]
[null,false,null,null,null,null,null,null,null,48,null,0,null,0,{"$f":"_xludf.IFERROR(P441/N441)","v":0},0,0,0,0]
[null,false,null,null,null,null,null,null,null,49,null,0,null,0,{"$f":"_xludf.IFERROR(P442/N442)","v":0},0,0,0,0]
[null,{"$f":"IF(P443=0,FALSE,TRUE)","v":false},null,null,null,null,null,null,null,null,null,"Maskinomkostninger",null,null,null,{"$f":"SUM(_xlfn.ANCHORARRAY(P393))*$H$118","v":0},null,null,{"$f":"SUM(S393:S442)*$H$118","v":0}]
[null,{"$f":"B443","v":false},null,null,null,null,null,null,null,null,null,"Dækningsbidrag II",null,null,null,{"$f":"+P392+P443","v":0},null,null,{"$f":"+S392+S443","v":0}]
[null,{"$f":"B392","v":false}]
[null,{"$f":"B447","v":false},null,null,null,null,null,null,null,null,null,null,null,"-------------- i alt -------------",null,null,"-------------- pr. ha. -------------"]
[null,{"$f":"OR(B448:B450,B452:B455,B458:B508)","v":false},null,null,null,null,{"$f":"+G382+1","v":6},null,null,null,null,{"$f":"IF(VLOOKUP(G447,$J$18:$M$28,3,FALSE)=\"\",\"\",VLOOKUP(G447,$J$18:$M$28,3,FALSE))","v":""},{"$f":"VLOOKUP(G447,$J$18:$M$27,4,FALSE)","v":0},"Mængde","Pris","Beløb","Mængde","Pris","Beløb"]
[null,{"$f":"IF(COUNTIF(N448:S448,\"<>0\")=0,FALSE,TRUE)","v":false},null,null,null,null,{"$f":"G447","v":6},5,null,null,null,{"$f":"IF($N$35=\"\",\"\",$N$35)","v":"Kerne"},null,{"$f":"VLOOKUP(G448,$J$38:$Y$47,H448,FALSE)","v":0},{"$f":"IF(ISERROR(P448/N448),0,P448/N448)","v":0},{"$f":"VLOOKUP(G448,$J$38:$Y$47,H448+3,FALSE)","v":0},{"$f":"IF(ISERROR(N448/M447),0,N448/M447)","v":0},{"$f":"IF(ISERROR(S448/Q448),0,S448/Q448)","v":0},{"$f":"IF(ISERROR(P448/M447),0,P448/M447)","v":0}]
[null,{"$f":"IF(COUNTIF(N449:S449,\"<>0\")=0,FALSE,TRUE)","v":false},null,null,null,null,{"$f":"G448","v":6},9,null,null,null,{"$f":"IF($R$35=\"\",\"\",$R$35)","v":"Grovfoder"},null,{"$f":"VLOOKUP(G449,$J$38:$Y$47,H449,FALSE)","v":0},{"$f":"IF(ISERROR(P449/N449),0,P449/N449)","v":0},{"$f":"VLOOKUP(G449,$J$38:$Y$47,H449+3,FALSE)","v":0},{"$f":"IF(ISERROR(N449/M447),0,N449/M447)","v":0},{"$f":"IF(ISERROR(S449/Q449),0,S449/Q449)","v":0},{"$f":"IF(ISERROR(P449/M447),0,P449/M447)","v":0}]
[null,{"$f":"IF(COUNTIF(N450:S450,\"<>0\")=0,FALSE,TRUE)","v":false},null,null,null,null,{"$f":"G449","v":6},13,null,null,null,{"$f":"IF($V$35=\"\",\"\",$V$35)","v":"Halm"},null,{"$f":"VLOOKUP(G450,$J$38:$Y$47,H450,FALSE)","v":0},{"$f":"IF(ISERROR(P450/N450),0,P450/N450)","v":0},{"$f":"VLOOKUP(G450,$J$38:$Y$47,H450+3,FALSE)","v":0},{"$f":"IF(ISERROR(N450/M447),0,N450/M447)","v":0},{"$f":"IF(ISERROR(S450/Q450),0,S450/Q450)","v":0},{"$f":"IF(ISERROR(P450/M447),0,P450/M447)","v":0}]
[null,{"$f":"B447","v":false},null,null,null,null,{"$f":"G450","v":6},null,null,null,null,"Bruttoudbytte i alt",null,null,null,{"$f":"SUM(P448:P450)","v":0},null,null,{"$f":"SUM(S448:S450)","v":0}]
[null,{"$f":"IF(COUNTIF(N452:S452,\"<>0\")=0,FALSE,TRUE)","v":false},null,null,null,null,{"$f":"G451+10","v":16},5,null,null,null,"Udsæd",null,{"$f":"VLOOKUP(G452,$J$59:$P$113,H452,FALSE)","v":0},{"$f":"IF(ISERROR(P452/N452),0,P452/N452)","v":0},{"$f":"VLOOKUP(G452,$J$59:$P$113,H452+2,FALSE)","v":0},{"$f":"IF(ISERROR(N452/M447),0,N452/M447)","v":0},{"$f":"IF(ISERROR(S452/Q452),0,S452/Q452)","v":0},{"$f":"IF(ISERROR(P452/M447),0,P452/M447)","v":0}]
[null,{"$f":"IF(COUNTIF(N453:S453,\"<>0\")=0,FALSE,TRUE)","v":false},null,null,null,null,{"$f":"G452+10","v":26},5,null,null,null,"Gødning",null,{"$f":"VLOOKUP(G453,$J$59:$P$113,H453,FALSE)","v":0},{"$f":"IF(ISERROR(P453/N453),0,P453/N453)","v":0},{"$f":"VLOOKUP(G453,$J$59:$P$113,H453+2,FALSE)","v":0},{"$f":"IF(ISERROR(N453/M447),0,N453/M447)","v":0},{"$f":"IF(ISERROR(S453/Q453),0,S453/Q453)","v":0},{"$f":"IF(ISERROR(P453/M447),0,P453/M447)","v":0}]
[null,{"$f":"IF(COUNTIF(N454:S454,\"<>0\")=0,FALSE,TRUE)","v":false},null,null,null,null,{"$f":"G453+10","v":36},5,null,null,null,"Planteværn",null,0,0,{"$f":"VLOOKUP(G454,$J$59:$P$113,H454+2,FALSE)","v":0},0,0,{"$f":"IF(ISERROR(P454/M447),0,P454/M447)","v":0}]
[null,{"$f":"IF(COUNTIF(N455:S455,\"<>0\")=0,FALSE,TRUE)","v":false},null,null,null,null,{"$f":"G454+10","v":46},5,null,null,null,"Diverse",null,0,0,{"$f":"VLOOKUP(G455,$J$59:$P$113,H455+2,FALSE)","v":0},0,0,{"$f":"IF(ISERROR(P455/M447),0,P455/M447)","v":0}]
[null,{"$f":"B447","v":false},null,null,null,null,null,null,null,null,null,"Stykomkostninger",null,null,null,{"$f":"SUM(P452:P455)","v":0},null,null,{"$f":"SUM(S452:S455)","v":0}]
[null,{"$f":"B456","v":false},null,null,null,null,null,null,null,"Opg. id",null,"Dækningsbidrag I",null,null,null,{"$f":"P451+P456","v":0},null,null,{"$f":"S451+S456","v":0}]
[null,{"$f":"IF(P458*$H$117=0,FALSE,TRUE)","v":false},null,null,null,null,null,null,null,{"$f":"tblOpgaveliste[Kolonne5]","v":0},null,{"$f":"tblOpgaveliste[Opgavenavn]","v":0},null,{"$f":"+Q458:Q507*M447","v":0},{"$f":"_xludf.IFERROR(P458/N458)","v":0},{"$f":"+S458:S507*M447","v":0},{"$f":"-VLOOKUP(_xlfn.ANCHORARRAY(J458),tblOpgaveliste[[Kolonne5]:[Maskinstationspris]],18+G447,FALSE)","v":0},{"$f":"VLOOKUP(_xlfn.ANCHORARRAY(J458),tblOpgaveliste[[Kolonne5]:[Maskinstationspris]],32,FALSE)","v":0},{"$f":"_xlfn.ANCHORARRAY(Q458)*_xlfn.ANCHORARRAY(R458)","v":0}]
[null,{"$f":"IF(P459*$H$117=0,FALSE,TRUE)","v":false},null,null,null,null,null,null,null,1,null,0,null,0,{"$f":"_xludf.IFERROR(P459/N459)","v":0},0,0,0,0]
[null,false,null,null,null,null,null,null,null,2,null,0,null,0,{"$f":"_xludf.IFERROR(P460/N460)","v":0},0,0,0,0]
[null,false,null,null,null,null,null,null,null,11,null,0,null,0,{"$f":"_xludf.IFERROR(P461/N461)","v":0},0,0,0,0]
[null,false,null,null,null,null,null,null,null,3,null,0,null,0,{"$f":"_xludf.IFERROR(P462/N462)","v":0},0,0,0,0]
[null,false,null,null,null,null,null,null,null,4,null,0,null,0,null,0,0,0,0]
[null,false,null,null,null,null,null,null,null,7,null,0,null,0,null,0,0,0,0]
[null,false,null,null,null,null,null,null,null,10,null,0,null,0,null,0,0,0,0]
[null,false,null,null,null,null,null,null,null,8,null,0,null,0,null,0,0,0,0]
[null,false,null,null,null,null,null,null,null,9,null,0,null,0,null,0,0,0,0]
[null,false,null,null,null,null,null,null,null,5,null,0,null,0,null,0,0,0,0]
[null,false,null,null,null,null,null,null,null,6,null,0,null,0,null,0,0,0,0]
[null,false,null,null,null,null,null,null,null,12,null,0,null,0,null,0,0,0,0]
[null,false,null,null,null,null,null,null,null,13,null,0,null,0,null,0,0,0,0]
[null,false,null,null,null,null,null,null,null,14,null,0,null,0,null,0,0,0,0]
[null,false,null,null,null,null,null,null,null,15,null,0,null,0,null,0,0,0,0]
[null,false,null,null,null,null,null,null,null,16,null,0,null,0,null,0,0,0,0]
[null,false,null,null,null,null,null,null,null,17,null,0,null,0,null,0,0,0,0]
[null,false,null,null,null,null,null,null,null,18,null,0,null,0,null,0,0,0,0]
[null,false,null,null,null,null,null,null,null,19,null,0,null,0,null,0,0,0,0]
[null,false,null,null,null,null,null,null,null,20,null,0,null,0,null,0,0,0,0]
[null,false,null,null,null,null,null,null,null,21,null,0,null,0,null,0,0,0,0]
[null,false,null,null,null,null,null,null,null,22,null,0,null,0,null,0,0,0,0]
[null,false,null,null,null,null,null,null,null,23,null,0,null,0,null,0,0,0,0]
[null,false,null,null,null,null,null,null,null,24,null,0,null,0,null,0,0,0,0]
[null,false,null,null,null,null,null,null,null,25,null,0,null,0,null,0,0,0,0]
[null,false,null,null,null,null,null,null,null,26,null,0,null,0,null,0,0,0,0]
[null,false,null,null,null,null,null,null,null,27,null,0,null,0,null,0,0,0,0]
[null,false,null,null,null,null,null,null,null,28,null,0,null,0,null,0,0,0,0]
[null,false,null,null,null,null,null,null,null,29,null,0,null,0,null,0,0,0,0]
[null,false,null,null,null,null,null,null,null,30,null,0,null,0,null,0,0,0,0]
[null,false,null,null,null,null,null,null,null,31,null,0,null,0,null,0,0,0,0]
[null,false,null,null,null,null,null,null,null,32,null,0,null,0,null,0,0,0,0]
[null,false,null,null,null,null,null,null,null,33,null,0,null,0,null,0,0,0,0]
[null,false,null,null,null,null,null,null,null,34,null,0,null,0,null,0,0,0,0]
[null,false,null,null,null,null,null,null,null,35,null,0,null,0,null,0,0,0,0]
[null,false,null,null,null,null,null,null,null,36,null,0,null,0,null,0,0,0,0]
[null,false,null,null,null,null,null,null,null,37,null,0,null,0,null,0,0,0,0]
[null,false,null,null,null,null,null,null,null,38,null,0,null,0,null,0,0,0,0]
[null,false,null,null,null,null,null,null,null,39,null,0,null,0,null,0,0,0,0]
[null,false,null,null,null,null,null,null,null,40,null,0,null,0,null,0,0,0,0]
[null,false,null,null,null,null,null,null,null,41,null,0,null,0,null,0,0,0,0]
[null,false,null,null,null,null,null,null,null,42,null,0,null,0,null,0,0,0,0]
[null,false,null,null,null,null,null,null,null,43,null,0,null,0,{"$f":"_xludf.IFERROR(P501/N501)","v":0},0,0,0,0]
[null,false,null,null,null,null,null,null,null,44,null,0,null,0,{"$f":"_xludf.IFERROR(P502/N502)","v":0},0,0,0,0]
[null,false,null,null,null,null,null,null,null,45,null,0,null,0,{"$f":"_xludf.IFERROR(P503/N503)","v":0},0,0,0,0]
[null,false,null,null,null,null,null,null,null,46,null,0,null,0,{"$f":"_xludf.IFERROR(P504/N504)","v":0},0,0,0,0]
[null,false,null,null,null,null,null,null,null,47,null,0,null,0,{"$f":"_xludf.IFERROR(P505/N505)","v":0},0,0,0,0]
[null,false,null,null,null,null,null,null,null,48,null,0,null,0,{"$f":"_xludf.IFERROR(P506/N506)","v":0},0,0,0,0]
[null,false,null,null,null,null,null,null,null,49,null,0,null,0,{"$f":"_xludf.IFERROR(P507/N507)","v":0},0,0,0,0]
[null,{"$f":"IF(P508=0,FALSE,TRUE)","v":false},null,null,null,null,null,null,null,null,null,"Maskinomkostninger",null,null,null,{"$f":"SUM(_xlfn.ANCHORARRAY(P458))*$H$118","v":0},null,null,{"$f":"SUM(S458:S507)*$H$118","v":0}]
[null,{"$f":"B508","v":false},null,null,null,null,null,null,null,null,null,"Dækningsbidrag II",null,null,null,{"$f":"+P457+P508","v":0},null,null,{"$f":"+S457+S508","v":0}]
[null,{"$f":"B457","v":false}]
[null,{"$f":"B512","v":false},null,null,null,null,null,null,null,null,null,null,null,"-------------- i alt -------------",null,null,"-------------- pr. ha. -------------"]
[null,{"$f":"OR(B513:B515,B517:B520,B523:B573)","v":false},null,null,null,null,{"$f":"+G447+1","v":7},null,null,null,null,{"$f":"IF(VLOOKUP(G512,$J$18:$M$28,3,FALSE)=\"\",\"\",VLOOKUP(G512,$J$18:$M$28,3,FALSE))","v":""},{"$f":"VLOOKUP(G512,$J$18:$M$27,4,FALSE)","v":0},"Mængde","Pris","Beløb","Mængde","Pris","Beløb"]
[null,{"$f":"IF(COUNTIF(N513:S513,\"<>0\")=0,FALSE,TRUE)","v":false},null,null,null,null,{"$f":"G512","v":7},5,null,null,null,{"$f":"IF($N$35=\"\",\"\",$N$35)","v":"Kerne"},null,{"$f":"VLOOKUP(G513,$J$38:$Y$47,H513,FALSE)","v":0},{"$f":"IF(ISERROR(P513/N513),0,P513/N513)","v":0},{"$f":"VLOOKUP(G513,$J$38:$Y$47,H513+3,FALSE)","v":0},{"$f":"IF(ISERROR(N513/M512),0,N513/M512)","v":0},{"$f":"IF(ISERROR(S513/Q513),0,S513/Q513)","v":0},{"$f":"IF(ISERROR(P513/M512),0,P513/M512)","v":0}]
[null,{"$f":"IF(COUNTIF(N514:S514,\"<>0\")=0,FALSE,TRUE)","v":false},null,null,null,null,{"$f":"G513","v":7},9,null,null,null,{"$f":"IF($R$35=\"\",\"\",$R$35)","v":"Grovfoder"},null,{"$f":"VLOOKUP(G514,$J$38:$Y$47,H514,FALSE)","v":0},{"$f":"IF(ISERROR(P514/N514),0,P514/N514)","v":0},{"$f":"VLOOKUP(G514,$J$38:$Y$47,H514+3,FALSE)","v":0},{"$f":"IF(ISERROR(N514/M512),0,N514/M512)","v":0},{"$f":"IF(ISERROR(S514/Q514),0,S514/Q514)","v":0},{"$f":"IF(ISERROR(P514/M512),0,P514/M512)","v":0}]
[null,{"$f":"IF(COUNTIF(N515:S515,\"<>0\")=0,FALSE,TRUE)","v":false},null,null,null,null,{"$f":"G514","v":7},13,null,null,null,{"$f":"IF($V$35=\"\",\"\",$V$35)","v":"Halm"},null,{"$f":"VLOOKUP(G515,$J$38:$Y$47,H515,FALSE)","v":0},{"$f":"IF(ISERROR(P515/N515),0,P515/N515)","v":0},{"$f":"VLOOKUP(G515,$J$38:$Y$47,H515+3,FALSE)","v":0},{"$f":"IF(ISERROR(N515/M512),0,N515/M512)","v":0},{"$f":"IF(ISERROR(S515/Q515),0,S515/Q515)","v":0},{"$f":"IF(ISERROR(P515/M512),0,P515/M512)","v":0}]
[null,{"$f":"B512","v":false},null,null,null,null,{"$f":"G515","v":7},null,null,null,null,"Bruttoudbytte i alt",null,null,null,{"$f":"SUM(P513:P515)","v":0},null,null,{"$f":"SUM(S513:S515)","v":0}]
[null,{"$f":"IF(COUNTIF(N517:S517,\"<>0\")=0,FALSE,TRUE)","v":false},null,null,null,null,{"$f":"G516+10","v":17},5,null,null,null,"Udsæd",null,{"$f":"VLOOKUP(G517,$J$59:$P$113,H517,FALSE)","v":0},{"$f":"IF(ISERROR(P517/N517),0,P517/N517)","v":0},{"$f":"VLOOKUP(G517,$J$59:$P$113,H517+2,FALSE)","v":0},{"$f":"IF(ISERROR(N517/M512),0,N517/M512)","v":0},{"$f":"IF(ISERROR(S517/Q517),0,S517/Q517)","v":0},{"$f":"IF(ISERROR(P517/M512),0,P517/M512)","v":0}]
[null,{"$f":"IF(COUNTIF(N518:S518,\"<>0\")=0,FALSE,TRUE)","v":false},null,null,null,null,{"$f":"G517+10","v":27},5,null,null,null,"Gødning",null,{"$f":"VLOOKUP(G518,$J$59:$P$113,H518,FALSE)","v":0},{"$f":"IF(ISERROR(P518/N518),0,P518/N518)","v":0},{"$f":"VLOOKUP(G518,$J$59:$P$113,H518+2,FALSE)","v":0},{"$f":"IF(ISERROR(N518/M512),0,N518/M512)","v":0},{"$f":"IF(ISERROR(S518/Q518),0,S518/Q518)","v":0},{"$f":"IF(ISERROR(P518/M512),0,P518/M512)","v":0}]
[null,{"$f":"IF(COUNTIF(N519:S519,\"<>0\")=0,FALSE,TRUE)","v":false},null,null,null,null,{"$f":"G518+10","v":37},5,null,null,null,"Planteværn",null,0,0,{"$f":"VLOOKUP(G519,$J$59:$P$113,H519+2,FALSE)","v":0},0,0,{"$f":"IF(ISERROR(P519/M512),0,P519/M512)","v":0}]
[null,{"$f":"IF(COUNTIF(N520:S520,\"<>0\")=0,FALSE,TRUE)","v":false},null,null,null,null,{"$f":"G519+10","v":47},5,null,null,null,"Diverse",null,0,0,{"$f":"VLOOKUP(G520,$J$59:$P$113,H520+2,FALSE)","v":0},0,0,{"$f":"IF(ISERROR(P520/M512),0,P520/M512)","v":0}]
[null,{"$f":"B512","v":false},null,null,null,null,null,null,null,null,null,"Stykomkostninger",null,null,null,{"$f":"SUM(P517:P520)","v":0},null,null,{"$f":"SUM(S517:S520)","v":0}]
[null,{"$f":"B521","v":false},null,null,null,null,null,null,null,"Opg. id",null,"Dækningsbidrag I",null,null,null,{"$f":"P516+P521","v":0},null,null,{"$f":"S516+S521","v":0}]
[null,{"$f":"IF(P523*$H$117=0,FALSE,TRUE)","v":false},null,null,null,null,null,null,null,{"$f":"tblOpgaveliste[Kolonne5]","v":0},null,{"$f":"tblOpgaveliste[Opgavenavn]","v":0},null,{"$f":"+Q523:Q572*M512","v":0},{"$f":"_xludf.IFERROR(P523/N523)","v":0},{"$f":"+S523:S572*M512","v":0},{"$f":"-VLOOKUP(_xlfn.ANCHORARRAY(J523),tblOpgaveliste[[Kolonne5]:[Maskinstationspris]],18+G512,FALSE)","v":0},{"$f":"VLOOKUP(_xlfn.ANCHORARRAY(J523),tblOpgaveliste[[Kolonne5]:[Maskinstationspris]],32,FALSE)","v":0},{"$f":"_xlfn.ANCHORARRAY(Q523)*_xlfn.ANCHORARRAY(R523)","v":0}]
[null,{"$f":"IF(P524*$H$117=0,FALSE,TRUE)","v":false},null,null,null,null,null,null,null,1,null,0,null,0,{"$f":"_xludf.IFERROR(P524/N524)","v":0},0,0,0,0]
[null,false,null,null,null,null,null,null,null,2,null,0,null,0,{"$f":"_xludf.IFERROR(P525/N525)","v":0},0,0,0,0]
[null,false,null,null,null,null,null,null,null,11,null,0,null,0,{"$f":"_xludf.IFERROR(P526/N526)","v":0},0,0,0,0]
[null,false,null,null,null,null,null,null,null,3,null,0,null,0,{"$f":"_xludf.IFERROR(P527/N527)","v":0},0,0,0,0]
[null,false,null,null,null,null,null,null,null,4,null,0,null,0,null,0,0,0,0]
[null,false,null,null,null,null,null,null,null,7,null,0,null,0,null,0,0,0,0]
[null,false,null,null,null,null,null,null,null,10,null,0,null,0,null,0,0,0,0]
[null,false,null,null,null,null,null,null,null,8,null,0,null,0,null,0,0,0,0]
[null,false,null,null,null,null,null,null,null,9,null,0,null,0,null,0,0,0,0]
[null,false,null,null,null,null,null,null,null,5,null,0,null,0,null,0,0,0,0]
[null,false,null,null,null,null,null,null,null,6,null,0,null,0,null,0,0,0,0]
[null,false,null,null,null,null,null,null,null,12,null,0,null,0,null,0,0,0,0]
[null,false,null,null,null,null,null,null,null,13,null,0,null,0,null,0,0,0,0]
[null,false,null,null,null,null,null,null,null,14,null,0,null,0,null,0,0,0,0]
[null,false,null,null,null,null,null,null,null,15,null,0,null,0,null,0,0,0,0]
[null,false,null,null,null,null,null,null,null,16,null,0,null,0,null,0,0,0,0]
[null,false,null,null,null,null,null,null,null,17,null,0,null,0,null,0,0,0,0]
[null,false,null,null,null,null,null,null,null,18,null,0,null,0,null,0,0,0,0]
[null,false,null,null,null,null,null,null,null,19,null,0,null,0,null,0,0,0,0]
[null,false,null,null,null,null,null,null,null,20,null,0,null,0,null,0,0,0,0]
[null,false,null,null,null,null,null,null,null,21,null,0,null,0,null,0,0,0,0]
[null,false,null,null,null,null,null,null,null,22,null,0,null,0,null,0,0,0,0]
[null,false,null,null,null,null,null,null,null,23,null,0,null,0,null,0,0,0,0]
[null,false,null,null,null,null,null,null,null,24,null,0,null,0,null,0,0,0,0]
[null,false,null,null,null,null,null,null,null,25,null,0,null,0,null,0,0,0,0]
[null,false,null,null,null,null,null,null,null,26,null,0,null,0,null,0,0,0,0]
[null,false,null,null,null,null,null,null,null,27,null,0,null,0,null,0,0,0,0]
[null,false,null,null,null,null,null,null,null,28,null,0,null,0,null,0,0,0,0]
[null,false,null,null,null,null,null,null,null,29,null,0,null,0,null,0,0,0,0]
[null,false,null,null,null,null,null,null,null,30,null,0,null,0,null,0,0,0,0]
[null,false,null,null,null,null,null,null,null,31,null,0,null,0,null,0,0,0,0]
[null,false,null,null,null,null,null,null,null,32,null,0,null,0,null,0,0,0,0]
[null,false,null,null,null,null,null,null,null,33,null,0,null,0,null,0,0,0,0]
[null,false,null,null,null,null,null,null,null,34,null,0,null,0,null,0,0,0,0]
[null,false,null,null,null,null,null,null,null,35,null,0,null,0,null,0,0,0,0]
[null,false,null,null,null,null,null,null,null,36,null,0,null,0,null,0,0,0,0]
[null,false,null,null,null,null,null,null,null,37,null,0,null,0,null,0,0,0,0]
[null,false,null,null,null,null,null,null,null,38,null,0,null,0,null,0,0,0,0]
[null,false,null,null,null,null,null,null,null,39,null,0,null,0,null,0,0,0,0]
[null,false,null,null,null,null,null,null,null,40,null,0,null,0,null,0,0,0,0]
[null,false,null,null,null,null,null,null,null,41,null,0,null,0,null,0,0,0,0]
[null,false,null,null,null,null,null,null,null,42,null,0,null,0,null,0,0,0,0]
[null,false,null,null,null,null,null,null,null,43,null,0,null,0,{"$f":"_xludf.IFERROR(P566/N566)","v":0},0,0,0,0]
[null,false,null,null,null,null,null,null,null,44,null,0,null,0,{"$f":"_xludf.IFERROR(P567/N567)","v":0},0,0,0,0]
[null,false,null,null,null,null,null,null,null,45,null,0,null,0,{"$f":"_xludf.IFERROR(P568/N568)","v":0},0,0,0,0]
[null,false,null,null,null,null,null,null,null,46,null,0,null,0,{"$f":"_xludf.IFERROR(P569/N569)","v":0},0,0,0,0]
[null,false,null,null,null,null,null,null,null,47,null,0,null,0,{"$f":"_xludf.IFERROR(P570/N570)","v":0},0,0,0,0]
[null,false,null,null,null,null,null,null,null,48,null,0,null,0,{"$f":"_xludf.IFERROR(P571/N571)","v":0},0,0,0,0]
[null,false,null,null,null,null,null,null,null,49,null,0,null,0,{"$f":"_xludf.IFERROR(P572/N572)","v":0},0,0,0,0]
[null,{"$f":"IF(P573=0,FALSE,TRUE)","v":false},null,null,null,null,null,null,null,null,null,"Maskinomkostninger",null,null,null,{"$f":"SUM(_xlfn.ANCHORARRAY(P523))*$H$118","v":0},null,null,{"$f":"SUM(S523:S572)*$H$118","v":0}]
[null,{"$f":"B573","v":false},null,null,null,null,null,null,null,null,null,"Dækningsbidrag II",null,null,null,{"$f":"+P522+P573","v":0},null,null,{"$f":"+S522+S573","v":0}]
[null,{"$f":"B522","v":false}]
[null,{"$f":"B577","v":false},null,null,null,null,null,null,null,null,null,null,null,"-------------- i alt -------------",null,null,"-------------- pr. ha. -------------"]
[null,{"$f":"OR(B578:B580,B582:B585,B588:B638)","v":false},null,null,null,null,{"$f":"+G512+1","v":8},null,null,null,null,{"$f":"IF(VLOOKUP(G577,$J$18:$M$28,3,FALSE)=\"\",\"\",VLOOKUP(G577,$J$18:$M$28,3,FALSE))","v":""},{"$f":"VLOOKUP(G577,$J$18:$M$27,4,FALSE)","v":0},"Mængde","Pris","Beløb","Mængde","Pris","Beløb"]
[null,{"$f":"IF(COUNTIF(N578:S578,\"<>0\")=0,FALSE,TRUE)","v":false},null,null,null,null,{"$f":"G577","v":8},5,null,null,null,{"$f":"IF($N$35=\"\",\"\",$N$35)","v":"Kerne"},null,{"$f":"VLOOKUP(G578,$J$38:$Y$47,H578,FALSE)","v":0},{"$f":"IF(ISERROR(P578/N578),0,P578/N578)","v":0},{"$f":"VLOOKUP(G578,$J$38:$Y$47,H578+3,FALSE)","v":0},{"$f":"IF(ISERROR(N578/M577),0,N578/M577)","v":0},{"$f":"IF(ISERROR(S578/Q578),0,S578/Q578)","v":0},{"$f":"IF(ISERROR(P578/M577),0,P578/M577)","v":0}]
[null,{"$f":"IF(COUNTIF(N579:S579,\"<>0\")=0,FALSE,TRUE)","v":false},null,null,null,null,{"$f":"G578","v":8},9,null,null,null,{"$f":"IF($R$35=\"\",\"\",$R$35)","v":"Grovfoder"},null,{"$f":"VLOOKUP(G579,$J$38:$Y$47,H579,FALSE)","v":0},{"$f":"IF(ISERROR(P579/N579),0,P579/N579)","v":0},{"$f":"VLOOKUP(G579,$J$38:$Y$47,H579+3,FALSE)","v":0},{"$f":"IF(ISERROR(N579/M577),0,N579/M577)","v":0},{"$f":"IF(ISERROR(S579/Q579),0,S579/Q579)","v":0},{"$f":"IF(ISERROR(P579/M577),0,P579/M577)","v":0}]
[null,{"$f":"IF(COUNTIF(N580:S580,\"<>0\")=0,FALSE,TRUE)","v":false},null,null,null,null,{"$f":"G579","v":8},13,null,null,null,{"$f":"IF($V$35=\"\",\"\",$V$35)","v":"Halm"},null,{"$f":"VLOOKUP(G580,$J$38:$Y$47,H580,FALSE)","v":0},{"$f":"IF(ISERROR(P580/N580),0,P580/N580)","v":0},{"$f":"VLOOKUP(G580,$J$38:$Y$47,H580+3,FALSE)","v":0},{"$f":"IF(ISERROR(N580/M577),0,N580/M577)","v":0},{"$f":"IF(ISERROR(S580/Q580),0,S580/Q580)","v":0},{"$f":"IF(ISERROR(P580/M577),0,P580/M577)","v":0}]
[null,{"$f":"B577","v":false},null,null,null,null,{"$f":"G580","v":8},null,null,null,null,"Bruttoudbytte i alt",null,null,null,{"$f":"SUM(P578:P580)","v":0},null,null,{"$f":"SUM(S578:S580)","v":0}]
[null,{"$f":"IF(COUNTIF(N582:S582,\"<>0\")=0,FALSE,TRUE)","v":false},null,null,null,null,{"$f":"G581+10","v":18},5,null,null,null,"Udsæd",null,{"$f":"VLOOKUP(G582,$J$59:$P$113,H582,FALSE)","v":0},{"$f":"IF(ISERROR(P582/N582),0,P582/N582)","v":0},{"$f":"VLOOKUP(G582,$J$59:$P$113,H582+2,FALSE)","v":0},{"$f":"IF(ISERROR(N582/M577),0,N582/M577)","v":0},{"$f":"IF(ISERROR(S582/Q582),0,S582/Q582)","v":0},{"$f":"IF(ISERROR(P582/M577),0,P582/M577)","v":0}]
[null,{"$f":"IF(COUNTIF(N583:S583,\"<>0\")=0,FALSE,TRUE)","v":false},null,null,null,null,{"$f":"G582+10","v":28},5,null,null,null,"Gødning",null,{"$f":"VLOOKUP(G583,$J$59:$P$113,H583,FALSE)","v":0},{"$f":"IF(ISERROR(P583/N583),0,P583/N583)","v":0},{"$f":"VLOOKUP(G583,$J$59:$P$113,H583+2,FALSE)","v":0},{"$f":"IF(ISERROR(N583/M577),0,N583/M577)","v":0},{"$f":"IF(ISERROR(S583/Q583),0,S583/Q583)","v":0},{"$f":"IF(ISERROR(P583/M577),0,P583/M577)","v":0}]
[null,{"$f":"IF(COUNTIF(N584:S584,\"<>0\")=0,FALSE,TRUE)","v":false},null,null,null,null,{"$f":"G583+10","v":38},5,null,null,null,"Planteværn",null,0,0,{"$f":"VLOOKUP(G584,$J$59:$P$113,H584+2,FALSE)","v":0},0,0,{"$f":"IF(ISERROR(P584/M577),0,P584/M577)","v":0}]
[null,{"$f":"IF(COUNTIF(N585:S585,\"<>0\")=0,FALSE,TRUE)","v":false},null,null,null,null,{"$f":"G584+10","v":48},5,null,null,null,"Diverse",null,0,0,{"$f":"VLOOKUP(G585,$J$59:$P$113,H585+2,FALSE)","v":0},0,0,{"$f":"IF(ISERROR(P585/M577),0,P585/M577)","v":0}]
[null,{"$f":"B577","v":false},null,null,null,null,null,null,null,null,null,"Stykomkostninger",null,null,null,{"$f":"SUM(P582:P585)","v":0},null,null,{"$f":"SUM(S582:S585)","v":0}]
[null,{"$f":"B586","v":false},null,null,null,null,null,null,null,"Opg. id",null,"Dækningsbidrag I",null,null,null,{"$f":"P581+P586","v":0},null,null,{"$f":"S581+S586","v":0}]
[null,{"$f":"IF(P588*$H$117=0,FALSE,TRUE)","v":false},null,null,null,null,null,null,null,{"$f":"tblOpgaveliste[Kolonne5]","v":0},null,{"$f":"tblOpgaveliste[Opgavenavn]","v":0},null,{"$f":"+Q588:Q637*M577","v":0},{"$f":"_xludf.IFERROR(P588/N588)","v":0},{"$f":"+S588:S637*M577","v":0},{"$f":"-VLOOKUP(_xlfn.ANCHORARRAY(J588),tblOpgaveliste[[Kolonne5]:[Maskinstationspris]],18+G577,FALSE)","v":0},{"$f":"VLOOKUP(_xlfn.ANCHORARRAY(J588),tblOpgaveliste[[Kolonne5]:[Maskinstationspris]],32,FALSE)","v":0},{"$f":"_xlfn.ANCHORARRAY(Q588)*_xlfn.ANCHORARRAY(R588)","v":0}]
[null,{"$f":"IF(P589*$H$117=0,FALSE,TRUE)","v":false},null,null,null,null,null,null,null,1,null,0,null,0,{"$f":"_xludf.IFERROR(P589/N589)","v":0},0,0,0,0]
[null,false,null,null,null,null,null,null,null,2,null,0,null,0,{"$f":"_xludf.IFERROR(P590/N590)","v":0},0,0,0,0]
[null,false,null,null,null,null,null,null,null,11,null,0,null,0,{"$f":"_xludf.IFERROR(P591/N591)","v":0},0,0,0,0]
[null,false,null,null,null,null,null,null,null,3,null,0,null,0,{"$f":"_xludf.IFERROR(P592/N592)","v":0},0,0,0,0]
[null,false,null,null,null,null,null,null,null,4,null,0,null,0,null,0,0,0,0]
[null,false,null,null,null,null,null,null,null,7,null,0,null,0,null,0,0,0,0]
[null,false,null,null,null,null,null,null,null,10,null,0,null,0,null,0,0,0,0]
[null,false,null,null,null,null,null,null,null,8,null,0,null,0,null,0,0,0,0]
[null,false,null,null,null,null,null,null,null,9,null,0,null,0,null,0,0,0,0]
[null,false,null,null,null,null,null,null,null,5,null,0,null,0,null,0,0,0,0]
[null,false,null,null,null,null,null,null,null,6,null,0,null,0,null,0,0,0,0]
[null,false,null,null,null,null,null,null,null,12,null,0,null,0,null,0,0,0,0]
[null,false,null,null,null,null,null,null,null,13,null,0,null,0,null,0,0,0,0]
[null,false,null,null,null,null,null,null,null,14,null,0,null,0,null,0,0,0,0]
[null,false,null,null,null,null,null,null,null,15,null,0,null,0,null,0,0,0,0]
[null,false,null,null,null,null,null,null,null,16,null,0,null,0,null,0,0,0,0]
[null,false,null,null,null,null,null,null,null,17,null,0,null,0,null,0,0,0,0]
[null,false,null,null,null,null,null,null,null,18,null,0,null,0,null,0,0,0,0]
[null,false,null,null,null,null,null,null,null,19,null,0,null,0,null,0,0,0,0]
[null,false,null,null,null,null,null,null,null,20,null,0,null,0,null,0,0,0,0]
[null,false,null,null,null,null,null,null,null,21,null,0,null,0,null,0,0,0,0]
[null,false,null,null,null,null,null,null,null,22,null,0,null,0,null,0,0,0,0]
[null,false,null,null,null,null,null,null,null,23,null,0,null,0,null,0,0,0,0]
[null,false,null,null,null,null,null,null,null,24,null,0,null,0,null,0,0,0,0]
[null,false,null,null,null,null,null,null,null,25,null,0,null,0,null,0,0,0,0]
[null,false,null,null,null,null,null,null,null,26,null,0,null,0,null,0,0,0,0]
[null,false,null,null,null,null,null,null,null,27,null,0,null,0,null,0,0,0,0]
[null,false,null,null,null,null,null,null,null,28,null,0,null,0,null,0,0,0,0]
[null,false,null,null,null,null,null,null,null,29,null,0,null,0,null,0,0,0,0]
[null,false,null,null,null,null,null,null,null,30,null,0,null,0,null,0,0,0,0]
[null,false,null,null,null,null,null,null,null,31,null,0,null,0,null,0,0,0,0]
[null,false,null,null,null,null,null,null,null,32,null,0,null,0,null,0,0,0,0]
[null,false,null,null,null,null,null,null,null,33,null,0,null,0,null,0,0,0,0]
[null,false,null,null,null,null,null,null,null,34,null,0,null,0,null,0,0,0,0]
[null,false,null,null,null,null,null,null,null,35,null,0,null,0,null,0,0,0,0]
[null,false,null,null,null,null,null,null,null,36,null,0,null,0,null,0,0,0,0]
[null,false,null,null,null,null,null,null,null,37,null,0,null,0,null,0,0,0,0]
[null,false,null,null,null,null,null,null,null,38,null,0,null,0,null,0,0,0,0]
[null,false,null,null,null,null,null,null,null,39,null,0,null,0,null,0,0,0,0]
[null,false,null,null,null,null,null,null,null,40,null,0,null,0,null,0,0,0,0]
[null,false,null,null,null,null,null,null,null,41,null,0,null,0,null,0,0,0,0]
[null,false,null,null,null,null,null,null,null,42,null,0,null,0,null,0,0,0,0]
[null,false,null,null,null,null,null,null,null,43,null,0,null,0,{"$f":"_xludf.IFERROR(P631/N631)","v":0},0,0,0,0]
[null,false,null,null,null,null,null,null,null,44,null,0,null,0,{"$f":"_xludf.IFERROR(P632/N632)","v":0},0,0,0,0]
[null,false,null,null,null,null,null,null,null,45,null,0,null,0,{"$f":"_xludf.IFERROR(P633/N633)","v":0},0,0,0,0]
[null,false,null,null,null,null,null,null,null,46,null,0,null,0,{"$f":"_xludf.IFERROR(P634/N634)","v":0},0,0,0,0]
[null,false,null,null,null,null,null,null,null,47,null,0,null,0,{"$f":"_xludf.IFERROR(P635/N635)","v":0},0,0,0,0]
[null,false,null,null,null,null,null,null,null,48,null,0,null,0,{"$f":"_xludf.IFERROR(P636/N636)","v":0},0,0,0,0]
[null,false,null,null,null,null,null,null,null,49,null,0,null,0,{"$f":"_xludf.IFERROR(P637/N637)","v":0},0,0,0,0]
[null,{"$f":"IF(P638=0,FALSE,TRUE)","v":false},null,null,null,null,null,null,null,null,null,"Maskinomkostninger",null,null,null,{"$f":"SUM(_xlfn.ANCHORARRAY(P588))*$H$118","v":0},null,null,{"$f":"SUM(S588:S637)*$H$118","v":0}]
[null,{"$f":"B638","v":false},null,null,null,null,null,null,null,null,null,"Dækningsbidrag II",null,null,null,{"$f":"+P587+P638","v":0},null,null,{"$f":"+S587+S638","v":0}]
[null,{"$f":"B587","v":false}]
[null,{"$f":"B642","v":false},null,null,null,null,null,null,null,null,null,null,null,"-------------- i alt -------------",null,null,"-------------- pr. ha. -------------"]
[null,{"$f":"OR(B643:B645,B647:B650,B653:B703)","v":false},null,null,null,null,{"$f":"+G577+1","v":9},null,null,null,null,{"$f":"IF(VLOOKUP(G642,$J$18:$M$28,3,FALSE)=\"\",\"\",VLOOKUP(G642,$J$18:$M$28,3,FALSE))","v":""},{"$f":"VLOOKUP(G642,$J$18:$M$27,4,FALSE)","v":0},"Mængde","Pris","Beløb","Mængde","Pris","Beløb"]
[null,{"$f":"IF(COUNTIF(N643:S643,\"<>0\")=0,FALSE,TRUE)","v":false},null,null,null,null,{"$f":"G642","v":9},5,null,null,null,{"$f":"IF($N$35=\"\",\"\",$N$35)","v":"Kerne"},null,{"$f":"VLOOKUP(G643,$J$38:$Y$47,H643,FALSE)","v":0},{"$f":"IF(ISERROR(P643/N643),0,P643/N643)","v":0},{"$f":"VLOOKUP(G643,$J$38:$Y$47,H643+3,FALSE)","v":0},{"$f":"IF(ISERROR(N643/M642),0,N643/M642)","v":0},{"$f":"IF(ISERROR(S643/Q643),0,S643/Q643)","v":0},{"$f":"IF(ISERROR(P643/M642),0,P643/M642)","v":0}]
[null,{"$f":"IF(COUNTIF(N644:S644,\"<>0\")=0,FALSE,TRUE)","v":false},null,null,null,null,{"$f":"G643","v":9},9,null,null,null,{"$f":"IF($R$35=\"\",\"\",$R$35)","v":"Grovfoder"},null,{"$f":"VLOOKUP(G644,$J$38:$Y$47,H644,FALSE)","v":0},{"$f":"IF(ISERROR(P644/N644),0,P644/N644)","v":0},{"$f":"VLOOKUP(G644,$J$38:$Y$47,H644+3,FALSE)","v":0},{"$f":"IF(ISERROR(N644/M642),0,N644/M642)","v":0},{"$f":"IF(ISERROR(S644/Q644),0,S644/Q644)","v":0},{"$f":"IF(ISERROR(P644/M642),0,P644/M642)","v":0}]
[null,{"$f":"IF(COUNTIF(N645:S645,\"<>0\")=0,FALSE,TRUE)","v":false},null,null,null,null,{"$f":"G644","v":9},13,null,null,null,{"$f":"IF($V$35=\"\",\"\",$V$35)","v":"Halm"},null,{"$f":"VLOOKUP(G645,$J$38:$Y$47,H645,FALSE)","v":0},{"$f":"IF(ISERROR(P645/N645),0,P645/N645)","v":0},{"$f":"VLOOKUP(G645,$J$38:$Y$47,H645+3,FALSE)","v":0},{"$f":"IF(ISERROR(N645/M642),0,N645/M642)","v":0},{"$f":"IF(ISERROR(S645/Q645),0,S645/Q645)","v":0},{"$f":"IF(ISERROR(P645/M642),0,P645/M642)","v":0}]
[null,{"$f":"B642","v":false},null,null,null,null,{"$f":"G645","v":9},null,null,null,null,"Bruttoudbytte i alt",null,null,null,{"$f":"SUM(P643:P645)","v":0},null,null,{"$f":"SUM(S643:S645)","v":0}]
[null,{"$f":"IF(COUNTIF(N647:S647,\"<>0\")=0,FALSE,TRUE)","v":false},null,null,null,null,{"$f":"G646+10","v":19},5,null,null,null,"Udsæd",null,{"$f":"VLOOKUP(G647,$J$59:$P$113,H647,FALSE)","v":0},{"$f":"IF(ISERROR(P647/N647),0,P647/N647)","v":0},{"$f":"VLOOKUP(G647,$J$59:$P$113,H647+2,FALSE)","v":0},{"$f":"IF(ISERROR(N647/M642),0,N647/M642)","v":0},{"$f":"IF(ISERROR(S647/Q647),0,S647/Q647)","v":0},{"$f":"IF(ISERROR(P647/M642),0,P647/M642)","v":0}]
[null,{"$f":"IF(COUNTIF(N648:S648,\"<>0\")=0,FALSE,TRUE)","v":false},null,null,null,null,{"$f":"G647+10","v":29},5,null,null,null,"Gødning",null,{"$f":"VLOOKUP(G648,$J$59:$P$113,H648,FALSE)","v":0},{"$f":"IF(ISERROR(P648/N648),0,P648/N648)","v":0},{"$f":"VLOOKUP(G648,$J$59:$P$113,H648+2,FALSE)","v":0},{"$f":"IF(ISERROR(N648/M642),0,N648/M642)","v":0},{"$f":"IF(ISERROR(S648/Q648),0,S648/Q648)","v":0},{"$f":"IF(ISERROR(P648/M642),0,P648/M642)","v":0}]
[null,{"$f":"IF(COUNTIF(N649:S649,\"<>0\")=0,FALSE,TRUE)","v":false},null,null,null,null,{"$f":"G648+10","v":39},5,null,null,null,"Planteværn",null,0,0,{"$f":"VLOOKUP(G649,$J$59:$P$113,H649+2,FALSE)","v":0},0,0,{"$f":"IF(ISERROR(P649/M642),0,P649/M642)","v":0}]
[null,{"$f":"IF(COUNTIF(N650:S650,\"<>0\")=0,FALSE,TRUE)","v":false},null,null,null,null,{"$f":"G649+10","v":49},5,null,null,null,"Diverse",null,0,0,{"$f":"VLOOKUP(G650,$J$59:$P$113,H650+2,FALSE)","v":0},0,0,{"$f":"IF(ISERROR(P650/M642),0,P650/M642)","v":0}]
[null,{"$f":"B642","v":false},null,null,null,null,null,null,null,null,null,"Stykomkostninger",null,null,null,{"$f":"SUM(P647:P650)","v":0},null,null,{"$f":"SUM(S647:S650)","v":0}]
[null,{"$f":"B651","v":false},null,null,null,null,null,null,null,"Opg. id",null,"Dækningsbidrag I",null,null,null,{"$f":"P646+P651","v":0},null,null,{"$f":"S646+S651","v":0}]
[null,{"$f":"IF(P653*$H$117=0,FALSE,TRUE)","v":false},null,null,null,null,null,null,null,{"$f":"tblOpgaveliste[Kolonne5]","v":0},null,{"$f":"tblOpgaveliste[Opgavenavn]","v":0},null,{"$f":"+Q653:Q702*M642","v":0},{"$f":"_xludf.IFERROR(P653/N653)","v":0},{"$f":"+S653:S702*M642","v":0},{"$f":"-VLOOKUP(_xlfn.ANCHORARRAY(J653),tblOpgaveliste[[Kolonne5]:[Maskinstationspris]],18+G642,FALSE)","v":0},{"$f":"VLOOKUP(_xlfn.ANCHORARRAY(J653),tblOpgaveliste[[Kolonne5]:[Maskinstationspris]],32,FALSE)","v":0},{"$f":"_xlfn.ANCHORARRAY(Q653)*_xlfn.ANCHORARRAY(R653)","v":0}]
[null,{"$f":"IF(P654*$H$117=0,FALSE,TRUE)","v":false},null,null,null,null,null,null,null,1,null,0,null,0,{"$f":"_xludf.IFERROR(P654/N654)","v":0},0,0,0,0]
[null,false,null,null,null,null,null,null,null,2,null,0,null,0,{"$f":"_xludf.IFERROR(P655/N655)","v":0},0,0,0,0]
[null,false,null,null,null,null,null,null,null,11,null,0,null,0,{"$f":"_xludf.IFERROR(P656/N656)","v":0},0,0,0,0]
[null,false,null,null,null,null,null,null,null,3,null,0,null,0,{"$f":"_xludf.IFERROR(P657/N657)","v":0},0,0,0,0]
[null,false,null,null,null,null,null,null,null,4,null,0,null,0,null,0,0,0,0]
[null,false,null,null,null,null,null,null,null,7,null,0,null,0,null,0,0,0,0]
[null,false,null,null,null,null,null,null,null,10,null,0,null,0,null,0,0,0,0]
[null,false,null,null,null,null,null,null,null,8,null,0,null,0,null,0,0,0,0]
[null,false,null,null,null,null,null,null,null,9,null,0,null,0,null,0,0,0,0]
[null,false,null,null,null,null,null,null,null,5,null,0,null,0,null,0,0,0,0]
[null,false,null,null,null,null,null,null,null,6,null,0,null,0,null,0,0,0,0]
[null,false,null,null,null,null,null,null,null,12,null,0,null,0,null,0,0,0,0]
[null,false,null,null,null,null,null,null,null,13,null,0,null,0,null,0,0,0,0]
[null,false,null,null,null,null,null,null,null,14,null,0,null,0,null,0,0,0,0]
[null,false,null,null,null,null,null,null,null,15,null,0,null,0,null,0,0,0,0]
[null,false,null,null,null,null,null,null,null,16,null,0,null,0,null,0,0,0,0]
[null,false,null,null,null,null,null,null,null,17,null,0,null,0,null,0,0,0,0]
[null,false,null,null,null,null,null,null,null,18,null,0,null,0,null,0,0,0,0]
[null,false,null,null,null,null,null,null,null,19,null,0,null,0,null,0,0,0,0]
[null,false,null,null,null,null,null,null,null,20,null,0,null,0,null,0,0,0,0]
[null,false,null,null,null,null,null,null,null,21,null,0,null,0,null,0,0,0,0]
[null,false,null,null,null,null,null,null,null,22,null,0,null,0,null,0,0,0,0]
[null,false,null,null,null,null,null,null,null,23,null,0,null,0,null,0,0,0,0]
[null,false,null,null,null,null,null,null,null,24,null,0,null,0,null,0,0,0,0]
[null,false,null,null,null,null,null,null,null,25,null,0,null,0,null,0,0,0,0]
[null,false,null,null,null,null,null,null,null,26,null,0,null,0,null,0,0,0,0]
[null,false,null,null,null,null,null,null,null,27,null,0,null,0,null,0,0,0,0]
[null,false,null,null,null,null,null,null,null,28,null,0,null,0,null,0,0,0,0]
[null,false,null,null,null,null,null,null,null,29,null,0,null,0,null,0,0,0,0]
[null,false,null,null,null,null,null,null,null,30,null,0,null,0,null,0,0,0,0]
[null,false,null,null,null,null,null,null,null,31,null,0,null,0,null,0,0,0,0]
[null,false,null,null,null,null,null,null,null,32,null,0,null,0,null,0,0,0,0]
[null,false,null,null,null,null,null,null,null,33,null,0,null,0,null,0,0,0,0]
[null,false,null,null,null,null,null,null,null,34,null,0,null,0,null,0,0,0,0]
[null,false,null,null,null,null,null,null,null,35,null,0,null,0,null,0,0,0,0]
[null,false,null,null,null,null,null,null,null,36,null,0,null,0,null,0,0,0,0]
[null,false,null,null,null,null,null,null,null,37,null,0,null,0,null,0,0,0,0]
[null,false,null,null,null,null,null,null,null,38,null,0,null,0,null,0,0,0,0]
[null,false,null,null,null,null,null,null,null,39,null,0,null,0,null,0,0,0,0]
[null,false,null,null,null,null,null,null,null,40,null,0,null,0,null,0,0,0,0]
[null,false,null,null,null,null,null,null,null,41,null,0,null,0,null,0,0,0,0]
[null,false,null,null,null,null,null,null,null,42,null,0,null,0,null,0,0,0,0]
[null,false,null,null,null,null,null,null,null,43,null,0,null,0,{"$f":"_xludf.IFERROR(P696/N696)","v":0},0,0,0,0]
[null,false,null,null,null,null,null,null,null,44,null,0,null,0,{"$f":"_xludf.IFERROR(P697/N697)","v":0},0,0,0,0]
[null,false,null,null,null,null,null,null,null,45,null,0,null,0,{"$f":"_xludf.IFERROR(P698/N698)","v":0},0,0,0,0]
[null,false,null,null,null,null,null,null,null,46,null,0,null,0,{"$f":"_xludf.IFERROR(P699/N699)","v":0},0,0,0,0]
[null,false,null,null,null,null,null,null,null,47,null,0,null,0,{"$f":"_xludf.IFERROR(P700/N700)","v":0},0,0,0,0]
[null,false,null,null,null,null,null,null,null,48,null,0,null,0,{"$f":"_xludf.IFERROR(P701/N701)","v":0},0,0,0,0]
[null,false,null,null,null,null,null,null,null,49,null,0,null,0,{"$f":"_xludf.IFERROR(P702/N702)","v":0},0,0,0,0]
[null,{"$f":"IF(P703=0,FALSE,TRUE)","v":false},null,null,null,null,null,null,null,null,null,"Maskinomkostninger",null,null,null,{"$f":"SUM(_xlfn.ANCHORARRAY(P653))*$H$118","v":0},null,null,{"$f":"SUM(S653:S702)*$H$118","v":0}]
[null,{"$f":"B703","v":false},null,null,null,null,null,null,null,null,null,"Dækningsbidrag II",null,null,null,{"$f":"+P652+P703","v":0},null,null,{"$f":"+S652+S703","v":0}]
[null,{"$f":"B652","v":false}]
[null,{"$f":"B707","v":false},null,null,null,null,null,null,null,null,null,null,null,"-------------- i alt -------------",null,null,"-------------- pr. ha. -------------"]
[null,{"$f":"OR(B708:B710,B712:B715,B718:B768)","v":false},null,null,null,null,{"$f":"+G642+1","v":10},null,null,null,null,{"$f":"IF(VLOOKUP(G707,$J$18:$M$28,3,FALSE)=\"\",\"\",VLOOKUP(G707,$J$18:$M$28,3,FALSE))","v":""},{"$f":"VLOOKUP(G707,$J$18:$M$27,4,FALSE)","v":0},"Mængde","Pris","Beløb","Mængde","Pris","Beløb"]
[null,{"$f":"IF(COUNTIF(N708:S708,\"<>0\")=0,FALSE,TRUE)","v":false},null,null,null,null,{"$f":"G707","v":10},5,null,null,null,{"$f":"IF($N$35=\"\",\"\",$N$35)","v":"Kerne"},null,{"$f":"VLOOKUP(G708,$J$38:$Y$47,H708,FALSE)","v":0},{"$f":"IF(ISERROR(P708/N708),0,P708/N708)","v":0},{"$f":"VLOOKUP(G708,$J$38:$Y$47,H708+3,FALSE)","v":0},{"$f":"IF(ISERROR(N708/M707),0,N708/M707)","v":0},{"$f":"IF(ISERROR(S708/Q708),0,S708/Q708)","v":0},{"$f":"IF(ISERROR(P708/M707),0,P708/M707)","v":0}]
[null,{"$f":"IF(COUNTIF(N709:S709,\"<>0\")=0,FALSE,TRUE)","v":false},null,null,null,null,{"$f":"G708","v":10},9,null,null,null,{"$f":"IF($R$35=\"\",\"\",$R$35)","v":"Grovfoder"},null,{"$f":"VLOOKUP(G709,$J$38:$Y$47,H709,FALSE)","v":0},{"$f":"IF(ISERROR(P709/N709),0,P709/N709)","v":0},{"$f":"VLOOKUP(G709,$J$38:$Y$47,H709+3,FALSE)","v":0},{"$f":"IF(ISERROR(N709/M707),0,N709/M707)","v":0},{"$f":"IF(ISERROR(S709/Q709),0,S709/Q709)","v":0},{"$f":"IF(ISERROR(P709/M707),0,P709/M707)","v":0}]
[null,{"$f":"IF(COUNTIF(N710:S710,\"<>0\")=0,FALSE,TRUE)","v":false},null,null,null,null,{"$f":"G709","v":10},13,null,null,null,{"$f":"IF($V$35=\"\",\"\",$V$35)","v":"Halm"},null,{"$f":"VLOOKUP(G710,$J$38:$Y$47,H710,FALSE)","v":0},{"$f":"IF(ISERROR(P710/N710),0,P710/N710)","v":0},{"$f":"VLOOKUP(G710,$J$38:$Y$47,H710+3,FALSE)","v":0},{"$f":"IF(ISERROR(N710/M707),0,N710/M707)","v":0},{"$f":"IF(ISERROR(S710/Q710),0,S710/Q710)","v":0},{"$f":"IF(ISERROR(P710/M707),0,P710/M707)","v":0}]
[null,{"$f":"B707","v":false},null,null,null,null,{"$f":"G710","v":10},null,null,null,null,"Bruttoudbytte i alt",null,null,null,{"$f":"SUM(P708:P710)","v":0},null,null,{"$f":"SUM(S708:S710)","v":0}]
[null,{"$f":"IF(COUNTIF(N712:S712,\"<>0\")=0,FALSE,TRUE)","v":false},null,null,null,null,{"$f":"G711+10","v":20},5,null,null,null,"Udsæd",null,{"$f":"VLOOKUP(G712,$J$59:$P$113,H712,FALSE)","v":0},{"$f":"IF(ISERROR(P712/N712),0,P712/N712)","v":0},{"$f":"VLOOKUP(G712,$J$59:$P$113,H712+2,FALSE)","v":0},{"$f":"IF(ISERROR(N712/M707),0,N712/M707)","v":0},{"$f":"IF(ISERROR(S712/Q712),0,S712/Q712)","v":0},{"$f":"IF(ISERROR(P712/M707),0,P712/M707)","v":0}]
[null,{"$f":"IF(COUNTIF(N713:S713,\"<>0\")=0,FALSE,TRUE)","v":false},null,null,null,null,{"$f":"G712+10","v":30},5,null,null,null,"Gødning",null,{"$f":"VLOOKUP(G713,$J$59:$P$113,H713,FALSE)","v":0},{"$f":"IF(ISERROR(P713/N713),0,P713/N713)","v":0},{"$f":"VLOOKUP(G713,$J$59:$P$113,H713+2,FALSE)","v":0},{"$f":"IF(ISERROR(N713/M707),0,N713/M707)","v":0},{"$f":"IF(ISERROR(S713/Q713),0,S713/Q713)","v":0},{"$f":"IF(ISERROR(P713/M707),0,P713/M707)","v":0}]
[null,{"$f":"IF(COUNTIF(N714:S714,\"<>0\")=0,FALSE,TRUE)","v":false},null,null,null,null,{"$f":"G713+10","v":40},5,null,null,null,"Planteværn",null,0,0,{"$f":"VLOOKUP(G714,$J$59:$P$113,H714+2,FALSE)","v":0},0,0,{"$f":"IF(ISERROR(P714/M707),0,P714/M707)","v":0}]
[null,{"$f":"IF(COUNTIF(N715:S715,\"<>0\")=0,FALSE,TRUE)","v":false},null,null,null,null,{"$f":"G714+10","v":50},5,null,null,null,"Diverse",null,0,0,{"$f":"VLOOKUP(G715,$J$59:$P$113,H715+2,FALSE)","v":0},0,0,{"$f":"IF(ISERROR(P715/M707),0,P715/M707)","v":0}]
[null,{"$f":"B707","v":false},null,null,null,null,null,null,null,null,null,"Stykomkostninger",null,null,null,{"$f":"SUM(P712:P715)","v":0},null,null,{"$f":"SUM(S712:S715)","v":0}]
[null,{"$f":"B716","v":false},null,null,null,null,null,null,null,"Opg. id",null,"Dækningsbidrag I",null,null,null,{"$f":"P711+P716","v":0},null,null,{"$f":"S711+S716","v":0}]
[null,{"$f":"IF(P718*$H$117=0,FALSE,TRUE)","v":false},null,null,null,null,null,null,null,{"$f":"tblOpgaveliste[Kolonne5]","v":0},null,{"$f":"tblOpgaveliste[Opgavenavn]","v":0},null,{"$f":"+Q718:Q767*M707","v":0},{"$f":"_xludf.IFERROR(P718/N718)","v":0},{"$f":"+S718:S767*M707","v":0},{"$f":"-VLOOKUP(_xlfn.ANCHORARRAY(J718),tblOpgaveliste[[Kolonne5]:[Maskinstationspris]],18+G707,FALSE)","v":0},{"$f":"VLOOKUP(_xlfn.ANCHORARRAY(J718),tblOpgaveliste[[Kolonne5]:[Maskinstationspris]],32,FALSE)","v":0},{"$f":"_xlfn.ANCHORARRAY(Q718)*_xlfn.ANCHORARRAY(R718)","v":0}]
[null,{"$f":"IF(P719*$H$117=0,FALSE,TRUE)","v":false},null,null,null,null,null,null,null,1,null,0,null,0,{"$f":"_xludf.IFERROR(P719/N719)","v":0},0,0,0,0]
[null,false,null,null,null,null,null,null,null,2,null,0,null,0,{"$f":"_xludf.IFERROR(P720/N720)","v":0},0,0,0,0]
[null,false,null,null,null,null,null,null,null,11,null,0,null,0,{"$f":"_xludf.IFERROR(P721/N721)","v":0},0,0,0,0]
[null,false,null,null,null,null,null,null,null,3,null,0,null,0,{"$f":"_xludf.IFERROR(P722/N722)","v":0},0,0,0,0]
[null,false,null,null,null,null,null,null,null,4,null,0,null,0,null,0,0,0,0]
[null,false,null,null,null,null,null,null,null,7,null,0,null,0,null,0,0,0,0]
[null,false,null,null,null,null,null,null,null,10,null,0,null,0,null,0,0,0,0]
[null,false,null,null,null,null,null,null,null,8,null,0,null,0,null,0,0,0,0]
[null,false,null,null,null,null,null,null,null,9,null,0,null,0,null,0,0,0,0]
[null,false,null,null,null,null,null,null,null,5,null,0,null,0,null,0,0,0,0]
[null,false,null,null,null,null,null,null,null,6,null,0,null,0,null,0,0,0,0]
[null,false,null,null,null,null,null,null,null,12,null,0,null,0,null,0,0,0,0]
[null,false,null,null,null,null,null,null,null,13,null,0,null,0,null,0,0,0,0]
[null,false,null,null,null,null,null,null,null,14,null,0,null,0,null,0,0,0,0]
[null,false,null,null,null,null,null,null,null,15,null,0,null,0,null,0,0,0,0]
[null,false,null,null,null,null,null,null,null,16,null,0,null,0,null,0,0,0,0]
[null,false,null,null,null,null,null,null,null,17,null,0,null,0,null,0,0,0,0]
[null,false,null,null,null,null,null,null,null,18,null,0,null,0,null,0,0,0,0]
[null,false,null,null,null,null,null,null,null,19,null,0,null,0,null,0,0,0,0]
[null,false,null,null,null,null,null,null,null,20,null,0,null,0,null,0,0,0,0]
[null,false,null,null,null,null,null,null,null,21,null,0,null,0,null,0,0,0,0]
[null,false,null,null,null,null,null,null,null,22,null,0,null,0,null,0,0,0,0]
[null,false,null,null,null,null,null,null,null,23,null,0,null,0,null,0,0,0,0]
[null,false,null,null,null,null,null,null,null,24,null,0,null,0,null,0,0,0,0]
[null,false,null,null,null,null,null,null,null,25,null,0,null,0,null,0,0,0,0]
[null,false,null,null,null,null,null,null,null,26,null,0,null,0,null,0,0,0,0]
[null,false,null,null,null,null,null,null,null,27,null,0,null,0,null,0,0,0,0]
[null,false,null,null,null,null,null,null,null,28,null,0,null,0,null,0,0,0,0]
[null,false,null,null,null,null,null,null,null,29,null,0,null,0,null,0,0,0,0]
[null,false,null,null,null,null,null,null,null,30,null,0,null,0,null,0,0,0,0]
[null,false,null,null,null,null,null,null,null,31,null,0,null,0,null,0,0,0,0]
[null,false,null,null,null,null,null,null,null,32,null,0,null,0,null,0,0,0,0]
[null,false,null,null,null,null,null,null,null,33,null,0,null,0,null,0,0,0,0]
[null,false,null,null,null,null,null,null,null,34,null,0,null,0,null,0,0,0,0]
[null,false,null,null,null,null,null,null,null,35,null,0,null,0,null,0,0,0,0]
[null,false,null,null,null,null,null,null,null,36,null,0,null,0,null,0,0,0,0]
[null,false,null,null,null,null,null,null,null,37,null,0,null,0,null,0,0,0,0]
[null,false,null,null,null,null,null,null,null,38,null,0,null,0,null,0,0,0,0]
[null,false,null,null,null,null,null,null,null,39,null,0,null,0,null,0,0,0,0]
[null,false,null,null,null,null,null,null,null,40,null,0,null,0,null,0,0,0,0]
[null,false,null,null,null,null,null,null,null,41,null,0,null,0,null,0,0,0,0]
[null,false,null,null,null,null,null,null,null,42,null,0,null,0,null,0,0,0,0]
[null,false,null,null,null,null,null,null,null,43,null,0,null,0,{"$f":"_xludf.IFERROR(P761/N761)","v":0},0,0,0,0]
[null,false,null,null,null,null,null,null,null,44,null,0,null,0,{"$f":"_xludf.IFERROR(P762/N762)","v":0},0,0,0,0]
[null,false,null,null,null,null,null,null,null,45,null,0,null,0,{"$f":"_xludf.IFERROR(P763/N763)","v":0},0,0,0,0]
[null,false,null,null,null,null,null,null,null,46,null,0,null,0,{"$f":"_xludf.IFERROR(P764/N764)","v":0},0,0,0,0]
[null,false,null,null,null,null,null,null,null,47,null,0,null,0,{"$f":"_xludf.IFERROR(P765/N765)","v":0},0,0,0,0]
[null,false,null,null,null,null,null,null,null,48,null,0,null,0,{"$f":"_xludf.IFERROR(P766/N766)","v":0},0,0,0,0]
[null,false,null,null,null,null,null,null,null,49,null,0,null,0,{"$f":"_xludf.IFERROR(P767/N767)","v":0},0,0,0,0]
[null,{"$f":"IF(P768=0,FALSE,TRUE)","v":false},null,null,null,null,null,null,null,null,null,"Maskinomkostninger",null,null,null,{"$f":"SUM(_xlfn.ANCHORARRAY(P718))*$H$118","v":0},null,null,{"$f":"SUM(S718:S767)*$H$118","v":0}]
[null,{"$f":"B768","v":false},null,null,null,null,null,null,null,null,null,"Dækningsbidrag II",null,null,null,{"$f":"+P717+P768","v":0},null,null,{"$f":"+S717+S768","v":0}]
[null,{"$f":"B717","v":false}]

{"sheet":"Maskiner","index":5,"n_rows":156,"n_cols":45,"rows_kept":156,"cut":false,"hidden":false,"merged":[[80,37,80,41],[80,11,80,14],[23,11,23,13],[80,26,80,36],[80,15,80,20],[139,15,139,16],[139,17,139,18],[23,19,23,21],[23,14,23,18],[23,26,23,28],[23,22,23,25],[80,21,80,25],[136,26,136,36]]}
["Masksort:","nr",null,null,"Skjul tomme kolonner",null,null,null,"Vis/skjul 1",1,true]
["Opgavesort","nr",null,null,null,null,null,null,"Vis/skjul 2",2,true]
[null,null,null,null,null,null,null,null,"Vis/skjul 3",3,true]
[null,null,null,null,null,null,null,null,"Markør1",4]
["Skjul tomme rækker","Vis tomme rækker","Vis tomme rækker",null,null,null,null,null,"Markør2",5]
[null,null,null,null,null,null,null,null,null,6,null,null,null,null,null,null,null,null,null,null,"xxxxxxxxx",null,null,null,null,null,null,"xxxxxxxx",null,null,"xxxxxxxxx"]
[null,null,null,null,null,null,null,null,null,7]
[null,null,null,null,null,null,null,null,null,8]
["Vis/skjul Rediger","Vis/skjul bruger","Vis/skjul 3","Markør1","Markør2",null,null,null,"Kol. nr",9]
[1,2,3,4,5,6,7,8,9,10,{"$f":"+J10+1","v":11},{"$f":"+K10+1","v":12},13,14,15,16,17,18,19,20,21,22,23,24,25,26,27,28,29,30,31,{"$f":"+AE10+1","v":32},{"$f":"+AF10+1","v":33},{"$f":"+AG10+1","v":34},{"$f":"+AH10+1","v":35},{"$f":"+AI10+1","v":36},{"$f":"+AJ10+1","v":37},{"$f":"+AK10+1","v":38},{"$f":"+AL10+1","v":39},{"$f":"+AM10+1","v":40},{"$f":"+AN10+1","v":41}]
[]
[]
[]
[true,null,null,null,null,null,null,null,null,null,null,null,"Generelle oplysninger"]
[true,null,null,null,null,null,null,null,null,null,null,null,null,null,null,null,null,null,null,null,null,null,null,null,"Rente:",0.05]
[true,null,null,null,null,null,null,null,null,null,null,null,null,null,null,null,null,null,null,null,null,null,null,null,"Brænd.",6]
[true,null,null,null,null,null,null,null,null,null,null,null,null,null,null,null,null,null,null,null,null,null,null,null,"Timeløn:",200]
[true]
[true,null,null,null,null,null,null,null,null,null,null,null,"Indtastning af traktorer, maskiner og opgaver"]
[true]
[true]
[true]
[true,null,null,null,null,{"$f":"COUNTIF(B27:B76,TRUE)","v":1}]
[true,null,null,null,null,1,null,null,null,null,null,"Maskinliste",null,null,"Kapitalomk.",null,null,null,null,"Kontante kapacitetsomk.",null,null,"Variable omkostninger",null,null,null,"Omkostninger i alt"]
[true,null,null,null,null,null,null,null,null,null,null,null,null,null,"Værdi","Levetid","Afskr.","Scrap","GKO","Forsikring","Diverse","KKO","Vedl./tim.","Brændst.\nl/time","Brændst.\nkr./time","VO/time","Timer\nAnvendt","TO","TE"]
[null,null,null,null,null,"IBrug","Vedl.\ntotal","brændst.\ntotal","Kolonne1","Id","Kolonne6","Sorteringsnr","Maskinnavn","Maskintype","Maskinværdi","Levetid","Afskrivningsprocent","Scrap","GKO","Forsikring","Diverse","KKO","TimeVedligehold","TimeBrændstofMængde","TimeBrændstof","VT","TimerAnvendt","TO","TT"]
[true,{"$f":"A27","v":true},null,null,null,{"$f":"OR(tblMaskinliste[[#This Row],[Maskinnavn]]<>\"\",tblMaskinliste[[#This Row],[Maskinværdi]]<>0,tblMaskinliste[[#This Row],[Forsikring]]<>0,tblMaskinliste[[#This Row],[Diverse]]<>0,tblMaskinliste[[#This Row],[TimeVedligehold]]<>0,tblMaskinliste[[#This Row],[TimeBrændstofMængde]]<>0)","v":false},{"$f":"tblMaskinliste[[#This Row],[TimeVedligehold]]*tblMaskinliste[[#This Row],[TimerAnvendt]]","v":0},{"$f":"tblMaskinliste[[#This Row],[TimeBrændstof]]*tblMaskinliste[[#This Row],[TimerAnvendt]]","v":0},null,0,null,1,null,"Maskine",null,null,null,{"$f":"tblMaskinliste[[#This Row],[Maskinværdi]]*(1-tblMaskinliste[[#This Row],[Afskrivningsprocent]])^tblMaskinliste[[#This Row],[Levetid]]","v":0},{"$f":"IFERROR(-PMT(Rentesats,P27,tblMaskinliste[[#This Row],[Maskinværdi]],-tblMaskinliste[[#This Row],[Scrap]]),0)","v":0},{"$f":"IFERROR($T$77/$O$77*tblMaskinliste[[#This Row],[Maskinværdi]],0)","v":0},null,{"$f":"tblMaskinliste[[#This Row],[Forsikring]]+tblMaskinliste[[#This Row],[Diverse]]","v":0},null,0,{"$f":"tblMaskinliste[[#This Row],[TimeBrændstofMængde]]*Brændstofpris","v":0},{"$f":"+tblMaskinliste[[#This Row],[TimeVedligehold]]+tblMaskinliste[[#This Row],[TimeBrændstof]]","v":0},{"$f":"MASKINANVENDELSESSUM(tblMaskinliste[[#This Row],[Id]],tblOpgaveliste[Maskinvalg],tblOpgaveliste[Maskintimer])","v":0},{"$f":"+tblMaskinliste[[#This Row],[GKO]]+tblMaskinliste[[#This Row],[KKO]]+tblMaskinliste[[#This Row],[VT]]*tblMaskinliste[[#This Row],[TimerAnvendt]]","v":0},{"$f":"IFERROR(tblMaskinliste[[#This Row],[TO]]/tblMaskinliste[[#This Row],[TimerAnvendt]],0)","v":0}]
[{"$f":"IF(tblMaskinliste[[#This Row],[IBrug]]=TRUE,TRUE,IF(F27=TRUE,TRUE,FALSE))","v":false},{"$f":"A28","v":false},null,null,null,{"$f":"OR(tblMaskinliste[[#This Row],[Maskinnavn]]<>\"\",tblMaskinliste[[#This Row],[Maskinværdi]]<>0,tblMaskinliste[[#This Row],[Forsikring]]<>0,tblMaskinliste[[#This Row],[Diverse]]<>0,tblMaskinliste[[#This Row],[TimeVedligehold]]<>0,tblMaskinliste[[#This Row],[TimeBrændstofMængde]]<>0)","v":false},{"$f":"tblMaskinliste[[#This Row],[TimeVedligehold]]*tblMaskinliste[[#This Row],[TimerAnvendt]]","v":0},{"$f":"tblMaskinliste[[#This Row],[TimeBrændstof]]*tblMaskinliste[[#This Row],[TimerAnvendt]]","v":0},null,3,null,2,null,"Maskine",null,null,null,{"$f":"tblMaskinliste[[#This Row],[Maskinværdi]]*(1-tblMaskinliste[[#This Row],[Afskrivningsprocent]])^tblMaskinliste[[#This Row],[Levetid]]","v":0},{"$f":"IFERROR(-PMT(Rentesats,P28,tblMaskinliste[[#This Row],[Maskinværdi]],-tblMaskinliste[[#This Row],[Scrap]]),0)","v":0},{"$f":"IFERROR($T$77/$O$77*tblMaskinliste[[#This Row],[Maskinværdi]],0)","v":0},null,{"$f":"tblMaskinliste[[#This Row],[Forsikring]]+tblMaskinliste[[#This Row],[Diverse]]","v":0},null,0,{"$f":"tblMaskinliste[[#This Row],[TimeBrændstofMængde]]*Brændstofpris","v":0},{"$f":"+tblMaskinliste[[#This Row],[TimeVedligehold]]+tblMaskinliste[[#This Row],[TimeBrændstof]]","v":0},{"$f":"MASKINANVENDELSESSUM(tblMaskinliste[[#This Row],[Id]],tblOpgaveliste[Maskinvalg],tblOpgaveliste[Maskintimer])","v":0},{"$f":"+tblMaskinliste[[#This Row],[GKO]]+tblMaskinliste[[#This Row],[KKO]]+tblMaskinliste[[#This Row],[VT]]*tblMaskinliste[[#This Row],[TimerAnvendt]]","v":0},{"$f":"IFERROR(tblMaskinliste[[#This Row],[TO]]/tblMaskinliste[[#This Row],[TimerAnvendt]],0)","v":0}]
[{"$f":"IF(tblMaskinliste[[#This Row],[IBrug]]=TRUE,TRUE,IF(F28=TRUE,TRUE,FALSE))","v":false},false,null,null,null,{"$f":"OR(tblMaskinliste[[#This Row],[Maskinnavn]]<>\"\",tblMaskinliste[[#This Row],[Maskinværdi]]<>0,tblMaskinliste[[#This Row],[Forsikring]]<>0,tblMaskinliste[[#This Row],[Diverse]]<>0,tblMaskinliste[[#This Row],[TimeVedligehold]]<>0,tblMaskinliste[[#This Row],[TimeBrændstofMængde]]<>0)","v":false},{"$f":"tblMaskinliste[[#This Row],[TimeVedligehold]]*tblMaskinliste[[#This Row],[TimerAnvendt]]","v":0},{"$f":"tblMaskinliste[[#This Row],[TimeBrændstof]]*tblMaskinliste[[#This Row],[TimerAnvendt]]","v":0},null,5,null,3,null,"Maskine",null,null,null,{"$f":"tblMaskinliste[[#This Row],[Maskinværdi]]*(1-tblMaskinliste[[#This Row],[Afskrivningsprocent]])^tblMaskinliste[[#This Row],[Levetid]]","v":0},{"$f":"IFERROR(-PMT(Rentesats,P29,tblMaskinliste[[#This Row],[Maskinværdi]],-tblMaskinliste[[#This Row],[Scrap]]),0)","v":0},{"$f":"IFERROR($T$77/$O$77*tblMaskinliste[[#This Row],[Maskinværdi]],0)","v":0},null,{"$f":"tblMaskinliste[[#This Row],[Forsikring]]+tblMaskinliste[[#This Row],[Diverse]]","v":0},null,0,{"$f":"tblMaskinliste[[#This Row],[TimeBrændstofMængde]]*Brændstofpris","v":0},{"$f":"+tblMaskinliste[[#This Row],[TimeVedligehold]]+tblMaskinliste[[#This Row],[TimeBrændstof]]","v":0},{"$f":"MASKINANVENDELSESSUM(tblMaskinliste[[#This Row],[Id]],tblOpgaveliste[Maskinvalg],tblOpgaveliste[Maskintimer])","v":0},{"$f":"+tblMaskinliste[[#This Row],[GKO]]+tblMaskinliste[[#This Row],[KKO]]+tblMaskinliste[[#This Row],[VT]]*tblMaskinliste[[#This Row],[TimerAnvendt]]","v":0},{"$f":"IFERROR(tblMaskinliste[[#This Row],[TO]]/tblMaskinliste[[#This Row],[TimerAnvendt]],0)","v":0}]
[{"$f":"IF(tblMaskinliste[[#This Row],[IBrug]]=TRUE,TRUE,IF(F29=TRUE,TRUE,FALSE))","v":false},false,null,null,null,{"$f":"OR(tblMaskinliste[[#This Row],[Maskinnavn]]<>\"\",tblMaskinliste[[#This Row],[Maskinværdi]]<>0,tblMaskinliste[[#This Row],[Forsikring]]<>0,tblMaskinliste[[#This Row],[Diverse]]<>0,tblMaskinliste[[#This Row],[TimeVedligehold]]<>0,tblMaskinliste[[#This Row],[TimeBrændstofMængde]]<>0)","v":false},{"$f":"tblMaskinliste[[#This Row],[TimeVedligehold]]*tblMaskinliste[[#This Row],[TimerAnvendt]]","v":0},{"$f":"tblMaskinliste[[#This Row],[TimeBrændstof]]*tblMaskinliste[[#This Row],[TimerAnvendt]]","v":0},null,4,null,4,null,"Maskine",null,null,null,{"$f":"tblMaskinliste[[#This Row],[Maskinværdi]]*(1-tblMaskinliste[[#This Row],[Afskrivningsprocent]])^tblMaskinliste[[#This Row],[Levetid]]","v":0},{"$f":"IFERROR(-PMT(Rentesats,P30,tblMaskinliste[[#This Row],[Maskinværdi]],-tblMaskinliste[[#This Row],[Scrap]]),0)","v":0},{"$f":"IFERROR($T$77/$O$77*tblMaskinliste[[#This Row],[Maskinværdi]],0)","v":0},null,{"$f":"tblMaskinliste[[#This Row],[Forsikring]]+tblMaskinliste[[#This Row],[Diverse]]","v":0},null,0,{"$f":"tblMaskinliste[[#This Row],[TimeBrændstofMængde]]*Brændstofpris","v":0},{"$f":"+tblMaskinliste[[#This Row],[TimeVedligehold]]+tblMaskinliste[[#This Row],[TimeBrændstof]]","v":0},{"$f":"MASKINANVENDELSESSUM(tblMaskinliste[[#This Row],[Id]],tblOpgaveliste[Maskinvalg],tblOpgaveliste[Maskintimer])","v":0},{"$f":"+tblMaskinliste[[#This Row],[GKO]]+tblMaskinliste[[#This Row],[KKO]]+tblMaskinliste[[#This Row],[VT]]*tblMaskinliste[[#This Row],[TimerAnvendt]]","v":0},{"$f":"IFERROR(tblMaskinliste[[#This Row],[TO]]/tblMaskinliste[[#This Row],[TimerAnvendt]],0)","v":0}]
[{"$f":"IF(tblMaskinliste[[#This Row],[IBrug]]=TRUE,TRUE,IF(F30=TRUE,TRUE,FALSE))","v":false},false,null,null,null,{"$f":"OR(tblMaskinliste[[#This Row],[Maskinnavn]]<>\"\",tblMaskinliste[[#This Row],[Maskinværdi]]<>0,tblMaskinliste[[#This Row],[Forsikring]]<>0,tblMaskinliste[[#This Row],[Diverse]]<>0,tblMaskinliste[[#This Row],[TimeVedligehold]]<>0,tblMaskinliste[[#This Row],[TimeBrændstofMængde]]<>0)","v":false},{"$f":"tblMaskinliste[[#This Row],[TimeVedligehold]]*tblMaskinliste[[#This Row],[TimerAnvendt]]","v":0},{"$f":"tblMaskinliste[[#This Row],[TimeBrændstof]]*tblMaskinliste[[#This Row],[TimerAnvendt]]","v":0},null,1,null,5,null,"Maskine",null,null,null,{"$f":"tblMaskinliste[[#This Row],[Maskinværdi]]*(1-tblMaskinliste[[#This Row],[Afskrivningsprocent]])^tblMaskinliste[[#This Row],[Levetid]]","v":0},{"$f":"IFERROR(-PMT(Rentesats,P31,tblMaskinliste[[#This Row],[Maskinværdi]],-tblMaskinliste[[#This Row],[Scrap]]),0)","v":0},{"$f":"IFERROR($T$77/$O$77*tblMaskinliste[[#This Row],[Maskinværdi]],0)","v":0},null,{"$f":"tblMaskinliste[[#This Row],[Forsikring]]+tblMaskinliste[[#This Row],[Diverse]]","v":0},null,0,{"$f":"tblMaskinliste[[#This Row],[TimeBrændstofMængde]]*Brændstofpris","v":0},{"$f":"+tblMaskinliste[[#This Row],[TimeVedligehold]]+tblMaskinliste[[#This Row],[TimeBrændstof]]","v":0},{"$f":"MASKINANVENDELSESSUM(tblMaskinliste[[#This Row],[Id]],tblOpgaveliste[Maskinvalg],tblOpgaveliste[Maskintimer])","v":0},{"$f":"+tblMaskinliste[[#This Row],[GKO]]+tblMaskinliste[[#This Row],[KKO]]+tblMaskinliste[[#This Row],[VT]]*tblMaskinliste[[#This Row],[TimerAnvendt]]","v":0},{"$f":"IFERROR(tblMaskinliste[[#This Row],[TO]]/tblMaskinliste[[#This Row],[TimerAnvendt]],0)","v":0}]
[{"$f":"IF(tblMaskinliste[[#This Row],[IBrug]]=TRUE,TRUE,IF(F31=TRUE,TRUE,FALSE))","v":false},false,null,null,null,{"$f":"OR(tblMaskinliste[[#This Row],[Maskinnavn]]<>\"\",tblMaskinliste[[#This Row],[Maskinværdi]]<>0,tblMaskinliste[[#This Row],[Forsikring]]<>0,tblMaskinliste[[#This Row],[Diverse]]<>0,tblMaskinliste[[#This Row],[TimeVedligehold]]<>0,tblMaskinliste[[#This Row],[TimeBrændstofMængde]]<>0)","v":false},{"$f":"tblMaskinliste[[#This Row],[TimeVedligehold]]*tblMaskinliste[[#This Row],[TimerAnvendt]]","v":0},{"$f":"tblMaskinliste[[#This Row],[TimeBrændstof]]*tblMaskinliste[[#This Row],[TimerAnvendt]]","v":0},null,2,null,6,null,"Maskine",null,null,null,{"$f":"tblMaskinliste[[#This Row],[Maskinværdi]]*(1-tblMaskinliste[[#This Row],[Afskrivningsprocent]])^tblMaskinliste[[#This Row],[Levetid]]","v":0},{"$f":"IFERROR(-PMT(Rentesats,P32,tblMaskinliste[[#This Row],[Maskinværdi]],-tblMaskinliste[[#This Row],[Scrap]]),0)","v":0},{"$f":"IFERROR($T$77/$O$77*tblMaskinliste[[#This Row],[Maskinværdi]],0)","v":0},null,{"$f":"tblMaskinliste[[#This Row],[Forsikring]]+tblMaskinliste[[#This Row],[Diverse]]","v":0},null,0,{"$f":"tblMaskinliste[[#This Row],[TimeBrændstofMængde]]*Brændstofpris","v":0},{"$f":"+tblMaskinliste[[#This Row],[TimeVedligehold]]+tblMaskinliste[[#This Row],[TimeBrændstof]]","v":0},{"$f":"MASKINANVENDELSESSUM(tblMaskinliste[[#This Row],[Id]],tblOpgaveliste[Maskinvalg],tblOpgaveliste[Maskintimer])","v":0},{"$f":"+tblMaskinliste[[#This Row],[GKO]]+tblMaskinliste[[#This Row],[KKO]]+tblMaskinliste[[#This Row],[VT]]*tblMaskinliste[[#This Row],[TimerAnvendt]]","v":0},{"$f":"IFERROR(tblMaskinliste[[#This Row],[TO]]/tblMaskinliste[[#This Row],[TimerAnvendt]],0)","v":0}]
[{"$f":"IF(tblMaskinliste[[#This Row],[IBrug]]=TRUE,TRUE,IF(F32=TRUE,TRUE,FALSE))","v":false},false,null,null,null,{"$f":"OR(tblMaskinliste[[#This Row],[Maskinnavn]]<>\"\",tblMaskinliste[[#This Row],[Maskinværdi]]<>0,tblMaskinliste[[#This Row],[Forsikring]]<>0,tblMaskinliste[[#This Row],[Diverse]]<>0,tblMaskinliste[[#This Row],[TimeVedligehold]]<>0,tblMaskinliste[[#This Row],[TimeBrændstofMængde]]<>0)","v":false},{"$f":"tblMaskinliste[[#This Row],[TimeVedligehold]]*tblMaskinliste[[#This Row],[TimerAnvendt]]","v":0},{"$f":"tblMaskinliste[[#This Row],[TimeBrændstof]]*tblMaskinliste[[#This Row],[TimerAnvendt]]","v":0},null,6,null,7,null,"Maskine",null,null,null,{"$f":"tblMaskinliste[[#This Row],[Maskinværdi]]*(1-tblMaskinliste[[#This Row],[Afskrivningsprocent]])^tblMaskinliste[[#This Row],[Levetid]]","v":0},{"$f":"IFERROR(-PMT(Rentesats,P33,tblMaskinliste[[#This Row],[Maskinværdi]],-tblMaskinliste[[#This Row],[Scrap]]),0)","v":0},{"$f":"IFERROR($T$77/$O$77*tblMaskinliste[[#This Row],[Maskinværdi]],0)","v":0},null,{"$f":"tblMaskinliste[[#This Row],[Forsikring]]+tblMaskinliste[[#This Row],[Diverse]]","v":0},null,0,{"$f":"tblMaskinliste[[#This Row],[TimeBrændstofMængde]]*Brændstofpris","v":0},{"$f":"+tblMaskinliste[[#This Row],[TimeVedligehold]]+tblMaskinliste[[#This Row],[TimeBrændstof]]","v":0},{"$f":"MASKINANVENDELSESSUM(tblMaskinliste[[#This Row],[Id]],tblOpgaveliste[Maskinvalg],tblOpgaveliste[Maskintimer])","v":0},{"$f":"+tblMaskinliste[[#This Row],[GKO]]+tblMaskinliste[[#This Row],[KKO]]+tblMaskinliste[[#This Row],[VT]]*tblMaskinliste[[#This Row],[TimerAnvendt]]","v":0},{"$f":"IFERROR(tblMaskinliste[[#This Row],[TO]]/tblMaskinliste[[#This Row],[TimerAnvendt]],0)","v":0}]
[{"$f":"IF(tblMaskinliste[[#This Row],[IBrug]]=TRUE,TRUE,IF(F33=TRUE,TRUE,FALSE))","v":false},false,null,null,null,{"$f":"OR(tblMaskinliste[[#This Row],[Maskinnavn]]<>\"\",tblMaskinliste[[#This Row],[Maskinværdi]]<>0,tblMaskinliste[[#This Row],[Forsikring]]<>0,tblMaskinliste[[#This Row],[Diverse]]<>0,tblMaskinliste[[#This Row],[TimeVedligehold]]<>0,tblMaskinliste[[#This Row],[TimeBrændstofMængde]]<>0)","v":false},{"$f":"tblMaskinliste[[#This Row],[TimeVedligehold]]*tblMaskinliste[[#This Row],[TimerAnvendt]]","v":0},{"$f":"tblMaskinliste[[#This Row],[TimeBrændstof]]*tblMaskinliste[[#This Row],[TimerAnvendt]]","v":0},null,7,null,8,null,"Maskine",null,null,null,{"$f":"tblMaskinliste[[#This Row],[Maskinværdi]]*(1-tblMaskinliste[[#This Row],[Afskrivningsprocent]])^tblMaskinliste[[#This Row],[Levetid]]","v":0},{"$f":"IFERROR(-PMT(Rentesats,P34,tblMaskinliste[[#This Row],[Maskinværdi]],-tblMaskinliste[[#This Row],[Scrap]]),0)","v":0},{"$f":"IFERROR($T$77/$O$77*tblMaskinliste[[#This Row],[Maskinværdi]],0)","v":0},null,{"$f":"tblMaskinliste[[#This Row],[Forsikring]]+tblMaskinliste[[#This Row],[Diverse]]","v":0},null,0,{"$f":"tblMaskinliste[[#This Row],[TimeBrændstofMængde]]*Brændstofpris","v":0},{"$f":"+tblMaskinliste[[#This Row],[TimeVedligehold]]+tblMaskinliste[[#This Row],[TimeBrændstof]]","v":0},{"$f":"MASKINANVENDELSESSUM(tblMaskinliste[[#This Row],[Id]],tblOpgaveliste[Maskinvalg],tblOpgaveliste[Maskintimer])","v":0},{"$f":"+tblMaskinliste[[#This Row],[GKO]]+tblMaskinliste[[#This Row],[KKO]]+tblMaskinliste[[#This Row],[VT]]*tblMaskinliste[[#This Row],[TimerAnvendt]]","v":0},{"$f":"IFERROR(tblMaskinliste[[#This Row],[TO]]/tblMaskinliste[[#This Row],[TimerAnvendt]],0)","v":0}]
[{"$f":"IF(tblMaskinliste[[#This Row],[IBrug]]=TRUE,TRUE,IF(F34=TRUE,TRUE,FALSE))","v":false},false,null,null,null,{"$f":"OR(tblMaskinliste[[#This Row],[Maskinnavn]]<>\"\",tblMaskinliste[[#This Row],[Maskinværdi]]<>0,tblMaskinliste[[#This Row],[Forsikring]]<>0,tblMaskinliste[[#This Row],[Diverse]]<>0,tblMaskinliste[[#This Row],[TimeVedligehold]]<>0,tblMaskinliste[[#This Row],[TimeBrændstofMængde]]<>0)","v":false},{"$f":"tblMaskinliste[[#This Row],[TimeVedligehold]]*tblMaskinliste[[#This Row],[TimerAnvendt]]","v":0},{"$f":"tblMaskinliste[[#This Row],[TimeBrændstof]]*tblMaskinliste[[#This Row],[TimerAnvendt]]","v":0},null,8,null,9,null,"Maskine",null,null,null,{"$f":"tblMaskinliste[[#This Row],[Maskinværdi]]*(1-tblMaskinliste[[#This Row],[Afskrivningsprocent]])^tblMaskinliste[[#This Row],[Levetid]]","v":0},{"$f":"IFERROR(-PMT(Rentesats,P35,tblMaskinliste[[#This Row],[Maskinværdi]],-tblMaskinliste[[#This Row],[Scrap]]),0)","v":0},{"$f":"IFERROR($T$77/$O$77*tblMaskinliste[[#This Row],[Maskinværdi]],0)","v":0},null,{"$f":"tblMaskinliste[[#This Row],[Forsikring]]+tblMaskinliste[[#This Row],[Diverse]]","v":0},null,0,{"$f":"tblMaskinliste[[#This Row],[TimeBrændstofMængde]]*Brændstofpris","v":0},{"$f":"+tblMaskinliste[[#This Row],[TimeVedligehold]]+tblMaskinliste[[#This Row],[TimeBrændstof]]","v":0},{"$f":"MASKINANVENDELSESSUM(tblMaskinliste[[#This Row],[Id]],tblOpgaveliste[Maskinvalg],tblOpgaveliste[Maskintimer])","v":0},{"$f":"+tblMaskinliste[[#This Row],[GKO]]+tblMaskinliste[[#This Row],[KKO]]+tblMaskinliste[[#This Row],[VT]]*tblMaskinliste[[#This Row],[TimerAnvendt]]","v":0},{"$f":"IFERROR(tblMaskinliste[[#This Row],[TO]]/tblMaskinliste[[#This Row],[TimerAnvendt]],0)","v":0}]
[{"$f":"IF(tblMaskinliste[[#This Row],[IBrug]]=TRUE,TRUE,IF(F35=TRUE,TRUE,FALSE))","v":false},false,null,null,null,{"$f":"OR(tblMaskinliste[[#This Row],[Maskinnavn]]<>\"\",tblMaskinliste[[#This Row],[Maskinværdi]]<>0,tblMaskinliste[[#This Row],[Forsikring]]<>0,tblMaskinliste[[#This Row],[Diverse]]<>0,tblMaskinliste[[#This Row],[TimeVedligehold]]<>0,tblMaskinliste[[#This Row],[TimeBrændstofMængde]]<>0)","v":false},{"$f":"tblMaskinliste[[#This Row],[TimeVedligehold]]*tblMaskinliste[[#This Row],[TimerAnvendt]]","v":0},{"$f":"tblMaskinliste[[#This Row],[TimeBrændstof]]*tblMaskinliste[[#This Row],[TimerAnvendt]]","v":0},null,9,null,10,null,"Maskine",null,null,null,{"$f":"tblMaskinliste[[#This Row],[Maskinværdi]]*(1-tblMaskinliste[[#This Row],[Afskrivningsprocent]])^tblMaskinliste[[#This Row],[Levetid]]","v":0},{"$f":"IFERROR(-PMT(Rentesats,P36,tblMaskinliste[[#This Row],[Maskinværdi]],-tblMaskinliste[[#This Row],[Scrap]]),0)","v":0},{"$f":"IFERROR($T$77/$O$77*tblMaskinliste[[#This Row],[Maskinværdi]],0)","v":0},null,{"$f":"tblMaskinliste[[#This Row],[Forsikring]]+tblMaskinliste[[#This Row],[Diverse]]","v":0},null,0,{"$f":"tblMaskinliste[[#This Row],[TimeBrændstofMængde]]*Brændstofpris","v":0},{"$f":"+tblMaskinliste[[#This Row],[TimeVedligehold]]+tblMaskinliste[[#This Row],[TimeBrændstof]]","v":0},{"$f":"MASKINANVENDELSESSUM(tblMaskinliste[[#This Row],[Id]],tblOpgaveliste[Maskinvalg],tblOpgaveliste[Maskintimer])","v":0},{"$f":"+tblMaskinliste[[#This Row],[GKO]]+tblMaskinliste[[#This Row],[KKO]]+tblMaskinliste[[#This Row],[VT]]*tblMaskinliste[[#This Row],[TimerAnvendt]]","v":0},{"$f":"IFERROR(tblMaskinliste[[#This Row],[TO]]/tblMaskinliste[[#This Row],[TimerAnvendt]],0)","v":0}]
[{"$f":"IF(tblMaskinliste[[#This Row],[IBrug]]=TRUE,TRUE,IF(F36=TRUE,TRUE,FALSE))","v":false},false,null,null,null,{"$f":"OR(tblMaskinliste[[#This Row],[Maskinnavn]]<>\"\",tblMaskinliste[[#This Row],[Maskinværdi]]<>0,tblMaskinliste[[#This Row],[Forsikring]]<>0,tblMaskinliste[[#This Row],[Diverse]]<>0,tblMaskinliste[[#This Row],[TimeVedligehold]]<>0,tblMaskinliste[[#This Row],[TimeBrændstofMængde]]<>0)","v":false},{"$f":"tblMaskinliste[[#This Row],[TimeVedligehold]]*tblMaskinliste[[#This Row],[TimerAnvendt]]","v":0},{"$f":"tblMaskinliste[[#This Row],[TimeBrændstof]]*tblMaskinliste[[#This Row],[TimerAnvendt]]","v":0},null,10,null,11,null,"Maskine",null,null,null,{"$f":"tblMaskinliste[[#This Row],[Maskinværdi]]*(1-tblMaskinliste[[#This Row],[Afskrivningsprocent]])^tblMaskinliste[[#This Row],[Levetid]]","v":0},{"$f":"IFERROR(-PMT(Rentesats,P37,tblMaskinliste[[#This Row],[Maskinværdi]],-tblMaskinliste[[#This Row],[Scrap]]),0)","v":0},{"$f":"IFERROR($T$77/$O$77*tblMaskinliste[[#This Row],[Maskinværdi]],0)","v":0},null,{"$f":"tblMaskinliste[[#This Row],[Forsikring]]+tblMaskinliste[[#This Row],[Diverse]]","v":0},null,0,{"$f":"tblMaskinliste[[#This Row],[TimeBrændstofMængde]]*Brændstofpris","v":0},{"$f":"+tblMaskinliste[[#This Row],[TimeVedligehold]]+tblMaskinliste[[#This Row],[TimeBrændstof]]","v":0},{"$f":"MASKINANVENDELSESSUM(tblMaskinliste[[#This Row],[Id]],tblOpgaveliste[Maskinvalg],tblOpgaveliste[Maskintimer])","v":0},{"$f":"+tblMaskinliste[[#This Row],[GKO]]+tblMaskinliste[[#This Row],[KKO]]+tblMaskinliste[[#This Row],[VT]]*tblMaskinliste[[#This Row],[TimerAnvendt]]","v":0},{"$f":"IFERROR(tblMaskinliste[[#This Row],[TO]]/tblMaskinliste[[#This Row],[TimerAnvendt]],0)","v":0}]
[{"$f":"IF(tblMaskinliste[[#This Row],[IBrug]]=TRUE,TRUE,IF(F37=TRUE,TRUE,FALSE))","v":false},false,null,null,null,{"$f":"OR(tblMaskinliste[[#This Row],[Maskinnavn]]<>\"\",tblMaskinliste[[#This Row],[Maskinværdi]]<>0,tblMaskinliste[[#This Row],[Forsikring]]<>0,tblMaskinliste[[#This Row],[Diverse]]<>0,tblMaskinliste[[#This Row],[TimeVedligehold]]<>0,tblMaskinliste[[#This Row],[TimeBrændstofMængde]]<>0)","v":false},{"$f":"tblMaskinliste[[#This Row],[TimeVedligehold]]*tblMaskinliste[[#This Row],[TimerAnvendt]]","v":0},{"$f":"tblMaskinliste[[#This Row],[TimeBrændstof]]*tblMaskinliste[[#This Row],[TimerAnvendt]]","v":0},null,11,null,12,null,"Maskine",null,null,null,{"$f":"tblMaskinliste[[#This Row],[Maskinværdi]]*(1-tblMaskinliste[[#This Row],[Afskrivningsprocent]])^tblMaskinliste[[#This Row],[Levetid]]","v":0},{"$f":"IFERROR(-PMT(Rentesats,P38,tblMaskinliste[[#This Row],[Maskinværdi]],-tblMaskinliste[[#This Row],[Scrap]]),0)","v":0},{"$f":"IFERROR($T$77/$O$77*tblMaskinliste[[#This Row],[Maskinværdi]],0)","v":0},null,{"$f":"tblMaskinliste[[#This Row],[Forsikring]]+tblMaskinliste[[#This Row],[Diverse]]","v":0},null,0,{"$f":"tblMaskinliste[[#This Row],[TimeBrændstofMængde]]*Brændstofpris","v":0},{"$f":"+tblMaskinliste[[#This Row],[TimeVedligehold]]+tblMaskinliste[[#This Row],[TimeBrændstof]]","v":0},{"$f":"MASKINANVENDELSESSUM(tblMaskinliste[[#This Row],[Id]],tblOpgaveliste[Maskinvalg],tblOpgaveliste[Maskintimer])","v":0},{"$f":"+tblMaskinliste[[#This Row],[GKO]]+tblMaskinliste[[#This Row],[KKO]]+tblMaskinliste[[#This Row],[VT]]*tblMaskinliste[[#This Row],[TimerAnvendt]]","v":0},{"$f":"IFERROR(tblMaskinliste[[#This Row],[TO]]/tblMaskinliste[[#This Row],[TimerAnvendt]],0)","v":0}]
[{"$f":"IF(tblMaskinliste[[#This Row],[IBrug]]=TRUE,TRUE,IF(F38=TRUE,TRUE,FALSE))","v":false},false,null,null,null,{"$f":"OR(tblMaskinliste[[#This Row],[Maskinnavn]]<>\"\",tblMaskinliste[[#This Row],[Maskinværdi]]<>0,tblMaskinliste[[#This Row],[Forsikring]]<>0,tblMaskinliste[[#This Row],[Diverse]]<>0,tblMaskinliste[[#This Row],[TimeVedligehold]]<>0,tblMaskinliste[[#This Row],[TimeBrændstofMængde]]<>0)","v":false},{"$f":"tblMaskinliste[[#This Row],[TimeVedligehold]]*tblMaskinliste[[#This Row],[TimerAnvendt]]","v":0},{"$f":"tblMaskinliste[[#This Row],[TimeBrændstof]]*tblMaskinliste[[#This Row],[TimerAnvendt]]","v":0},null,12,null,13,null,"Maskine",null,null,null,{"$f":"tblMaskinliste[[#This Row],[Maskinværdi]]*(1-tblMaskinliste[[#This Row],[Afskrivningsprocent]])^tblMaskinliste[[#This Row],[Levetid]]","v":0},{"$f":"IFERROR(-PMT(Rentesats,P39,tblMaskinliste[[#This Row],[Maskinværdi]],-tblMaskinliste[[#This Row],[Scrap]]),0)","v":0},{"$f":"IFERROR($T$77/$O$77*tblMaskinliste[[#This Row],[Maskinværdi]],0)","v":0},null,{"$f":"tblMaskinliste[[#This Row],[Forsikring]]+tblMaskinliste[[#This Row],[Diverse]]","v":0},null,0,{"$f":"tblMaskinliste[[#This Row],[TimeBrændstofMængde]]*Brændstofpris","v":0},{"$f":"+tblMaskinliste[[#This Row],[TimeVedligehold]]+tblMaskinliste[[#This Row],[TimeBrændstof]]","v":0},{"$f":"MASKINANVENDELSESSUM(tblMaskinliste[[#This Row],[Id]],tblOpgaveliste[Maskinvalg],tblOpgaveliste[Maskintimer])","v":0},{"$f":"+tblMaskinliste[[#This Row],[GKO]]+tblMaskinliste[[#This Row],[KKO]]+tblMaskinliste[[#This Row],[VT]]*tblMaskinliste[[#This Row],[TimerAnvendt]]","v":0},{"$f":"IFERROR(tblMaskinliste[[#This Row],[TO]]/tblMaskinliste[[#This Row],[TimerAnvendt]],0)","v":0}]
[{"$f":"IF(tblMaskinliste[[#This Row],[IBrug]]=TRUE,TRUE,IF(F39=TRUE,TRUE,FALSE))","v":false},false,null,null,null,{"$f":"OR(tblMaskinliste[[#This Row],[Maskinnavn]]<>\"\",tblMaskinliste[[#This Row],[Maskinværdi]]<>0,tblMaskinliste[[#This Row],[Forsikring]]<>0,tblMaskinliste[[#This Row],[Diverse]]<>0,tblMaskinliste[[#This Row],[TimeVedligehold]]<>0,tblMaskinliste[[#This Row],[TimeBrændstofMængde]]<>0)","v":false},{"$f":"tblMaskinliste[[#This Row],[TimeVedligehold]]*tblMaskinliste[[#This Row],[TimerAnvendt]]","v":0},{"$f":"tblMaskinliste[[#This Row],[TimeBrændstof]]*tblMaskinliste[[#This Row],[TimerAnvendt]]","v":0},null,13,null,14,null,"Maskine",null,null,null,{"$f":"tblMaskinliste[[#This Row],[Maskinværdi]]*(1-tblMaskinliste[[#This Row],[Afskrivningsprocent]])^tblMaskinliste[[#This Row],[Levetid]]","v":0},{"$f":"IFERROR(-PMT(Rentesats,P40,tblMaskinliste[[#This Row],[Maskinværdi]],-tblMaskinliste[[#This Row],[Scrap]]),0)","v":0},{"$f":"IFERROR($T$77/$O$77*tblMaskinliste[[#This Row],[Maskinværdi]],0)","v":0},null,{"$f":"tblMaskinliste[[#This Row],[Forsikring]]+tblMaskinliste[[#This Row],[Diverse]]","v":0},null,0,{"$f":"tblMaskinliste[[#This Row],[TimeBrændstofMængde]]*Brændstofpris","v":0},{"$f":"+tblMaskinliste[[#This Row],[TimeVedligehold]]+tblMaskinliste[[#This Row],[TimeBrændstof]]","v":0},{"$f":"MASKINANVENDELSESSUM(tblMaskinliste[[#This Row],[Id]],tblOpgaveliste[Maskinvalg],tblOpgaveliste[Maskintimer])","v":0},{"$f":"+tblMaskinliste[[#This Row],[GKO]]+tblMaskinliste[[#This Row],[KKO]]+tblMaskinliste[[#This Row],[VT]]*tblMaskinliste[[#This Row],[TimerAnvendt]]","v":0},{"$f":"IFERROR(tblMaskinliste[[#This Row],[TO]]/tblMaskinliste[[#This Row],[TimerAnvendt]],0)","v":0}]
[{"$f":"IF(tblMaskinliste[[#This Row],[IBrug]]=TRUE,TRUE,IF(F40=TRUE,TRUE,FALSE))","v":false},false,null,null,null,{"$f":"OR(tblMaskinliste[[#This Row],[Maskinnavn]]<>\"\",tblMaskinliste[[#This Row],[Maskinværdi]]<>0,tblMaskinliste[[#This Row],[Forsikring]]<>0,tblMaskinliste[[#This Row],[Diverse]]<>0,tblMaskinliste[[#This Row],[TimeVedligehold]]<>0,tblMaskinliste[[#This Row],[TimeBrændstofMængde]]<>0)","v":false},{"$f":"tblMaskinliste[[#This Row],[TimeVedligehold]]*tblMaskinliste[[#This Row],[TimerAnvendt]]","v":0},{"$f":"tblMaskinliste[[#This Row],[TimeBrændstof]]*tblMaskinliste[[#This Row],[TimerAnvendt]]","v":0},null,14,null,15,null,"Maskine",null,null,null,{"$f":"tblMaskinliste[[#This Row],[Maskinværdi]]*(1-tblMaskinliste[[#This Row],[Afskrivningsprocent]])^tblMaskinliste[[#This Row],[Levetid]]","v":0},{"$f":"IFERROR(-PMT(Rentesats,P41,tblMaskinliste[[#This Row],[Maskinværdi]],-tblMaskinliste[[#This Row],[Scrap]]),0)","v":0},{"$f":"IFERROR($T$77/$O$77*tblMaskinliste[[#This Row],[Maskinværdi]],0)","v":0},null,{"$f":"tblMaskinliste[[#This Row],[Forsikring]]+tblMaskinliste[[#This Row],[Diverse]]","v":0},null,0,{"$f":"tblMaskinliste[[#This Row],[TimeBrændstofMængde]]*Brændstofpris","v":0},{"$f":"+tblMaskinliste[[#This Row],[TimeVedligehold]]+tblMaskinliste[[#This Row],[TimeBrændstof]]","v":0},{"$f":"MASKINANVENDELSESSUM(tblMaskinliste[[#This Row],[Id]],tblOpgaveliste[Maskinvalg],tblOpgaveliste[Maskintimer])","v":0},{"$f":"+tblMaskinliste[[#This Row],[GKO]]+tblMaskinliste[[#This Row],[KKO]]+tblMaskinliste[[#This Row],[VT]]*tblMaskinliste[[#This Row],[TimerAnvendt]]","v":0},{"$f":"IFERROR(tblMaskinliste[[#This Row],[TO]]/tblMaskinliste[[#This Row],[TimerAnvendt]],0)","v":0}]
[{"$f":"IF(tblMaskinliste[[#This Row],[IBrug]]=TRUE,TRUE,IF(F41=TRUE,TRUE,FALSE))","v":false},false,null,null,null,{"$f":"OR(tblMaskinliste[[#This Row],[Maskinnavn]]<>\"\",tblMaskinliste[[#This Row],[Maskinværdi]]<>0,tblMaskinliste[[#This Row],[Forsikring]]<>0,tblMaskinliste[[#This Row],[Diverse]]<>0,tblMaskinliste[[#This Row],[TimeVedligehold]]<>0,tblMaskinliste[[#This Row],[TimeBrændstofMængde]]<>0)","v":false},{"$f":"tblMaskinliste[[#This Row],[TimeVedligehold]]*tblMaskinliste[[#This Row],[TimerAnvendt]]","v":0},{"$f":"tblMaskinliste[[#This Row],[TimeBrændstof]]*tblMaskinliste[[#This Row],[TimerAnvendt]]","v":0},null,15,null,16,null,"Maskine",null,null,null,{"$f":"tblMaskinliste[[#This Row],[Maskinværdi]]*(1-tblMaskinliste[[#This Row],[Afskrivningsprocent]])^tblMaskinliste[[#This Row],[Levetid]]","v":0},{"$f":"IFERROR(-PMT(Rentesats,P42,tblMaskinliste[[#This Row],[Maskinværdi]],-tblMaskinliste[[#This Row],[Scrap]]),0)","v":0},{"$f":"IFERROR($T$77/$O$77*tblMaskinliste[[#This Row],[Maskinværdi]],0)","v":0},null,{"$f":"tblMaskinliste[[#This Row],[Forsikring]]+tblMaskinliste[[#This Row],[Diverse]]","v":0},null,0,{"$f":"tblMaskinliste[[#This Row],[TimeBrændstofMængde]]*Brændstofpris","v":0},{"$f":"+tblMaskinliste[[#This Row],[TimeVedligehold]]+tblMaskinliste[[#This Row],[TimeBrændstof]]","v":0},{"$f":"MASKINANVENDELSESSUM(tblMaskinliste[[#This Row],[Id]],tblOpgaveliste[Maskinvalg],tblOpgaveliste[Maskintimer])","v":0},{"$f":"+tblMaskinliste[[#This Row],[GKO]]+tblMaskinliste[[#This Row],[KKO]]+tblMaskinliste[[#This Row],[VT]]*tblMaskinliste[[#This Row],[TimerAnvendt]]","v":0},{"$f":"IFERROR(tblMaskinliste[[#This Row],[TO]]/tblMaskinliste[[#This Row],[TimerAnvendt]],0)","v":0}]
[{"$f":"IF(tblMaskinliste[[#This Row],[IBrug]]=TRUE,TRUE,IF(F42=TRUE,TRUE,FALSE))","v":false},false,null,null,null,{"$f":"OR(tblMaskinliste[[#This Row],[Maskinnavn]]<>\"\",tblMaskinliste[[#This Row],[Maskinværdi]]<>0,tblMaskinliste[[#This Row],[Forsikring]]<>0,tblMaskinliste[[#This Row],[Diverse]]<>0,tblMaskinliste[[#This Row],[TimeVedligehold]]<>0,tblMaskinliste[[#This Row],[TimeBrændstofMængde]]<>0)","v":false},{"$f":"tblMaskinliste[[#This Row],[TimeVedligehold]]*tblMaskinliste[[#This Row],[TimerAnvendt]]","v":0},{"$f":"tblMaskinliste[[#This Row],[TimeBrændstof]]*tblMaskinliste[[#This Row],[TimerAnvendt]]","v":0},null,16,null,17,null,"Maskine",null,null,null,{"$f":"tblMaskinliste[[#This Row],[Maskinværdi]]*(1-tblMaskinliste[[#This Row],[Afskrivningsprocent]])^tblMaskinliste[[#This Row],[Levetid]]","v":0},{"$f":"IFERROR(-PMT(Rentesats,P43,tblMaskinliste[[#This Row],[Maskinværdi]],-tblMaskinliste[[#This Row],[Scrap]]),0)","v":0},{"$f":"IFERROR($T$77/$O$77*tblMaskinliste[[#This Row],[Maskinværdi]],0)","v":0},null,{"$f":"tblMaskinliste[[#This Row],[Forsikring]]+tblMaskinliste[[#This Row],[Diverse]]","v":0},null,0,{"$f":"tblMaskinliste[[#This Row],[TimeBrændstofMængde]]*Brændstofpris","v":0},{"$f":"+tblMaskinliste[[#This Row],[TimeVedligehold]]+tblMaskinliste[[#This Row],[TimeBrændstof]]","v":0},{"$f":"MASKINANVENDELSESSUM(tblMaskinliste[[#This Row],[Id]],tblOpgaveliste[Maskinvalg],tblOpgaveliste[Maskintimer])","v":0},{"$f":"+tblMaskinliste[[#This Row],[GKO]]+tblMaskinliste[[#This Row],[KKO]]+tblMaskinliste[[#This Row],[VT]]*tblMaskinliste[[#This Row],[TimerAnvendt]]","v":0},{"$f":"IFERROR(tblMaskinliste[[#This Row],[TO]]/tblMaskinliste[[#This Row],[TimerAnvendt]],0)","v":0}]
[{"$f":"IF(tblMaskinliste[[#This Row],[IBrug]]=TRUE,TRUE,IF(F43=TRUE,TRUE,FALSE))","v":false},false,null,null,null,{"$f":"OR(tblMaskinliste[[#This Row],[Maskinnavn]]<>\"\",tblMaskinliste[[#This Row],[Maskinværdi]]<>0,tblMaskinliste[[#This Row],[Forsikring]]<>0,tblMaskinliste[[#This Row],[Diverse]]<>0,tblMaskinliste[[#This Row],[TimeVedligehold]]<>0,tblMaskinliste[[#This Row],[TimeBrændstofMængde]]<>0)","v":false},{"$f":"tblMaskinliste[[#This Row],[TimeVedligehold]]*tblMaskinliste[[#This Row],[TimerAnvendt]]","v":0},{"$f":"tblMaskinliste[[#This Row],[TimeBrændstof]]*tblMaskinliste[[#This Row],[TimerAnvendt]]","v":0},null,17,null,18,null,"Maskine",null,null,null,{"$f":"tblMaskinliste[[#This Row],[Maskinværdi]]*(1-tblMaskinliste[[#This Row],[Afskrivningsprocent]])^tblMaskinliste[[#This Row],[Levetid]]","v":0},{"$f":"IFERROR(-PMT(Rentesats,P44,tblMaskinliste[[#This Row],[Maskinværdi]],-tblMaskinliste[[#This Row],[Scrap]]),0)","v":0},{"$f":"IFERROR($T$77/$O$77*tblMaskinliste[[#This Row],[Maskinværdi]],0)","v":0},null,{"$f":"tblMaskinliste[[#This Row],[Forsikring]]+tblMaskinliste[[#This Row],[Diverse]]","v":0},null,0,{"$f":"tblMaskinliste[[#This Row],[TimeBrændstofMængde]]*Brændstofpris","v":0},{"$f":"+tblMaskinliste[[#This Row],[TimeVedligehold]]+tblMaskinliste[[#This Row],[TimeBrændstof]]","v":0},{"$f":"MASKINANVENDELSESSUM(tblMaskinliste[[#This Row],[Id]],tblOpgaveliste[Maskinvalg],tblOpgaveliste[Maskintimer])","v":0},{"$f":"+tblMaskinliste[[#This Row],[GKO]]+tblMaskinliste[[#This Row],[KKO]]+tblMaskinliste[[#This Row],[VT]]*tblMaskinliste[[#This Row],[TimerAnvendt]]","v":0},{"$f":"IFERROR(tblMaskinliste[[#This Row],[TO]]/tblMaskinliste[[#This Row],[TimerAnvendt]],0)","v":0}]
[{"$f":"IF(tblMaskinliste[[#This Row],[IBrug]]=TRUE,TRUE,IF(F44=TRUE,TRUE,FALSE))","v":false},false,null,null,null,{"$f":"OR(tblMaskinliste[[#This Row],[Maskinnavn]]<>\"\",tblMaskinliste[[#This Row],[Maskinværdi]]<>0,tblMaskinliste[[#This Row],[Forsikring]]<>0,tblMaskinliste[[#This Row],[Diverse]]<>0,tblMaskinliste[[#This Row],[TimeVedligehold]]<>0,tblMaskinliste[[#This Row],[TimeBrændstofMængde]]<>0)","v":false},{"$f":"tblMaskinliste[[#This Row],[TimeVedligehold]]*tblMaskinliste[[#This Row],[TimerAnvendt]]","v":0},{"$f":"tblMaskinliste[[#This Row],[TimeBrændstof]]*tblMaskinliste[[#This Row],[TimerAnvendt]]","v":0},null,18,null,19,null,"Maskine",null,null,null,{"$f":"tblMaskinliste[[#This Row],[Maskinværdi]]*(1-tblMaskinliste[[#This Row],[Afskrivningsprocent]])^tblMaskinliste[[#This Row],[Levetid]]","v":0},{"$f":"IFERROR(-PMT(Rentesats,P45,tblMaskinliste[[#This Row],[Maskinværdi]],-tblMaskinliste[[#This Row],[Scrap]]),0)","v":0},{"$f":"IFERROR($T$77/$O$77*tblMaskinliste[[#This Row],[Maskinværdi]],0)","v":0},null,{"$f":"tblMaskinliste[[#This Row],[Forsikring]]+tblMaskinliste[[#This Row],[Diverse]]","v":0},null,0,{"$f":"tblMaskinliste[[#This Row],[TimeBrændstofMængde]]*Brændstofpris","v":0},{"$f":"+tblMaskinliste[[#This Row],[TimeVedligehold]]+tblMaskinliste[[#This Row],[TimeBrændstof]]","v":0},{"$f":"MASKINANVENDELSESSUM(tblMaskinliste[[#This Row],[Id]],tblOpgaveliste[Maskinvalg],tblOpgaveliste[Maskintimer])","v":0},{"$f":"+tblMaskinliste[[#This Row],[GKO]]+tblMaskinliste[[#This Row],[KKO]]+tblMaskinliste[[#This Row],[VT]]*tblMaskinliste[[#This Row],[TimerAnvendt]]","v":0},{"$f":"IFERROR(tblMaskinliste[[#This Row],[TO]]/tblMaskinliste[[#This Row],[TimerAnvendt]],0)","v":0}]
[{"$f":"IF(tblMaskinliste[[#This Row],[IBrug]]=TRUE,TRUE,IF(F45=TRUE,TRUE,FALSE))","v":false},false,null,null,null,{"$f":"OR(tblMaskinliste[[#This Row],[Maskinnavn]]<>\"\",tblMaskinliste[[#This Row],[Maskinværdi]]<>0,tblMaskinliste[[#This Row],[Forsikring]]<>0,tblMaskinliste[[#This Row],[Diverse]]<>0,tblMaskinliste[[#This Row],[TimeVedligehold]]<>0,tblMaskinliste[[#This Row],[TimeBrændstofMængde]]<>0)","v":false},{"$f":"tblMaskinliste[[#This Row],[TimeVedligehold]]*tblMaskinliste[[#This Row],[TimerAnvendt]]","v":0},{"$f":"tblMaskinliste[[#This Row],[TimeBrændstof]]*tblMaskinliste[[#This Row],[TimerAnvendt]]","v":0},null,19,null,20,null,"Maskine",null,null,null,{"$f":"tblMaskinliste[[#This Row],[Maskinværdi]]*(1-tblMaskinliste[[#This Row],[Afskrivningsprocent]])^tblMaskinliste[[#This Row],[Levetid]]","v":0},{"$f":"IFERROR(-PMT(Rentesats,P46,tblMaskinliste[[#This Row],[Maskinværdi]],-tblMaskinliste[[#This Row],[Scrap]]),0)","v":0},{"$f":"IFERROR($T$77/$O$77*tblMaskinliste[[#This Row],[Maskinværdi]],0)","v":0},null,{"$f":"tblMaskinliste[[#This Row],[Forsikring]]+tblMaskinliste[[#This Row],[Diverse]]","v":0},null,0,{"$f":"tblMaskinliste[[#This Row],[TimeBrændstofMængde]]*Brændstofpris","v":0},{"$f":"+tblMaskinliste[[#This Row],[TimeVedligehold]]+tblMaskinliste[[#This Row],[TimeBrændstof]]","v":0},{"$f":"MASKINANVENDELSESSUM(tblMaskinliste[[#This Row],[Id]],tblOpgaveliste[Maskinvalg],tblOpgaveliste[Maskintimer])","v":0},{"$f":"+tblMaskinliste[[#This Row],[GKO]]+tblMaskinliste[[#This Row],[KKO]]+tblMaskinliste[[#This Row],[VT]]*tblMaskinliste[[#This Row],[TimerAnvendt]]","v":0},{"$f":"IFERROR(tblMaskinliste[[#This Row],[TO]]/tblMaskinliste[[#This Row],[TimerAnvendt]],0)","v":0}]
[{"$f":"IF(tblMaskinliste[[#This Row],[IBrug]]=TRUE,TRUE,IF(F46=TRUE,TRUE,FALSE))","v":false},false,null,null,null,{"$f":"OR(tblMaskinliste[[#This Row],[Maskinnavn]]<>\"\",tblMaskinliste[[#This Row],[Maskinværdi]]<>0,tblMaskinliste[[#This Row],[Forsikring]]<>0,tblMaskinliste[[#This Row],[Diverse]]<>0,tblMaskinliste[[#This Row],[TimeVedligehold]]<>0,tblMaskinliste[[#This Row],[TimeBrændstofMængde]]<>0)","v":false},{"$f":"tblMaskinliste[[#This Row],[TimeVedligehold]]*tblMaskinliste[[#This Row],[TimerAnvendt]]","v":0},{"$f":"tblMaskinliste[[#This Row],[TimeBrændstof]]*tblMaskinliste[[#This Row],[TimerAnvendt]]","v":0},null,20,null,21,null,"Maskine",null,null,null,{"$f":"tblMaskinliste[[#This Row],[Maskinværdi]]*(1-tblMaskinliste[[#This Row],[Afskrivningsprocent]])^tblMaskinliste[[#This Row],[Levetid]]","v":0},{"$f":"IFERROR(-PMT(Rentesats,P47,tblMaskinliste[[#This Row],[Maskinværdi]],-tblMaskinliste[[#This Row],[Scrap]]),0)","v":0},{"$f":"IFERROR($T$77/$O$77*tblMaskinliste[[#This Row],[Maskinværdi]],0)","v":0},null,{"$f":"tblMaskinliste[[#This Row],[Forsikring]]+tblMaskinliste[[#This Row],[Diverse]]","v":0},null,0,{"$f":"tblMaskinliste[[#This Row],[TimeBrændstofMængde]]*Brændstofpris","v":0},{"$f":"+tblMaskinliste[[#This Row],[TimeVedligehold]]+tblMaskinliste[[#This Row],[TimeBrændstof]]","v":0},{"$f":"MASKINANVENDELSESSUM(tblMaskinliste[[#This Row],[Id]],tblOpgaveliste[Maskinvalg],tblOpgaveliste[Maskintimer])","v":0},{"$f":"+tblMaskinliste[[#This Row],[GKO]]+tblMaskinliste[[#This Row],[KKO]]+tblMaskinliste[[#This Row],[VT]]*tblMaskinliste[[#This Row],[TimerAnvendt]]","v":0},{"$f":"IFERROR(tblMaskinliste[[#This Row],[TO]]/tblMaskinliste[[#This Row],[TimerAnvendt]],0)","v":0}]
[{"$f":"IF(tblMaskinliste[[#This Row],[IBrug]]=TRUE,TRUE,IF(F47=TRUE,TRUE,FALSE))","v":false},false,null,null,null,{"$f":"OR(tblMaskinliste[[#This Row],[Maskinnavn]]<>\"\",tblMaskinliste[[#This Row],[Maskinværdi]]<>0,tblMaskinliste[[#This Row],[Forsikring]]<>0,tblMaskinliste[[#This Row],[Diverse]]<>0,tblMaskinliste[[#This Row],[TimeVedligehold]]<>0,tblMaskinliste[[#This Row],[TimeBrændstofMængde]]<>0)","v":false},{"$f":"tblMaskinliste[[#This Row],[TimeVedligehold]]*tblMaskinliste[[#This Row],[TimerAnvendt]]","v":0},{"$f":"tblMaskinliste[[#This Row],[TimeBrændstof]]*tblMaskinliste[[#This Row],[TimerAnvendt]]","v":0},null,21,null,22,null,"Maskine",null,null,null,{"$f":"tblMaskinliste[[#This Row],[Maskinværdi]]*(1-tblMaskinliste[[#This Row],[Afskrivningsprocent]])^tblMaskinliste[[#This Row],[Levetid]]","v":0},{"$f":"IFERROR(-PMT(Rentesats,P48,tblMaskinliste[[#This Row],[Maskinværdi]],-tblMaskinliste[[#This Row],[Scrap]]),0)","v":0},{"$f":"IFERROR($T$77/$O$77*tblMaskinliste[[#This Row],[Maskinværdi]],0)","v":0},null,{"$f":"tblMaskinliste[[#This Row],[Forsikring]]+tblMaskinliste[[#This Row],[Diverse]]","v":0},null,0,{"$f":"tblMaskinliste[[#This Row],[TimeBrændstofMængde]]*Brændstofpris","v":0},{"$f":"+tblMaskinliste[[#This Row],[TimeVedligehold]]+tblMaskinliste[[#This Row],[TimeBrændstof]]","v":0},{"$f":"MASKINANVENDELSESSUM(tblMaskinliste[[#This Row],[Id]],tblOpgaveliste[Maskinvalg],tblOpgaveliste[Maskintimer])","v":0},{"$f":"+tblMaskinliste[[#This Row],[GKO]]+tblMaskinliste[[#This Row],[KKO]]+tblMaskinliste[[#This Row],[VT]]*tblMaskinliste[[#This Row],[TimerAnvendt]]","v":0},{"$f":"IFERROR(tblMaskinliste[[#This Row],[TO]]/tblMaskinliste[[#This Row],[TimerAnvendt]],0)","v":0}]
[{"$f":"IF(tblMaskinliste[[#This Row],[IBrug]]=TRUE,TRUE,IF(F48=TRUE,TRUE,FALSE))","v":false},false,null,null,null,{"$f":"OR(tblMaskinliste[[#This Row],[Maskinnavn]]<>\"\",tblMaskinliste[[#This Row],[Maskinværdi]]<>0,tblMaskinliste[[#This Row],[Forsikring]]<>0,tblMaskinliste[[#This Row],[Diverse]]<>0,tblMaskinliste[[#This Row],[TimeVedligehold]]<>0,tblMaskinliste[[#This Row],[TimeBrændstofMængde]]<>0)","v":false},{"$f":"tblMaskinliste[[#This Row],[TimeVedligehold]]*tblMaskinliste[[#This Row],[TimerAnvendt]]","v":0},{"$f":"tblMaskinliste[[#This Row],[TimeBrændstof]]*tblMaskinliste[[#This Row],[TimerAnvendt]]","v":0},null,22,null,23,null,"Maskine",null,null,null,{"$f":"tblMaskinliste[[#This Row],[Maskinværdi]]*(1-tblMaskinliste[[#This Row],[Afskrivningsprocent]])^tblMaskinliste[[#This Row],[Levetid]]","v":0},{"$f":"IFERROR(-PMT(Rentesats,P49,tblMaskinliste[[#This Row],[Maskinværdi]],-tblMaskinliste[[#This Row],[Scrap]]),0)","v":0},{"$f":"IFERROR($T$77/$O$77*tblMaskinliste[[#This Row],[Maskinværdi]],0)","v":0},null,{"$f":"tblMaskinliste[[#This Row],[Forsikring]]+tblMaskinliste[[#This Row],[Diverse]]","v":0},null,0,{"$f":"tblMaskinliste[[#This Row],[TimeBrændstofMængde]]*Brændstofpris","v":0},{"$f":"+tblMaskinliste[[#This Row],[TimeVedligehold]]+tblMaskinliste[[#This Row],[TimeBrændstof]]","v":0},{"$f":"MASKINANVENDELSESSUM(tblMaskinliste[[#This Row],[Id]],tblOpgaveliste[Maskinvalg],tblOpgaveliste[Maskintimer])","v":0},{"$f":"+tblMaskinliste[[#This Row],[GKO]]+tblMaskinliste[[#This Row],[KKO]]+tblMaskinliste[[#This Row],[VT]]*tblMaskinliste[[#This Row],[TimerAnvendt]]","v":0},{"$f":"IFERROR(tblMaskinliste[[#This Row],[TO]]/tblMaskinliste[[#This Row],[TimerAnvendt]],0)","v":0}]
[{"$f":"IF(tblMaskinliste[[#This Row],[IBrug]]=TRUE,TRUE,IF(F49=TRUE,TRUE,FALSE))","v":false},false,null,null,null,{"$f":"OR(tblMaskinliste[[#This Row],[Maskinnavn]]<>\"\",tblMaskinliste[[#This Row],[Maskinværdi]]<>0,tblMaskinliste[[#This Row],[Forsikring]]<>0,tblMaskinliste[[#This Row],[Diverse]]<>0,tblMaskinliste[[#This Row],[TimeVedligehold]]<>0,tblMaskinliste[[#This Row],[TimeBrændstofMængde]]<>0)","v":false},{"$f":"tblMaskinliste[[#This Row],[TimeVedligehold]]*tblMaskinliste[[#This Row],[TimerAnvendt]]","v":0},{"$f":"tblMaskinliste[[#This Row],[TimeBrændstof]]*tblMaskinliste[[#This Row],[TimerAnvendt]]","v":0},null,23,null,24,null,"Maskine",null,null,null,{"$f":"tblMaskinliste[[#This Row],[Maskinværdi]]*(1-tblMaskinliste[[#This Row],[Afskrivningsprocent]])^tblMaskinliste[[#This Row],[Levetid]]","v":0},{"$f":"IFERROR(-PMT(Rentesats,P50,tblMaskinliste[[#This Row],[Maskinværdi]],-tblMaskinliste[[#This Row],[Scrap]]),0)","v":0},{"$f":"IFERROR($T$77/$O$77*tblMaskinliste[[#This Row],[Maskinværdi]],0)","v":0},null,{"$f":"tblMaskinliste[[#This Row],[Forsikring]]+tblMaskinliste[[#This Row],[Diverse]]","v":0},null,0,{"$f":"tblMaskinliste[[#This Row],[TimeBrændstofMængde]]*Brændstofpris","v":0},{"$f":"+tblMaskinliste[[#This Row],[TimeVedligehold]]+tblMaskinliste[[#This Row],[TimeBrændstof]]","v":0},{"$f":"MASKINANVENDELSESSUM(tblMaskinliste[[#This Row],[Id]],tblOpgaveliste[Maskinvalg],tblOpgaveliste[Maskintimer])","v":0},{"$f":"+tblMaskinliste[[#This Row],[GKO]]+tblMaskinliste[[#This Row],[KKO]]+tblMaskinliste[[#This Row],[VT]]*tblMaskinliste[[#This Row],[TimerAnvendt]]","v":0},{"$f":"IFERROR(tblMaskinliste[[#This Row],[TO]]/tblMaskinliste[[#This Row],[TimerAnvendt]],0)","v":0}]
[{"$f":"IF(tblMaskinliste[[#This Row],[IBrug]]=TRUE,TRUE,IF(F50=TRUE,TRUE,FALSE))","v":false},false,null,null,null,{"$f":"OR(tblMaskinliste[[#This Row],[Maskinnavn]]<>\"\",tblMaskinliste[[#This Row],[Maskinværdi]]<>0,tblMaskinliste[[#This Row],[Forsikring]]<>0,tblMaskinliste[[#This Row],[Diverse]]<>0,tblMaskinliste[[#This Row],[TimeVedligehold]]<>0,tblMaskinliste[[#This Row],[TimeBrændstofMængde]]<>0)","v":false},{"$f":"tblMaskinliste[[#This Row],[TimeVedligehold]]*tblMaskinliste[[#This Row],[TimerAnvendt]]","v":0},{"$f":"tblMaskinliste[[#This Row],[TimeBrændstof]]*tblMaskinliste[[#This Row],[TimerAnvendt]]","v":0},null,24,null,25,null,"Maskine",null,null,null,{"$f":"tblMaskinliste[[#This Row],[Maskinværdi]]*(1-tblMaskinliste[[#This Row],[Afskrivningsprocent]])^tblMaskinliste[[#This Row],[Levetid]]","v":0},{"$f":"IFERROR(-PMT(Rentesats,P51,tblMaskinliste[[#This Row],[Maskinværdi]],-tblMaskinliste[[#This Row],[Scrap]]),0)","v":0},{"$f":"IFERROR($T$77/$O$77*tblMaskinliste[[#This Row],[Maskinværdi]],0)","v":0},null,{"$f":"tblMaskinliste[[#This Row],[Forsikring]]+tblMaskinliste[[#This Row],[Diverse]]","v":0},null,0,{"$f":"tblMaskinliste[[#This Row],[TimeBrændstofMængde]]*Brændstofpris","v":0},{"$f":"+tblMaskinliste[[#This Row],[TimeVedligehold]]+tblMaskinliste[[#This Row],[TimeBrændstof]]","v":0},{"$f":"MASKINANVENDELSESSUM(tblMaskinliste[[#This Row],[Id]],tblOpgaveliste[Maskinvalg],tblOpgaveliste[Maskintimer])","v":0},{"$f":"+tblMaskinliste[[#This Row],[GKO]]+tblMaskinliste[[#This Row],[KKO]]+tblMaskinliste[[#This Row],[VT]]*tblMaskinliste[[#This Row],[TimerAnvendt]]","v":0},{"$f":"IFERROR(tblMaskinliste[[#This Row],[TO]]/tblMaskinliste[[#This Row],[TimerAnvendt]],0)","v":0}]
[{"$f":"IF(tblMaskinliste[[#This Row],[IBrug]]=TRUE,TRUE,IF(F51=TRUE,TRUE,FALSE))","v":false},false,null,null,null,{"$f":"OR(tblMaskinliste[[#This Row],[Maskinnavn]]<>\"\",tblMaskinliste[[#This Row],[Maskinværdi]]<>0,tblMaskinliste[[#This Row],[Forsikring]]<>0,tblMaskinliste[[#This Row],[Diverse]]<>0,tblMaskinliste[[#This Row],[TimeVedligehold]]<>0,tblMaskinliste[[#This Row],[TimeBrændstofMængde]]<>0)","v":false},{"$f":"tblMaskinliste[[#This Row],[TimeVedligehold]]*tblMaskinliste[[#This Row],[TimerAnvendt]]","v":0},{"$f":"tblMaskinliste[[#This Row],[TimeBrændstof]]*tblMaskinliste[[#This Row],[TimerAnvendt]]","v":0},null,25,null,26,null,"Maskine",null,null,null,{"$f":"tblMaskinliste[[#This Row],[Maskinværdi]]*(1-tblMaskinliste[[#This Row],[Afskrivningsprocent]])^tblMaskinliste[[#This Row],[Levetid]]","v":0},{"$f":"IFERROR(-PMT(Rentesats,P52,tblMaskinliste[[#This Row],[Maskinværdi]],-tblMaskinliste[[#This Row],[Scrap]]),0)","v":0},{"$f":"IFERROR($T$77/$O$77*tblMaskinliste[[#This Row],[Maskinværdi]],0)","v":0},null,{"$f":"tblMaskinliste[[#This Row],[Forsikring]]+tblMaskinliste[[#This Row],[Diverse]]","v":0},null,0,{"$f":"tblMaskinliste[[#This Row],[TimeBrændstofMængde]]*Brændstofpris","v":0},{"$f":"+tblMaskinliste[[#This Row],[TimeVedligehold]]+tblMaskinliste[[#This Row],[TimeBrændstof]]","v":0},{"$f":"MASKINANVENDELSESSUM(tblMaskinliste[[#This Row],[Id]],tblOpgaveliste[Maskinvalg],tblOpgaveliste[Maskintimer])","v":0},{"$f":"+tblMaskinliste[[#This Row],[GKO]]+tblMaskinliste[[#This Row],[KKO]]+tblMaskinliste[[#This Row],[VT]]*tblMaskinliste[[#This Row],[TimerAnvendt]]","v":0},{"$f":"IFERROR(tblMaskinliste[[#This Row],[TO]]/tblMaskinliste[[#This Row],[TimerAnvendt]],0)","v":0}]
[{"$f":"IF(tblMaskinliste[[#This Row],[IBrug]]=TRUE,TRUE,IF(F52=TRUE,TRUE,FALSE))","v":false},false,null,null,null,{"$f":"OR(tblMaskinliste[[#This Row],[Maskinnavn]]<>\"\",tblMaskinliste[[#This Row],[Maskinværdi]]<>0,tblMaskinliste[[#This Row],[Forsikring]]<>0,tblMaskinliste[[#This Row],[Diverse]]<>0,tblMaskinliste[[#This Row],[TimeVedligehold]]<>0,tblMaskinliste[[#This Row],[TimeBrændstofMængde]]<>0)","v":false},{"$f":"tblMaskinliste[[#This Row],[TimeVedligehold]]*tblMaskinliste[[#This Row],[TimerAnvendt]]","v":0},{"$f":"tblMaskinliste[[#This Row],[TimeBrændstof]]*tblMaskinliste[[#This Row],[TimerAnvendt]]","v":0},null,26,null,27,null,"Maskine",null,null,null,{"$f":"tblMaskinliste[[#This Row],[Maskinværdi]]*(1-tblMaskinliste[[#This Row],[Afskrivningsprocent]])^tblMaskinliste[[#This Row],[Levetid]]","v":0},{"$f":"IFERROR(-PMT(Rentesats,P53,tblMaskinliste[[#This Row],[Maskinværdi]],-tblMaskinliste[[#This Row],[Scrap]]),0)","v":0},{"$f":"IFERROR($T$77/$O$77*tblMaskinliste[[#This Row],[Maskinværdi]],0)","v":0},null,{"$f":"tblMaskinliste[[#This Row],[Forsikring]]+tblMaskinliste[[#This Row],[Diverse]]","v":0},null,0,{"$f":"tblMaskinliste[[#This Row],[TimeBrændstofMængde]]*Brændstofpris","v":0},{"$f":"+tblMaskinliste[[#This Row],[TimeVedligehold]]+tblMaskinliste[[#This Row],[TimeBrændstof]]","v":0},{"$f":"MASKINANVENDELSESSUM(tblMaskinliste[[#This Row],[Id]],tblOpgaveliste[Maskinvalg],tblOpgaveliste[Maskintimer])","v":0},{"$f":"+tblMaskinliste[[#This Row],[GKO]]+tblMaskinliste[[#This Row],[KKO]]+tblMaskinliste[[#This Row],[VT]]*tblMaskinliste[[#This Row],[TimerAnvendt]]","v":0},{"$f":"IFERROR(tblMaskinliste[[#This Row],[TO]]/tblMaskinliste[[#This Row],[TimerAnvendt]],0)","v":0}]
[{"$f":"IF(tblMaskinliste[[#This Row],[IBrug]]=TRUE,TRUE,IF(F53=TRUE,TRUE,FALSE))","v":false},false,null,null,null,{"$f":"OR(tblMaskinliste[[#This Row],[Maskinnavn]]<>\"\",tblMaskinliste[[#This Row],[Maskinværdi]]<>0,tblMaskinliste[[#This Row],[Forsikring]]<>0,tblMaskinliste[[#This Row],[Diverse]]<>0,tblMaskinliste[[#This Row],[TimeVedligehold]]<>0,tblMaskinliste[[#This Row],[TimeBrændstofMængde]]<>0)","v":false},{"$f":"tblMaskinliste[[#This Row],[TimeVedligehold]]*tblMaskinliste[[#This Row],[TimerAnvendt]]","v":0},{"$f":"tblMaskinliste[[#This Row],[TimeBrændstof]]*tblMaskinliste[[#This Row],[TimerAnvendt]]","v":0},null,27,null,28,null,"Maskine",null,null,null,{"$f":"tblMaskinliste[[#This Row],[Maskinværdi]]*(1-tblMaskinliste[[#This Row],[Afskrivningsprocent]])^tblMaskinliste[[#This Row],[Levetid]]","v":0},{"$f":"IFERROR(-PMT(Rentesats,P54,tblMaskinliste[[#This Row],[Maskinværdi]],-tblMaskinliste[[#This Row],[Scrap]]),0)","v":0},{"$f":"IFERROR($T$77/$O$77*tblMaskinliste[[#This Row],[Maskinværdi]],0)","v":0},null,{"$f":"tblMaskinliste[[#This Row],[Forsikring]]+tblMaskinliste[[#This Row],[Diverse]]","v":0},null,0,{"$f":"tblMaskinliste[[#This Row],[TimeBrændstofMængde]]*Brændstofpris","v":0},{"$f":"+tblMaskinliste[[#This Row],[TimeVedligehold]]+tblMaskinliste[[#This Row],[TimeBrændstof]]","v":0},{"$f":"MASKINANVENDELSESSUM(tblMaskinliste[[#This Row],[Id]],tblOpgaveliste[Maskinvalg],tblOpgaveliste[Maskintimer])","v":0},{"$f":"+tblMaskinliste[[#This Row],[GKO]]+tblMaskinliste[[#This Row],[KKO]]+tblMaskinliste[[#This Row],[VT]]*tblMaskinliste[[#This Row],[TimerAnvendt]]","v":0},{"$f":"IFERROR(tblMaskinliste[[#This Row],[TO]]/tblMaskinliste[[#This Row],[TimerAnvendt]],0)","v":0}]
[{"$f":"IF(tblMaskinliste[[#This Row],[IBrug]]=TRUE,TRUE,IF(F54=TRUE,TRUE,FALSE))","v":false},false,null,null,null,{"$f":"OR(tblMaskinliste[[#This Row],[Maskinnavn]]<>\"\",tblMaskinliste[[#This Row],[Maskinværdi]]<>0,tblMaskinliste[[#This Row],[Forsikring]]<>0,tblMaskinliste[[#This Row],[Diverse]]<>0,tblMaskinliste[[#This Row],[TimeVedligehold]]<>0,tblMaskinliste[[#This Row],[TimeBrændstofMængde]]<>0)","v":false},{"$f":"tblMaskinliste[[#This Row],[TimeVedligehold]]*tblMaskinliste[[#This Row],[TimerAnvendt]]","v":0},{"$f":"tblMaskinliste[[#This Row],[TimeBrændstof]]*tblMaskinliste[[#This Row],[TimerAnvendt]]","v":0},null,28,null,29,null,"Maskine",null,null,null,{"$f":"tblMaskinliste[[#This Row],[Maskinværdi]]*(1-tblMaskinliste[[#This Row],[Afskrivningsprocent]])^tblMaskinliste[[#This Row],[Levetid]]","v":0},{"$f":"IFERROR(-PMT(Rentesats,P55,tblMaskinliste[[#This Row],[Maskinværdi]],-tblMaskinliste[[#This Row],[Scrap]]),0)","v":0},{"$f":"IFERROR($T$77/$O$77*tblMaskinliste[[#This Row],[Maskinværdi]],0)","v":0},null,{"$f":"tblMaskinliste[[#This Row],[Forsikring]]+tblMaskinliste[[#This Row],[Diverse]]","v":0},null,0,{"$f":"tblMaskinliste[[#This Row],[TimeBrændstofMængde]]*Brændstofpris","v":0},{"$f":"+tblMaskinliste[[#This Row],[TimeVedligehold]]+tblMaskinliste[[#This Row],[TimeBrændstof]]","v":0},{"$f":"MASKINANVENDELSESSUM(tblMaskinliste[[#This Row],[Id]],tblOpgaveliste[Maskinvalg],tblOpgaveliste[Maskintimer])","v":0},{"$f":"+tblMaskinliste[[#This Row],[GKO]]+tblMaskinliste[[#This Row],[KKO]]+tblMaskinliste[[#This Row],[VT]]*tblMaskinliste[[#This Row],[TimerAnvendt]]","v":0},{"$f":"IFERROR(tblMaskinliste[[#This Row],[TO]]/tblMaskinliste[[#This Row],[TimerAnvendt]],0)","v":0}]
[{"$f":"IF(tblMaskinliste[[#This Row],[IBrug]]=TRUE,TRUE,IF(F55=TRUE,TRUE,FALSE))","v":false},false,null,null,null,{"$f":"OR(tblMaskinliste[[#This Row],[Maskinnavn]]<>\"\",tblMaskinliste[[#This Row],[Maskinværdi]]<>0,tblMaskinliste[[#This Row],[Forsikring]]<>0,tblMaskinliste[[#This Row],[Diverse]]<>0,tblMaskinliste[[#This Row],[TimeVedligehold]]<>0,tblMaskinliste[[#This Row],[TimeBrændstofMængde]]<>0)","v":false},{"$f":"tblMaskinliste[[#This Row],[TimeVedligehold]]*tblMaskinliste[[#This Row],[TimerAnvendt]]","v":0},{"$f":"tblMaskinliste[[#This Row],[TimeBrændstof]]*tblMaskinliste[[#This Row],[TimerAnvendt]]","v":0},null,29,null,30,null,"Maskine",null,null,null,{"$f":"tblMaskinliste[[#This Row],[Maskinværdi]]*(1-tblMaskinliste[[#This Row],[Afskrivningsprocent]])^tblMaskinliste[[#This Row],[Levetid]]","v":0},{"$f":"IFERROR(-PMT(Rentesats,P56,tblMaskinliste[[#This Row],[Maskinværdi]],-tblMaskinliste[[#This Row],[Scrap]]),0)","v":0},{"$f":"IFERROR($T$77/$O$77*tblMaskinliste[[#This Row],[Maskinværdi]],0)","v":0},null,{"$f":"tblMaskinliste[[#This Row],[Forsikring]]+tblMaskinliste[[#This Row],[Diverse]]","v":0},null,0,{"$f":"tblMaskinliste[[#This Row],[TimeBrændstofMængde]]*Brændstofpris","v":0},{"$f":"+tblMaskinliste[[#This Row],[TimeVedligehold]]+tblMaskinliste[[#This Row],[TimeBrændstof]]","v":0},{"$f":"MASKINANVENDELSESSUM(tblMaskinliste[[#This Row],[Id]],tblOpgaveliste[Maskinvalg],tblOpgaveliste[Maskintimer])","v":0},{"$f":"+tblMaskinliste[[#This Row],[GKO]]+tblMaskinliste[[#This Row],[KKO]]+tblMaskinliste[[#This Row],[VT]]*tblMaskinliste[[#This Row],[TimerAnvendt]]","v":0},{"$f":"IFERROR(tblMaskinliste[[#This Row],[TO]]/tblMaskinliste[[#This Row],[TimerAnvendt]],0)","v":0}]
[{"$f":"IF(tblMaskinliste[[#This Row],[IBrug]]=TRUE,TRUE,IF(F56=TRUE,TRUE,FALSE))","v":false},false,null,null,null,{"$f":"OR(tblMaskinliste[[#This Row],[Maskinnavn]]<>\"\",tblMaskinliste[[#This Row],[Maskinværdi]]<>0,tblMaskinliste[[#This Row],[Forsikring]]<>0,tblMaskinliste[[#This Row],[Diverse]]<>0,tblMaskinliste[[#This Row],[TimeVedligehold]]<>0,tblMaskinliste[[#This Row],[TimeBrændstofMængde]]<>0)","v":false},{"$f":"tblMaskinliste[[#This Row],[TimeVedligehold]]*tblMaskinliste[[#This Row],[TimerAnvendt]]","v":0},{"$f":"tblMaskinliste[[#This Row],[TimeBrændstof]]*tblMaskinliste[[#This Row],[TimerAnvendt]]","v":0},null,30,null,31,null,"Maskine",null,null,null,{"$f":"tblMaskinliste[[#This Row],[Maskinværdi]]*(1-tblMaskinliste[[#This Row],[Afskrivningsprocent]])^tblMaskinliste[[#This Row],[Levetid]]","v":0},{"$f":"IFERROR(-PMT(Rentesats,P57,tblMaskinliste[[#This Row],[Maskinværdi]],-tblMaskinliste[[#This Row],[Scrap]]),0)","v":0},{"$f":"IFERROR($T$77/$O$77*tblMaskinliste[[#This Row],[Maskinværdi]],0)","v":0},null,{"$f":"tblMaskinliste[[#This Row],[Forsikring]]+tblMaskinliste[[#This Row],[Diverse]]","v":0},null,0,{"$f":"tblMaskinliste[[#This Row],[TimeBrændstofMængde]]*Brændstofpris","v":0},{"$f":"+tblMaskinliste[[#This Row],[TimeVedligehold]]+tblMaskinliste[[#This Row],[TimeBrændstof]]","v":0},{"$f":"MASKINANVENDELSESSUM(tblMaskinliste[[#This Row],[Id]],tblOpgaveliste[Maskinvalg],tblOpgaveliste[Maskintimer])","v":0},{"$f":"+tblMaskinliste[[#This Row],[GKO]]+tblMaskinliste[[#This Row],[KKO]]+tblMaskinliste[[#This Row],[VT]]*tblMaskinliste[[#This Row],[TimerAnvendt]]","v":0},{"$f":"IFERROR(tblMaskinliste[[#This Row],[TO]]/tblMaskinliste[[#This Row],[TimerAnvendt]],0)","v":0}]
[{"$f":"IF(tblMaskinliste[[#This Row],[IBrug]]=TRUE,TRUE,IF(F57=TRUE,TRUE,FALSE))","v":false},false,null,null,null,{"$f":"OR(tblMaskinliste[[#This Row],[Maskinnavn]]<>\"\",tblMaskinliste[[#This Row],[Maskinværdi]]<>0,tblMaskinliste[[#This Row],[Forsikring]]<>0,tblMaskinliste[[#This Row],[Diverse]]<>0,tblMaskinliste[[#This Row],[TimeVedligehold]]<>0,tblMaskinliste[[#This Row],[TimeBrændstofMængde]]<>0)","v":false},{"$f":"tblMaskinliste[[#This Row],[TimeVedligehold]]*tblMaskinliste[[#This Row],[TimerAnvendt]]","v":0},{"$f":"tblMaskinliste[[#This Row],[TimeBrændstof]]*tblMaskinliste[[#This Row],[TimerAnvendt]]","v":0},null,31,null,32,null,"Maskine",null,null,null,{"$f":"tblMaskinliste[[#This Row],[Maskinværdi]]*(1-tblMaskinliste[[#This Row],[Afskrivningsprocent]])^tblMaskinliste[[#This Row],[Levetid]]","v":0},{"$f":"IFERROR(-PMT(Rentesats,P58,tblMaskinliste[[#This Row],[Maskinværdi]],-tblMaskinliste[[#This Row],[Scrap]]),0)","v":0},{"$f":"IFERROR($T$77/$O$77*tblMaskinliste[[#This Row],[Maskinværdi]],0)","v":0},null,{"$f":"tblMaskinliste[[#This Row],[Forsikring]]+tblMaskinliste[[#This Row],[Diverse]]","v":0},null,0,{"$f":"tblMaskinliste[[#This Row],[TimeBrændstofMængde]]*Brændstofpris","v":0},{"$f":"+tblMaskinliste[[#This Row],[TimeVedligehold]]+tblMaskinliste[[#This Row],[TimeBrændstof]]","v":0},{"$f":"MASKINANVENDELSESSUM(tblMaskinliste[[#This Row],[Id]],tblOpgaveliste[Maskinvalg],tblOpgaveliste[Maskintimer])","v":0},{"$f":"+tblMaskinliste[[#This Row],[GKO]]+tblMaskinliste[[#This Row],[KKO]]+tblMaskinliste[[#This Row],[VT]]*tblMaskinliste[[#This Row],[TimerAnvendt]]","v":0},{"$f":"IFERROR(tblMaskinliste[[#This Row],[TO]]/tblMaskinliste[[#This Row],[TimerAnvendt]],0)","v":0}]
[{"$f":"IF(tblMaskinliste[[#This Row],[IBrug]]=TRUE,TRUE,IF(F58=TRUE,TRUE,FALSE))","v":false},false,null,null,null,{"$f":"OR(tblMaskinliste[[#This Row],[Maskinnavn]]<>\"\",tblMaskinliste[[#This Row],[Maskinværdi]]<>0,tblMaskinliste[[#This Row],[Forsikring]]<>0,tblMaskinliste[[#This Row],[Diverse]]<>0,tblMaskinliste[[#This Row],[TimeVedligehold]]<>0,tblMaskinliste[[#This Row],[TimeBrændstofMængde]]<>0)","v":false},{"$f":"tblMaskinliste[[#This Row],[TimeVedligehold]]*tblMaskinliste[[#This Row],[TimerAnvendt]]","v":0},{"$f":"tblMaskinliste[[#This Row],[TimeBrændstof]]*tblMaskinliste[[#This Row],[TimerAnvendt]]","v":0},null,32,null,33,null,"Maskine",null,null,null,{"$f":"tblMaskinliste[[#This Row],[Maskinværdi]]*(1-tblMaskinliste[[#This Row],[Afskrivningsprocent]])^tblMaskinliste[[#This Row],[Levetid]]","v":0},{"$f":"IFERROR(-PMT(Rentesats,P59,tblMaskinliste[[#This Row],[Maskinværdi]],-tblMaskinliste[[#This Row],[Scrap]]),0)","v":0},{"$f":"IFERROR($T$77/$O$77*tblMaskinliste[[#This Row],[Maskinværdi]],0)","v":0},null,{"$f":"tblMaskinliste[[#This Row],[Forsikring]]+tblMaskinliste[[#This Row],[Diverse]]","v":0},null,0,{"$f":"tblMaskinliste[[#This Row],[TimeBrændstofMængde]]*Brændstofpris","v":0},{"$f":"+tblMaskinliste[[#This Row],[TimeVedligehold]]+tblMaskinliste[[#This Row],[TimeBrændstof]]","v":0},{"$f":"MASKINANVENDELSESSUM(tblMaskinliste[[#This Row],[Id]],tblOpgaveliste[Maskinvalg],tblOpgaveliste[Maskintimer])","v":0},{"$f":"+tblMaskinliste[[#This Row],[GKO]]+tblMaskinliste[[#This Row],[KKO]]+tblMaskinliste[[#This Row],[VT]]*tblMaskinliste[[#This Row],[TimerAnvendt]]","v":0},{"$f":"IFERROR(tblMaskinliste[[#This Row],[TO]]/tblMaskinliste[[#This Row],[TimerAnvendt]],0)","v":0}]
[{"$f":"IF(tblMaskinliste[[#This Row],[IBrug]]=TRUE,TRUE,IF(F59=TRUE,TRUE,FALSE))","v":false},false,null,null,null,{"$f":"OR(tblMaskinliste[[#This Row],[Maskinnavn]]<>\"\",tblMaskinliste[[#This Row],[Maskinværdi]]<>0,tblMaskinliste[[#This Row],[Forsikring]]<>0,tblMaskinliste[[#This Row],[Diverse]]<>0,tblMaskinliste[[#This Row],[TimeVedligehold]]<>0,tblMaskinliste[[#This Row],[TimeBrændstofMængde]]<>0)","v":false},{"$f":"tblMaskinliste[[#This Row],[TimeVedligehold]]*tblMaskinliste[[#This Row],[TimerAnvendt]]","v":0},{"$f":"tblMaskinliste[[#This Row],[TimeBrændstof]]*tblMaskinliste[[#This Row],[TimerAnvendt]]","v":0},null,33,null,34,null,"Maskine",null,null,null,{"$f":"tblMaskinliste[[#This Row],[Maskinværdi]]*(1-tblMaskinliste[[#This Row],[Afskrivningsprocent]])^tblMaskinliste[[#This Row],[Levetid]]","v":0},{"$f":"IFERROR(-PMT(Rentesats,P60,tblMaskinliste[[#This Row],[Maskinværdi]],-tblMaskinliste[[#This Row],[Scrap]]),0)","v":0},{"$f":"IFERROR($T$77/$O$77*tblMaskinliste[[#This Row],[Maskinværdi]],0)","v":0},null,{"$f":"tblMaskinliste[[#This Row],[Forsikring]]+tblMaskinliste[[#This Row],[Diverse]]","v":0},null,0,{"$f":"tblMaskinliste[[#This Row],[TimeBrændstofMængde]]*Brændstofpris","v":0},{"$f":"+tblMaskinliste[[#This Row],[TimeVedligehold]]+tblMaskinliste[[#This Row],[TimeBrændstof]]","v":0},{"$f":"MASKINANVENDELSESSUM(tblMaskinliste[[#This Row],[Id]],tblOpgaveliste[Maskinvalg],tblOpgaveliste[Maskintimer])","v":0},{"$f":"+tblMaskinliste[[#This Row],[GKO]]+tblMaskinliste[[#This Row],[KKO]]+tblMaskinliste[[#This Row],[VT]]*tblMaskinliste[[#This Row],[TimerAnvendt]]","v":0},{"$f":"IFERROR(tblMaskinliste[[#This Row],[TO]]/tblMaskinliste[[#This Row],[TimerAnvendt]],0)","v":0}]
[{"$f":"IF(tblMaskinliste[[#This Row],[IBrug]]=TRUE,TRUE,IF(F60=TRUE,TRUE,FALSE))","v":false},false,null,null,null,{"$f":"OR(tblMaskinliste[[#This Row],[Maskinnavn]]<>\"\",tblMaskinliste[[#This Row],[Maskinværdi]]<>0,tblMaskinliste[[#This Row],[Forsikring]]<>0,tblMaskinliste[[#This Row],[Diverse]]<>0,tblMaskinliste[[#This Row],[TimeVedligehold]]<>0,tblMaskinliste[[#This Row],[TimeBrændstofMængde]]<>0)","v":false},{"$f":"tblMaskinliste[[#This Row],[TimeVedligehold]]*tblMaskinliste[[#This Row],[TimerAnvendt]]","v":0},{"$f":"tblMaskinliste[[#This Row],[TimeBrændstof]]*tblMaskinliste[[#This Row],[TimerAnvendt]]","v":0},null,34,null,35,null,"Maskine",null,null,null,{"$f":"tblMaskinliste[[#This Row],[Maskinværdi]]*(1-tblMaskinliste[[#This Row],[Afskrivningsprocent]])^tblMaskinliste[[#This Row],[Levetid]]","v":0},{"$f":"IFERROR(-PMT(Rentesats,P61,tblMaskinliste[[#This Row],[Maskinværdi]],-tblMaskinliste[[#This Row],[Scrap]]),0)","v":0},{"$f":"IFERROR($T$77/$O$77*tblMaskinliste[[#This Row],[Maskinværdi]],0)","v":0},null,{"$f":"tblMaskinliste[[#This Row],[Forsikring]]+tblMaskinliste[[#This Row],[Diverse]]","v":0},null,0,{"$f":"tblMaskinliste[[#This Row],[TimeBrændstofMængde]]*Brændstofpris","v":0},{"$f":"+tblMaskinliste[[#This Row],[TimeVedligehold]]+tblMaskinliste[[#This Row],[TimeBrændstof]]","v":0},{"$f":"MASKINANVENDELSESSUM(tblMaskinliste[[#This Row],[Id]],tblOpgaveliste[Maskinvalg],tblOpgaveliste[Maskintimer])","v":0},{"$f":"+tblMaskinliste[[#This Row],[GKO]]+tblMaskinliste[[#This Row],[KKO]]+tblMaskinliste[[#This Row],[VT]]*tblMaskinliste[[#This Row],[TimerAnvendt]]","v":0},{"$f":"IFERROR(tblMaskinliste[[#This Row],[TO]]/tblMaskinliste[[#This Row],[TimerAnvendt]],0)","v":0}]
[{"$f":"IF(tblMaskinliste[[#This Row],[IBrug]]=TRUE,TRUE,IF(F61=TRUE,TRUE,FALSE))","v":false},false,null,null,null,{"$f":"OR(tblMaskinliste[[#This Row],[Maskinnavn]]<>\"\",tblMaskinliste[[#This Row],[Maskinværdi]]<>0,tblMaskinliste[[#This Row],[Forsikring]]<>0,tblMaskinliste[[#This Row],[Diverse]]<>0,tblMaskinliste[[#This Row],[TimeVedligehold]]<>0,tblMaskinliste[[#This Row],[TimeBrændstofMængde]]<>0)","v":false},{"$f":"tblMaskinliste[[#This Row],[TimeVedligehold]]*tblMaskinliste[[#This Row],[TimerAnvendt]]","v":0},{"$f":"tblMaskinliste[[#This Row],[TimeBrændstof]]*tblMaskinliste[[#This Row],[TimerAnvendt]]","v":0},null,35,null,36,null,"Maskine",null,null,null,{"$f":"tblMaskinliste[[#This Row],[Maskinværdi]]*(1-tblMaskinliste[[#This Row],[Afskrivningsprocent]])^tblMaskinliste[[#This Row],[Levetid]]","v":0},{"$f":"IFERROR(-PMT(Rentesats,P62,tblMaskinliste[[#This Row],[Maskinværdi]],-tblMaskinliste[[#This Row],[Scrap]]),0)","v":0},{"$f":"IFERROR($T$77/$O$77*tblMaskinliste[[#This Row],[Maskinværdi]],0)","v":0},null,{"$f":"tblMaskinliste[[#This Row],[Forsikring]]+tblMaskinliste[[#This Row],[Diverse]]","v":0},null,0,{"$f":"tblMaskinliste[[#This Row],[TimeBrændstofMængde]]*Brændstofpris","v":0},{"$f":"+tblMaskinliste[[#This Row],[TimeVedligehold]]+tblMaskinliste[[#This Row],[TimeBrændstof]]","v":0},{"$f":"MASKINANVENDELSESSUM(tblMaskinliste[[#This Row],[Id]],tblOpgaveliste[Maskinvalg],tblOpgaveliste[Maskintimer])","v":0},{"$f":"+tblMaskinliste[[#This Row],[GKO]]+tblMaskinliste[[#This Row],[KKO]]+tblMaskinliste[[#This Row],[VT]]*tblMaskinliste[[#This Row],[TimerAnvendt]]","v":0},{"$f":"IFERROR(tblMaskinliste[[#This Row],[TO]]/tblMaskinliste[[#This Row],[TimerAnvendt]],0)","v":0}]
[{"$f":"IF(tblMaskinliste[[#This Row],[IBrug]]=TRUE,TRUE,IF(F62=TRUE,TRUE,FALSE))","v":false},false,null,null,null,{"$f":"OR(tblMaskinliste[[#This Row],[Maskinnavn]]<>\"\",tblMaskinliste[[#This Row],[Maskinværdi]]<>0,tblMaskinliste[[#This Row],[Forsikring]]<>0,tblMaskinliste[[#This Row],[Diverse]]<>0,tblMaskinliste[[#This Row],[TimeVedligehold]]<>0,tblMaskinliste[[#This Row],[TimeBrændstofMængde]]<>0)","v":false},{"$f":"tblMaskinliste[[#This Row],[TimeVedligehold]]*tblMaskinliste[[#This Row],[TimerAnvendt]]","v":0},{"$f":"tblMaskinliste[[#This Row],[TimeBrændstof]]*tblMaskinliste[[#This Row],[TimerAnvendt]]","v":0},null,36,null,37,null,"Maskine",null,null,null,{"$f":"tblMaskinliste[[#This Row],[Maskinværdi]]*(1-tblMaskinliste[[#This Row],[Afskrivningsprocent]])^tblMaskinliste[[#This Row],[Levetid]]","v":0},{"$f":"IFERROR(-PMT(Rentesats,P63,tblMaskinliste[[#This Row],[Maskinværdi]],-tblMaskinliste[[#This Row],[Scrap]]),0)","v":0},{"$f":"IFERROR($T$77/$O$77*tblMaskinliste[[#This Row],[Maskinværdi]],0)","v":0},null,{"$f":"tblMaskinliste[[#This Row],[Forsikring]]+tblMaskinliste[[#This Row],[Diverse]]","v":0},null,0,{"$f":"tblMaskinliste[[#This Row],[TimeBrændstofMængde]]*Brændstofpris","v":0},{"$f":"+tblMaskinliste[[#This Row],[TimeVedligehold]]+tblMaskinliste[[#This Row],[TimeBrændstof]]","v":0},{"$f":"MASKINANVENDELSESSUM(tblMaskinliste[[#This Row],[Id]],tblOpgaveliste[Maskinvalg],tblOpgaveliste[Maskintimer])","v":0},{"$f":"+tblMaskinliste[[#This Row],[GKO]]+tblMaskinliste[[#This Row],[KKO]]+tblMaskinliste[[#This Row],[VT]]*tblMaskinliste[[#This Row],[TimerAnvendt]]","v":0},{"$f":"IFERROR(tblMaskinliste[[#This Row],[TO]]/tblMaskinliste[[#This Row],[TimerAnvendt]],0)","v":0}]
[{"$f":"IF(tblMaskinliste[[#This Row],[IBrug]]=TRUE,TRUE,IF(F63=TRUE,TRUE,FALSE))","v":false},false,null,null,null,{"$f":"OR(tblMaskinliste[[#This Row],[Maskinnavn]]<>\"\",tblMaskinliste[[#This Row],[Maskinværdi]]<>0,tblMaskinliste[[#This Row],[Forsikring]]<>0,tblMaskinliste[[#This Row],[Diverse]]<>0,tblMaskinliste[[#This Row],[TimeVedligehold]]<>0,tblMaskinliste[[#This Row],[TimeBrændstofMængde]]<>0)","v":false},{"$f":"tblMaskinliste[[#This Row],[TimeVedligehold]]*tblMaskinliste[[#This Row],[TimerAnvendt]]","v":0},{"$f":"tblMaskinliste[[#This Row],[TimeBrændstof]]*tblMaskinliste[[#This Row],[TimerAnvendt]]","v":0},null,37,null,38,null,"Maskine",null,null,null,{"$f":"tblMaskinliste[[#This Row],[Maskinværdi]]*(1-tblMaskinliste[[#This Row],[Afskrivningsprocent]])^tblMaskinliste[[#This Row],[Levetid]]","v":0},{"$f":"IFERROR(-PMT(Rentesats,P64,tblMaskinliste[[#This Row],[Maskinværdi]],-tblMaskinliste[[#This Row],[Scrap]]),0)","v":0},{"$f":"IFERROR($T$77/$O$77*tblMaskinliste[[#This Row],[Maskinværdi]],0)","v":0},null,{"$f":"tblMaskinliste[[#This Row],[Forsikring]]+tblMaskinliste[[#This Row],[Diverse]]","v":0},null,0,{"$f":"tblMaskinliste[[#This Row],[TimeBrændstofMængde]]*Brændstofpris","v":0},{"$f":"+tblMaskinliste[[#This Row],[TimeVedligehold]]+tblMaskinliste[[#This Row],[TimeBrændstof]]","v":0},{"$f":"MASKINANVENDELSESSUM(tblMaskinliste[[#This Row],[Id]],tblOpgaveliste[Maskinvalg],tblOpgaveliste[Maskintimer])","v":0},{"$f":"+tblMaskinliste[[#This Row],[GKO]]+tblMaskinliste[[#This Row],[KKO]]+tblMaskinliste[[#This Row],[VT]]*tblMaskinliste[[#This Row],[TimerAnvendt]]","v":0},{"$f":"IFERROR(tblMaskinliste[[#This Row],[TO]]/tblMaskinliste[[#This Row],[TimerAnvendt]],0)","v":0}]
[{"$f":"IF(tblMaskinliste[[#This Row],[IBrug]]=TRUE,TRUE,IF(F64=TRUE,TRUE,FALSE))","v":false},false,null,null,null,{"$f":"OR(tblMaskinliste[[#This Row],[Maskinnavn]]<>\"\",tblMaskinliste[[#This Row],[Maskinværdi]]<>0,tblMaskinliste[[#This Row],[Forsikring]]<>0,tblMaskinliste[[#This Row],[Diverse]]<>0,tblMaskinliste[[#This Row],[TimeVedligehold]]<>0,tblMaskinliste[[#This Row],[TimeBrændstofMængde]]<>0)","v":false},{"$f":"tblMaskinliste[[#This Row],[TimeVedligehold]]*tblMaskinliste[[#This Row],[TimerAnvendt]]","v":0},{"$f":"tblMaskinliste[[#This Row],[TimeBrændstof]]*tblMaskinliste[[#This Row],[TimerAnvendt]]","v":0},null,38,null,39,null,"Maskine",null,null,null,{"$f":"tblMaskinliste[[#This Row],[Maskinværdi]]*(1-tblMaskinliste[[#This Row],[Afskrivningsprocent]])^tblMaskinliste[[#This Row],[Levetid]]","v":0},{"$f":"IFERROR(-PMT(Rentesats,P65,tblMaskinliste[[#This Row],[Maskinværdi]],-tblMaskinliste[[#This Row],[Scrap]]),0)","v":0},{"$f":"IFERROR($T$77/$O$77*tblMaskinliste[[#This Row],[Maskinværdi]],0)","v":0},null,{"$f":"tblMaskinliste[[#This Row],[Forsikring]]+tblMaskinliste[[#This Row],[Diverse]]","v":0},null,0,{"$f":"tblMaskinliste[[#This Row],[TimeBrændstofMængde]]*Brændstofpris","v":0},{"$f":"+tblMaskinliste[[#This Row],[TimeVedligehold]]+tblMaskinliste[[#This Row],[TimeBrændstof]]","v":0},{"$f":"MASKINANVENDELSESSUM(tblMaskinliste[[#This Row],[Id]],tblOpgaveliste[Maskinvalg],tblOpgaveliste[Maskintimer])","v":0},{"$f":"+tblMaskinliste[[#This Row],[GKO]]+tblMaskinliste[[#This Row],[KKO]]+tblMaskinliste[[#This Row],[VT]]*tblMaskinliste[[#This Row],[TimerAnvendt]]","v":0},{"$f":"IFERROR(tblMaskinliste[[#This Row],[TO]]/tblMaskinliste[[#This Row],[TimerAnvendt]],0)","v":0}]
[{"$f":"IF(tblMaskinliste[[#This Row],[IBrug]]=TRUE,TRUE,IF(F65=TRUE,TRUE,FALSE))","v":false},false,null,null,null,{"$f":"OR(tblMaskinliste[[#This Row],[Maskinnavn]]<>\"\",tblMaskinliste[[#This Row],[Maskinværdi]]<>0,tblMaskinliste[[#This Row],[Forsikring]]<>0,tblMaskinliste[[#This Row],[Diverse]]<>0,tblMaskinliste[[#This Row],[TimeVedligehold]]<>0,tblMaskinliste[[#This Row],[TimeBrændstofMængde]]<>0)","v":false},{"$f":"tblMaskinliste[[#This Row],[TimeVedligehold]]*tblMaskinliste[[#This Row],[TimerAnvendt]]","v":0},{"$f":"tblMaskinliste[[#This Row],[TimeBrændstof]]*tblMaskinliste[[#This Row],[TimerAnvendt]]","v":0},null,39,null,40,null,"Maskine",null,null,null,{"$f":"tblMaskinliste[[#This Row],[Maskinværdi]]*(1-tblMaskinliste[[#This Row],[Afskrivningsprocent]])^tblMaskinliste[[#This Row],[Levetid]]","v":0},{"$f":"IFERROR(-PMT(Rentesats,P66,tblMaskinliste[[#This Row],[Maskinværdi]],-tblMaskinliste[[#This Row],[Scrap]]),0)","v":0},{"$f":"IFERROR($T$77/$O$77*tblMaskinliste[[#This Row],[Maskinværdi]],0)","v":0},null,{"$f":"tblMaskinliste[[#This Row],[Forsikring]]+tblMaskinliste[[#This Row],[Diverse]]","v":0},null,0,{"$f":"tblMaskinliste[[#This Row],[TimeBrændstofMængde]]*Brændstofpris","v":0},{"$f":"+tblMaskinliste[[#This Row],[TimeVedligehold]]+tblMaskinliste[[#This Row],[TimeBrændstof]]","v":0},{"$f":"MASKINANVENDELSESSUM(tblMaskinliste[[#This Row],[Id]],tblOpgaveliste[Maskinvalg],tblOpgaveliste[Maskintimer])","v":0},{"$f":"+tblMaskinliste[[#This Row],[GKO]]+tblMaskinliste[[#This Row],[KKO]]+tblMaskinliste[[#This Row],[VT]]*tblMaskinliste[[#This Row],[TimerAnvendt]]","v":0},{"$f":"IFERROR(tblMaskinliste[[#This Row],[TO]]/tblMaskinliste[[#This Row],[TimerAnvendt]],0)","v":0}]
[{"$f":"IF(tblMaskinliste[[#This Row],[IBrug]]=TRUE,TRUE,IF(F66=TRUE,TRUE,FALSE))","v":false},false,null,null,null,{"$f":"OR(tblMaskinliste[[#This Row],[Maskinnavn]]<>\"\",tblMaskinliste[[#This Row],[Maskinværdi]]<>0,tblMaskinliste[[#This Row],[Forsikring]]<>0,tblMaskinliste[[#This Row],[Diverse]]<>0,tblMaskinliste[[#This Row],[TimeVedligehold]]<>0,tblMaskinliste[[#This Row],[TimeBrændstofMængde]]<>0)","v":false},{"$f":"tblMaskinliste[[#This Row],[TimeVedligehold]]*tblMaskinliste[[#This Row],[TimerAnvendt]]","v":0},{"$f":"tblMaskinliste[[#This Row],[TimeBrændstof]]*tblMaskinliste[[#This Row],[TimerAnvendt]]","v":0},null,40,null,41,null,"Maskine",null,null,null,{"$f":"tblMaskinliste[[#This Row],[Maskinværdi]]*(1-tblMaskinliste[[#This Row],[Afskrivningsprocent]])^tblMaskinliste[[#This Row],[Levetid]]","v":0},{"$f":"IFERROR(-PMT(Rentesats,P67,tblMaskinliste[[#This Row],[Maskinværdi]],-tblMaskinliste[[#This Row],[Scrap]]),0)","v":0},{"$f":"IFERROR($T$77/$O$77*tblMaskinliste[[#This Row],[Maskinværdi]],0)","v":0},null,{"$f":"tblMaskinliste[[#This Row],[Forsikring]]+tblMaskinliste[[#This Row],[Diverse]]","v":0},null,0,{"$f":"tblMaskinliste[[#This Row],[TimeBrændstofMængde]]*Brændstofpris","v":0},{"$f":"+tblMaskinliste[[#This Row],[TimeVedligehold]]+tblMaskinliste[[#This Row],[TimeBrændstof]]","v":0},{"$f":"MASKINANVENDELSESSUM(tblMaskinliste[[#This Row],[Id]],tblOpgaveliste[Maskinvalg],tblOpgaveliste[Maskintimer])","v":0},{"$f":"+tblMaskinliste[[#This Row],[GKO]]+tblMaskinliste[[#This Row],[KKO]]+tblMaskinliste[[#This Row],[VT]]*tblMaskinliste[[#This Row],[TimerAnvendt]]","v":0},{"$f":"IFERROR(tblMaskinliste[[#This Row],[TO]]/tblMaskinliste[[#This Row],[TimerAnvendt]],0)","v":0}]
[{"$f":"IF(tblMaskinliste[[#This Row],[IBrug]]=TRUE,TRUE,IF(F67=TRUE,TRUE,FALSE))","v":false},false,null,null,null,{"$f":"OR(tblMaskinliste[[#This Row],[Maskinnavn]]<>\"\",tblMaskinliste[[#This Row],[Maskinværdi]]<>0,tblMaskinliste[[#This Row],[Forsikring]]<>0,tblMaskinliste[[#This Row],[Diverse]]<>0,tblMaskinliste[[#This Row],[TimeVedligehold]]<>0,tblMaskinliste[[#This Row],[TimeBrændstofMængde]]<>0)","v":false},{"$f":"tblMaskinliste[[#This Row],[TimeVedligehold]]*tblMaskinliste[[#This Row],[TimerAnvendt]]","v":0},{"$f":"tblMaskinliste[[#This Row],[TimeBrændstof]]*tblMaskinliste[[#This Row],[TimerAnvendt]]","v":0},null,41,null,42,null,"Maskine",null,null,null,{"$f":"tblMaskinliste[[#This Row],[Maskinværdi]]*(1-tblMaskinliste[[#This Row],[Afskrivningsprocent]])^tblMaskinliste[[#This Row],[Levetid]]","v":0},{"$f":"IFERROR(-PMT(Rentesats,P68,tblMaskinliste[[#This Row],[Maskinværdi]],-tblMaskinliste[[#This Row],[Scrap]]),0)","v":0},{"$f":"IFERROR($T$77/$O$77*tblMaskinliste[[#This Row],[Maskinværdi]],0)","v":0},null,{"$f":"tblMaskinliste[[#This Row],[Forsikring]]+tblMaskinliste[[#This Row],[Diverse]]","v":0},null,0,{"$f":"tblMaskinliste[[#This Row],[TimeBrændstofMængde]]*Brændstofpris","v":0},{"$f":"+tblMaskinliste[[#This Row],[TimeVedligehold]]+tblMaskinliste[[#This Row],[TimeBrændstof]]","v":0},{"$f":"MASKINANVENDELSESSUM(tblMaskinliste[[#This Row],[Id]],tblOpgaveliste[Maskinvalg],tblOpgaveliste[Maskintimer])","v":0},{"$f":"+tblMaskinliste[[#This Row],[GKO]]+tblMaskinliste[[#This Row],[KKO]]+tblMaskinliste[[#This Row],[VT]]*tblMaskinliste[[#This Row],[TimerAnvendt]]","v":0},{"$f":"IFERROR(tblMaskinliste[[#This Row],[TO]]/tblMaskinliste[[#This Row],[TimerAnvendt]],0)","v":0}]
[{"$f":"IF(tblMaskinliste[[#This Row],[IBrug]]=TRUE,TRUE,IF(F68=TRUE,TRUE,FALSE))","v":false},false,null,null,null,{"$f":"OR(tblMaskinliste[[#This Row],[Maskinnavn]]<>\"\",tblMaskinliste[[#This Row],[Maskinværdi]]<>0,tblMaskinliste[[#This Row],[Forsikring]]<>0,tblMaskinliste[[#This Row],[Diverse]]<>0,tblMaskinliste[[#This Row],[TimeVedligehold]]<>0,tblMaskinliste[[#This Row],[TimeBrændstofMængde]]<>0)","v":false},{"$f":"tblMaskinliste[[#This Row],[TimeVedligehold]]*tblMaskinliste[[#This Row],[TimerAnvendt]]","v":0},{"$f":"tblMaskinliste[[#This Row],[TimeBrændstof]]*tblMaskinliste[[#This Row],[TimerAnvendt]]","v":0},null,42,null,43,null,"Maskine",null,null,null,{"$f":"tblMaskinliste[[#This Row],[Maskinværdi]]*(1-tblMaskinliste[[#This Row],[Afskrivningsprocent]])^tblMaskinliste[[#This Row],[Levetid]]","v":0},{"$f":"IFERROR(-PMT(Rentesats,P69,tblMaskinliste[[#This Row],[Maskinværdi]],-tblMaskinliste[[#This Row],[Scrap]]),0)","v":0},{"$f":"IFERROR($T$77/$O$77*tblMaskinliste[[#This Row],[Maskinværdi]],0)","v":0},null,{"$f":"tblMaskinliste[[#This Row],[Forsikring]]+tblMaskinliste[[#This Row],[Diverse]]","v":0},null,0,{"$f":"tblMaskinliste[[#This Row],[TimeBrændstofMængde]]*Brændstofpris","v":0},{"$f":"+tblMaskinliste[[#This Row],[TimeVedligehold]]+tblMaskinliste[[#This Row],[TimeBrændstof]]","v":0},{"$f":"MASKINANVENDELSESSUM(tblMaskinliste[[#This Row],[Id]],tblOpgaveliste[Maskinvalg],tblOpgaveliste[Maskintimer])","v":0},{"$f":"+tblMaskinliste[[#This Row],[GKO]]+tblMaskinliste[[#This Row],[KKO]]+tblMaskinliste[[#This Row],[VT]]*tblMaskinliste[[#This Row],[TimerAnvendt]]","v":0},{"$f":"IFERROR(tblMaskinliste[[#This Row],[TO]]/tblMaskinliste[[#This Row],[TimerAnvendt]],0)","v":0}]
[{"$f":"IF(tblMaskinliste[[#This Row],[IBrug]]=TRUE,TRUE,IF(F69=TRUE,TRUE,FALSE))","v":false},false,null,null,null,{"$f":"OR(tblMaskinliste[[#This Row],[Maskinnavn]]<>\"\",tblMaskinliste[[#This Row],[Maskinværdi]]<>0,tblMaskinliste[[#This Row],[Forsikring]]<>0,tblMaskinliste[[#This Row],[Diverse]]<>0,tblMaskinliste[[#This Row],[TimeVedligehold]]<>0,tblMaskinliste[[#This Row],[TimeBrændstofMængde]]<>0)","v":false},{"$f":"tblMaskinliste[[#This Row],[TimeVedligehold]]*tblMaskinliste[[#This Row],[TimerAnvendt]]","v":0},{"$f":"tblMaskinliste[[#This Row],[TimeBrændstof]]*tblMaskinliste[[#This Row],[TimerAnvendt]]","v":0},null,43,null,44,null,"Maskine",null,null,null,{"$f":"tblMaskinliste[[#This Row],[Maskinværdi]]*(1-tblMaskinliste[[#This Row],[Afskrivningsprocent]])^tblMaskinliste[[#This Row],[Levetid]]","v":0},{"$f":"IFERROR(-PMT(Rentesats,P70,tblMaskinliste[[#This Row],[Maskinværdi]],-tblMaskinliste[[#This Row],[Scrap]]),0)","v":0},{"$f":"IFERROR($T$77/$O$77*tblMaskinliste[[#This Row],[Maskinværdi]],0)","v":0},null,{"$f":"tblMaskinliste[[#This Row],[Forsikring]]+tblMaskinliste[[#This Row],[Diverse]]","v":0},null,0,{"$f":"tblMaskinliste[[#This Row],[TimeBrændstofMængde]]*Brændstofpris","v":0},{"$f":"+tblMaskinliste[[#This Row],[TimeVedligehold]]+tblMaskinliste[[#This Row],[TimeBrændstof]]","v":0},{"$f":"MASKINANVENDELSESSUM(tblMaskinliste[[#This Row],[Id]],tblOpgaveliste[Maskinvalg],tblOpgaveliste[Maskintimer])","v":0},{"$f":"+tblMaskinliste[[#This Row],[GKO]]+tblMaskinliste[[#This Row],[KKO]]+tblMaskinliste[[#This Row],[VT]]*tblMaskinliste[[#This Row],[TimerAnvendt]]","v":0},{"$f":"IFERROR(tblMaskinliste[[#This Row],[TO]]/tblMaskinliste[[#This Row],[TimerAnvendt]],0)","v":0}]
[{"$f":"IF(tblMaskinliste[[#This Row],[IBrug]]=TRUE,TRUE,IF(F70=TRUE,TRUE,FALSE))","v":false},false,null,null,null,{"$f":"OR(tblMaskinliste[[#This Row],[Maskinnavn]]<>\"\",tblMaskinliste[[#This Row],[Maskinværdi]]<>0,tblMaskinliste[[#This Row],[Forsikring]]<>0,tblMaskinliste[[#This Row],[Diverse]]<>0,tblMaskinliste[[#This Row],[TimeVedligehold]]<>0,tblMaskinliste[[#This Row],[TimeBrændstofMængde]]<>0)","v":false},{"$f":"tblMaskinliste[[#This Row],[TimeVedligehold]]*tblMaskinliste[[#This Row],[TimerAnvendt]]","v":0},{"$f":"tblMaskinliste[[#This Row],[TimeBrændstof]]*tblMaskinliste[[#This Row],[TimerAnvendt]]","v":0},null,44,null,45,null,"Maskine",null,null,null,{"$f":"tblMaskinliste[[#This Row],[Maskinværdi]]*(1-tblMaskinliste[[#This Row],[Afskrivningsprocent]])^tblMaskinliste[[#This Row],[Levetid]]","v":0},{"$f":"IFERROR(-PMT(Rentesats,P71,tblMaskinliste[[#This Row],[Maskinværdi]],-tblMaskinliste[[#This Row],[Scrap]]),0)","v":0},{"$f":"IFERROR($T$77/$O$77*tblMaskinliste[[#This Row],[Maskinværdi]],0)","v":0},null,{"$f":"tblMaskinliste[[#This Row],[Forsikring]]+tblMaskinliste[[#This Row],[Diverse]]","v":0},null,0,{"$f":"tblMaskinliste[[#This Row],[TimeBrændstofMængde]]*Brændstofpris","v":0},{"$f":"+tblMaskinliste[[#This Row],[TimeVedligehold]]+tblMaskinliste[[#This Row],[TimeBrændstof]]","v":0},{"$f":"MASKINANVENDELSESSUM(tblMaskinliste[[#This Row],[Id]],tblOpgaveliste[Maskinvalg],tblOpgaveliste[Maskintimer])","v":0},{"$f":"+tblMaskinliste[[#This Row],[GKO]]+tblMaskinliste[[#This Row],[KKO]]+tblMaskinliste[[#This Row],[VT]]*tblMaskinliste[[#This Row],[TimerAnvendt]]","v":0},{"$f":"IFERROR(tblMaskinliste[[#This Row],[TO]]/tblMaskinliste[[#This Row],[TimerAnvendt]],0)","v":0}]
[{"$f":"IF(tblMaskinliste[[#This Row],[IBrug]]=TRUE,TRUE,IF(F71=TRUE,TRUE,FALSE))","v":false},false,null,null,null,{"$f":"OR(tblMaskinliste[[#This Row],[Maskinnavn]]<>\"\",tblMaskinliste[[#This Row],[Maskinværdi]]<>0,tblMaskinliste[[#This Row],[Forsikring]]<>0,tblMaskinliste[[#This Row],[Diverse]]<>0,tblMaskinliste[[#This Row],[TimeVedligehold]]<>0,tblMaskinliste[[#This Row],[TimeBrændstofMængde]]<>0)","v":false},{"$f":"tblMaskinliste[[#This Row],[TimeVedligehold]]*tblMaskinliste[[#This Row],[TimerAnvendt]]","v":0},{"$f":"tblMaskinliste[[#This Row],[TimeBrændstof]]*tblMaskinliste[[#This Row],[TimerAnvendt]]","v":0},null,45,null,46,null,"Maskine",null,null,null,{"$f":"tblMaskinliste[[#This Row],[Maskinværdi]]*(1-tblMaskinliste[[#This Row],[Afskrivningsprocent]])^tblMaskinliste[[#This Row],[Levetid]]","v":0},{"$f":"IFERROR(-PMT(Rentesats,P72,tblMaskinliste[[#This Row],[Maskinværdi]],-tblMaskinliste[[#This Row],[Scrap]]),0)","v":0},{"$f":"IFERROR($T$77/$O$77*tblMaskinliste[[#This Row],[Maskinværdi]],0)","v":0},null,{"$f":"tblMaskinliste[[#This Row],[Forsikring]]+tblMaskinliste[[#This Row],[Diverse]]","v":0},null,0,{"$f":"tblMaskinliste[[#This Row],[TimeBrændstofMængde]]*Brændstofpris","v":0},{"$f":"+tblMaskinliste[[#This Row],[TimeVedligehold]]+tblMaskinliste[[#This Row],[TimeBrændstof]]","v":0},{"$f":"MASKINANVENDELSESSUM(tblMaskinliste[[#This Row],[Id]],tblOpgaveliste[Maskinvalg],tblOpgaveliste[Maskintimer])","v":0},{"$f":"+tblMaskinliste[[#This Row],[GKO]]+tblMaskinliste[[#This Row],[KKO]]+tblMaskinliste[[#This Row],[VT]]*tblMaskinliste[[#This Row],[TimerAnvendt]]","v":0},{"$f":"IFERROR(tblMaskinliste[[#This Row],[TO]]/tblMaskinliste[[#This Row],[TimerAnvendt]],0)","v":0}]
[{"$f":"IF(tblMaskinliste[[#This Row],[IBrug]]=TRUE,TRUE,IF(F72=TRUE,TRUE,FALSE))","v":false},false,null,null,null,{"$f":"OR(tblMaskinliste[[#This Row],[Maskinnavn]]<>\"\",tblMaskinliste[[#This Row],[Maskinværdi]]<>0,tblMaskinliste[[#This Row],[Forsikring]]<>0,tblMaskinliste[[#This Row],[Diverse]]<>0,tblMaskinliste[[#This Row],[TimeVedligehold]]<>0,tblMaskinliste[[#This Row],[TimeBrændstofMængde]]<>0)","v":false},{"$f":"tblMaskinliste[[#This Row],[TimeVedligehold]]*tblMaskinliste[[#This Row],[TimerAnvendt]]","v":0},{"$f":"tblMaskinliste[[#This Row],[TimeBrændstof]]*tblMaskinliste[[#This Row],[TimerAnvendt]]","v":0},null,46,null,47,null,"Maskine",null,null,null,{"$f":"tblMaskinliste[[#This Row],[Maskinværdi]]*(1-tblMaskinliste[[#This Row],[Afskrivningsprocent]])^tblMaskinliste[[#This Row],[Levetid]]","v":0},{"$f":"IFERROR(-PMT(Rentesats,P73,tblMaskinliste[[#This Row],[Maskinværdi]],-tblMaskinliste[[#This Row],[Scrap]]),0)","v":0},{"$f":"IFERROR($T$77/$O$77*tblMaskinliste[[#This Row],[Maskinværdi]],0)","v":0},null,{"$f":"tblMaskinliste[[#This Row],[Forsikring]]+tblMaskinliste[[#This Row],[Diverse]]","v":0},null,0,{"$f":"tblMaskinliste[[#This Row],[TimeBrændstofMængde]]*Brændstofpris","v":0},{"$f":"+tblMaskinliste[[#This Row],[TimeVedligehold]]+tblMaskinliste[[#This Row],[TimeBrændstof]]","v":0},{"$f":"MASKINANVENDELSESSUM(tblMaskinliste[[#This Row],[Id]],tblOpgaveliste[Maskinvalg],tblOpgaveliste[Maskintimer])","v":0},{"$f":"+tblMaskinliste[[#This Row],[GKO]]+tblMaskinliste[[#This Row],[KKO]]+tblMaskinliste[[#This Row],[VT]]*tblMaskinliste[[#This Row],[TimerAnvendt]]","v":0},{"$f":"IFERROR(tblMaskinliste[[#This Row],[TO]]/tblMaskinliste[[#This Row],[TimerAnvendt]],0)","v":0}]
[{"$f":"IF(tblMaskinliste[[#This Row],[IBrug]]=TRUE,TRUE,IF(F73=TRUE,TRUE,FALSE))","v":false},false,null,null,null,{"$f":"OR(tblMaskinliste[[#This Row],[Maskinnavn]]<>\"\",tblMaskinliste[[#This Row],[Maskinværdi]]<>0,tblMaskinliste[[#This Row],[Forsikring]]<>0,tblMaskinliste[[#This Row],[Diverse]]<>0,tblMaskinliste[[#This Row],[TimeVedligehold]]<>0,tblMaskinliste[[#This Row],[TimeBrændstofMængde]]<>0)","v":false},{"$f":"tblMaskinliste[[#This Row],[TimeVedligehold]]*tblMaskinliste[[#This Row],[TimerAnvendt]]","v":0},{"$f":"tblMaskinliste[[#This Row],[TimeBrændstof]]*tblMaskinliste[[#This Row],[TimerAnvendt]]","v":0},null,47,null,48,null,"Maskine",null,null,null,{"$f":"tblMaskinliste[[#This Row],[Maskinværdi]]*(1-tblMaskinliste[[#This Row],[Afskrivningsprocent]])^tblMaskinliste[[#This Row],[Levetid]]","v":0},{"$f":"IFERROR(-PMT(Rentesats,P74,tblMaskinliste[[#This Row],[Maskinværdi]],-tblMaskinliste[[#This Row],[Scrap]]),0)","v":0},{"$f":"IFERROR($T$77/$O$77*tblMaskinliste[[#This Row],[Maskinværdi]],0)","v":0},null,{"$f":"tblMaskinliste[[#This Row],[Forsikring]]+tblMaskinliste[[#This Row],[Diverse]]","v":0},null,0,{"$f":"tblMaskinliste[[#This Row],[TimeBrændstofMængde]]*Brændstofpris","v":0},{"$f":"+tblMaskinliste[[#This Row],[TimeVedligehold]]+tblMaskinliste[[#This Row],[TimeBrændstof]]","v":0},{"$f":"MASKINANVENDELSESSUM(tblMaskinliste[[#This Row],[Id]],tblOpgaveliste[Maskinvalg],tblOpgaveliste[Maskintimer])","v":0},{"$f":"+tblMaskinliste[[#This Row],[GKO]]+tblMaskinliste[[#This Row],[KKO]]+tblMaskinliste[[#This Row],[VT]]*tblMaskinliste[[#This Row],[TimerAnvendt]]","v":0},{"$f":"IFERROR(tblMaskinliste[[#This Row],[TO]]/tblMaskinliste[[#This Row],[TimerAnvendt]],0)","v":0}]
[{"$f":"IF(tblMaskinliste[[#This Row],[IBrug]]=TRUE,TRUE,IF(F74=TRUE,TRUE,FALSE))","v":false},false,null,null,null,{"$f":"OR(tblMaskinliste[[#This Row],[Maskinnavn]]<>\"\",tblMaskinliste[[#This Row],[Maskinværdi]]<>0,tblMaskinliste[[#This Row],[Forsikring]]<>0,tblMaskinliste[[#This Row],[Diverse]]<>0,tblMaskinliste[[#This Row],[TimeVedligehold]]<>0,tblMaskinliste[[#This Row],[TimeBrændstofMængde]]<>0)","v":false},{"$f":"tblMaskinliste[[#This Row],[TimeVedligehold]]*tblMaskinliste[[#This Row],[TimerAnvendt]]","v":0},{"$f":"tblMaskinliste[[#This Row],[TimeBrændstof]]*tblMaskinliste[[#This Row],[TimerAnvendt]]","v":0},null,48,null,49,null,"Maskine",null,null,null,{"$f":"tblMaskinliste[[#This Row],[Maskinværdi]]*(1-tblMaskinliste[[#This Row],[Afskrivningsprocent]])^tblMaskinliste[[#This Row],[Levetid]]","v":0},{"$f":"IFERROR(-PMT(Rentesats,P75,tblMaskinliste[[#This Row],[Maskinværdi]],-tblMaskinliste[[#This Row],[Scrap]]),0)","v":0},{"$f":"IFERROR($T$77/$O$77*tblMaskinliste[[#This Row],[Maskinværdi]],0)","v":0},null,{"$f":"tblMaskinliste[[#This Row],[Forsikring]]+tblMaskinliste[[#This Row],[Diverse]]","v":0},null,0,{"$f":"tblMaskinliste[[#This Row],[TimeBrændstofMængde]]*Brændstofpris","v":0},{"$f":"+tblMaskinliste[[#This Row],[TimeVedligehold]]+tblMaskinliste[[#This Row],[TimeBrændstof]]","v":0},{"$f":"MASKINANVENDELSESSUM(tblMaskinliste[[#This Row],[Id]],tblOpgaveliste[Maskinvalg],tblOpgaveliste[Maskintimer])","v":0},{"$f":"+tblMaskinliste[[#This Row],[GKO]]+tblMaskinliste[[#This Row],[KKO]]+tblMaskinliste[[#This Row],[VT]]*tblMaskinliste[[#This Row],[TimerAnvendt]]","v":0},{"$f":"IFERROR(tblMaskinliste[[#This Row],[TO]]/tblMaskinliste[[#This Row],[TimerAnvendt]],0)","v":0}]
[{"$f":"IF(tblMaskinliste[[#This Row],[IBrug]]=TRUE,TRUE,IF(F75=TRUE,TRUE,FALSE))","v":false},false,null,null,null,{"$f":"OR(tblMaskinliste[[#This Row],[Maskinnavn]]<>\"\",tblMaskinliste[[#This Row],[Maskinværdi]]<>0,tblMaskinliste[[#This Row],[Forsikring]]<>0,tblMaskinliste[[#This Row],[Diverse]]<>0,tblMaskinliste[[#This Row],[TimeVedligehold]]<>0,tblMaskinliste[[#This Row],[TimeBrændstofMængde]]<>0)","v":false},{"$f":"tblMaskinliste[[#This Row],[TimeVedligehold]]*tblMaskinliste[[#This Row],[TimerAnvendt]]","v":0},{"$f":"tblMaskinliste[[#This Row],[TimeBrændstof]]*tblMaskinliste[[#This Row],[TimerAnvendt]]","v":0},null,49,null,50,null,"Maskine",null,null,null,{"$f":"tblMaskinliste[[#This Row],[Maskinværdi]]*(1-tblMaskinliste[[#This Row],[Afskrivningsprocent]])^tblMaskinliste[[#This Row],[Levetid]]","v":0},{"$f":"IFERROR(-PMT(Rentesats,P76,tblMaskinliste[[#This Row],[Maskinværdi]],-tblMaskinliste[[#This Row],[Scrap]]),0)","v":0},{"$f":"IFERROR($T$77/$O$77*tblMaskinliste[[#This Row],[Maskinværdi]],0)","v":0},null,{"$f":"tblMaskinliste[[#This Row],[Forsikring]]+tblMaskinliste[[#This Row],[Diverse]]","v":0},null,0,{"$f":"tblMaskinliste[[#This Row],[TimeBrændstofMængde]]*Brændstofpris","v":0},{"$f":"+tblMaskinliste[[#This Row],[TimeVedligehold]]+tblMaskinliste[[#This Row],[TimeBrændstof]]","v":0},{"$f":"MASKINANVENDELSESSUM(tblMaskinliste[[#This Row],[Id]],tblOpgaveliste[Maskinvalg],tblOpgaveliste[Maskintimer])","v":0},{"$f":"+tblMaskinliste[[#This Row],[GKO]]+tblMaskinliste[[#This Row],[KKO]]+tblMaskinliste[[#This Row],[VT]]*tblMaskinliste[[#This Row],[TimerAnvendt]]","v":0},{"$f":"IFERROR(tblMaskinliste[[#This Row],[TO]]/tblMaskinliste[[#This Row],[TimerAnvendt]],0)","v":0}]
[true,true,null,null,null,null,{"$f":"SUBTOTAL(109,tblMaskinliste[Vedl.\ntotal])","v":0},{"$f":"SUBTOTAL(109,tblMaskinliste[brændst.\ntotal])","v":0},null,null,null,"I alt",null,null,{"$f":"SUM(O27:O76)","v":0},null,null,{"$f":"SUM(R27:R76)","v":0},{"$f":"SUM(S27:S76)","v":0},null,{"$f":"SUM(U27:U76)","v":0},{"$f":"SUM(V27:V76)","v":0},null,null,null,null,null,{"$f":"SUM(tblMaskinliste[TO])","v":0}]
[true,true]
[true,true]
[true,true]
[true,true,null,null,null,{"$f":"COUNTIF(C86:C135,TRUE)","v":1},null,1,null,null,null,"Opgaver",null,null,null,"Maskiner anvendt til opgaven",null,null,null,null,null,"Effektivitet",null,null,null,null,"Anvendelse",null,null,null,null,null,null,null,null,null,null,"Omkostninger"]
[true,true,null,null,null,1,null,null,null,null,null,null,null,null,null,null,null,null,null,null,null,null,null,null,null,null,null,1,2,3,4,5,6,7,8,9,10]
[true,true,null,null,null,null,null,null,null,null,null,null,null,null,null,null,null,null,null,null,null,null,null,null,null,null,"Anvendelse",{"$f":"VLOOKUP(AB82,Planteavl!$J$18:$M$27,4)","v":0},{"$f":"VLOOKUP(AC82,Planteavl!$J$18:$M$27,4)","v":0},{"$f":"VLOOKUP(AD82,Planteavl!$J$18:$M$27,4)","v":0},{"$f":"VLOOKUP(AE82,Planteavl!$J$18:$M$27,4)","v":0},{"$f":"VLOOKUP(AF82,Planteavl!$J$18:$M$27,4)","v":0},{"$f":"VLOOKUP(AG82,Planteavl!$J$18:$M$27,4)","v":0},{"$f":"VLOOKUP(AH82,Planteavl!$J$18:$M$27,4)","v":0},{"$f":"VLOOKUP(AI82,Planteavl!$J$18:$M$27,4)","v":0},{"$f":"VLOOKUP(AJ82,Planteavl!$J$18:$M$27,4)","v":0},{"$f":"VLOOKUP(AK82,Planteavl!$J$18:$M$27,4)","v":0}]
[true,true,null,null,"Ekstern",null,"enh. Index",null,null,null,null,null,null,null,"Enh.",null,null,null,null,null,null,"Antal enh.","enh./tim.",null,"Timer\ni alt","Antal medarb.","udenfor markplan",{"$f":"IF(VLOOKUP(AB82,Planteavl!$J$18:$M$27,3,FALSE)=0,\"\",VLOOKUP(AB82,Planteavl!$J$18:$M$27,3,FALSE))","v":""},{"$f":"IF(VLOOKUP(AC82,Planteavl!$J$18:$M$27,3,FALSE)=0,\"\",VLOOKUP(AC82,Planteavl!$J$18:$M$27,3,FALSE))","v":""},{"$f":"IF(VLOOKUP(AD82,Planteavl!$J$18:$M$27,3,FALSE)=0,\"\",VLOOKUP(AD82,Planteavl!$J$18:$M$27,3,FALSE))","v":""},{"$f":"IF(VLOOKUP(AE82,Planteavl!$J$18:$M$27,3,FALSE)=0,\"\",VLOOKUP(AE82,Planteavl!$J$18:$M$27,3,FALSE))","v":""},{"$f":"IF(VLOOKUP(AF82,Planteavl!$J$18:$M$27,3,FALSE)=0,\"\",VLOOKUP(AF82,Planteavl!$J$18:$M$27,3,FALSE))","v":""},{"$f":"IF(VLOOKUP(AG82,Planteavl!$J$18:$M$27,3,FALSE)=0,\"\",VLOOKUP(AG82,Planteavl!$J$18:$M$27,3,FALSE))","v":""},{"$f":"IF(VLOOKUP(AH82,Planteavl!$J$18:$M$27,3,FALSE)=0,\"\",VLOOKUP(AH82,Planteavl!$J$18:$M$27,3,FALSE))","v":""},{"$f":"IF(VLOOKUP(AI82,Planteavl!$J$18:$M$27,3,FALSE)=0,\"\",VLOOKUP(AI82,Planteavl!$J$18:$M$27,3,FALSE))","v":""},{"$f":"IF(VLOOKUP(AJ82,Planteavl!$J$18:$M$27,3,FALSE)=0,\"\",VLOOKUP(AJ82,Planteavl!$J$18:$M$27,3,FALSE))","v":""},{"$f":"IF(VLOOKUP(AK82,Planteavl!$J$18:$M$27,3,FALSE)=0,\"\",VLOOKUP(AK82,Planteavl!$J$18:$M$27,3,FALSE))","v":""},"Maskin-\nomk. i alt","Lønomk.\nI alt","Omk. /\ntime","Omk./\nenh.","Maskinst.\nTakst"]
[false,null,null,null,null,"Maskinvalg","HaFraMarkplan","IBrug","MaskinstationIalt","Kolonne5","Kolonne6","Sorteringsnr","Opgavenavn","Opgavetype","Enhed","Knap","Maskintekst","Kolonne11","Kolonne12","Kolonne13","Kolonne14","Enheder","TimeEnheder","Enhed2","Maskintimer","AntalLøn","TimerAndet","Mark1","Mark2","Mark3","Mark4","Mark5","Mark6","Mark7","Mark8","Mark9","Mark10","Maskinomkostninger","Lønomkostninger","TT","TE","Maskinstationspris"]
[true,null,{"$f":"A86","v":true},null,{"$f":"IF(N86=\"ekstern\",1,0)","v":0},null,null,{"$f":"OR(tblOpgaveliste[[#This Row],[Opgavenavn]]<>\"\",tblOpgaveliste[[#This Row],[Maskintekst]]<>\"\",tblOpgaveliste[[#This Row],[TimerAndet]]<>0,tblOpgaveliste[[#This Row],[Mark1]]<>0,tblOpgaveliste[[#This Row],[Mark2]]<>0,tblOpgaveliste[[#This Row],[Mark3]]<>0,tblOpgaveliste[[#This Row],[Mark4]]<>0,tblOpgaveliste[[#This Row],[Mark5]]<>0,tblOpgaveliste[[#This Row],[Mark6]]<>0,tblOpgaveliste[[#This Row],[Mark7]]<>0,tblOpgaveliste[[#This Row],[Mark8]]<>0,tblOpgaveliste[[#This Row],[Mark9]]<>0,tblOpgaveliste[[#This Row],[Mark10]]<>0,tblOpgaveliste[[#This Row],[Maskinstationspris]])","v":false},{"$f":"tblOpgaveliste[[#This Row],[Enheder]]*tblOpgaveliste[[#This Row],[Maskinstationspris]]","v":0},0,null,1,null,"Intern","ha.","Ret",{"$f":"MASKINTEKST(F86,tblMaskinliste[[Id]:[Maskinnavn]],4)","v":""},null,null,null,null,{"$f":"SUMPRODUCT(tblOpgaveliste[[#This Row],[Mark1]:[Mark10]],$AB$83:$AK$83)+tblOpgaveliste[[#This Row],[TimerAndet]]","v":0},1,{"$f":"tblOpgaveliste[[#This Row],[Enhed]]&\"/time\"","v":"ha./time"},{"$f":"IFERROR(tblOpgaveliste[[#This Row],[Enheder]]/tblOpgaveliste[[#This Row],[TimeEnheder]],0)","v":0},null,null,null,null,null,null,null,null,null,null,null,null,{"$f":"OPGAVETIMEPRIS(F86,tblMaskinliste[Id],19)*tblOpgaveliste[[#This Row],[Maskintimer]]","v":0},{"$f":"tblOpgaveliste[[#This Row],[Maskintimer]]*tblOpgaveliste[[#This Row],[AntalLøn]]*Timeløn","v":0},{"$f":"IFERROR((tblOpgaveliste[[#This Row],[Maskinomkostninger]]+tblOpgaveliste[[#This Row],[Lønomkostninger]])/tblOpgaveliste[[#This Row],[Maskintimer]],0)","v":0},{"$f":"IFERROR((tblOpgaveliste[[#This Row],[Maskinomkostninger]]+tblOpgaveliste[[#This Row],[Lønomkostninger]])/(SUMPRODUCT(tblOpgaveliste[[#This Row],[Mark1]:[Mark10]],$AB$83:$AK$83)+tblOpgaveliste[[#This Row],[TimerAndet]]),0)","v":0},null,null,null,"?"]
[{"$f":"IF(tblOpgaveliste[[#This Row],[IBrug]]=TRUE,TRUE,IF(H86=TRUE,TRUE,FALSE))","v":false},null,{"$f":"A87","v":false},null,{"$f":"IF(N87=\"ekstern\",1,0)","v":0},null,null,{"$f":"OR(tblOpgaveliste[[#This Row],[Opgavenavn]]<>\"\",tblOpgaveliste[[#This Row],[Maskintekst]]<>\"\",tblOpgaveliste[[#This Row],[TimerAndet]]<>0,tblOpgaveliste[[#This Row],[Mark1]]<>0,tblOpgaveliste[[#This Row],[Mark2]]<>0,tblOpgaveliste[[#This Row],[Mark3]]<>0,tblOpgaveliste[[#This Row],[Mark4]]<>0,tblOpgaveliste[[#This Row],[Mark5]]<>0,tblOpgaveliste[[#This Row],[Mark6]]<>0,tblOpgaveliste[[#This Row],[Mark7]]<>0,tblOpgaveliste[[#This Row],[Mark8]]<>0,tblOpgaveliste[[#This Row],[Mark9]]<>0,tblOpgaveliste[[#This Row],[Mark10]]<>0,tblOpgaveliste[[#This Row],[Maskinstationspris]])","v":false},{"$f":"tblOpgaveliste[[#This Row],[Enheder]]*tblOpgaveliste[[#This Row],[Maskinstationspris]]","v":0},1,null,2,null,"Intern","ha.","Ret",{"$f":"MASKINTEKST(F87,tblMaskinliste[[Id]:[Maskinnavn]],4)","v":""},null,null,null,null,{"$f":"SUMPRODUCT(tblOpgaveliste[[#This Row],[Mark1]:[Mark10]],$AB$83:$AK$83)+tblOpgaveliste[[#This Row],[TimerAndet]]","v":0},1,{"$f":"tblOpgaveliste[[#This Row],[Enhed]]&\"/time\"","v":"ha./time"},{"$f":"IFERROR(tblOpgaveliste[[#This Row],[Enheder]]/tblOpgaveliste[[#This Row],[TimeEnheder]],0)","v":0},null,null,null,null,null,null,null,null,null,null,null,null,{"$f":"OPGAVETIMEPRIS(F87,tblMaskinliste[Id],19)*tblOpgaveliste[[#This Row],[Maskintimer]]","v":0},{"$f":"tblOpgaveliste[[#This Row],[Maskintimer]]*tblOpgaveliste[[#This Row],[AntalLøn]]*Timeløn","v":0},{"$f":"IFERROR((tblOpgaveliste[[#This Row],[Maskinomkostninger]]+tblOpgaveliste[[#This Row],[Lønomkostninger]])/tblOpgaveliste[[#This Row],[Maskintimer]],0)","v":0},{"$f":"IFERROR((tblOpgaveliste[[#This Row],[Maskinomkostninger]]+tblOpgaveliste[[#This Row],[Lønomkostninger]])/(SUMPRODUCT(tblOpgaveliste[[#This Row],[Mark1]:[Mark10]],$AB$83:$AK$83)+tblOpgaveliste[[#This Row],[TimerAndet]]),0)","v":0}]
[{"$f":"IF(tblOpgaveliste[[#This Row],[IBrug]]=TRUE,TRUE,IF(H87=TRUE,TRUE,FALSE))","v":false},null,false,null,0,null,null,{"$f":"OR(tblOpgaveliste[[#This Row],[Opgavenavn]]<>\"\",tblOpgaveliste[[#This Row],[Maskintekst]]<>\"\",tblOpgaveliste[[#This Row],[TimerAndet]]<>0,tblOpgaveliste[[#This Row],[Mark1]]<>0,tblOpgaveliste[[#This Row],[Mark2]]<>0,tblOpgaveliste[[#This Row],[Mark3]]<>0,tblOpgaveliste[[#This Row],[Mark4]]<>0,tblOpgaveliste[[#This Row],[Mark5]]<>0,tblOpgaveliste[[#This Row],[Mark6]]<>0,tblOpgaveliste[[#This Row],[Mark7]]<>0,tblOpgaveliste[[#This Row],[Mark8]]<>0,tblOpgaveliste[[#This Row],[Mark9]]<>0,tblOpgaveliste[[#This Row],[Mark10]]<>0,tblOpgaveliste[[#This Row],[Maskinstationspris]])","v":false},{"$f":"tblOpgaveliste[[#This Row],[Enheder]]*tblOpgaveliste[[#This Row],[Maskinstationspris]]","v":0},2,null,3,null,"Intern","ha.","Ret",{"$f":"MASKINTEKST(F88,tblMaskinliste[[Id]:[Maskinnavn]],4)","v":""},null,null,null,null,{"$f":"SUMPRODUCT(tblOpgaveliste[[#This Row],[Mark1]:[Mark10]],$AB$83:$AK$83)+tblOpgaveliste[[#This Row],[TimerAndet]]","v":0},1,{"$f":"tblOpgaveliste[[#This Row],[Enhed]]&\"/time\"","v":"ha./time"},{"$f":"IFERROR(tblOpgaveliste[[#This Row],[Enheder]]/tblOpgaveliste[[#This Row],[TimeEnheder]],0)","v":0},null,null,null,null,null,null,null,null,null,null,null,null,{"$f":"OPGAVETIMEPRIS(F88,tblMaskinliste[Id],19)*tblOpgaveliste[[#This Row],[Maskintimer]]","v":0},{"$f":"tblOpgaveliste[[#This Row],[Maskintimer]]*tblOpgaveliste[[#This Row],[AntalLøn]]*Timeløn","v":0},{"$f":"IFERROR((tblOpgaveliste[[#This Row],[Maskinomkostninger]]+tblOpgaveliste[[#This Row],[Lønomkostninger]])/tblOpgaveliste[[#This Row],[Maskintimer]],0)","v":0},{"$f":"IFERROR((tblOpgaveliste[[#This Row],[Maskinomkostninger]]+tblOpgaveliste[[#This Row],[Lønomkostninger]])/(SUMPRODUCT(tblOpgaveliste[[#This Row],[Mark1]:[Mark10]],$AB$83:$AK$83)+tblOpgaveliste[[#This Row],[TimerAndet]]),0)","v":0}]
[{"$f":"IF(tblOpgaveliste[[#This Row],[IBrug]]=TRUE,TRUE,IF(H88=TRUE,TRUE,FALSE))","v":false},null,false,null,0,null,null,{"$f":"OR(tblOpgaveliste[[#This Row],[Opgavenavn]]<>\"\",tblOpgaveliste[[#This Row],[Maskintekst]]<>\"\",tblOpgaveliste[[#This Row],[TimerAndet]]<>0,tblOpgaveliste[[#This Row],[Mark1]]<>0,tblOpgaveliste[[#This Row],[Mark2]]<>0,tblOpgaveliste[[#This Row],[Mark3]]<>0,tblOpgaveliste[[#This Row],[Mark4]]<>0,tblOpgaveliste[[#This Row],[Mark5]]<>0,tblOpgaveliste[[#This Row],[Mark6]]<>0,tblOpgaveliste[[#This Row],[Mark7]]<>0,tblOpgaveliste[[#This Row],[Mark8]]<>0,tblOpgaveliste[[#This Row],[Mark9]]<>0,tblOpgaveliste[[#This Row],[Mark10]]<>0,tblOpgaveliste[[#This Row],[Maskinstationspris]])","v":false},{"$f":"tblOpgaveliste[[#This Row],[Enheder]]*tblOpgaveliste[[#This Row],[Maskinstationspris]]","v":0},11,null,4,null,"Intern","ha.","Ret",{"$f":"MASKINTEKST(F89,tblMaskinliste[[Id]:[Maskinnavn]],4)","v":""},null,null,null,null,{"$f":"SUMPRODUCT(tblOpgaveliste[[#This Row],[Mark1]:[Mark10]],$AB$83:$AK$83)+tblOpgaveliste[[#This Row],[TimerAndet]]","v":0},1,{"$f":"tblOpgaveliste[[#This Row],[Enhed]]&\"/time\"","v":"ha./time"},{"$f":"IFERROR(tblOpgaveliste[[#This Row],[Enheder]]/tblOpgaveliste[[#This Row],[TimeEnheder]],0)","v":0},null,null,null,null,null,null,null,null,null,null,null,null,{"$f":"OPGAVETIMEPRIS(F89,tblMaskinliste[Id],19)*tblOpgaveliste[[#This Row],[Maskintimer]]","v":0},{"$f":"tblOpgaveliste[[#This Row],[Maskintimer]]*tblOpgaveliste[[#This Row],[AntalLøn]]*Timeløn","v":0},{"$f":"IFERROR((tblOpgaveliste[[#This Row],[Maskinomkostninger]]+tblOpgaveliste[[#This Row],[Lønomkostninger]])/tblOpgaveliste[[#This Row],[Maskintimer]],0)","v":0},{"$f":"IFERROR((tblOpgaveliste[[#This Row],[Maskinomkostninger]]+tblOpgaveliste[[#This Row],[Lønomkostninger]])/(SUMPRODUCT(tblOpgaveliste[[#This Row],[Mark1]:[Mark10]],$AB$83:$AK$83)+tblOpgaveliste[[#This Row],[TimerAndet]]),0)","v":0}]
[{"$f":"IF(tblOpgaveliste[[#This Row],[IBrug]]=TRUE,TRUE,IF(H89=TRUE,TRUE,FALSE))","v":false},null,false,null,0,null,null,{"$f":"OR(tblOpgaveliste[[#This Row],[Opgavenavn]]<>\"\",tblOpgaveliste[[#This Row],[Maskintekst]]<>\"\",tblOpgaveliste[[#This Row],[TimerAndet]]<>0,tblOpgaveliste[[#This Row],[Mark1]]<>0,tblOpgaveliste[[#This Row],[Mark2]]<>0,tblOpgaveliste[[#This Row],[Mark3]]<>0,tblOpgaveliste[[#This Row],[Mark4]]<>0,tblOpgaveliste[[#This Row],[Mark5]]<>0,tblOpgaveliste[[#This Row],[Mark6]]<>0,tblOpgaveliste[[#This Row],[Mark7]]<>0,tblOpgaveliste[[#This Row],[Mark8]]<>0,tblOpgaveliste[[#This Row],[Mark9]]<>0,tblOpgaveliste[[#This Row],[Mark10]]<>0,tblOpgaveliste[[#This Row],[Maskinstationspris]])","v":false},{"$f":"tblOpgaveliste[[#This Row],[Enheder]]*tblOpgaveliste[[#This Row],[Maskinstationspris]]","v":0},3,null,5,null,"Intern","ha.","Ret",{"$f":"MASKINTEKST(F90,tblMaskinliste[[Id]:[Maskinnavn]],4)","v":""},null,null,null,null,{"$f":"SUMPRODUCT(tblOpgaveliste[[#This Row],[Mark1]:[Mark10]],$AB$83:$AK$83)+tblOpgaveliste[[#This Row],[TimerAndet]]","v":0},1,{"$f":"tblOpgaveliste[[#This Row],[Enhed]]&\"/time\"","v":"ha./time"},{"$f":"IFERROR(tblOpgaveliste[[#This Row],[Enheder]]/tblOpgaveliste[[#This Row],[TimeEnheder]],0)","v":0},null,null,null,null,null,null,null,null,null,null,null,null,{"$f":"OPGAVETIMEPRIS(F90,tblMaskinliste[Id],19)*tblOpgaveliste[[#This Row],[Maskintimer]]","v":0},{"$f":"tblOpgaveliste[[#This Row],[Maskintimer]]*tblOpgaveliste[[#This Row],[AntalLøn]]*Timeløn","v":0},{"$f":"IFERROR((tblOpgaveliste[[#This Row],[Maskinomkostninger]]+tblOpgaveliste[[#This Row],[Lønomkostninger]])/tblOpgaveliste[[#This Row],[Maskintimer]],0)","v":0},{"$f":"IFERROR((tblOpgaveliste[[#This Row],[Maskinomkostninger]]+tblOpgaveliste[[#This Row],[Lønomkostninger]])/(SUMPRODUCT(tblOpgaveliste[[#This Row],[Mark1]:[Mark10]],$AB$83:$AK$83)+tblOpgaveliste[[#This Row],[TimerAndet]]),0)","v":0}]
[{"$f":"IF(tblOpgaveliste[[#This Row],[IBrug]]=TRUE,TRUE,IF(H90=TRUE,TRUE,FALSE))","v":false},null,false,null,0,null,null,{"$f":"OR(tblOpgaveliste[[#This Row],[Opgavenavn]]<>\"\",tblOpgaveliste[[#This Row],[Maskintekst]]<>\"\",tblOpgaveliste[[#This Row],[TimerAndet]]<>0,tblOpgaveliste[[#This Row],[Mark1]]<>0,tblOpgaveliste[[#This Row],[Mark2]]<>0,tblOpgaveliste[[#This Row],[Mark3]]<>0,tblOpgaveliste[[#This Row],[Mark4]]<>0,tblOpgaveliste[[#This Row],[Mark5]]<>0,tblOpgaveliste[[#This Row],[Mark6]]<>0,tblOpgaveliste[[#This Row],[Mark7]]<>0,tblOpgaveliste[[#This Row],[Mark8]]<>0,tblOpgaveliste[[#This Row],[Mark9]]<>0,tblOpgaveliste[[#This Row],[Mark10]]<>0,tblOpgaveliste[[#This Row],[Maskinstationspris]])","v":false},{"$f":"tblOpgaveliste[[#This Row],[Enheder]]*tblOpgaveliste[[#This Row],[Maskinstationspris]]","v":0},4,null,6,null,"Intern","ha.","Ret",{"$f":"MASKINTEKST(F91,tblMaskinliste[[Id]:[Maskinnavn]],4)","v":""},null,null,null,null,{"$f":"SUMPRODUCT(tblOpgaveliste[[#This Row],[Mark1]:[Mark10]],$AB$83:$AK$83)+tblOpgaveliste[[#This Row],[TimerAndet]]","v":0},1,{"$f":"tblOpgaveliste[[#This Row],[Enhed]]&\"/time\"","v":"ha./time"},{"$f":"IFERROR(tblOpgaveliste[[#This Row],[Enheder]]/tblOpgaveliste[[#This Row],[TimeEnheder]],0)","v":0},null,null,null,null,null,null,null,null,null,null,null,null,{"$f":"OPGAVETIMEPRIS(F91,tblMaskinliste[Id],19)*tblOpgaveliste[[#This Row],[Maskintimer]]","v":0},{"$f":"tblOpgaveliste[[#This Row],[Maskintimer]]*tblOpgaveliste[[#This Row],[AntalLøn]]*Timeløn","v":0},{"$f":"IFERROR((tblOpgaveliste[[#This Row],[Maskinomkostninger]]+tblOpgaveliste[[#This Row],[Lønomkostninger]])/tblOpgaveliste[[#This Row],[Maskintimer]],0)","v":0},{"$f":"IFERROR((tblOpgaveliste[[#This Row],[Maskinomkostninger]]+tblOpgaveliste[[#This Row],[Lønomkostninger]])/(SUMPRODUCT(tblOpgaveliste[[#This Row],[Mark1]:[Mark10]],$AB$83:$AK$83)+tblOpgaveliste[[#This Row],[TimerAndet]]),0)","v":0}]
[{"$f":"IF(tblOpgaveliste[[#This Row],[IBrug]]=TRUE,TRUE,IF(H91=TRUE,TRUE,FALSE))","v":false},null,false,null,0,null,null,{"$f":"OR(tblOpgaveliste[[#This Row],[Opgavenavn]]<>\"\",tblOpgaveliste[[#This Row],[Maskintekst]]<>\"\",tblOpgaveliste[[#This Row],[TimerAndet]]<>0,tblOpgaveliste[[#This Row],[Mark1]]<>0,tblOpgaveliste[[#This Row],[Mark2]]<>0,tblOpgaveliste[[#This Row],[Mark3]]<>0,tblOpgaveliste[[#This Row],[Mark4]]<>0,tblOpgaveliste[[#This Row],[Mark5]]<>0,tblOpgaveliste[[#This Row],[Mark6]]<>0,tblOpgaveliste[[#This Row],[Mark7]]<>0,tblOpgaveliste[[#This Row],[Mark8]]<>0,tblOpgaveliste[[#This Row],[Mark9]]<>0,tblOpgaveliste[[#This Row],[Mark10]]<>0,tblOpgaveliste[[#This Row],[Maskinstationspris]])","v":false},{"$f":"tblOpgaveliste[[#This Row],[Enheder]]*tblOpgaveliste[[#This Row],[Maskinstationspris]]","v":0},7,null,7,null,"Intern","ha.","Ret",{"$f":"MASKINTEKST(F92,tblMaskinliste[[Id]:[Maskinnavn]],4)","v":""},null,null,null,null,{"$f":"SUMPRODUCT(tblOpgaveliste[[#This Row],[Mark1]:[Mark10]],$AB$83:$AK$83)+tblOpgaveliste[[#This Row],[TimerAndet]]","v":0},1,{"$f":"tblOpgaveliste[[#This Row],[Enhed]]&\"/time\"","v":"ha./time"},{"$f":"IFERROR(tblOpgaveliste[[#This Row],[Enheder]]/tblOpgaveliste[[#This Row],[TimeEnheder]],0)","v":0},null,null,null,null,null,null,null,null,null,null,null,null,{"$f":"OPGAVETIMEPRIS(F92,tblMaskinliste[Id],19)*tblOpgaveliste[[#This Row],[Maskintimer]]","v":0},{"$f":"tblOpgaveliste[[#This Row],[Maskintimer]]*tblOpgaveliste[[#This Row],[AntalLøn]]*Timeløn","v":0},{"$f":"IFERROR((tblOpgaveliste[[#This Row],[Maskinomkostninger]]+tblOpgaveliste[[#This Row],[Lønomkostninger]])/tblOpgaveliste[[#This Row],[Maskintimer]],0)","v":0},{"$f":"IFERROR((tblOpgaveliste[[#This Row],[Maskinomkostninger]]+tblOpgaveliste[[#This Row],[Lønomkostninger]])/(SUMPRODUCT(tblOpgaveliste[[#This Row],[Mark1]:[Mark10]],$AB$83:$AK$83)+tblOpgaveliste[[#This Row],[TimerAndet]]),0)","v":0}]
[{"$f":"IF(tblOpgaveliste[[#This Row],[IBrug]]=TRUE,TRUE,IF(H92=TRUE,TRUE,FALSE))","v":false},null,false,null,0,null,null,{"$f":"OR(tblOpgaveliste[[#This Row],[Opgavenavn]]<>\"\",tblOpgaveliste[[#This Row],[Maskintekst]]<>\"\",tblOpgaveliste[[#This Row],[TimerAndet]]<>0,tblOpgaveliste[[#This Row],[Mark1]]<>0,tblOpgaveliste[[#This Row],[Mark2]]<>0,tblOpgaveliste[[#This Row],[Mark3]]<>0,tblOpgaveliste[[#This Row],[Mark4]]<>0,tblOpgaveliste[[#This Row],[Mark5]]<>0,tblOpgaveliste[[#This Row],[Mark6]]<>0,tblOpgaveliste[[#This Row],[Mark7]]<>0,tblOpgaveliste[[#This Row],[Mark8]]<>0,tblOpgaveliste[[#This Row],[Mark9]]<>0,tblOpgaveliste[[#This Row],[Mark10]]<>0,tblOpgaveliste[[#This Row],[Maskinstationspris]])","v":false},{"$f":"tblOpgaveliste[[#This Row],[Enheder]]*tblOpgaveliste[[#This Row],[Maskinstationspris]]","v":0},10,null,8,null,"Intern","ha.","Ret",{"$f":"MASKINTEKST(F93,tblMaskinliste[[Id]:[Maskinnavn]],4)","v":""},null,null,null,null,{"$f":"SUMPRODUCT(tblOpgaveliste[[#This Row],[Mark1]:[Mark10]],$AB$83:$AK$83)+tblOpgaveliste[[#This Row],[TimerAndet]]","v":0},1,{"$f":"tblOpgaveliste[[#This Row],[Enhed]]&\"/time\"","v":"ha./time"},{"$f":"IFERROR(tblOpgaveliste[[#This Row],[Enheder]]/tblOpgaveliste[[#This Row],[TimeEnheder]],0)","v":0},null,null,null,null,null,null,null,null,null,null,null,null,{"$f":"OPGAVETIMEPRIS(F93,tblMaskinliste[Id],19)*tblOpgaveliste[[#This Row],[Maskintimer]]","v":0},{"$f":"tblOpgaveliste[[#This Row],[Maskintimer]]*tblOpgaveliste[[#This Row],[AntalLøn]]*Timeløn","v":0},{"$f":"IFERROR((tblOpgaveliste[[#This Row],[Maskinomkostninger]]+tblOpgaveliste[[#This Row],[Lønomkostninger]])/tblOpgaveliste[[#This Row],[Maskintimer]],0)","v":0},{"$f":"IFERROR((tblOpgaveliste[[#This Row],[Maskinomkostninger]]+tblOpgaveliste[[#This Row],[Lønomkostninger]])/(SUMPRODUCT(tblOpgaveliste[[#This Row],[Mark1]:[Mark10]],$AB$83:$AK$83)+tblOpgaveliste[[#This Row],[TimerAndet]]),0)","v":0}]
[{"$f":"IF(tblOpgaveliste[[#This Row],[IBrug]]=TRUE,TRUE,IF(H93=TRUE,TRUE,FALSE))","v":false},null,false,null,0,null,null,{"$f":"OR(tblOpgaveliste[[#This Row],[Opgavenavn]]<>\"\",tblOpgaveliste[[#This Row],[Maskintekst]]<>\"\",tblOpgaveliste[[#This Row],[TimerAndet]]<>0,tblOpgaveliste[[#This Row],[Mark1]]<>0,tblOpgaveliste[[#This Row],[Mark2]]<>0,tblOpgaveliste[[#This Row],[Mark3]]<>0,tblOpgaveliste[[#This Row],[Mark4]]<>0,tblOpgaveliste[[#This Row],[Mark5]]<>0,tblOpgaveliste[[#This Row],[Mark6]]<>0,tblOpgaveliste[[#This Row],[Mark7]]<>0,tblOpgaveliste[[#This Row],[Mark8]]<>0,tblOpgaveliste[[#This Row],[Mark9]]<>0,tblOpgaveliste[[#This Row],[Mark10]]<>0,tblOpgaveliste[[#This Row],[Maskinstationspris]])","v":false},{"$f":"tblOpgaveliste[[#This Row],[Enheder]]*tblOpgaveliste[[#This Row],[Maskinstationspris]]","v":0},8,null,9,null,"Intern","ha.","Ret",{"$f":"MASKINTEKST(F94,tblMaskinliste[[Id]:[Maskinnavn]],4)","v":""},null,null,null,null,{"$f":"SUMPRODUCT(tblOpgaveliste[[#This Row],[Mark1]:[Mark10]],$AB$83:$AK$83)+tblOpgaveliste[[#This Row],[TimerAndet]]","v":0},1,{"$f":"tblOpgaveliste[[#This Row],[Enhed]]&\"/time\"","v":"ha./time"},{"$f":"IFERROR(tblOpgaveliste[[#This Row],[Enheder]]/tblOpgaveliste[[#This Row],[TimeEnheder]],0)","v":0},null,null,null,null,null,null,null,null,null,null,null,null,{"$f":"OPGAVETIMEPRIS(F94,tblMaskinliste[Id],19)*tblOpgaveliste[[#This Row],[Maskintimer]]","v":0},{"$f":"tblOpgaveliste[[#This Row],[Maskintimer]]*tblOpgaveliste[[#This Row],[AntalLøn]]*Timeløn","v":0},{"$f":"IFERROR((tblOpgaveliste[[#This Row],[Maskinomkostninger]]+tblOpgaveliste[[#This Row],[Lønomkostninger]])/tblOpgaveliste[[#This Row],[Maskintimer]],0)","v":0},{"$f":"IFERROR((tblOpgaveliste[[#This Row],[Maskinomkostninger]]+tblOpgaveliste[[#This Row],[Lønomkostninger]])/(SUMPRODUCT(tblOpgaveliste[[#This Row],[Mark1]:[Mark10]],$AB$83:$AK$83)+tblOpgaveliste[[#This Row],[TimerAndet]]),0)","v":0}]
[{"$f":"IF(tblOpgaveliste[[#This Row],[IBrug]]=TRUE,TRUE,IF(H94=TRUE,TRUE,FALSE))","v":false},null,false,null,0,null,null,{"$f":"OR(tblOpgaveliste[[#This Row],[Opgavenavn]]<>\"\",tblOpgaveliste[[#This Row],[Maskintekst]]<>\"\",tblOpgaveliste[[#This Row],[TimerAndet]]<>0,tblOpgaveliste[[#This Row],[Mark1]]<>0,tblOpgaveliste[[#This Row],[Mark2]]<>0,tblOpgaveliste[[#This Row],[Mark3]]<>0,tblOpgaveliste[[#This Row],[Mark4]]<>0,tblOpgaveliste[[#This Row],[Mark5]]<>0,tblOpgaveliste[[#This Row],[Mark6]]<>0,tblOpgaveliste[[#This Row],[Mark7]]<>0,tblOpgaveliste[[#This Row],[Mark8]]<>0,tblOpgaveliste[[#This Row],[Mark9]]<>0,tblOpgaveliste[[#This Row],[Mark10]]<>0,tblOpgaveliste[[#This Row],[Maskinstationspris]])","v":false},{"$f":"tblOpgaveliste[[#This Row],[Enheder]]*tblOpgaveliste[[#This Row],[Maskinstationspris]]","v":0},9,null,10,null,"Intern","ha.","Ret",{"$f":"MASKINTEKST(F95,tblMaskinliste[[Id]:[Maskinnavn]],4)","v":""},null,null,null,null,{"$f":"SUMPRODUCT(tblOpgaveliste[[#This Row],[Mark1]:[Mark10]],$AB$83:$AK$83)+tblOpgaveliste[[#This Row],[TimerAndet]]","v":0},1,{"$f":"tblOpgaveliste[[#This Row],[Enhed]]&\"/time\"","v":"ha./time"},{"$f":"IFERROR(tblOpgaveliste[[#This Row],[Enheder]]/tblOpgaveliste[[#This Row],[TimeEnheder]],0)","v":0},null,null,null,null,null,null,null,null,null,null,null,null,{"$f":"OPGAVETIMEPRIS(F95,tblMaskinliste[Id],19)*tblOpgaveliste[[#This Row],[Maskintimer]]","v":0},{"$f":"tblOpgaveliste[[#This Row],[Maskintimer]]*tblOpgaveliste[[#This Row],[AntalLøn]]*Timeløn","v":0},{"$f":"IFERROR((tblOpgaveliste[[#This Row],[Maskinomkostninger]]+tblOpgaveliste[[#This Row],[Lønomkostninger]])/tblOpgaveliste[[#This Row],[Maskintimer]],0)","v":0},{"$f":"IFERROR((tblOpgaveliste[[#This Row],[Maskinomkostninger]]+tblOpgaveliste[[#This Row],[Lønomkostninger]])/(SUMPRODUCT(tblOpgaveliste[[#This Row],[Mark1]:[Mark10]],$AB$83:$AK$83)+tblOpgaveliste[[#This Row],[TimerAndet]]),0)","v":0}]
[{"$f":"IF(tblOpgaveliste[[#This Row],[IBrug]]=TRUE,TRUE,IF(H95=TRUE,TRUE,FALSE))","v":false},null,false,null,0,null,null,{"$f":"OR(tblOpgaveliste[[#This Row],[Opgavenavn]]<>\"\",tblOpgaveliste[[#This Row],[Maskintekst]]<>\"\",tblOpgaveliste[[#This Row],[TimerAndet]]<>0,tblOpgaveliste[[#This Row],[Mark1]]<>0,tblOpgaveliste[[#This Row],[Mark2]]<>0,tblOpgaveliste[[#This Row],[Mark3]]<>0,tblOpgaveliste[[#This Row],[Mark4]]<>0,tblOpgaveliste[[#This Row],[Mark5]]<>0,tblOpgaveliste[[#This Row],[Mark6]]<>0,tblOpgaveliste[[#This Row],[Mark7]]<>0,tblOpgaveliste[[#This Row],[Mark8]]<>0,tblOpgaveliste[[#This Row],[Mark9]]<>0,tblOpgaveliste[[#This Row],[Mark10]]<>0,tblOpgaveliste[[#This Row],[Maskinstationspris]])","v":false},{"$f":"tblOpgaveliste[[#This Row],[Enheder]]*tblOpgaveliste[[#This Row],[Maskinstationspris]]","v":0},5,null,11,null,"Intern","ha.","Ret",{"$f":"MASKINTEKST(F96,tblMaskinliste[[Id]:[Maskinnavn]],4)","v":""},null,null,null,null,{"$f":"SUMPRODUCT(tblOpgaveliste[[#This Row],[Mark1]:[Mark10]],$AB$83:$AK$83)+tblOpgaveliste[[#This Row],[TimerAndet]]","v":0},1,{"$f":"tblOpgaveliste[[#This Row],[Enhed]]&\"/time\"","v":"ha./time"},{"$f":"IFERROR(tblOpgaveliste[[#This Row],[Enheder]]/tblOpgaveliste[[#This Row],[TimeEnheder]],0)","v":0},null,null,null,null,null,null,null,null,null,null,null,null,{"$f":"OPGAVETIMEPRIS(F96,tblMaskinliste[Id],19)*tblOpgaveliste[[#This Row],[Maskintimer]]","v":0},{"$f":"tblOpgaveliste[[#This Row],[Maskintimer]]*tblOpgaveliste[[#This Row],[AntalLøn]]*Timeløn","v":0},{"$f":"IFERROR((tblOpgaveliste[[#This Row],[Maskinomkostninger]]+tblOpgaveliste[[#This Row],[Lønomkostninger]])/tblOpgaveliste[[#This Row],[Maskintimer]],0)","v":0},{"$f":"IFERROR((tblOpgaveliste[[#This Row],[Maskinomkostninger]]+tblOpgaveliste[[#This Row],[Lønomkostninger]])/(SUMPRODUCT(tblOpgaveliste[[#This Row],[Mark1]:[Mark10]],$AB$83:$AK$83)+tblOpgaveliste[[#This Row],[TimerAndet]]),0)","v":0}]
[{"$f":"IF(tblOpgaveliste[[#This Row],[IBrug]]=TRUE,TRUE,IF(H96=TRUE,TRUE,FALSE))","v":false},null,false,null,0,null,null,{"$f":"OR(tblOpgaveliste[[#This Row],[Opgavenavn]]<>\"\",tblOpgaveliste[[#This Row],[Maskintekst]]<>\"\",tblOpgaveliste[[#This Row],[TimerAndet]]<>0,tblOpgaveliste[[#This Row],[Mark1]]<>0,tblOpgaveliste[[#This Row],[Mark2]]<>0,tblOpgaveliste[[#This Row],[Mark3]]<>0,tblOpgaveliste[[#This Row],[Mark4]]<>0,tblOpgaveliste[[#This Row],[Mark5]]<>0,tblOpgaveliste[[#This Row],[Mark6]]<>0,tblOpgaveliste[[#This Row],[Mark7]]<>0,tblOpgaveliste[[#This Row],[Mark8]]<>0,tblOpgaveliste[[#This Row],[Mark9]]<>0,tblOpgaveliste[[#This Row],[Mark10]]<>0,tblOpgaveliste[[#This Row],[Maskinstationspris]])","v":false},{"$f":"tblOpgaveliste[[#This Row],[Enheder]]*tblOpgaveliste[[#This Row],[Maskinstationspris]]","v":0},6,null,12,null,"Intern","ha.","Ret",{"$f":"MASKINTEKST(F97,tblMaskinliste[[Id]:[Maskinnavn]],4)","v":""},null,null,null,null,{"$f":"SUMPRODUCT(tblOpgaveliste[[#This Row],[Mark1]:[Mark10]],$AB$83:$AK$83)+tblOpgaveliste[[#This Row],[TimerAndet]]","v":0},1,{"$f":"tblOpgaveliste[[#This Row],[Enhed]]&\"/time\"","v":"ha./time"},{"$f":"IFERROR(tblOpgaveliste[[#This Row],[Enheder]]/tblOpgaveliste[[#This Row],[TimeEnheder]],0)","v":0},null,null,null,null,null,null,null,null,null,null,null,null,{"$f":"OPGAVETIMEPRIS(F97,tblMaskinliste[Id],19)*tblOpgaveliste[[#This Row],[Maskintimer]]","v":0},{"$f":"tblOpgaveliste[[#This Row],[Maskintimer]]*tblOpgaveliste[[#This Row],[AntalLøn]]*Timeløn","v":0},{"$f":"IFERROR((tblOpgaveliste[[#This Row],[Maskinomkostninger]]+tblOpgaveliste[[#This Row],[Lønomkostninger]])/tblOpgaveliste[[#This Row],[Maskintimer]],0)","v":0},{"$f":"IFERROR((tblOpgaveliste[[#This Row],[Maskinomkostninger]]+tblOpgaveliste[[#This Row],[Lønomkostninger]])/(SUMPRODUCT(tblOpgaveliste[[#This Row],[Mark1]:[Mark10]],$AB$83:$AK$83)+tblOpgaveliste[[#This Row],[TimerAndet]]),0)","v":0}]
[{"$f":"IF(tblOpgaveliste[[#This Row],[IBrug]]=TRUE,TRUE,IF(H97=TRUE,TRUE,FALSE))","v":false},null,false,null,0,null,null,{"$f":"OR(tblOpgaveliste[[#This Row],[Opgavenavn]]<>\"\",tblOpgaveliste[[#This Row],[Maskintekst]]<>\"\",tblOpgaveliste[[#This Row],[TimerAndet]]<>0,tblOpgaveliste[[#This Row],[Mark1]]<>0,tblOpgaveliste[[#This Row],[Mark2]]<>0,tblOpgaveliste[[#This Row],[Mark3]]<>0,tblOpgaveliste[[#This Row],[Mark4]]<>0,tblOpgaveliste[[#This Row],[Mark5]]<>0,tblOpgaveliste[[#This Row],[Mark6]]<>0,tblOpgaveliste[[#This Row],[Mark7]]<>0,tblOpgaveliste[[#This Row],[Mark8]]<>0,tblOpgaveliste[[#This Row],[Mark9]]<>0,tblOpgaveliste[[#This Row],[Mark10]]<>0,tblOpgaveliste[[#This Row],[Maskinstationspris]])","v":false},{"$f":"tblOpgaveliste[[#This Row],[Enheder]]*tblOpgaveliste[[#This Row],[Maskinstationspris]]","v":0},12,null,13,null,"Intern","ha.","Ret",{"$f":"MASKINTEKST(F98,tblMaskinliste[[Id]:[Maskinnavn]],4)","v":""},null,null,null,null,{"$f":"SUMPRODUCT(tblOpgaveliste[[#This Row],[Mark1]:[Mark10]],$AB$83:$AK$83)+tblOpgaveliste[[#This Row],[TimerAndet]]","v":0},1,{"$f":"tblOpgaveliste[[#This Row],[Enhed]]&\"/time\"","v":"ha./time"},{"$f":"IFERROR(tblOpgaveliste[[#This Row],[Enheder]]/tblOpgaveliste[[#This Row],[TimeEnheder]],0)","v":0},null,null,null,null,null,null,null,null,null,null,null,null,{"$f":"OPGAVETIMEPRIS(F98,tblMaskinliste[Id],19)*tblOpgaveliste[[#This Row],[Maskintimer]]","v":0},{"$f":"tblOpgaveliste[[#This Row],[Maskintimer]]*tblOpgaveliste[[#This Row],[AntalLøn]]*Timeløn","v":0},{"$f":"IFERROR((tblOpgaveliste[[#This Row],[Maskinomkostninger]]+tblOpgaveliste[[#This Row],[Lønomkostninger]])/tblOpgaveliste[[#This Row],[Maskintimer]],0)","v":0},{"$f":"IFERROR((tblOpgaveliste[[#This Row],[Maskinomkostninger]]+tblOpgaveliste[[#This Row],[Lønomkostninger]])/(SUMPRODUCT(tblOpgaveliste[[#This Row],[Mark1]:[Mark10]],$AB$83:$AK$83)+tblOpgaveliste[[#This Row],[TimerAndet]]),0)","v":0}]
[{"$f":"IF(tblOpgaveliste[[#This Row],[IBrug]]=TRUE,TRUE,IF(H98=TRUE,TRUE,FALSE))","v":false},null,false,null,0,null,null,{"$f":"OR(tblOpgaveliste[[#This Row],[Opgavenavn]]<>\"\",tblOpgaveliste[[#This Row],[Maskintekst]]<>\"\",tblOpgaveliste[[#This Row],[TimerAndet]]<>0,tblOpgaveliste[[#This Row],[Mark1]]<>0,tblOpgaveliste[[#This Row],[Mark2]]<>0,tblOpgaveliste[[#This Row],[Mark3]]<>0,tblOpgaveliste[[#This Row],[Mark4]]<>0,tblOpgaveliste[[#This Row],[Mark5]]<>0,tblOpgaveliste[[#This Row],[Mark6]]<>0,tblOpgaveliste[[#This Row],[Mark7]]<>0,tblOpgaveliste[[#This Row],[Mark8]]<>0,tblOpgaveliste[[#This Row],[Mark9]]<>0,tblOpgaveliste[[#This Row],[Mark10]]<>0,tblOpgaveliste[[#This Row],[Maskinstationspris]])","v":false},{"$f":"tblOpgaveliste[[#This Row],[Enheder]]*tblOpgaveliste[[#This Row],[Maskinstationspris]]","v":0},13,null,14,null,"Intern","ha.","Ret",{"$f":"MASKINTEKST(F99,tblMaskinliste[[Id]:[Maskinnavn]],4)","v":""},null,null,null,null,{"$f":"SUMPRODUCT(tblOpgaveliste[[#This Row],[Mark1]:[Mark10]],$AB$83:$AK$83)+tblOpgaveliste[[#This Row],[TimerAndet]]","v":0},1,{"$f":"tblOpgaveliste[[#This Row],[Enhed]]&\"/time\"","v":"ha./time"},{"$f":"IFERROR(tblOpgaveliste[[#This Row],[Enheder]]/tblOpgaveliste[[#This Row],[TimeEnheder]],0)","v":0},null,null,null,null,null,null,null,null,null,null,null,null,{"$f":"OPGAVETIMEPRIS(F99,tblMaskinliste[Id],19)*tblOpgaveliste[[#This Row],[Maskintimer]]","v":0},{"$f":"tblOpgaveliste[[#This Row],[Maskintimer]]*tblOpgaveliste[[#This Row],[AntalLøn]]*Timeløn","v":0},{"$f":"IFERROR((tblOpgaveliste[[#This Row],[Maskinomkostninger]]+tblOpgaveliste[[#This Row],[Lønomkostninger]])/tblOpgaveliste[[#This Row],[Maskintimer]],0)","v":0},{"$f":"IFERROR((tblOpgaveliste[[#This Row],[Maskinomkostninger]]+tblOpgaveliste[[#This Row],[Lønomkostninger]])/(SUMPRODUCT(tblOpgaveliste[[#This Row],[Mark1]:[Mark10]],$AB$83:$AK$83)+tblOpgaveliste[[#This Row],[TimerAndet]]),0)","v":0}]
[{"$f":"IF(tblOpgaveliste[[#This Row],[IBrug]]=TRUE,TRUE,IF(H99=TRUE,TRUE,FALSE))","v":false},null,false,null,0,null,null,{"$f":"OR(tblOpgaveliste[[#This Row],[Opgavenavn]]<>\"\",tblOpgaveliste[[#This Row],[Maskintekst]]<>\"\",tblOpgaveliste[[#This Row],[TimerAndet]]<>0,tblOpgaveliste[[#This Row],[Mark1]]<>0,tblOpgaveliste[[#This Row],[Mark2]]<>0,tblOpgaveliste[[#This Row],[Mark3]]<>0,tblOpgaveliste[[#This Row],[Mark4]]<>0,tblOpgaveliste[[#This Row],[Mark5]]<>0,tblOpgaveliste[[#This Row],[Mark6]]<>0,tblOpgaveliste[[#This Row],[Mark7]]<>0,tblOpgaveliste[[#This Row],[Mark8]]<>0,tblOpgaveliste[[#This Row],[Mark9]]<>0,tblOpgaveliste[[#This Row],[Mark10]]<>0,tblOpgaveliste[[#This Row],[Maskinstationspris]])","v":false},{"$f":"tblOpgaveliste[[#This Row],[Enheder]]*tblOpgaveliste[[#This Row],[Maskinstationspris]]","v":0},14,null,15,null,"Intern","ha.","Ret",{"$f":"MASKINTEKST(F100,tblMaskinliste[[Id]:[Maskinnavn]],4)","v":""},null,null,null,null,{"$f":"SUMPRODUCT(tblOpgaveliste[[#This Row],[Mark1]:[Mark10]],$AB$83:$AK$83)+tblOpgaveliste[[#This Row],[TimerAndet]]","v":0},1,{"$f":"tblOpgaveliste[[#This Row],[Enhed]]&\"/time\"","v":"ha./time"},{"$f":"IFERROR(tblOpgaveliste[[#This Row],[Enheder]]/tblOpgaveliste[[#This Row],[TimeEnheder]],0)","v":0},null,null,null,null,null,null,null,null,null,null,null,null,{"$f":"OPGAVETIMEPRIS(F100,tblMaskinliste[Id],19)*tblOpgaveliste[[#This Row],[Maskintimer]]","v":0},{"$f":"tblOpgaveliste[[#This Row],[Maskintimer]]*tblOpgaveliste[[#This Row],[AntalLøn]]*Timeløn","v":0},{"$f":"IFERROR((tblOpgaveliste[[#This Row],[Maskinomkostninger]]+tblOpgaveliste[[#This Row],[Lønomkostninger]])/tblOpgaveliste[[#This Row],[Maskintimer]],0)","v":0},{"$f":"IFERROR((tblOpgaveliste[[#This Row],[Maskinomkostninger]]+tblOpgaveliste[[#This Row],[Lønomkostninger]])/(SUMPRODUCT(tblOpgaveliste[[#This Row],[Mark1]:[Mark10]],$AB$83:$AK$83)+tblOpgaveliste[[#This Row],[TimerAndet]]),0)","v":0}]
[{"$f":"IF(tblOpgaveliste[[#This Row],[IBrug]]=TRUE,TRUE,IF(H100=TRUE,TRUE,FALSE))","v":false},null,false,null,0,null,null,{"$f":"OR(tblOpgaveliste[[#This Row],[Opgavenavn]]<>\"\",tblOpgaveliste[[#This Row],[Maskintekst]]<>\"\",tblOpgaveliste[[#This Row],[TimerAndet]]<>0,tblOpgaveliste[[#This Row],[Mark1]]<>0,tblOpgaveliste[[#This Row],[Mark2]]<>0,tblOpgaveliste[[#This Row],[Mark3]]<>0,tblOpgaveliste[[#This Row],[Mark4]]<>0,tblOpgaveliste[[#This Row],[Mark5]]<>0,tblOpgaveliste[[#This Row],[Mark6]]<>0,tblOpgaveliste[[#This Row],[Mark7]]<>0,tblOpgaveliste[[#This Row],[Mark8]]<>0,tblOpgaveliste[[#This Row],[Mark9]]<>0,tblOpgaveliste[[#This Row],[Mark10]]<>0,tblOpgaveliste[[#This Row],[Maskinstationspris]])","v":false},{"$f":"tblOpgaveliste[[#This Row],[Enheder]]*tblOpgaveliste[[#This Row],[Maskinstationspris]]","v":0},15,null,16,null,"Intern","ha.","Ret",{"$f":"MASKINTEKST(F101,tblMaskinliste[[Id]:[Maskinnavn]],4)","v":""},null,null,null,null,{"$f":"SUMPRODUCT(tblOpgaveliste[[#This Row],[Mark1]:[Mark10]],$AB$83:$AK$83)+tblOpgaveliste[[#This Row],[TimerAndet]]","v":0},1,{"$f":"tblOpgaveliste[[#This Row],[Enhed]]&\"/time\"","v":"ha./time"},{"$f":"IFERROR(tblOpgaveliste[[#This Row],[Enheder]]/tblOpgaveliste[[#This Row],[TimeEnheder]],0)","v":0},null,null,null,null,null,null,null,null,null,null,null,null,{"$f":"OPGAVETIMEPRIS(F101,tblMaskinliste[Id],19)*tblOpgaveliste[[#This Row],[Maskintimer]]","v":0},{"$f":"tblOpgaveliste[[#This Row],[Maskintimer]]*tblOpgaveliste[[#This Row],[AntalLøn]]*Timeløn","v":0},{"$f":"IFERROR((tblOpgaveliste[[#This Row],[Maskinomkostninger]]+tblOpgaveliste[[#This Row],[Lønomkostninger]])/tblOpgaveliste[[#This Row],[Maskintimer]],0)","v":0},{"$f":"IFERROR((tblOpgaveliste[[#This Row],[Maskinomkostninger]]+tblOpgaveliste[[#This Row],[Lønomkostninger]])/(SUMPRODUCT(tblOpgaveliste[[#This Row],[Mark1]:[Mark10]],$AB$83:$AK$83)+tblOpgaveliste[[#This Row],[TimerAndet]]),0)","v":0}]
[{"$f":"IF(tblOpgaveliste[[#This Row],[IBrug]]=TRUE,TRUE,IF(H101=TRUE,TRUE,FALSE))","v":false},null,false,null,0,null,null,{"$f":"OR(tblOpgaveliste[[#This Row],[Opgavenavn]]<>\"\",tblOpgaveliste[[#This Row],[Maskintekst]]<>\"\",tblOpgaveliste[[#This Row],[TimerAndet]]<>0,tblOpgaveliste[[#This Row],[Mark1]]<>0,tblOpgaveliste[[#This Row],[Mark2]]<>0,tblOpgaveliste[[#This Row],[Mark3]]<>0,tblOpgaveliste[[#This Row],[Mark4]]<>0,tblOpgaveliste[[#This Row],[Mark5]]<>0,tblOpgaveliste[[#This Row],[Mark6]]<>0,tblOpgaveliste[[#This Row],[Mark7]]<>0,tblOpgaveliste[[#This Row],[Mark8]]<>0,tblOpgaveliste[[#This Row],[Mark9]]<>0,tblOpgaveliste[[#This Row],[Mark10]]<>0,tblOpgaveliste[[#This Row],[Maskinstationspris]])","v":false},{"$f":"tblOpgaveliste[[#This Row],[Enheder]]*tblOpgaveliste[[#This Row],[Maskinstationspris]]","v":0},16,null,17,null,"Intern","ha.","Ret",{"$f":"MASKINTEKST(F102,tblMaskinliste[[Id]:[Maskinnavn]],4)","v":""},null,null,null,null,{"$f":"SUMPRODUCT(tblOpgaveliste[[#This Row],[Mark1]:[Mark10]],$AB$83:$AK$83)+tblOpgaveliste[[#This Row],[TimerAndet]]","v":0},1,{"$f":"tblOpgaveliste[[#This Row],[Enhed]]&\"/time\"","v":"ha./time"},{"$f":"IFERROR(tblOpgaveliste[[#This Row],[Enheder]]/tblOpgaveliste[[#This Row],[TimeEnheder]],0)","v":0},null,null,null,null,null,null,null,null,null,null,null,null,{"$f":"OPGAVETIMEPRIS(F102,tblMaskinliste[Id],19)*tblOpgaveliste[[#This Row],[Maskintimer]]","v":0},{"$f":"tblOpgaveliste[[#This Row],[Maskintimer]]*tblOpgaveliste[[#This Row],[AntalLøn]]*Timeløn","v":0},{"$f":"IFERROR((tblOpgaveliste[[#This Row],[Maskinomkostninger]]+tblOpgaveliste[[#This Row],[Lønomkostninger]])/tblOpgaveliste[[#This Row],[Maskintimer]],0)","v":0},{"$f":"IFERROR((tblOpgaveliste[[#This Row],[Maskinomkostninger]]+tblOpgaveliste[[#This Row],[Lønomkostninger]])/(SUMPRODUCT(tblOpgaveliste[[#This Row],[Mark1]:[Mark10]],$AB$83:$AK$83)+tblOpgaveliste[[#This Row],[TimerAndet]]),0)","v":0}]
[{"$f":"IF(tblOpgaveliste[[#This Row],[IBrug]]=TRUE,TRUE,IF(H102=TRUE,TRUE,FALSE))","v":false},null,false,null,0,null,null,{"$f":"OR(tblOpgaveliste[[#This Row],[Opgavenavn]]<>\"\",tblOpgaveliste[[#This Row],[Maskintekst]]<>\"\",tblOpgaveliste[[#This Row],[TimerAndet]]<>0,tblOpgaveliste[[#This Row],[Mark1]]<>0,tblOpgaveliste[[#This Row],[Mark2]]<>0,tblOpgaveliste[[#This Row],[Mark3]]<>0,tblOpgaveliste[[#This Row],[Mark4]]<>0,tblOpgaveliste[[#This Row],[Mark5]]<>0,tblOpgaveliste[[#This Row],[Mark6]]<>0,tblOpgaveliste[[#This Row],[Mark7]]<>0,tblOpgaveliste[[#This Row],[Mark8]]<>0,tblOpgaveliste[[#This Row],[Mark9]]<>0,tblOpgaveliste[[#This Row],[Mark10]]<>0,tblOpgaveliste[[#This Row],[Maskinstationspris]])","v":false},{"$f":"tblOpgaveliste[[#This Row],[Enheder]]*tblOpgaveliste[[#This Row],[Maskinstationspris]]","v":0},17,null,18,null,"Intern","ha.","Ret",{"$f":"MASKINTEKST(F103,tblMaskinliste[[Id]:[Maskinnavn]],4)","v":""},null,null,null,null,{"$f":"SUMPRODUCT(tblOpgaveliste[[#This Row],[Mark1]:[Mark10]],$AB$83:$AK$83)+tblOpgaveliste[[#This Row],[TimerAndet]]","v":0},1,{"$f":"tblOpgaveliste[[#This Row],[Enhed]]&\"/time\"","v":"ha./time"},{"$f":"IFERROR(tblOpgaveliste[[#This Row],[Enheder]]/tblOpgaveliste[[#This Row],[TimeEnheder]],0)","v":0},null,null,null,null,null,null,null,null,null,null,null,null,{"$f":"OPGAVETIMEPRIS(F103,tblMaskinliste[Id],19)*tblOpgaveliste[[#This Row],[Maskintimer]]","v":0},{"$f":"tblOpgaveliste[[#This Row],[Maskintimer]]*tblOpgaveliste[[#This Row],[AntalLøn]]*Timeløn","v":0},{"$f":"IFERROR((tblOpgaveliste[[#This Row],[Maskinomkostninger]]+tblOpgaveliste[[#This Row],[Lønomkostninger]])/tblOpgaveliste[[#This Row],[Maskintimer]],0)","v":0},{"$f":"IFERROR((tblOpgaveliste[[#This Row],[Maskinomkostninger]]+tblOpgaveliste[[#This Row],[Lønomkostninger]])/(SUMPRODUCT(tblOpgaveliste[[#This Row],[Mark1]:[Mark10]],$AB$83:$AK$83)+tblOpgaveliste[[#This Row],[TimerAndet]]),0)","v":0}]
[{"$f":"IF(tblOpgaveliste[[#This Row],[IBrug]]=TRUE,TRUE,IF(H103=TRUE,TRUE,FALSE))","v":false},null,false,null,0,null,null,{"$f":"OR(tblOpgaveliste[[#This Row],[Opgavenavn]]<>\"\",tblOpgaveliste[[#This Row],[Maskintekst]]<>\"\",tblOpgaveliste[[#This Row],[TimerAndet]]<>0,tblOpgaveliste[[#This Row],[Mark1]]<>0,tblOpgaveliste[[#This Row],[Mark2]]<>0,tblOpgaveliste[[#This Row],[Mark3]]<>0,tblOpgaveliste[[#This Row],[Mark4]]<>0,tblOpgaveliste[[#This Row],[Mark5]]<>0,tblOpgaveliste[[#This Row],[Mark6]]<>0,tblOpgaveliste[[#This Row],[Mark7]]<>0,tblOpgaveliste[[#This Row],[Mark8]]<>0,tblOpgaveliste[[#This Row],[Mark9]]<>0,tblOpgaveliste[[#This Row],[Mark10]]<>0,tblOpgaveliste[[#This Row],[Maskinstationspris]])","v":false},{"$f":"tblOpgaveliste[[#This Row],[Enheder]]*tblOpgaveliste[[#This Row],[Maskinstationspris]]","v":0},18,null,19,null,"Intern","ha.","Ret",{"$f":"MASKINTEKST(F104,tblMaskinliste[[Id]:[Maskinnavn]],4)","v":""},null,null,null,null,{"$f":"SUMPRODUCT(tblOpgaveliste[[#This Row],[Mark1]:[Mark10]],$AB$83:$AK$83)+tblOpgaveliste[[#This Row],[TimerAndet]]","v":0},1,{"$f":"tblOpgaveliste[[#This Row],[Enhed]]&\"/time\"","v":"ha./time"},{"$f":"IFERROR(tblOpgaveliste[[#This Row],[Enheder]]/tblOpgaveliste[[#This Row],[TimeEnheder]],0)","v":0},null,null,null,null,null,null,null,null,null,null,null,null,{"$f":"OPGAVETIMEPRIS(F104,tblMaskinliste[Id],19)*tblOpgaveliste[[#This Row],[Maskintimer]]","v":0},{"$f":"tblOpgaveliste[[#This Row],[Maskintimer]]*tblOpgaveliste[[#This Row],[AntalLøn]]*Timeløn","v":0},{"$f":"IFERROR((tblOpgaveliste[[#This Row],[Maskinomkostninger]]+tblOpgaveliste[[#This Row],[Lønomkostninger]])/tblOpgaveliste[[#This Row],[Maskintimer]],0)","v":0},{"$f":"IFERROR((tblOpgaveliste[[#This Row],[Maskinomkostninger]]+tblOpgaveliste[[#This Row],[Lønomkostninger]])/(SUMPRODUCT(tblOpgaveliste[[#This Row],[Mark1]:[Mark10]],$AB$83:$AK$83)+tblOpgaveliste[[#This Row],[TimerAndet]]),0)","v":0}]
[{"$f":"IF(tblOpgaveliste[[#This Row],[IBrug]]=TRUE,TRUE,IF(H104=TRUE,TRUE,FALSE))","v":false},null,false,null,0,null,null,{"$f":"OR(tblOpgaveliste[[#This Row],[Opgavenavn]]<>\"\",tblOpgaveliste[[#This Row],[Maskintekst]]<>\"\",tblOpgaveliste[[#This Row],[TimerAndet]]<>0,tblOpgaveliste[[#This Row],[Mark1]]<>0,tblOpgaveliste[[#This Row],[Mark2]]<>0,tblOpgaveliste[[#This Row],[Mark3]]<>0,tblOpgaveliste[[#This Row],[Mark4]]<>0,tblOpgaveliste[[#This Row],[Mark5]]<>0,tblOpgaveliste[[#This Row],[Mark6]]<>0,tblOpgaveliste[[#This Row],[Mark7]]<>0,tblOpgaveliste[[#This Row],[Mark8]]<>0,tblOpgaveliste[[#This Row],[Mark9]]<>0,tblOpgaveliste[[#This Row],[Mark10]]<>0,tblOpgaveliste[[#This Row],[Maskinstationspris]])","v":false},{"$f":"tblOpgaveliste[[#This Row],[Enheder]]*tblOpgaveliste[[#This Row],[Maskinstationspris]]","v":0},19,null,20,null,"Intern","ha.","Ret",{"$f":"MASKINTEKST(F105,tblMaskinliste[[Id]:[Maskinnavn]],4)","v":""},null,null,null,null,{"$f":"SUMPRODUCT(tblOpgaveliste[[#This Row],[Mark1]:[Mark10]],$AB$83:$AK$83)+tblOpgaveliste[[#This Row],[TimerAndet]]","v":0},1,{"$f":"tblOpgaveliste[[#This Row],[Enhed]]&\"/time\"","v":"ha./time"},{"$f":"IFERROR(tblOpgaveliste[[#This Row],[Enheder]]/tblOpgaveliste[[#This Row],[TimeEnheder]],0)","v":0},null,null,null,null,null,null,null,null,null,null,null,null,{"$f":"OPGAVETIMEPRIS(F105,tblMaskinliste[Id],19)*tblOpgaveliste[[#This Row],[Maskintimer]]","v":0},{"$f":"tblOpgaveliste[[#This Row],[Maskintimer]]*tblOpgaveliste[[#This Row],[AntalLøn]]*Timeløn","v":0},{"$f":"IFERROR((tblOpgaveliste[[#This Row],[Maskinomkostninger]]+tblOpgaveliste[[#This Row],[Lønomkostninger]])/tblOpgaveliste[[#This Row],[Maskintimer]],0)","v":0},{"$f":"IFERROR((tblOpgaveliste[[#This Row],[Maskinomkostninger]]+tblOpgaveliste[[#This Row],[Lønomkostninger]])/(SUMPRODUCT(tblOpgaveliste[[#This Row],[Mark1]:[Mark10]],$AB$83:$AK$83)+tblOpgaveliste[[#This Row],[TimerAndet]]),0)","v":0}]
[{"$f":"IF(tblOpgaveliste[[#This Row],[IBrug]]=TRUE,TRUE,IF(H105=TRUE,TRUE,FALSE))","v":false},null,false,null,0,null,null,{"$f":"OR(tblOpgaveliste[[#This Row],[Opgavenavn]]<>\"\",tblOpgaveliste[[#This Row],[Maskintekst]]<>\"\",tblOpgaveliste[[#This Row],[TimerAndet]]<>0,tblOpgaveliste[[#This Row],[Mark1]]<>0,tblOpgaveliste[[#This Row],[Mark2]]<>0,tblOpgaveliste[[#This Row],[Mark3]]<>0,tblOpgaveliste[[#This Row],[Mark4]]<>0,tblOpgaveliste[[#This Row],[Mark5]]<>0,tblOpgaveliste[[#This Row],[Mark6]]<>0,tblOpgaveliste[[#This Row],[Mark7]]<>0,tblOpgaveliste[[#This Row],[Mark8]]<>0,tblOpgaveliste[[#This Row],[Mark9]]<>0,tblOpgaveliste[[#This Row],[Mark10]]<>0,tblOpgaveliste[[#This Row],[Maskinstationspris]])","v":false},{"$f":"tblOpgaveliste[[#This Row],[Enheder]]*tblOpgaveliste[[#This Row],[Maskinstationspris]]","v":0},20,null,21,null,"Intern","ha.","Ret",{"$f":"MASKINTEKST(F106,tblMaskinliste[[Id]:[Maskinnavn]],4)","v":""},null,null,null,null,{"$f":"SUMPRODUCT(tblOpgaveliste[[#This Row],[Mark1]:[Mark10]],$AB$83:$AK$83)+tblOpgaveliste[[#This Row],[TimerAndet]]","v":0},1,{"$f":"tblOpgaveliste[[#This Row],[Enhed]]&\"/time\"","v":"ha./time"},{"$f":"IFERROR(tblOpgaveliste[[#This Row],[Enheder]]/tblOpgaveliste[[#This Row],[TimeEnheder]],0)","v":0},null,null,null,null,null,null,null,null,null,null,null,null,{"$f":"OPGAVETIMEPRIS(F106,tblMaskinliste[Id],19)*tblOpgaveliste[[#This Row],[Maskintimer]]","v":0},{"$f":"tblOpgaveliste[[#This Row],[Maskintimer]]*tblOpgaveliste[[#This Row],[AntalLøn]]*Timeløn","v":0},{"$f":"IFERROR((tblOpgaveliste[[#This Row],[Maskinomkostninger]]+tblOpgaveliste[[#This Row],[Lønomkostninger]])/tblOpgaveliste[[#This Row],[Maskintimer]],0)","v":0},{"$f":"IFERROR((tblOpgaveliste[[#This Row],[Maskinomkostninger]]+tblOpgaveliste[[#This Row],[Lønomkostninger]])/(SUMPRODUCT(tblOpgaveliste[[#This Row],[Mark1]:[Mark10]],$AB$83:$AK$83)+tblOpgaveliste[[#This Row],[TimerAndet]]),0)","v":0}]
[{"$f":"IF(tblOpgaveliste[[#This Row],[IBrug]]=TRUE,TRUE,IF(H106=TRUE,TRUE,FALSE))","v":false},null,false,null,0,null,null,{"$f":"OR(tblOpgaveliste[[#This Row],[Opgavenavn]]<>\"\",tblOpgaveliste[[#This Row],[Maskintekst]]<>\"\",tblOpgaveliste[[#This Row],[TimerAndet]]<>0,tblOpgaveliste[[#This Row],[Mark1]]<>0,tblOpgaveliste[[#This Row],[Mark2]]<>0,tblOpgaveliste[[#This Row],[Mark3]]<>0,tblOpgaveliste[[#This Row],[Mark4]]<>0,tblOpgaveliste[[#This Row],[Mark5]]<>0,tblOpgaveliste[[#This Row],[Mark6]]<>0,tblOpgaveliste[[#This Row],[Mark7]]<>0,tblOpgaveliste[[#This Row],[Mark8]]<>0,tblOpgaveliste[[#This Row],[Mark9]]<>0,tblOpgaveliste[[#This Row],[Mark10]]<>0,tblOpgaveliste[[#This Row],[Maskinstationspris]])","v":false},{"$f":"tblOpgaveliste[[#This Row],[Enheder]]*tblOpgaveliste[[#This Row],[Maskinstationspris]]","v":0},21,null,22,null,"Intern","ha.","Ret",{"$f":"MASKINTEKST(F107,tblMaskinliste[[Id]:[Maskinnavn]],4)","v":""},null,null,null,null,{"$f":"SUMPRODUCT(tblOpgaveliste[[#This Row],[Mark1]:[Mark10]],$AB$83:$AK$83)+tblOpgaveliste[[#This Row],[TimerAndet]]","v":0},1,{"$f":"tblOpgaveliste[[#This Row],[Enhed]]&\"/time\"","v":"ha./time"},{"$f":"IFERROR(tblOpgaveliste[[#This Row],[Enheder]]/tblOpgaveliste[[#This Row],[TimeEnheder]],0)","v":0},null,null,null,null,null,null,null,null,null,null,null,null,{"$f":"OPGAVETIMEPRIS(F107,tblMaskinliste[Id],19)*tblOpgaveliste[[#This Row],[Maskintimer]]","v":0},{"$f":"tblOpgaveliste[[#This Row],[Maskintimer]]*tblOpgaveliste[[#This Row],[AntalLøn]]*Timeløn","v":0},{"$f":"IFERROR((tblOpgaveliste[[#This Row],[Maskinomkostninger]]+tblOpgaveliste[[#This Row],[Lønomkostninger]])/tblOpgaveliste[[#This Row],[Maskintimer]],0)","v":0},{"$f":"IFERROR((tblOpgaveliste[[#This Row],[Maskinomkostninger]]+tblOpgaveliste[[#This Row],[Lønomkostninger]])/(SUMPRODUCT(tblOpgaveliste[[#This Row],[Mark1]:[Mark10]],$AB$83:$AK$83)+tblOpgaveliste[[#This Row],[TimerAndet]]),0)","v":0}]
[{"$f":"IF(tblOpgaveliste[[#This Row],[IBrug]]=TRUE,TRUE,IF(H107=TRUE,TRUE,FALSE))","v":false},null,false,null,0,null,null,{"$f":"OR(tblOpgaveliste[[#This Row],[Opgavenavn]]<>\"\",tblOpgaveliste[[#This Row],[Maskintekst]]<>\"\",tblOpgaveliste[[#This Row],[TimerAndet]]<>0,tblOpgaveliste[[#This Row],[Mark1]]<>0,tblOpgaveliste[[#This Row],[Mark2]]<>0,tblOpgaveliste[[#This Row],[Mark3]]<>0,tblOpgaveliste[[#This Row],[Mark4]]<>0,tblOpgaveliste[[#This Row],[Mark5]]<>0,tblOpgaveliste[[#This Row],[Mark6]]<>0,tblOpgaveliste[[#This Row],[Mark7]]<>0,tblOpgaveliste[[#This Row],[Mark8]]<>0,tblOpgaveliste[[#This Row],[Mark9]]<>0,tblOpgaveliste[[#This Row],[Mark10]]<>0,tblOpgaveliste[[#This Row],[Maskinstationspris]])","v":false},{"$f":"tblOpgaveliste[[#This Row],[Enheder]]*tblOpgaveliste[[#This Row],[Maskinstationspris]]","v":0},22,null,23,null,"Intern","ha.","Ret",{"$f":"MASKINTEKST(F108,tblMaskinliste[[Id]:[Maskinnavn]],4)","v":""},null,null,null,null,{"$f":"SUMPRODUCT(tblOpgaveliste[[#This Row],[Mark1]:[Mark10]],$AB$83:$AK$83)+tblOpgaveliste[[#This Row],[TimerAndet]]","v":0},1,{"$f":"tblOpgaveliste[[#This Row],[Enhed]]&\"/time\"","v":"ha./time"},{"$f":"IFERROR(tblOpgaveliste[[#This Row],[Enheder]]/tblOpgaveliste[[#This Row],[TimeEnheder]],0)","v":0},null,null,null,null,null,null,null,null,null,null,null,null,{"$f":"OPGAVETIMEPRIS(F108,tblMaskinliste[Id],19)*tblOpgaveliste[[#This Row],[Maskintimer]]","v":0},{"$f":"tblOpgaveliste[[#This Row],[Maskintimer]]*tblOpgaveliste[[#This Row],[AntalLøn]]*Timeløn","v":0},{"$f":"IFERROR((tblOpgaveliste[[#This Row],[Maskinomkostninger]]+tblOpgaveliste[[#This Row],[Lønomkostninger]])/tblOpgaveliste[[#This Row],[Maskintimer]],0)","v":0},{"$f":"IFERROR((tblOpgaveliste[[#This Row],[Maskinomkostninger]]+tblOpgaveliste[[#This Row],[Lønomkostninger]])/(SUMPRODUCT(tblOpgaveliste[[#This Row],[Mark1]:[Mark10]],$AB$83:$AK$83)+tblOpgaveliste[[#This Row],[TimerAndet]]),0)","v":0}]
[{"$f":"IF(tblOpgaveliste[[#This Row],[IBrug]]=TRUE,TRUE,IF(H108=TRUE,TRUE,FALSE))","v":false},null,false,null,0,null,null,{"$f":"OR(tblOpgaveliste[[#This Row],[Opgavenavn]]<>\"\",tblOpgaveliste[[#This Row],[Maskintekst]]<>\"\",tblOpgaveliste[[#This Row],[TimerAndet]]<>0,tblOpgaveliste[[#This Row],[Mark1]]<>0,tblOpgaveliste[[#This Row],[Mark2]]<>0,tblOpgaveliste[[#This Row],[Mark3]]<>0,tblOpgaveliste[[#This Row],[Mark4]]<>0,tblOpgaveliste[[#This Row],[Mark5]]<>0,tblOpgaveliste[[#This Row],[Mark6]]<>0,tblOpgaveliste[[#This Row],[Mark7]]<>0,tblOpgaveliste[[#This Row],[Mark8]]<>0,tblOpgaveliste[[#This Row],[Mark9]]<>0,tblOpgaveliste[[#This Row],[Mark10]]<>0,tblOpgaveliste[[#This Row],[Maskinstationspris]])","v":false},{"$f":"tblOpgaveliste[[#This Row],[Enheder]]*tblOpgaveliste[[#This Row],[Maskinstationspris]]","v":0},23,null,24,null,"Intern","ha.","Ret",{"$f":"MASKINTEKST(F109,tblMaskinliste[[Id]:[Maskinnavn]],4)","v":""},null,null,null,null,{"$f":"SUMPRODUCT(tblOpgaveliste[[#This Row],[Mark1]:[Mark10]],$AB$83:$AK$83)+tblOpgaveliste[[#This Row],[TimerAndet]]","v":0},1,{"$f":"tblOpgaveliste[[#This Row],[Enhed]]&\"/time\"","v":"ha./time"},{"$f":"IFERROR(tblOpgaveliste[[#This Row],[Enheder]]/tblOpgaveliste[[#This Row],[TimeEnheder]],0)","v":0},null,null,null,null,null,null,null,null,null,null,null,null,{"$f":"OPGAVETIMEPRIS(F109,tblMaskinliste[Id],19)*tblOpgaveliste[[#This Row],[Maskintimer]]","v":0},{"$f":"tblOpgaveliste[[#This Row],[Maskintimer]]*tblOpgaveliste[[#This Row],[AntalLøn]]*Timeløn","v":0},{"$f":"IFERROR((tblOpgaveliste[[#This Row],[Maskinomkostninger]]+tblOpgaveliste[[#This Row],[Lønomkostninger]])/tblOpgaveliste[[#This Row],[Maskintimer]],0)","v":0},{"$f":"IFERROR((tblOpgaveliste[[#This Row],[Maskinomkostninger]]+tblOpgaveliste[[#This Row],[Lønomkostninger]])/(SUMPRODUCT(tblOpgaveliste[[#This Row],[Mark1]:[Mark10]],$AB$83:$AK$83)+tblOpgaveliste[[#This Row],[TimerAndet]]),0)","v":0}]
[{"$f":"IF(tblOpgaveliste[[#This Row],[IBrug]]=TRUE,TRUE,IF(H109=TRUE,TRUE,FALSE))","v":false},null,false,null,0,null,null,{"$f":"OR(tblOpgaveliste[[#This Row],[Opgavenavn]]<>\"\",tblOpgaveliste[[#This Row],[Maskintekst]]<>\"\",tblOpgaveliste[[#This Row],[TimerAndet]]<>0,tblOpgaveliste[[#This Row],[Mark1]]<>0,tblOpgaveliste[[#This Row],[Mark2]]<>0,tblOpgaveliste[[#This Row],[Mark3]]<>0,tblOpgaveliste[[#This Row],[Mark4]]<>0,tblOpgaveliste[[#This Row],[Mark5]]<>0,tblOpgaveliste[[#This Row],[Mark6]]<>0,tblOpgaveliste[[#This Row],[Mark7]]<>0,tblOpgaveliste[[#This Row],[Mark8]]<>0,tblOpgaveliste[[#This Row],[Mark9]]<>0,tblOpgaveliste[[#This Row],[Mark10]]<>0,tblOpgaveliste[[#This Row],[Maskinstationspris]])","v":false},{"$f":"tblOpgaveliste[[#This Row],[Enheder]]*tblOpgaveliste[[#This Row],[Maskinstationspris]]","v":0},24,null,25,null,"Intern","ha.","Ret",{"$f":"MASKINTEKST(F110,tblMaskinliste[[Id]:[Maskinnavn]],4)","v":""},null,null,null,null,{"$f":"SUMPRODUCT(tblOpgaveliste[[#This Row],[Mark1]:[Mark10]],$AB$83:$AK$83)+tblOpgaveliste[[#This Row],[TimerAndet]]","v":0},1,{"$f":"tblOpgaveliste[[#This Row],[Enhed]]&\"/time\"","v":"ha./time"},{"$f":"IFERROR(tblOpgaveliste[[#This Row],[Enheder]]/tblOpgaveliste[[#This Row],[TimeEnheder]],0)","v":0},null,null,null,null,null,null,null,null,null,null,null,null,{"$f":"OPGAVETIMEPRIS(F110,tblMaskinliste[Id],19)*tblOpgaveliste[[#This Row],[Maskintimer]]","v":0},{"$f":"tblOpgaveliste[[#This Row],[Maskintimer]]*tblOpgaveliste[[#This Row],[AntalLøn]]*Timeløn","v":0},{"$f":"IFERROR((tblOpgaveliste[[#This Row],[Maskinomkostninger]]+tblOpgaveliste[[#This Row],[Lønomkostninger]])/tblOpgaveliste[[#This Row],[Maskintimer]],0)","v":0},{"$f":"IFERROR((tblOpgaveliste[[#This Row],[Maskinomkostninger]]+tblOpgaveliste[[#This Row],[Lønomkostninger]])/(SUMPRODUCT(tblOpgaveliste[[#This Row],[Mark1]:[Mark10]],$AB$83:$AK$83)+tblOpgaveliste[[#This Row],[TimerAndet]]),0)","v":0}]
[{"$f":"IF(tblOpgaveliste[[#This Row],[IBrug]]=TRUE,TRUE,IF(H110=TRUE,TRUE,FALSE))","v":false},null,false,null,0,null,null,{"$f":"OR(tblOpgaveliste[[#This Row],[Opgavenavn]]<>\"\",tblOpgaveliste[[#This Row],[Maskintekst]]<>\"\",tblOpgaveliste[[#This Row],[TimerAndet]]<>0,tblOpgaveliste[[#This Row],[Mark1]]<>0,tblOpgaveliste[[#This Row],[Mark2]]<>0,tblOpgaveliste[[#This Row],[Mark3]]<>0,tblOpgaveliste[[#This Row],[Mark4]]<>0,tblOpgaveliste[[#This Row],[Mark5]]<>0,tblOpgaveliste[[#This Row],[Mark6]]<>0,tblOpgaveliste[[#This Row],[Mark7]]<>0,tblOpgaveliste[[#This Row],[Mark8]]<>0,tblOpgaveliste[[#This Row],[Mark9]]<>0,tblOpgaveliste[[#This Row],[Mark10]]<>0,tblOpgaveliste[[#This Row],[Maskinstationspris]])","v":false},{"$f":"tblOpgaveliste[[#This Row],[Enheder]]*tblOpgaveliste[[#This Row],[Maskinstationspris]]","v":0},25,null,26,null,"Intern","ha.","Ret",{"$f":"MASKINTEKST(F111,tblMaskinliste[[Id]:[Maskinnavn]],4)","v":""},null,null,null,null,{"$f":"SUMPRODUCT(tblOpgaveliste[[#This Row],[Mark1]:[Mark10]],$AB$83:$AK$83)+tblOpgaveliste[[#This Row],[TimerAndet]]","v":0},1,{"$f":"tblOpgaveliste[[#This Row],[Enhed]]&\"/time\"","v":"ha./time"},{"$f":"IFERROR(tblOpgaveliste[[#This Row],[Enheder]]/tblOpgaveliste[[#This Row],[TimeEnheder]],0)","v":0},null,null,null,null,null,null,null,null,null,null,null,null,{"$f":"OPGAVETIMEPRIS(F111,tblMaskinliste[Id],19)*tblOpgaveliste[[#This Row],[Maskintimer]]","v":0},{"$f":"tblOpgaveliste[[#This Row],[Maskintimer]]*tblOpgaveliste[[#This Row],[AntalLøn]]*Timeløn","v":0},{"$f":"IFERROR((tblOpgaveliste[[#This Row],[Maskinomkostninger]]+tblOpgaveliste[[#This Row],[Lønomkostninger]])/tblOpgaveliste[[#This Row],[Maskintimer]],0)","v":0},{"$f":"IFERROR((tblOpgaveliste[[#This Row],[Maskinomkostninger]]+tblOpgaveliste[[#This Row],[Lønomkostninger]])/(SUMPRODUCT(tblOpgaveliste[[#This Row],[Mark1]:[Mark10]],$AB$83:$AK$83)+tblOpgaveliste[[#This Row],[TimerAndet]]),0)","v":0}]
[{"$f":"IF(tblOpgaveliste[[#This Row],[IBrug]]=TRUE,TRUE,IF(H111=TRUE,TRUE,FALSE))","v":false},null,false,null,0,null,null,{"$f":"OR(tblOpgaveliste[[#This Row],[Opgavenavn]]<>\"\",tblOpgaveliste[[#This Row],[Maskintekst]]<>\"\",tblOpgaveliste[[#This Row],[TimerAndet]]<>0,tblOpgaveliste[[#This Row],[Mark1]]<>0,tblOpgaveliste[[#This Row],[Mark2]]<>0,tblOpgaveliste[[#This Row],[Mark3]]<>0,tblOpgaveliste[[#This Row],[Mark4]]<>0,tblOpgaveliste[[#This Row],[Mark5]]<>0,tblOpgaveliste[[#This Row],[Mark6]]<>0,tblOpgaveliste[[#This Row],[Mark7]]<>0,tblOpgaveliste[[#This Row],[Mark8]]<>0,tblOpgaveliste[[#This Row],[Mark9]]<>0,tblOpgaveliste[[#This Row],[Mark10]]<>0,tblOpgaveliste[[#This Row],[Maskinstationspris]])","v":false},{"$f":"tblOpgaveliste[[#This Row],[Enheder]]*tblOpgaveliste[[#This Row],[Maskinstationspris]]","v":0},26,null,27,null,"Intern","ha.","Ret",{"$f":"MASKINTEKST(F112,tblMaskinliste[[Id]:[Maskinnavn]],4)","v":""},null,null,null,null,{"$f":"SUMPRODUCT(tblOpgaveliste[[#This Row],[Mark1]:[Mark10]],$AB$83:$AK$83)+tblOpgaveliste[[#This Row],[TimerAndet]]","v":0},1,{"$f":"tblOpgaveliste[[#This Row],[Enhed]]&\"/time\"","v":"ha./time"},{"$f":"IFERROR(tblOpgaveliste[[#This Row],[Enheder]]/tblOpgaveliste[[#This Row],[TimeEnheder]],0)","v":0},null,null,null,null,null,null,null,null,null,null,null,null,{"$f":"OPGAVETIMEPRIS(F112,tblMaskinliste[Id],19)*tblOpgaveliste[[#This Row],[Maskintimer]]","v":0},{"$f":"tblOpgaveliste[[#This Row],[Maskintimer]]*tblOpgaveliste[[#This Row],[AntalLøn]]*Timeløn","v":0},{"$f":"IFERROR((tblOpgaveliste[[#This Row],[Maskinomkostninger]]+tblOpgaveliste[[#This Row],[Lønomkostninger]])/tblOpgaveliste[[#This Row],[Maskintimer]],0)","v":0},{"$f":"IFERROR((tblOpgaveliste[[#This Row],[Maskinomkostninger]]+tblOpgaveliste[[#This Row],[Lønomkostninger]])/(SUMPRODUCT(tblOpgaveliste[[#This Row],[Mark1]:[Mark10]],$AB$83:$AK$83)+tblOpgaveliste[[#This Row],[TimerAndet]]),0)","v":0}]
[{"$f":"IF(tblOpgaveliste[[#This Row],[IBrug]]=TRUE,TRUE,IF(H112=TRUE,TRUE,FALSE))","v":false},null,false,null,0,null,null,{"$f":"OR(tblOpgaveliste[[#This Row],[Opgavenavn]]<>\"\",tblOpgaveliste[[#This Row],[Maskintekst]]<>\"\",tblOpgaveliste[[#This Row],[TimerAndet]]<>0,tblOpgaveliste[[#This Row],[Mark1]]<>0,tblOpgaveliste[[#This Row],[Mark2]]<>0,tblOpgaveliste[[#This Row],[Mark3]]<>0,tblOpgaveliste[[#This Row],[Mark4]]<>0,tblOpgaveliste[[#This Row],[Mark5]]<>0,tblOpgaveliste[[#This Row],[Mark6]]<>0,tblOpgaveliste[[#This Row],[Mark7]]<>0,tblOpgaveliste[[#This Row],[Mark8]]<>0,tblOpgaveliste[[#This Row],[Mark9]]<>0,tblOpgaveliste[[#This Row],[Mark10]]<>0,tblOpgaveliste[[#This Row],[Maskinstationspris]])","v":false},{"$f":"tblOpgaveliste[[#This Row],[Enheder]]*tblOpgaveliste[[#This Row],[Maskinstationspris]]","v":0},27,null,28,null,"Intern","ha.","Ret",{"$f":"MASKINTEKST(F113,tblMaskinliste[[Id]:[Maskinnavn]],4)","v":""},null,null,null,null,{"$f":"SUMPRODUCT(tblOpgaveliste[[#This Row],[Mark1]:[Mark10]],$AB$83:$AK$83)+tblOpgaveliste[[#This Row],[TimerAndet]]","v":0},1,{"$f":"tblOpgaveliste[[#This Row],[Enhed]]&\"/time\"","v":"ha./time"},{"$f":"IFERROR(tblOpgaveliste[[#This Row],[Enheder]]/tblOpgaveliste[[#This Row],[TimeEnheder]],0)","v":0},null,null,null,null,null,null,null,null,null,null,null,null,{"$f":"OPGAVETIMEPRIS(F113,tblMaskinliste[Id],19)*tblOpgaveliste[[#This Row],[Maskintimer]]","v":0},{"$f":"tblOpgaveliste[[#This Row],[Maskintimer]]*tblOpgaveliste[[#This Row],[AntalLøn]]*Timeløn","v":0},{"$f":"IFERROR((tblOpgaveliste[[#This Row],[Maskinomkostninger]]+tblOpgaveliste[[#This Row],[Lønomkostninger]])/tblOpgaveliste[[#This Row],[Maskintimer]],0)","v":0},{"$f":"IFERROR((tblOpgaveliste[[#This Row],[Maskinomkostninger]]+tblOpgaveliste[[#This Row],[Lønomkostninger]])/(SUMPRODUCT(tblOpgaveliste[[#This Row],[Mark1]:[Mark10]],$AB$83:$AK$83)+tblOpgaveliste[[#This Row],[TimerAndet]]),0)","v":0}]
[{"$f":"IF(tblOpgaveliste[[#This Row],[IBrug]]=TRUE,TRUE,IF(H113=TRUE,TRUE,FALSE))","v":false},null,false,null,0,null,null,{"$f":"OR(tblOpgaveliste[[#This Row],[Opgavenavn]]<>\"\",tblOpgaveliste[[#This Row],[Maskintekst]]<>\"\",tblOpgaveliste[[#This Row],[TimerAndet]]<>0,tblOpgaveliste[[#This Row],[Mark1]]<>0,tblOpgaveliste[[#This Row],[Mark2]]<>0,tblOpgaveliste[[#This Row],[Mark3]]<>0,tblOpgaveliste[[#This Row],[Mark4]]<>0,tblOpgaveliste[[#This Row],[Mark5]]<>0,tblOpgaveliste[[#This Row],[Mark6]]<>0,tblOpgaveliste[[#This Row],[Mark7]]<>0,tblOpgaveliste[[#This Row],[Mark8]]<>0,tblOpgaveliste[[#This Row],[Mark9]]<>0,tblOpgaveliste[[#This Row],[Mark10]]<>0,tblOpgaveliste[[#This Row],[Maskinstationspris]])","v":false},{"$f":"tblOpgaveliste[[#This Row],[Enheder]]*tblOpgaveliste[[#This Row],[Maskinstationspris]]","v":0},28,null,29,null,"Intern","ha.","Ret",{"$f":"MASKINTEKST(F114,tblMaskinliste[[Id]:[Maskinnavn]],4)","v":""},null,null,null,null,{"$f":"SUMPRODUCT(tblOpgaveliste[[#This Row],[Mark1]:[Mark10]],$AB$83:$AK$83)+tblOpgaveliste[[#This Row],[TimerAndet]]","v":0},1,{"$f":"tblOpgaveliste[[#This Row],[Enhed]]&\"/time\"","v":"ha./time"},{"$f":"IFERROR(tblOpgaveliste[[#This Row],[Enheder]]/tblOpgaveliste[[#This Row],[TimeEnheder]],0)","v":0},null,null,null,null,null,null,null,null,null,null,null,null,{"$f":"OPGAVETIMEPRIS(F114,tblMaskinliste[Id],19)*tblOpgaveliste[[#This Row],[Maskintimer]]","v":0},{"$f":"tblOpgaveliste[[#This Row],[Maskintimer]]*tblOpgaveliste[[#This Row],[AntalLøn]]*Timeløn","v":0},{"$f":"IFERROR((tblOpgaveliste[[#This Row],[Maskinomkostninger]]+tblOpgaveliste[[#This Row],[Lønomkostninger]])/tblOpgaveliste[[#This Row],[Maskintimer]],0)","v":0},{"$f":"IFERROR((tblOpgaveliste[[#This Row],[Maskinomkostninger]]+tblOpgaveliste[[#This Row],[Lønomkostninger]])/(SUMPRODUCT(tblOpgaveliste[[#This Row],[Mark1]:[Mark10]],$AB$83:$AK$83)+tblOpgaveliste[[#This Row],[TimerAndet]]),0)","v":0}]
[{"$f":"IF(tblOpgaveliste[[#This Row],[IBrug]]=TRUE,TRUE,IF(H114=TRUE,TRUE,FALSE))","v":false},null,false,null,0,null,null,{"$f":"OR(tblOpgaveliste[[#This Row],[Opgavenavn]]<>\"\",tblOpgaveliste[[#This Row],[Maskintekst]]<>\"\",tblOpgaveliste[[#This Row],[TimerAndet]]<>0,tblOpgaveliste[[#This Row],[Mark1]]<>0,tblOpgaveliste[[#This Row],[Mark2]]<>0,tblOpgaveliste[[#This Row],[Mark3]]<>0,tblOpgaveliste[[#This Row],[Mark4]]<>0,tblOpgaveliste[[#This Row],[Mark5]]<>0,tblOpgaveliste[[#This Row],[Mark6]]<>0,tblOpgaveliste[[#This Row],[Mark7]]<>0,tblOpgaveliste[[#This Row],[Mark8]]<>0,tblOpgaveliste[[#This Row],[Mark9]]<>0,tblOpgaveliste[[#This Row],[Mark10]]<>0,tblOpgaveliste[[#This Row],[Maskinstationspris]])","v":false},{"$f":"tblOpgaveliste[[#This Row],[Enheder]]*tblOpgaveliste[[#This Row],[Maskinstationspris]]","v":0},29,null,30,null,"Intern","ha.","Ret",{"$f":"MASKINTEKST(F115,tblMaskinliste[[Id]:[Maskinnavn]],4)","v":""},null,null,null,null,{"$f":"SUMPRODUCT(tblOpgaveliste[[#This Row],[Mark1]:[Mark10]],$AB$83:$AK$83)+tblOpgaveliste[[#This Row],[TimerAndet]]","v":0},1,{"$f":"tblOpgaveliste[[#This Row],[Enhed]]&\"/time\"","v":"ha./time"},{"$f":"IFERROR(tblOpgaveliste[[#This Row],[Enheder]]/tblOpgaveliste[[#This Row],[TimeEnheder]],0)","v":0},null,null,null,null,null,null,null,null,null,null,null,null,{"$f":"OPGAVETIMEPRIS(F115,tblMaskinliste[Id],19)*tblOpgaveliste[[#This Row],[Maskintimer]]","v":0},{"$f":"tblOpgaveliste[[#This Row],[Maskintimer]]*tblOpgaveliste[[#This Row],[AntalLøn]]*Timeløn","v":0},{"$f":"IFERROR((tblOpgaveliste[[#This Row],[Maskinomkostninger]]+tblOpgaveliste[[#This Row],[Lønomkostninger]])/tblOpgaveliste[[#This Row],[Maskintimer]],0)","v":0},{"$f":"IFERROR((tblOpgaveliste[[#This Row],[Maskinomkostninger]]+tblOpgaveliste[[#This Row],[Lønomkostninger]])/(SUMPRODUCT(tblOpgaveliste[[#This Row],[Mark1]:[Mark10]],$AB$83:$AK$83)+tblOpgaveliste[[#This Row],[TimerAndet]]),0)","v":0}]
[{"$f":"IF(tblOpgaveliste[[#This Row],[IBrug]]=TRUE,TRUE,IF(H115=TRUE,TRUE,FALSE))","v":false},null,false,null,0,null,null,{"$f":"OR(tblOpgaveliste[[#This Row],[Opgavenavn]]<>\"\",tblOpgaveliste[[#This Row],[Maskintekst]]<>\"\",tblOpgaveliste[[#This Row],[TimerAndet]]<>0,tblOpgaveliste[[#This Row],[Mark1]]<>0,tblOpgaveliste[[#This Row],[Mark2]]<>0,tblOpgaveliste[[#This Row],[Mark3]]<>0,tblOpgaveliste[[#This Row],[Mark4]]<>0,tblOpgaveliste[[#This Row],[Mark5]]<>0,tblOpgaveliste[[#This Row],[Mark6]]<>0,tblOpgaveliste[[#This Row],[Mark7]]<>0,tblOpgaveliste[[#This Row],[Mark8]]<>0,tblOpgaveliste[[#This Row],[Mark9]]<>0,tblOpgaveliste[[#This Row],[Mark10]]<>0,tblOpgaveliste[[#This Row],[Maskinstationspris]])","v":false},{"$f":"tblOpgaveliste[[#This Row],[Enheder]]*tblOpgaveliste[[#This Row],[Maskinstationspris]]","v":0},30,null,31,null,"Intern","ha.","Ret",{"$f":"MASKINTEKST(F116,tblMaskinliste[[Id]:[Maskinnavn]],4)","v":""},null,null,null,null,{"$f":"SUMPRODUCT(tblOpgaveliste[[#This Row],[Mark1]:[Mark10]],$AB$83:$AK$83)+tblOpgaveliste[[#This Row],[TimerAndet]]","v":0},1,{"$f":"tblOpgaveliste[[#This Row],[Enhed]]&\"/time\"","v":"ha./time"},{"$f":"IFERROR(tblOpgaveliste[[#This Row],[Enheder]]/tblOpgaveliste[[#This Row],[TimeEnheder]],0)","v":0},null,null,null,null,null,null,null,null,null,null,null,null,{"$f":"OPGAVETIMEPRIS(F116,tblMaskinliste[Id],19)*tblOpgaveliste[[#This Row],[Maskintimer]]","v":0},{"$f":"tblOpgaveliste[[#This Row],[Maskintimer]]*tblOpgaveliste[[#This Row],[AntalLøn]]*Timeløn","v":0},{"$f":"IFERROR((tblOpgaveliste[[#This Row],[Maskinomkostninger]]+tblOpgaveliste[[#This Row],[Lønomkostninger]])/tblOpgaveliste[[#This Row],[Maskintimer]],0)","v":0},{"$f":"IFERROR((tblOpgaveliste[[#This Row],[Maskinomkostninger]]+tblOpgaveliste[[#This Row],[Lønomkostninger]])/(SUMPRODUCT(tblOpgaveliste[[#This Row],[Mark1]:[Mark10]],$AB$83:$AK$83)+tblOpgaveliste[[#This Row],[TimerAndet]]),0)","v":0}]
[{"$f":"IF(tblOpgaveliste[[#This Row],[IBrug]]=TRUE,TRUE,IF(H116=TRUE,TRUE,FALSE))","v":false},null,false,null,0,null,null,{"$f":"OR(tblOpgaveliste[[#This Row],[Opgavenavn]]<>\"\",tblOpgaveliste[[#This Row],[Maskintekst]]<>\"\",tblOpgaveliste[[#This Row],[TimerAndet]]<>0,tblOpgaveliste[[#This Row],[Mark1]]<>0,tblOpgaveliste[[#This Row],[Mark2]]<>0,tblOpgaveliste[[#This Row],[Mark3]]<>0,tblOpgaveliste[[#This Row],[Mark4]]<>0,tblOpgaveliste[[#This Row],[Mark5]]<>0,tblOpgaveliste[[#This Row],[Mark6]]<>0,tblOpgaveliste[[#This Row],[Mark7]]<>0,tblOpgaveliste[[#This Row],[Mark8]]<>0,tblOpgaveliste[[#This Row],[Mark9]]<>0,tblOpgaveliste[[#This Row],[Mark10]]<>0,tblOpgaveliste[[#This Row],[Maskinstationspris]])","v":false},{"$f":"tblOpgaveliste[[#This Row],[Enheder]]*tblOpgaveliste[[#This Row],[Maskinstationspris]]","v":0},31,null,32,null,"Intern","ha.","Ret",{"$f":"MASKINTEKST(F117,tblMaskinliste[[Id]:[Maskinnavn]],4)","v":""},null,null,null,null,{"$f":"SUMPRODUCT(tblOpgaveliste[[#This Row],[Mark1]:[Mark10]],$AB$83:$AK$83)+tblOpgaveliste[[#This Row],[TimerAndet]]","v":0},1,{"$f":"tblOpgaveliste[[#This Row],[Enhed]]&\"/time\"","v":"ha./time"},{"$f":"IFERROR(tblOpgaveliste[[#This Row],[Enheder]]/tblOpgaveliste[[#This Row],[TimeEnheder]],0)","v":0},null,null,null,null,null,null,null,null,null,null,null,null,{"$f":"OPGAVETIMEPRIS(F117,tblMaskinliste[Id],19)*tblOpgaveliste[[#This Row],[Maskintimer]]","v":0},{"$f":"tblOpgaveliste[[#This Row],[Maskintimer]]*tblOpgaveliste[[#This Row],[AntalLøn]]*Timeløn","v":0},{"$f":"IFERROR((tblOpgaveliste[[#This Row],[Maskinomkostninger]]+tblOpgaveliste[[#This Row],[Lønomkostninger]])/tblOpgaveliste[[#This Row],[Maskintimer]],0)","v":0},{"$f":"IFERROR((tblOpgaveliste[[#This Row],[Maskinomkostninger]]+tblOpgaveliste[[#This Row],[Lønomkostninger]])/(SUMPRODUCT(tblOpgaveliste[[#This Row],[Mark1]:[Mark10]],$AB$83:$AK$83)+tblOpgaveliste[[#This Row],[TimerAndet]]),0)","v":0}]
[{"$f":"IF(tblOpgaveliste[[#This Row],[IBrug]]=TRUE,TRUE,IF(H117=TRUE,TRUE,FALSE))","v":false},null,false,null,0,null,null,{"$f":"OR(tblOpgaveliste[[#This Row],[Opgavenavn]]<>\"\",tblOpgaveliste[[#This Row],[Maskintekst]]<>\"\",tblOpgaveliste[[#This Row],[TimerAndet]]<>0,tblOpgaveliste[[#This Row],[Mark1]]<>0,tblOpgaveliste[[#This Row],[Mark2]]<>0,tblOpgaveliste[[#This Row],[Mark3]]<>0,tblOpgaveliste[[#This Row],[Mark4]]<>0,tblOpgaveliste[[#This Row],[Mark5]]<>0,tblOpgaveliste[[#This Row],[Mark6]]<>0,tblOpgaveliste[[#This Row],[Mark7]]<>0,tblOpgaveliste[[#This Row],[Mark8]]<>0,tblOpgaveliste[[#This Row],[Mark9]]<>0,tblOpgaveliste[[#This Row],[Mark10]]<>0,tblOpgaveliste[[#This Row],[Maskinstationspris]])","v":false},{"$f":"tblOpgaveliste[[#This Row],[Enheder]]*tblOpgaveliste[[#This Row],[Maskinstationspris]]","v":0},32,null,33,null,"Intern","ha.","Ret",{"$f":"MASKINTEKST(F118,tblMaskinliste[[Id]:[Maskinnavn]],4)","v":""},null,null,null,null,{"$f":"SUMPRODUCT(tblOpgaveliste[[#This Row],[Mark1]:[Mark10]],$AB$83:$AK$83)+tblOpgaveliste[[#This Row],[TimerAndet]]","v":0},1,{"$f":"tblOpgaveliste[[#This Row],[Enhed]]&\"/time\"","v":"ha./time"},{"$f":"IFERROR(tblOpgaveliste[[#This Row],[Enheder]]/tblOpgaveliste[[#This Row],[TimeEnheder]],0)","v":0},null,null,null,null,null,null,null,null,null,null,null,null,{"$f":"OPGAVETIMEPRIS(F118,tblMaskinliste[Id],19)*tblOpgaveliste[[#This Row],[Maskintimer]]","v":0},{"$f":"tblOpgaveliste[[#This Row],[Maskintimer]]*tblOpgaveliste[[#This Row],[AntalLøn]]*Timeløn","v":0},{"$f":"IFERROR((tblOpgaveliste[[#This Row],[Maskinomkostninger]]+tblOpgaveliste[[#This Row],[Lønomkostninger]])/tblOpgaveliste[[#This Row],[Maskintimer]],0)","v":0},{"$f":"IFERROR((tblOpgaveliste[[#This Row],[Maskinomkostninger]]+tblOpgaveliste[[#This Row],[Lønomkostninger]])/(SUMPRODUCT(tblOpgaveliste[[#This Row],[Mark1]:[Mark10]],$AB$83:$AK$83)+tblOpgaveliste[[#This Row],[TimerAndet]]),0)","v":0}]
[{"$f":"IF(tblOpgaveliste[[#This Row],[IBrug]]=TRUE,TRUE,IF(H118=TRUE,TRUE,FALSE))","v":false},null,false,null,0,null,null,{"$f":"OR(tblOpgaveliste[[#This Row],[Opgavenavn]]<>\"\",tblOpgaveliste[[#This Row],[Maskintekst]]<>\"\",tblOpgaveliste[[#This Row],[TimerAndet]]<>0,tblOpgaveliste[[#This Row],[Mark1]]<>0,tblOpgaveliste[[#This Row],[Mark2]]<>0,tblOpgaveliste[[#This Row],[Mark3]]<>0,tblOpgaveliste[[#This Row],[Mark4]]<>0,tblOpgaveliste[[#This Row],[Mark5]]<>0,tblOpgaveliste[[#This Row],[Mark6]]<>0,tblOpgaveliste[[#This Row],[Mark7]]<>0,tblOpgaveliste[[#This Row],[Mark8]]<>0,tblOpgaveliste[[#This Row],[Mark9]]<>0,tblOpgaveliste[[#This Row],[Mark10]]<>0,tblOpgaveliste[[#This Row],[Maskinstationspris]])","v":false},{"$f":"tblOpgaveliste[[#This Row],[Enheder]]*tblOpgaveliste[[#This Row],[Maskinstationspris]]","v":0},33,null,34,null,"Intern","ha.","Ret",{"$f":"MASKINTEKST(F119,tblMaskinliste[[Id]:[Maskinnavn]],4)","v":""},null,null,null,null,{"$f":"SUMPRODUCT(tblOpgaveliste[[#This Row],[Mark1]:[Mark10]],$AB$83:$AK$83)+tblOpgaveliste[[#This Row],[TimerAndet]]","v":0},1,{"$f":"tblOpgaveliste[[#This Row],[Enhed]]&\"/time\"","v":"ha./time"},{"$f":"IFERROR(tblOpgaveliste[[#This Row],[Enheder]]/tblOpgaveliste[[#This Row],[TimeEnheder]],0)","v":0},null,null,null,null,null,null,null,null,null,null,null,null,{"$f":"OPGAVETIMEPRIS(F119,tblMaskinliste[Id],19)*tblOpgaveliste[[#This Row],[Maskintimer]]","v":0},{"$f":"tblOpgaveliste[[#This Row],[Maskintimer]]*tblOpgaveliste[[#This Row],[AntalLøn]]*Timeløn","v":0},{"$f":"IFERROR((tblOpgaveliste[[#This Row],[Maskinomkostninger]]+tblOpgaveliste[[#This Row],[Lønomkostninger]])/tblOpgaveliste[[#This Row],[Maskintimer]],0)","v":0},{"$f":"IFERROR((tblOpgaveliste[[#This Row],[Maskinomkostninger]]+tblOpgaveliste[[#This Row],[Lønomkostninger]])/(SUMPRODUCT(tblOpgaveliste[[#This Row],[Mark1]:[Mark10]],$AB$83:$AK$83)+tblOpgaveliste[[#This Row],[TimerAndet]]),0)","v":0}]
[{"$f":"IF(tblOpgaveliste[[#This Row],[IBrug]]=TRUE,TRUE,IF(H119=TRUE,TRUE,FALSE))","v":false},null,false,null,0,null,null,{"$f":"OR(tblOpgaveliste[[#This Row],[Opgavenavn]]<>\"\",tblOpgaveliste[[#This Row],[Maskintekst]]<>\"\",tblOpgaveliste[[#This Row],[TimerAndet]]<>0,tblOpgaveliste[[#This Row],[Mark1]]<>0,tblOpgaveliste[[#This Row],[Mark2]]<>0,tblOpgaveliste[[#This Row],[Mark3]]<>0,tblOpgaveliste[[#This Row],[Mark4]]<>0,tblOpgaveliste[[#This Row],[Mark5]]<>0,tblOpgaveliste[[#This Row],[Mark6]]<>0,tblOpgaveliste[[#This Row],[Mark7]]<>0,tblOpgaveliste[[#This Row],[Mark8]]<>0,tblOpgaveliste[[#This Row],[Mark9]]<>0,tblOpgaveliste[[#This Row],[Mark10]]<>0,tblOpgaveliste[[#This Row],[Maskinstationspris]])","v":false},{"$f":"tblOpgaveliste[[#This Row],[Enheder]]*tblOpgaveliste[[#This Row],[Maskinstationspris]]","v":0},34,null,35,null,"Intern","ha.","Ret",{"$f":"MASKINTEKST(F120,tblMaskinliste[[Id]:[Maskinnavn]],4)","v":""},null,null,null,null,{"$f":"SUMPRODUCT(tblOpgaveliste[[#This Row],[Mark1]:[Mark10]],$AB$83:$AK$83)+tblOpgaveliste[[#This Row],[TimerAndet]]","v":0},1,{"$f":"tblOpgaveliste[[#This Row],[Enhed]]&\"/time\"","v":"ha./time"},{"$f":"IFERROR(tblOpgaveliste[[#This Row],[Enheder]]/tblOpgaveliste[[#This Row],[TimeEnheder]],0)","v":0},null,null,null,null,null,null,null,null,null,null,null,null,{"$f":"OPGAVETIMEPRIS(F120,tblMaskinliste[Id],19)*tblOpgaveliste[[#This Row],[Maskintimer]]","v":0},{"$f":"tblOpgaveliste[[#This Row],[Maskintimer]]*tblOpgaveliste[[#This Row],[AntalLøn]]*Timeløn","v":0},{"$f":"IFERROR((tblOpgaveliste[[#This Row],[Maskinomkostninger]]+tblOpgaveliste[[#This Row],[Lønomkostninger]])/tblOpgaveliste[[#This Row],[Maskintimer]],0)","v":0},{"$f":"IFERROR((tblOpgaveliste[[#This Row],[Maskinomkostninger]]+tblOpgaveliste[[#This Row],[Lønomkostninger]])/(SUMPRODUCT(tblOpgaveliste[[#This Row],[Mark1]:[Mark10]],$AB$83:$AK$83)+tblOpgaveliste[[#This Row],[TimerAndet]]),0)","v":0}]
[{"$f":"IF(tblOpgaveliste[[#This Row],[IBrug]]=TRUE,TRUE,IF(H120=TRUE,TRUE,FALSE))","v":false},null,false,null,0,null,null,{"$f":"OR(tblOpgaveliste[[#This Row],[Opgavenavn]]<>\"\",tblOpgaveliste[[#This Row],[Maskintekst]]<>\"\",tblOpgaveliste[[#This Row],[TimerAndet]]<>0,tblOpgaveliste[[#This Row],[Mark1]]<>0,tblOpgaveliste[[#This Row],[Mark2]]<>0,tblOpgaveliste[[#This Row],[Mark3]]<>0,tblOpgaveliste[[#This Row],[Mark4]]<>0,tblOpgaveliste[[#This Row],[Mark5]]<>0,tblOpgaveliste[[#This Row],[Mark6]]<>0,tblOpgaveliste[[#This Row],[Mark7]]<>0,tblOpgaveliste[[#This Row],[Mark8]]<>0,tblOpgaveliste[[#This Row],[Mark9]]<>0,tblOpgaveliste[[#This Row],[Mark10]]<>0,tblOpgaveliste[[#This Row],[Maskinstationspris]])","v":false},{"$f":"tblOpgaveliste[[#This Row],[Enheder]]*tblOpgaveliste[[#This Row],[Maskinstationspris]]","v":0},35,null,36,null,"Intern","ha.","Ret",{"$f":"MASKINTEKST(F121,tblMaskinliste[[Id]:[Maskinnavn]],4)","v":""},null,null,null,null,{"$f":"SUMPRODUCT(tblOpgaveliste[[#This Row],[Mark1]:[Mark10]],$AB$83:$AK$83)+tblOpgaveliste[[#This Row],[TimerAndet]]","v":0},1,{"$f":"tblOpgaveliste[[#This Row],[Enhed]]&\"/time\"","v":"ha./time"},{"$f":"IFERROR(tblOpgaveliste[[#This Row],[Enheder]]/tblOpgaveliste[[#This Row],[TimeEnheder]],0)","v":0},null,null,null,null,null,null,null,null,null,null,null,null,{"$f":"OPGAVETIMEPRIS(F121,tblMaskinliste[Id],19)*tblOpgaveliste[[#This Row],[Maskintimer]]","v":0},{"$f":"tblOpgaveliste[[#This Row],[Maskintimer]]*tblOpgaveliste[[#This Row],[AntalLøn]]*Timeløn","v":0},{"$f":"IFERROR((tblOpgaveliste[[#This Row],[Maskinomkostninger]]+tblOpgaveliste[[#This Row],[Lønomkostninger]])/tblOpgaveliste[[#This Row],[Maskintimer]],0)","v":0},{"$f":"IFERROR((tblOpgaveliste[[#This Row],[Maskinomkostninger]]+tblOpgaveliste[[#This Row],[Lønomkostninger]])/(SUMPRODUCT(tblOpgaveliste[[#This Row],[Mark1]:[Mark10]],$AB$83:$AK$83)+tblOpgaveliste[[#This Row],[TimerAndet]]),0)","v":0}]
[{"$f":"IF(tblOpgaveliste[[#This Row],[IBrug]]=TRUE,TRUE,IF(H121=TRUE,TRUE,FALSE))","v":false},null,false,null,0,null,null,{"$f":"OR(tblOpgaveliste[[#This Row],[Opgavenavn]]<>\"\",tblOpgaveliste[[#This Row],[Maskintekst]]<>\"\",tblOpgaveliste[[#This Row],[TimerAndet]]<>0,tblOpgaveliste[[#This Row],[Mark1]]<>0,tblOpgaveliste[[#This Row],[Mark2]]<>0,tblOpgaveliste[[#This Row],[Mark3]]<>0,tblOpgaveliste[[#This Row],[Mark4]]<>0,tblOpgaveliste[[#This Row],[Mark5]]<>0,tblOpgaveliste[[#This Row],[Mark6]]<>0,tblOpgaveliste[[#This Row],[Mark7]]<>0,tblOpgaveliste[[#This Row],[Mark8]]<>0,tblOpgaveliste[[#This Row],[Mark9]]<>0,tblOpgaveliste[[#This Row],[Mark10]]<>0,tblOpgaveliste[[#This Row],[Maskinstationspris]])","v":false},{"$f":"tblOpgaveliste[[#This Row],[Enheder]]*tblOpgaveliste[[#This Row],[Maskinstationspris]]","v":0},36,null,37,null,"Intern","ha.","Ret",{"$f":"MASKINTEKST(F122,tblMaskinliste[[Id]:[Maskinnavn]],4)","v":""},null,null,null,null,{"$f":"SUMPRODUCT(tblOpgaveliste[[#This Row],[Mark1]:[Mark10]],$AB$83:$AK$83)+tblOpgaveliste[[#This Row],[TimerAndet]]","v":0},1,{"$f":"tblOpgaveliste[[#This Row],[Enhed]]&\"/time\"","v":"ha./time"},{"$f":"IFERROR(tblOpgaveliste[[#This Row],[Enheder]]/tblOpgaveliste[[#This Row],[TimeEnheder]],0)","v":0},null,null,null,null,null,null,null,null,null,null,null,null,{"$f":"OPGAVETIMEPRIS(F122,tblMaskinliste[Id],19)*tblOpgaveliste[[#This Row],[Maskintimer]]","v":0},{"$f":"tblOpgaveliste[[#This Row],[Maskintimer]]*tblOpgaveliste[[#This Row],[AntalLøn]]*Timeløn","v":0},{"$f":"IFERROR((tblOpgaveliste[[#This Row],[Maskinomkostninger]]+tblOpgaveliste[[#This Row],[Lønomkostninger]])/tblOpgaveliste[[#This Row],[Maskintimer]],0)","v":0},{"$f":"IFERROR((tblOpgaveliste[[#This Row],[Maskinomkostninger]]+tblOpgaveliste[[#This Row],[Lønomkostninger]])/(SUMPRODUCT(tblOpgaveliste[[#This Row],[Mark1]:[Mark10]],$AB$83:$AK$83)+tblOpgaveliste[[#This Row],[TimerAndet]]),0)","v":0}]
[{"$f":"IF(tblOpgaveliste[[#This Row],[IBrug]]=TRUE,TRUE,IF(H122=TRUE,TRUE,FALSE))","v":false},null,false,null,0,null,null,{"$f":"OR(tblOpgaveliste[[#This Row],[Opgavenavn]]<>\"\",tblOpgaveliste[[#This Row],[Maskintekst]]<>\"\",tblOpgaveliste[[#This Row],[TimerAndet]]<>0,tblOpgaveliste[[#This Row],[Mark1]]<>0,tblOpgaveliste[[#This Row],[Mark2]]<>0,tblOpgaveliste[[#This Row],[Mark3]]<>0,tblOpgaveliste[[#This Row],[Mark4]]<>0,tblOpgaveliste[[#This Row],[Mark5]]<>0,tblOpgaveliste[[#This Row],[Mark6]]<>0,tblOpgaveliste[[#This Row],[Mark7]]<>0,tblOpgaveliste[[#This Row],[Mark8]]<>0,tblOpgaveliste[[#This Row],[Mark9]]<>0,tblOpgaveliste[[#This Row],[Mark10]]<>0,tblOpgaveliste[[#This Row],[Maskinstationspris]])","v":false},{"$f":"tblOpgaveliste[[#This Row],[Enheder]]*tblOpgaveliste[[#This Row],[Maskinstationspris]]","v":0},37,null,38,null,"Intern","ha.","Ret",{"$f":"MASKINTEKST(F123,tblMaskinliste[[Id]:[Maskinnavn]],4)","v":""},null,null,null,null,{"$f":"SUMPRODUCT(tblOpgaveliste[[#This Row],[Mark1]:[Mark10]],$AB$83:$AK$83)+tblOpgaveliste[[#This Row],[TimerAndet]]","v":0},1,{"$f":"tblOpgaveliste[[#This Row],[Enhed]]&\"/time\"","v":"ha./time"},{"$f":"IFERROR(tblOpgaveliste[[#This Row],[Enheder]]/tblOpgaveliste[[#This Row],[TimeEnheder]],0)","v":0},null,null,null,null,null,null,null,null,null,null,null,null,{"$f":"OPGAVETIMEPRIS(F123,tblMaskinliste[Id],19)*tblOpgaveliste[[#This Row],[Maskintimer]]","v":0},{"$f":"tblOpgaveliste[[#This Row],[Maskintimer]]*tblOpgaveliste[[#This Row],[AntalLøn]]*Timeløn","v":0},{"$f":"IFERROR((tblOpgaveliste[[#This Row],[Maskinomkostninger]]+tblOpgaveliste[[#This Row],[Lønomkostninger]])/tblOpgaveliste[[#This Row],[Maskintimer]],0)","v":0},{"$f":"IFERROR((tblOpgaveliste[[#This Row],[Maskinomkostninger]]+tblOpgaveliste[[#This Row],[Lønomkostninger]])/(SUMPRODUCT(tblOpgaveliste[[#This Row],[Mark1]:[Mark10]],$AB$83:$AK$83)+tblOpgaveliste[[#This Row],[TimerAndet]]),0)","v":0}]
[{"$f":"IF(tblOpgaveliste[[#This Row],[IBrug]]=TRUE,TRUE,IF(H123=TRUE,TRUE,FALSE))","v":false},null,false,null,0,null,null,{"$f":"OR(tblOpgaveliste[[#This Row],[Opgavenavn]]<>\"\",tblOpgaveliste[[#This Row],[Maskintekst]]<>\"\",tblOpgaveliste[[#This Row],[TimerAndet]]<>0,tblOpgaveliste[[#This Row],[Mark1]]<>0,tblOpgaveliste[[#This Row],[Mark2]]<>0,tblOpgaveliste[[#This Row],[Mark3]]<>0,tblOpgaveliste[[#This Row],[Mark4]]<>0,tblOpgaveliste[[#This Row],[Mark5]]<>0,tblOpgaveliste[[#This Row],[Mark6]]<>0,tblOpgaveliste[[#This Row],[Mark7]]<>0,tblOpgaveliste[[#This Row],[Mark8]]<>0,tblOpgaveliste[[#This Row],[Mark9]]<>0,tblOpgaveliste[[#This Row],[Mark10]]<>0,tblOpgaveliste[[#This Row],[Maskinstationspris]])","v":false},{"$f":"tblOpgaveliste[[#This Row],[Enheder]]*tblOpgaveliste[[#This Row],[Maskinstationspris]]","v":0},38,null,39,null,"Intern","ha.","Ret",{"$f":"MASKINTEKST(F124,tblMaskinliste[[Id]:[Maskinnavn]],4)","v":""},null,null,null,null,{"$f":"SUMPRODUCT(tblOpgaveliste[[#This Row],[Mark1]:[Mark10]],$AB$83:$AK$83)+tblOpgaveliste[[#This Row],[TimerAndet]]","v":0},1,{"$f":"tblOpgaveliste[[#This Row],[Enhed]]&\"/time\"","v":"ha./time"},{"$f":"IFERROR(tblOpgaveliste[[#This Row],[Enheder]]/tblOpgaveliste[[#This Row],[TimeEnheder]],0)","v":0},null,null,null,null,null,null,null,null,null,null,null,null,{"$f":"OPGAVETIMEPRIS(F124,tblMaskinliste[Id],19)*tblOpgaveliste[[#This Row],[Maskintimer]]","v":0},{"$f":"tblOpgaveliste[[#This Row],[Maskintimer]]*tblOpgaveliste[[#This Row],[AntalLøn]]*Timeløn","v":0},{"$f":"IFERROR((tblOpgaveliste[[#This Row],[Maskinomkostninger]]+tblOpgaveliste[[#This Row],[Lønomkostninger]])/tblOpgaveliste[[#This Row],[Maskintimer]],0)","v":0},{"$f":"IFERROR((tblOpgaveliste[[#This Row],[Maskinomkostninger]]+tblOpgaveliste[[#This Row],[Lønomkostninger]])/(SUMPRODUCT(tblOpgaveliste[[#This Row],[Mark1]:[Mark10]],$AB$83:$AK$83)+tblOpgaveliste[[#This Row],[TimerAndet]]),0)","v":0}]
[{"$f":"IF(tblOpgaveliste[[#This Row],[IBrug]]=TRUE,TRUE,IF(H124=TRUE,TRUE,FALSE))","v":false},null,false,null,0,null,null,{"$f":"OR(tblOpgaveliste[[#This Row],[Opgavenavn]]<>\"\",tblOpgaveliste[[#This Row],[Maskintekst]]<>\"\",tblOpgaveliste[[#This Row],[TimerAndet]]<>0,tblOpgaveliste[[#This Row],[Mark1]]<>0,tblOpgaveliste[[#This Row],[Mark2]]<>0,tblOpgaveliste[[#This Row],[Mark3]]<>0,tblOpgaveliste[[#This Row],[Mark4]]<>0,tblOpgaveliste[[#This Row],[Mark5]]<>0,tblOpgaveliste[[#This Row],[Mark6]]<>0,tblOpgaveliste[[#This Row],[Mark7]]<>0,tblOpgaveliste[[#This Row],[Mark8]]<>0,tblOpgaveliste[[#This Row],[Mark9]]<>0,tblOpgaveliste[[#This Row],[Mark10]]<>0,tblOpgaveliste[[#This Row],[Maskinstationspris]])","v":false},{"$f":"tblOpgaveliste[[#This Row],[Enheder]]*tblOpgaveliste[[#This Row],[Maskinstationspris]]","v":0},39,null,40,null,"Intern","ha.","Ret",{"$f":"MASKINTEKST(F125,tblMaskinliste[[Id]:[Maskinnavn]],4)","v":""},null,null,null,null,{"$f":"SUMPRODUCT(tblOpgaveliste[[#This Row],[Mark1]:[Mark10]],$AB$83:$AK$83)+tblOpgaveliste[[#This Row],[TimerAndet]]","v":0},1,{"$f":"tblOpgaveliste[[#This Row],[Enhed]]&\"/time\"","v":"ha./time"},{"$f":"IFERROR(tblOpgaveliste[[#This Row],[Enheder]]/tblOpgaveliste[[#This Row],[TimeEnheder]],0)","v":0},null,null,null,null,null,null,null,null,null,null,null,null,{"$f":"OPGAVETIMEPRIS(F125,tblMaskinliste[Id],19)*tblOpgaveliste[[#This Row],[Maskintimer]]","v":0},{"$f":"tblOpgaveliste[[#This Row],[Maskintimer]]*tblOpgaveliste[[#This Row],[AntalLøn]]*Timeløn","v":0},{"$f":"IFERROR((tblOpgaveliste[[#This Row],[Maskinomkostninger]]+tblOpgaveliste[[#This Row],[Lønomkostninger]])/tblOpgaveliste[[#This Row],[Maskintimer]],0)","v":0},{"$f":"IFERROR((tblOpgaveliste[[#This Row],[Maskinomkostninger]]+tblOpgaveliste[[#This Row],[Lønomkostninger]])/(SUMPRODUCT(tblOpgaveliste[[#This Row],[Mark1]:[Mark10]],$AB$83:$AK$83)+tblOpgaveliste[[#This Row],[TimerAndet]]),0)","v":0}]
[{"$f":"IF(tblOpgaveliste[[#This Row],[IBrug]]=TRUE,TRUE,IF(H125=TRUE,TRUE,FALSE))","v":false},null,false,null,0,null,null,{"$f":"OR(tblOpgaveliste[[#This Row],[Opgavenavn]]<>\"\",tblOpgaveliste[[#This Row],[Maskintekst]]<>\"\",tblOpgaveliste[[#This Row],[TimerAndet]]<>0,tblOpgaveliste[[#This Row],[Mark1]]<>0,tblOpgaveliste[[#This Row],[Mark2]]<>0,tblOpgaveliste[[#This Row],[Mark3]]<>0,tblOpgaveliste[[#This Row],[Mark4]]<>0,tblOpgaveliste[[#This Row],[Mark5]]<>0,tblOpgaveliste[[#This Row],[Mark6]]<>0,tblOpgaveliste[[#This Row],[Mark7]]<>0,tblOpgaveliste[[#This Row],[Mark8]]<>0,tblOpgaveliste[[#This Row],[Mark9]]<>0,tblOpgaveliste[[#This Row],[Mark10]]<>0,tblOpgaveliste[[#This Row],[Maskinstationspris]])","v":false},{"$f":"tblOpgaveliste[[#This Row],[Enheder]]*tblOpgaveliste[[#This Row],[Maskinstationspris]]","v":0},40,null,41,null,"Intern","ha.","Ret",{"$f":"MASKINTEKST(F126,tblMaskinliste[[Id]:[Maskinnavn]],4)","v":""},null,null,null,null,{"$f":"SUMPRODUCT(tblOpgaveliste[[#This Row],[Mark1]:[Mark10]],$AB$83:$AK$83)+tblOpgaveliste[[#This Row],[TimerAndet]]","v":0},1,{"$f":"tblOpgaveliste[[#This Row],[Enhed]]&\"/time\"","v":"ha./time"},{"$f":"IFERROR(tblOpgaveliste[[#This Row],[Enheder]]/tblOpgaveliste[[#This Row],[TimeEnheder]],0)","v":0},null,null,null,null,null,null,null,null,null,null,null,null,{"$f":"OPGAVETIMEPRIS(F126,tblMaskinliste[Id],19)*tblOpgaveliste[[#This Row],[Maskintimer]]","v":0},{"$f":"tblOpgaveliste[[#This Row],[Maskintimer]]*tblOpgaveliste[[#This Row],[AntalLøn]]*Timeløn","v":0},{"$f":"IFERROR((tblOpgaveliste[[#This Row],[Maskinomkostninger]]+tblOpgaveliste[[#This Row],[Lønomkostninger]])/tblOpgaveliste[[#This Row],[Maskintimer]],0)","v":0},{"$f":"IFERROR((tblOpgaveliste[[#This Row],[Maskinomkostninger]]+tblOpgaveliste[[#This Row],[Lønomkostninger]])/(SUMPRODUCT(tblOpgaveliste[[#This Row],[Mark1]:[Mark10]],$AB$83:$AK$83)+tblOpgaveliste[[#This Row],[TimerAndet]]),0)","v":0}]
[{"$f":"IF(tblOpgaveliste[[#This Row],[IBrug]]=TRUE,TRUE,IF(H126=TRUE,TRUE,FALSE))","v":false},null,false,null,0,null,null,{"$f":"OR(tblOpgaveliste[[#This Row],[Opgavenavn]]<>\"\",tblOpgaveliste[[#This Row],[Maskintekst]]<>\"\",tblOpgaveliste[[#This Row],[TimerAndet]]<>0,tblOpgaveliste[[#This Row],[Mark1]]<>0,tblOpgaveliste[[#This Row],[Mark2]]<>0,tblOpgaveliste[[#This Row],[Mark3]]<>0,tblOpgaveliste[[#This Row],[Mark4]]<>0,tblOpgaveliste[[#This Row],[Mark5]]<>0,tblOpgaveliste[[#This Row],[Mark6]]<>0,tblOpgaveliste[[#This Row],[Mark7]]<>0,tblOpgaveliste[[#This Row],[Mark8]]<>0,tblOpgaveliste[[#This Row],[Mark9]]<>0,tblOpgaveliste[[#This Row],[Mark10]]<>0,tblOpgaveliste[[#This Row],[Maskinstationspris]])","v":false},{"$f":"tblOpgaveliste[[#This Row],[Enheder]]*tblOpgaveliste[[#This Row],[Maskinstationspris]]","v":0},41,null,42,null,"Intern","ha.","Ret",{"$f":"MASKINTEKST(F127,tblMaskinliste[[Id]:[Maskinnavn]],4)","v":""},null,null,null,null,{"$f":"SUMPRODUCT(tblOpgaveliste[[#This Row],[Mark1]:[Mark10]],$AB$83:$AK$83)+tblOpgaveliste[[#This Row],[TimerAndet]]","v":0},1,{"$f":"tblOpgaveliste[[#This Row],[Enhed]]&\"/time\"","v":"ha./time"},{"$f":"IFERROR(tblOpgaveliste[[#This Row],[Enheder]]/tblOpgaveliste[[#This Row],[TimeEnheder]],0)","v":0},null,null,null,null,null,null,null,null,null,null,null,null,{"$f":"OPGAVETIMEPRIS(F127,tblMaskinliste[Id],19)*tblOpgaveliste[[#This Row],[Maskintimer]]","v":0},{"$f":"tblOpgaveliste[[#This Row],[Maskintimer]]*tblOpgaveliste[[#This Row],[AntalLøn]]*Timeløn","v":0},{"$f":"IFERROR((tblOpgaveliste[[#This Row],[Maskinomkostninger]]+tblOpgaveliste[[#This Row],[Lønomkostninger]])/tblOpgaveliste[[#This Row],[Maskintimer]],0)","v":0},{"$f":"IFERROR((tblOpgaveliste[[#This Row],[Maskinomkostninger]]+tblOpgaveliste[[#This Row],[Lønomkostninger]])/(SUMPRODUCT(tblOpgaveliste[[#This Row],[Mark1]:[Mark10]],$AB$83:$AK$83)+tblOpgaveliste[[#This Row],[TimerAndet]]),0)","v":0}]
[{"$f":"IF(tblOpgaveliste[[#This Row],[IBrug]]=TRUE,TRUE,IF(H127=TRUE,TRUE,FALSE))","v":false},null,false,null,0,null,null,{"$f":"OR(tblOpgaveliste[[#This Row],[Opgavenavn]]<>\"\",tblOpgaveliste[[#This Row],[Maskintekst]]<>\"\",tblOpgaveliste[[#This Row],[TimerAndet]]<>0,tblOpgaveliste[[#This Row],[Mark1]]<>0,tblOpgaveliste[[#This Row],[Mark2]]<>0,tblOpgaveliste[[#This Row],[Mark3]]<>0,tblOpgaveliste[[#This Row],[Mark4]]<>0,tblOpgaveliste[[#This Row],[Mark5]]<>0,tblOpgaveliste[[#This Row],[Mark6]]<>0,tblOpgaveliste[[#This Row],[Mark7]]<>0,tblOpgaveliste[[#This Row],[Mark8]]<>0,tblOpgaveliste[[#This Row],[Mark9]]<>0,tblOpgaveliste[[#This Row],[Mark10]]<>0,tblOpgaveliste[[#This Row],[Maskinstationspris]])","v":false},{"$f":"tblOpgaveliste[[#This Row],[Enheder]]*tblOpgaveliste[[#This Row],[Maskinstationspris]]","v":0},42,null,43,null,"Intern","ha.","Ret",{"$f":"MASKINTEKST(F128,tblMaskinliste[[Id]:[Maskinnavn]],4)","v":""},null,null,null,null,{"$f":"SUMPRODUCT(tblOpgaveliste[[#This Row],[Mark1]:[Mark10]],$AB$83:$AK$83)+tblOpgaveliste[[#This Row],[TimerAndet]]","v":0},1,{"$f":"tblOpgaveliste[[#This Row],[Enhed]]&\"/time\"","v":"ha./time"},{"$f":"IFERROR(tblOpgaveliste[[#This Row],[Enheder]]/tblOpgaveliste[[#This Row],[TimeEnheder]],0)","v":0},null,null,null,null,null,null,null,null,null,null,null,null,{"$f":"OPGAVETIMEPRIS(F128,tblMaskinliste[Id],19)*tblOpgaveliste[[#This Row],[Maskintimer]]","v":0},{"$f":"tblOpgaveliste[[#This Row],[Maskintimer]]*tblOpgaveliste[[#This Row],[AntalLøn]]*Timeløn","v":0},{"$f":"IFERROR((tblOpgaveliste[[#This Row],[Maskinomkostninger]]+tblOpgaveliste[[#This Row],[Lønomkostninger]])/tblOpgaveliste[[#This Row],[Maskintimer]],0)","v":0},{"$f":"IFERROR((tblOpgaveliste[[#This Row],[Maskinomkostninger]]+tblOpgaveliste[[#This Row],[Lønomkostninger]])/(SUMPRODUCT(tblOpgaveliste[[#This Row],[Mark1]:[Mark10]],$AB$83:$AK$83)+tblOpgaveliste[[#This Row],[TimerAndet]]),0)","v":0}]
[{"$f":"IF(tblOpgaveliste[[#This Row],[IBrug]]=TRUE,TRUE,IF(H128=TRUE,TRUE,FALSE))","v":false},null,false,null,0,null,null,{"$f":"OR(tblOpgaveliste[[#This Row],[Opgavenavn]]<>\"\",tblOpgaveliste[[#This Row],[Maskintekst]]<>\"\",tblOpgaveliste[[#This Row],[TimerAndet]]<>0,tblOpgaveliste[[#This Row],[Mark1]]<>0,tblOpgaveliste[[#This Row],[Mark2]]<>0,tblOpgaveliste[[#This Row],[Mark3]]<>0,tblOpgaveliste[[#This Row],[Mark4]]<>0,tblOpgaveliste[[#This Row],[Mark5]]<>0,tblOpgaveliste[[#This Row],[Mark6]]<>0,tblOpgaveliste[[#This Row],[Mark7]]<>0,tblOpgaveliste[[#This Row],[Mark8]]<>0,tblOpgaveliste[[#This Row],[Mark9]]<>0,tblOpgaveliste[[#This Row],[Mark10]]<>0,tblOpgaveliste[[#This Row],[Maskinstationspris]])","v":false},{"$f":"tblOpgaveliste[[#This Row],[Enheder]]*tblOpgaveliste[[#This Row],[Maskinstationspris]]","v":0},43,null,44,null,"Intern","ha.","Ret",{"$f":"MASKINTEKST(F129,tblMaskinliste[[Id]:[Maskinnavn]],4)","v":""},null,null,null,null,{"$f":"SUMPRODUCT(tblOpgaveliste[[#This Row],[Mark1]:[Mark10]],$AB$83:$AK$83)+tblOpgaveliste[[#This Row],[TimerAndet]]","v":0},1,{"$f":"tblOpgaveliste[[#This Row],[Enhed]]&\"/time\"","v":"ha./time"},{"$f":"IFERROR(tblOpgaveliste[[#This Row],[Enheder]]/tblOpgaveliste[[#This Row],[TimeEnheder]],0)","v":0},null,null,null,null,null,null,null,null,null,null,null,null,{"$f":"OPGAVETIMEPRIS(F129,tblMaskinliste[Id],19)*tblOpgaveliste[[#This Row],[Maskintimer]]","v":0},{"$f":"tblOpgaveliste[[#This Row],[Maskintimer]]*tblOpgaveliste[[#This Row],[AntalLøn]]*Timeløn","v":0},{"$f":"IFERROR((tblOpgaveliste[[#This Row],[Maskinomkostninger]]+tblOpgaveliste[[#This Row],[Lønomkostninger]])/tblOpgaveliste[[#This Row],[Maskintimer]],0)","v":0},{"$f":"IFERROR((tblOpgaveliste[[#This Row],[Maskinomkostninger]]+tblOpgaveliste[[#This Row],[Lønomkostninger]])/(SUMPRODUCT(tblOpgaveliste[[#This Row],[Mark1]:[Mark10]],$AB$83:$AK$83)+tblOpgaveliste[[#This Row],[TimerAndet]]),0)","v":0}]
[{"$f":"IF(tblOpgaveliste[[#This Row],[IBrug]]=TRUE,TRUE,IF(H129=TRUE,TRUE,FALSE))","v":false},null,false,null,0,null,null,{"$f":"OR(tblOpgaveliste[[#This Row],[Opgavenavn]]<>\"\",tblOpgaveliste[[#This Row],[Maskintekst]]<>\"\",tblOpgaveliste[[#This Row],[TimerAndet]]<>0,tblOpgaveliste[[#This Row],[Mark1]]<>0,tblOpgaveliste[[#This Row],[Mark2]]<>0,tblOpgaveliste[[#This Row],[Mark3]]<>0,tblOpgaveliste[[#This Row],[Mark4]]<>0,tblOpgaveliste[[#This Row],[Mark5]]<>0,tblOpgaveliste[[#This Row],[Mark6]]<>0,tblOpgaveliste[[#This Row],[Mark7]]<>0,tblOpgaveliste[[#This Row],[Mark8]]<>0,tblOpgaveliste[[#This Row],[Mark9]]<>0,tblOpgaveliste[[#This Row],[Mark10]]<>0,tblOpgaveliste[[#This Row],[Maskinstationspris]])","v":false},{"$f":"tblOpgaveliste[[#This Row],[Enheder]]*tblOpgaveliste[[#This Row],[Maskinstationspris]]","v":0},44,null,45,null,"Intern","ha.","Ret",{"$f":"MASKINTEKST(F130,tblMaskinliste[[Id]:[Maskinnavn]],4)","v":""},null,null,null,null,{"$f":"SUMPRODUCT(tblOpgaveliste[[#This Row],[Mark1]:[Mark10]],$AB$83:$AK$83)+tblOpgaveliste[[#This Row],[TimerAndet]]","v":0},1,{"$f":"tblOpgaveliste[[#This Row],[Enhed]]&\"/time\"","v":"ha./time"},{"$f":"IFERROR(tblOpgaveliste[[#This Row],[Enheder]]/tblOpgaveliste[[#This Row],[TimeEnheder]],0)","v":0},null,null,null,null,null,null,null,null,null,null,null,null,{"$f":"OPGAVETIMEPRIS(F130,tblMaskinliste[Id],19)*tblOpgaveliste[[#This Row],[Maskintimer]]","v":0},{"$f":"tblOpgaveliste[[#This Row],[Maskintimer]]*tblOpgaveliste[[#This Row],[AntalLøn]]*Timeløn","v":0},{"$f":"IFERROR((tblOpgaveliste[[#This Row],[Maskinomkostninger]]+tblOpgaveliste[[#This Row],[Lønomkostninger]])/tblOpgaveliste[[#This Row],[Maskintimer]],0)","v":0},{"$f":"IFERROR((tblOpgaveliste[[#This Row],[Maskinomkostninger]]+tblOpgaveliste[[#This Row],[Lønomkostninger]])/(SUMPRODUCT(tblOpgaveliste[[#This Row],[Mark1]:[Mark10]],$AB$83:$AK$83)+tblOpgaveliste[[#This Row],[TimerAndet]]),0)","v":0}]
[{"$f":"IF(tblOpgaveliste[[#This Row],[IBrug]]=TRUE,TRUE,IF(H130=TRUE,TRUE,FALSE))","v":false},null,false,null,0,null,null,{"$f":"OR(tblOpgaveliste[[#This Row],[Opgavenavn]]<>\"\",tblOpgaveliste[[#This Row],[Maskintekst]]<>\"\",tblOpgaveliste[[#This Row],[TimerAndet]]<>0,tblOpgaveliste[[#This Row],[Mark1]]<>0,tblOpgaveliste[[#This Row],[Mark2]]<>0,tblOpgaveliste[[#This Row],[Mark3]]<>0,tblOpgaveliste[[#This Row],[Mark4]]<>0,tblOpgaveliste[[#This Row],[Mark5]]<>0,tblOpgaveliste[[#This Row],[Mark6]]<>0,tblOpgaveliste[[#This Row],[Mark7]]<>0,tblOpgaveliste[[#This Row],[Mark8]]<>0,tblOpgaveliste[[#This Row],[Mark9]]<>0,tblOpgaveliste[[#This Row],[Mark10]]<>0,tblOpgaveliste[[#This Row],[Maskinstationspris]])","v":false},{"$f":"tblOpgaveliste[[#This Row],[Enheder]]*tblOpgaveliste[[#This Row],[Maskinstationspris]]","v":0},45,null,46,null,"Intern","ha.","Ret",{"$f":"MASKINTEKST(F131,tblMaskinliste[[Id]:[Maskinnavn]],4)","v":""},null,null,null,null,{"$f":"SUMPRODUCT(tblOpgaveliste[[#This Row],[Mark1]:[Mark10]],$AB$83:$AK$83)+tblOpgaveliste[[#This Row],[TimerAndet]]","v":0},1,{"$f":"tblOpgaveliste[[#This Row],[Enhed]]&\"/time\"","v":"ha./time"},{"$f":"IFERROR(tblOpgaveliste[[#This Row],[Enheder]]/tblOpgaveliste[[#This Row],[TimeEnheder]],0)","v":0},null,null,null,null,null,null,null,null,null,null,null,null,{"$f":"OPGAVETIMEPRIS(F131,tblMaskinliste[Id],19)*tblOpgaveliste[[#This Row],[Maskintimer]]","v":0},{"$f":"tblOpgaveliste[[#This Row],[Maskintimer]]*tblOpgaveliste[[#This Row],[AntalLøn]]*Timeløn","v":0},{"$f":"IFERROR((tblOpgaveliste[[#This Row],[Maskinomkostninger]]+tblOpgaveliste[[#This Row],[Lønomkostninger]])/tblOpgaveliste[[#This Row],[Maskintimer]],0)","v":0},{"$f":"IFERROR((tblOpgaveliste[[#This Row],[Maskinomkostninger]]+tblOpgaveliste[[#This Row],[Lønomkostninger]])/(SUMPRODUCT(tblOpgaveliste[[#This Row],[Mark1]:[Mark10]],$AB$83:$AK$83)+tblOpgaveliste[[#This Row],[TimerAndet]]),0)","v":0}]
[{"$f":"IF(tblOpgaveliste[[#This Row],[IBrug]]=TRUE,TRUE,IF(H131=TRUE,TRUE,FALSE))","v":false},null,false,null,0,null,null,{"$f":"OR(tblOpgaveliste[[#This Row],[Opgavenavn]]<>\"\",tblOpgaveliste[[#This Row],[Maskintekst]]<>\"\",tblOpgaveliste[[#This Row],[TimerAndet]]<>0,tblOpgaveliste[[#This Row],[Mark1]]<>0,tblOpgaveliste[[#This Row],[Mark2]]<>0,tblOpgaveliste[[#This Row],[Mark3]]<>0,tblOpgaveliste[[#This Row],[Mark4]]<>0,tblOpgaveliste[[#This Row],[Mark5]]<>0,tblOpgaveliste[[#This Row],[Mark6]]<>0,tblOpgaveliste[[#This Row],[Mark7]]<>0,tblOpgaveliste[[#This Row],[Mark8]]<>0,tblOpgaveliste[[#This Row],[Mark9]]<>0,tblOpgaveliste[[#This Row],[Mark10]]<>0,tblOpgaveliste[[#This Row],[Maskinstationspris]])","v":false},{"$f":"tblOpgaveliste[[#This Row],[Enheder]]*tblOpgaveliste[[#This Row],[Maskinstationspris]]","v":0},46,null,47,null,"Intern","ha.","Ret",{"$f":"MASKINTEKST(F132,tblMaskinliste[[Id]:[Maskinnavn]],4)","v":""},null,null,null,null,{"$f":"SUMPRODUCT(tblOpgaveliste[[#This Row],[Mark1]:[Mark10]],$AB$83:$AK$83)+tblOpgaveliste[[#This Row],[TimerAndet]]","v":0},1,{"$f":"tblOpgaveliste[[#This Row],[Enhed]]&\"/time\"","v":"ha./time"},{"$f":"IFERROR(tblOpgaveliste[[#This Row],[Enheder]]/tblOpgaveliste[[#This Row],[TimeEnheder]],0)","v":0},null,null,null,null,null,null,null,null,null,null,null,null,{"$f":"OPGAVETIMEPRIS(F132,tblMaskinliste[Id],19)*tblOpgaveliste[[#This Row],[Maskintimer]]","v":0},{"$f":"tblOpgaveliste[[#This Row],[Maskintimer]]*tblOpgaveliste[[#This Row],[AntalLøn]]*Timeløn","v":0},{"$f":"IFERROR((tblOpgaveliste[[#This Row],[Maskinomkostninger]]+tblOpgaveliste[[#This Row],[Lønomkostninger]])/tblOpgaveliste[[#This Row],[Maskintimer]],0)","v":0},{"$f":"IFERROR((tblOpgaveliste[[#This Row],[Maskinomkostninger]]+tblOpgaveliste[[#This Row],[Lønomkostninger]])/(SUMPRODUCT(tblOpgaveliste[[#This Row],[Mark1]:[Mark10]],$AB$83:$AK$83)+tblOpgaveliste[[#This Row],[TimerAndet]]),0)","v":0}]
[{"$f":"IF(tblOpgaveliste[[#This Row],[IBrug]]=TRUE,TRUE,IF(H132=TRUE,TRUE,FALSE))","v":false},null,false,null,0,null,null,{"$f":"OR(tblOpgaveliste[[#This Row],[Opgavenavn]]<>\"\",tblOpgaveliste[[#This Row],[Maskintekst]]<>\"\",tblOpgaveliste[[#This Row],[TimerAndet]]<>0,tblOpgaveliste[[#This Row],[Mark1]]<>0,tblOpgaveliste[[#This Row],[Mark2]]<>0,tblOpgaveliste[[#This Row],[Mark3]]<>0,tblOpgaveliste[[#This Row],[Mark4]]<>0,tblOpgaveliste[[#This Row],[Mark5]]<>0,tblOpgaveliste[[#This Row],[Mark6]]<>0,tblOpgaveliste[[#This Row],[Mark7]]<>0,tblOpgaveliste[[#This Row],[Mark8]]<>0,tblOpgaveliste[[#This Row],[Mark9]]<>0,tblOpgaveliste[[#This Row],[Mark10]]<>0,tblOpgaveliste[[#This Row],[Maskinstationspris]])","v":false},{"$f":"tblOpgaveliste[[#This Row],[Enheder]]*tblOpgaveliste[[#This Row],[Maskinstationspris]]","v":0},47,null,48,null,"Intern","ha.","Ret",{"$f":"MASKINTEKST(F133,tblMaskinliste[[Id]:[Maskinnavn]],4)","v":""},null,null,null,null,{"$f":"SUMPRODUCT(tblOpgaveliste[[#This Row],[Mark1]:[Mark10]],$AB$83:$AK$83)+tblOpgaveliste[[#This Row],[TimerAndet]]","v":0},1,{"$f":"tblOpgaveliste[[#This Row],[Enhed]]&\"/time\"","v":"ha./time"},{"$f":"IFERROR(tblOpgaveliste[[#This Row],[Enheder]]/tblOpgaveliste[[#This Row],[TimeEnheder]],0)","v":0},null,null,null,null,null,null,null,null,null,null,null,null,{"$f":"OPGAVETIMEPRIS(F133,tblMaskinliste[Id],19)*tblOpgaveliste[[#This Row],[Maskintimer]]","v":0},{"$f":"tblOpgaveliste[[#This Row],[Maskintimer]]*tblOpgaveliste[[#This Row],[AntalLøn]]*Timeløn","v":0},{"$f":"IFERROR((tblOpgaveliste[[#This Row],[Maskinomkostninger]]+tblOpgaveliste[[#This Row],[Lønomkostninger]])/tblOpgaveliste[[#This Row],[Maskintimer]],0)","v":0},{"$f":"IFERROR((tblOpgaveliste[[#This Row],[Maskinomkostninger]]+tblOpgaveliste[[#This Row],[Lønomkostninger]])/(SUMPRODUCT(tblOpgaveliste[[#This Row],[Mark1]:[Mark10]],$AB$83:$AK$83)+tblOpgaveliste[[#This Row],[TimerAndet]]),0)","v":0}]
[{"$f":"IF(tblOpgaveliste[[#This Row],[IBrug]]=TRUE,TRUE,IF(H133=TRUE,TRUE,FALSE))","v":false},null,false,null,0,null,null,{"$f":"OR(tblOpgaveliste[[#This Row],[Opgavenavn]]<>\"\",tblOpgaveliste[[#This Row],[Maskintekst]]<>\"\",tblOpgaveliste[[#This Row],[TimerAndet]]<>0,tblOpgaveliste[[#This Row],[Mark1]]<>0,tblOpgaveliste[[#This Row],[Mark2]]<>0,tblOpgaveliste[[#This Row],[Mark3]]<>0,tblOpgaveliste[[#This Row],[Mark4]]<>0,tblOpgaveliste[[#This Row],[Mark5]]<>0,tblOpgaveliste[[#This Row],[Mark6]]<>0,tblOpgaveliste[[#This Row],[Mark7]]<>0,tblOpgaveliste[[#This Row],[Mark8]]<>0,tblOpgaveliste[[#This Row],[Mark9]]<>0,tblOpgaveliste[[#This Row],[Mark10]]<>0,tblOpgaveliste[[#This Row],[Maskinstationspris]])","v":false},{"$f":"tblOpgaveliste[[#This Row],[Enheder]]*tblOpgaveliste[[#This Row],[Maskinstationspris]]","v":0},48,null,49,null,"Intern","ha.","Ret",{"$f":"MASKINTEKST(F134,tblMaskinliste[[Id]:[Maskinnavn]],4)","v":""},null,null,null,null,{"$f":"SUMPRODUCT(tblOpgaveliste[[#This Row],[Mark1]:[Mark10]],$AB$83:$AK$83)+tblOpgaveliste[[#This Row],[TimerAndet]]","v":0},1,{"$f":"tblOpgaveliste[[#This Row],[Enhed]]&\"/time\"","v":"ha./time"},{"$f":"IFERROR(tblOpgaveliste[[#This Row],[Enheder]]/tblOpgaveliste[[#This Row],[TimeEnheder]],0)","v":0},null,null,null,null,null,null,null,null,null,null,null,null,{"$f":"OPGAVETIMEPRIS(F134,tblMaskinliste[Id],19)*tblOpgaveliste[[#This Row],[Maskintimer]]","v":0},{"$f":"tblOpgaveliste[[#This Row],[Maskintimer]]*tblOpgaveliste[[#This Row],[AntalLøn]]*Timeløn","v":0},{"$f":"IFERROR((tblOpgaveliste[[#This Row],[Maskinomkostninger]]+tblOpgaveliste[[#This Row],[Lønomkostninger]])/tblOpgaveliste[[#This Row],[Maskintimer]],0)","v":0},{"$f":"IFERROR((tblOpgaveliste[[#This Row],[Maskinomkostninger]]+tblOpgaveliste[[#This Row],[Lønomkostninger]])/(SUMPRODUCT(tblOpgaveliste[[#This Row],[Mark1]:[Mark10]],$AB$83:$AK$83)+tblOpgaveliste[[#This Row],[TimerAndet]]),0)","v":0}]
[{"$f":"IF(tblOpgaveliste[[#This Row],[IBrug]]=TRUE,TRUE,IF(H134=TRUE,TRUE,FALSE))","v":false},null,false,null,0,null,null,{"$f":"OR(tblOpgaveliste[[#This Row],[Opgavenavn]]<>\"\",tblOpgaveliste[[#This Row],[Maskintekst]]<>\"\",tblOpgaveliste[[#This Row],[TimerAndet]]<>0,tblOpgaveliste[[#This Row],[Mark1]]<>0,tblOpgaveliste[[#This Row],[Mark2]]<>0,tblOpgaveliste[[#This Row],[Mark3]]<>0,tblOpgaveliste[[#This Row],[Mark4]]<>0,tblOpgaveliste[[#This Row],[Mark5]]<>0,tblOpgaveliste[[#This Row],[Mark6]]<>0,tblOpgaveliste[[#This Row],[Mark7]]<>0,tblOpgaveliste[[#This Row],[Mark8]]<>0,tblOpgaveliste[[#This Row],[Mark9]]<>0,tblOpgaveliste[[#This Row],[Mark10]]<>0,tblOpgaveliste[[#This Row],[Maskinstationspris]])","v":false},{"$f":"tblOpgaveliste[[#This Row],[Enheder]]*tblOpgaveliste[[#This Row],[Maskinstationspris]]","v":0},49,null,50,null,"Intern","ha.","Ret",{"$f":"MASKINTEKST(F135,tblMaskinliste[[Id]:[Maskinnavn]],4)","v":""},null,null,null,null,{"$f":"SUMPRODUCT(tblOpgaveliste[[#This Row],[Mark1]:[Mark10]],$AB$83:$AK$83)+tblOpgaveliste[[#This Row],[TimerAndet]]","v":0},1,{"$f":"tblOpgaveliste[[#This Row],[Enhed]]&\"/time\"","v":"ha./time"},{"$f":"IFERROR(tblOpgaveliste[[#This Row],[Enheder]]/tblOpgaveliste[[#This Row],[TimeEnheder]],0)","v":0},null,null,null,null,null,null,null,null,null,null,null,null,{"$f":"OPGAVETIMEPRIS(F135,tblMaskinliste[Id],19)*tblOpgaveliste[[#This Row],[Maskintimer]]","v":0},{"$f":"tblOpgaveliste[[#This Row],[Maskintimer]]*tblOpgaveliste[[#This Row],[AntalLøn]]*Timeløn","v":0},{"$f":"IFERROR((tblOpgaveliste[[#This Row],[Maskinomkostninger]]+tblOpgaveliste[[#This Row],[Lønomkostninger]])/tblOpgaveliste[[#This Row],[Maskintimer]],0)","v":0},{"$f":"IFERROR((tblOpgaveliste[[#This Row],[Maskinomkostninger]]+tblOpgaveliste[[#This Row],[Lønomkostninger]])/(SUMPRODUCT(tblOpgaveliste[[#This Row],[Mark1]:[Mark10]],$AB$83:$AK$83)+tblOpgaveliste[[#This Row],[TimerAndet]]),0)","v":0}]
[null,null,null,null,null,null,null,null,null,null,null,null,"Ufordelte omkostninger",null,null,null,null,null,null,null,null,null,null,null,null,null,null,null,null,null,null,null,null,null,null,null,null,{"$f":"+AB77-SUM(tblOpgaveliste[Maskinomkostninger])","v":0}]
[null,null,null,null,null,null,null,null,null,null,null,null,"Omkostninger i alt",null,null,null,null,null,null,null,null,null,null,null,null,null,{"$f":"IF(SUM(AB83:AK83)=0,\"OBS: Du skal udfylde afgrøder og areal øverst i fanen 'Planteavl'\",\"\")","v":"OBS: Du skal udfylde afgrøder og areal øverst i fanen 'Planteavl'"},null,null,null,null,null,null,null,null,null,null,{"$f":"SUM(AL86:AL136)","v":0},{"$f":"SUM(AM86:AM136)","v":0}]
[]
[]
[null,null,null,null,null,null,null,null,null,null,null,null,"Totale maskinomkostninger",null,null,"Regnskab",null,"Analyse"]
[]
[null,null,null,null,null,null,null,null,null,null,null,null,null,null,null,"I alt","pr. ha.","I alt","Pr. ha."]
[null,null,null,null,null,null,null,null,null,null,null,null,"Intern maskinleje",null,null,null,null,{"$f":"SUMPRODUCT(tblOpgaveliste[Enheder],tblOpgaveliste[Maskinstationspris])-R144","v":0},{"$f":"IFERROR(R143:R156/Planteavl!$M$28,0)","v":0}]
[null,null,null,null,null,null,null,null,null,null,null,null,"Maskinstationsindtægter",null,null,{"$f":"Driftsgrensopdeling!R29","v":0},{"$f":"IFERROR(P144:P156/Planteavl!$M$28,0)","v":0},{"$f":"SUMIF(tblOpgaveliste[Opgavetype],'#Lister'!U57,tblOpgaveliste[MaskinstationIalt])","v":0},0]
[null,null,null,null,null,null,null,null,null,null,null,null,"Indtægter i alt",null,null,{"$f":"+P143+P144","v":0},0,{"$f":"+R143+R144","v":0},0]
[null,null,null,null,null,null,null,null,null,null,null,null,"Vedligehold",null,null,{"$f":"Driftsgrensopdeling!R48","v":0},0,{"$f":"-G77","v":0},0]
[null,null,null,null,null,null,null,null,null,null,null,null,"Brændstof",null,null,{"$f":"Driftsgrensopdeling!R46","v":0},0,{"$f":"-H77","v":0},0]
[null,null,null,null,null,null,null,null,null,null,null,null,"Arbejdsløn",null,null,{"$f":"Driftsgrensopdeling!R50+Driftsgrensopdeling!R60","v":0},0,{"$f":"-AM137","v":0},0]
[null,null,null,null,null,null,null,null,null,null,null,null,"Variable omkostninger i alt",null,null,{"$f":"SUM(P146:P148)","v":0},0,{"$f":"SUM(R146:R148)","v":0},0]
[null,null,null,null,null,null,null,null,null,null,null,null,"Forsikring",null,null,{"$f":"Driftsgrensopdeling!R51","v":0},0,{"$f":"-T77","v":0},0]
[null,null,null,null,null,null,null,null,null,null,null,null,"Diverse",null,null,{"$f":"Driftsgrensopdeling!R52","v":0},0,{"$f":"-U77","v":0},0]
[null,null,null,null,null,null,null,null,null,null,null,null,"Afskrivning og forrentning (GKO)",null,null,{"$f":"Driftsgrensopdeling!R54+Driftsgrensopdeling!R57","v":0},0,{"$f":"-S77","v":0},0]
[null,null,null,null,null,null,null,null,null,null,null,null,"Faste omkostninger i alt",null,null,{"$f":"SUM(P150:P152)","v":0},0,{"$f":"SUM(R150:R152)","v":0},0]
[null,null,null,null,null,null,null,null,null,null,null,null,"Maskinstation",null,null,{"$f":"Driftsgrensopdeling!R47","v":0},0,{"$f":"-SUMIF(tblOpgaveliste[Opgavetype],'#Lister'!U58,tblOpgaveliste[MaskinstationIalt])","v":0},0]
[null,null,null,null,null,null,null,null,null,null,null,null,"Maskinomkostninger i alt",null,null,{"$f":"+P149+P153+P154","v":0},0,{"$f":"+R149+R153+R154","v":0},0]
[null,null,null,null,null,null,null,null,null,null,null,null,"Resultat",null,null,{"$f":"+P145+P155","v":0},0,{"$f":"+R145+R155","v":0},0]

{"sheet":"Udskrift","index":6,"n_rows":5991,"n_cols":43,"rows_kept":4500,"cut":true,"hidden":false,"merged":[[82,31,82,33],[3149,18,3149,19],[3091,18,3091,19],[137,18,137,19],[83,29,83,30],[83,27,83,28],[83,25,83,26],[82,25,82,30],[82,16,82,24],[83,16,83,17],[84,16,84,23],[85,16,85,23],[86,16,86,23],[87,16,87,23],[88,16,88,23],[89,16,89,23],[90,16,90,23],[91,16,91,23],[92,16,92,23],[93,16,93,23],[94,16,94,23],[95,16,95,23],[96,16,96,23],[97,16,97,23],[106,16,106,23],[107,16,107,23],[82,11,82,15],[28,24,28,27],[28,28,28,30],[28,11,28,15],[28,16,28,20],[28,21,28,23],[103,16,103,23],[104,16,104,23],[105,16,105,23],[98,16,98,23],[99,16,99,23],[100,16,100,23],[101,16,101,23],[102,16,102,23],[122,16,122,23],[113,16,113,23],[114,16,114,23],[115,16,115,23],[116,16,116,23],[117,16,117,23],[108,16,108,23],[109,16,109,23],[110,16,110,23],[111,16,111,23],[112,16,112,23],[118,16,118,23],[119,16,119,23],[120,16,120,23],[121,16,121,23],[373,18,373,19],[432,18,432,19],[491,18,491,19],[550,18,550,19],[609,18,609,19],[133,16,133,23],[196,18,196,19],[255,18,255,19],[314,18,314,19],[128,16,128,23],[129,16,129,23],[130,16,130,23],[131,16,131,23],[132,16,132,23],[123,16,123,23],[124,16,124,23],[125,16,125,23],[126,16,126,23],[127,16,127,23],[963,18,963,19],[1022,18,1022,19],[1081,18,1081,19],[1140,18,1140,19],[1199,18,1199,19],[668,18,668,19],[727,18,727,19],[786,18,786,19],[845,18,845,19],[904,18,904,19],[1553,18,1553,19],[1612,18,1612,19],[1671,18,1671,19],[1730,18,1730,19],[1789,18,1789,19],[1258,18,1258,19],[1317,18,1317,19],[1376,18,1376,19],[1435,18,1435,19],[1494,18,1494,19],[2143,18,2143,19],[2202,18,2202,19],[2261,18,2261,19],[2320,18,2320,19],[2379,18,2379,19],[1848,18,1848,19],[1907,18,1907,19],[1966,18,1966,19],[2025,18,2025,19],[2084,18,2084,19],[3028,18,3028,19],[2733,18,2733,19],[2792,18,2792,19],[2851,18,2851,19],[2910,18,2910,19],[2969,18,2969,19],[2438,18,2438,19],[2497,18,2497,19],[2556,18,2556,19],[2615,18,2615,19],[2674,18,2674,19],[3207,18,3207,19],[3265,18,3265,19],[3323,18,3323,19],[3381,18,3381,19],[3439,18,3439,19],[3497,18,3497,19],[3555,18,3555,19],[3613,18,3613,19],[3671,18,3671,19],[3729,18,3729,19],[3787,18,3787,19],[3845,18,3845,19],[3903,18,3903,19],[3961,18,3961,19],[4019,18,4019,19],[4077,18,4077,19],[4135,18,4135,19],[4193,18,4193,19],[4251,18,4251,19],[4309,18,4309,19],[4367,18,4367,19],[4425,18,4425,19],[4483,18,4483,19],[4541,18,4541,19],[4599,18,4599,19],[4657,18,4657,19],[4715,18,4715,19],[4773,18,4773,19],[4831,18,4831,19],[4889,18,4889,19],[4947,18,4947,19],[5005,18,5005,19],[5063,18,5063,19],[5121,18,5121,19],[5179,18,5179,19],[5237,18,5237,19],[5817,18,5817,19],[5875,18,5875,19],[5933,18,5933,19],[5295,18,5295,19],[5353,18,5353,19],[5411,18,5411,19],[5469,18,5469,19],[5527,18,5527,19],[5585,18,5585,19],[5643,18,5643,19],[5701,18,5701,19],[5759,18,5759,19]],"bounds":{"rows_first":2000,"rows_last":500,"rows_between":2000,"halvings":0}}
["Masksort:","nr",null,null,"Skjul tomme kolonner",null,null,null,"Vis/skjul 1",1,true]
["Opgavesort","nr",null,null,null,null,null,null,"Vis/skjul 2",2,true]
[null,null,null,null,null,null,null,null,"Vis/skjul 3",3,true]
[null,null,null,null,null,null,null,null,"Markør1",4]
["Skjul tomme rækker","Vis tomme rækker","Vis tomme rækker",null,null,null,null,null,"Markør2",5]
[null,null,null,null,null,null,null,null,null,6,null,null,null,null,null,null,null,null,null,null,null,null,null,null,null,"xxxxxxxxx","xxxxxxxxx"]
[null,null,null,null,null,null,null,null,null,7]
[null,null,null,null,null,null,null,null,null,8]
["Vis/skjul Rediger","Vis/skjul bruger","Vis/skjul 3","Markør1","Markør2",null,null,null,"Kol. nr",9]
[1,2,3,4,5,6,7,8,9,10,{"$f":"+J10+1","v":11},{"$f":"+K10+1","v":12},13,null,null,{"$f":"+M10+1","v":14},15,16,17,18,19,20,21,22,23,24,25,26,27,28,29,30,31,32,33,34,35,36,37,38,39,40,41]
[]
[null,null,null,null,null,null,null,null,null,null,null,"Totale maskinomkostninger",null,null,null,null,"Regnskab",null,"Analyse"]
[null,null,null,null,null,null,null,null,null,null,null,null,null,null,null,null,"I alt","pr. ha.","I alt","Pr. ha."]
[null,null,null,null,null,null,null,null,null,null,null,"Intern maskinleje",null,null,null,null,{"$f":"Maskiner!P143:P156","v":0},{"$f":"Maskiner!Q143:Q156","v":0},{"$f":"Maskiner!R143:R156","v":0},{"$f":"Maskiner!S143:S156","v":0}]
[null,null,null,null,null,null,null,null,null,null,null,"Maskinstationsindtægter",null,null,null,null,0,0,0,0]
[null,null,null,null,null,null,null,null,null,null,null,"Indtægter i alt",null,null,null,null,0,0,0,0]
[null,null,null,null,null,null,null,null,null,null,null,"Vedligehold",null,null,null,null,0,0,0,0]
[null,null,null,null,null,null,null,null,null,null,null,"Brændstof",null,null,null,null,0,0,0,0]
[null,null,null,null,null,null,null,null,null,null,null,"Arbejdsløn",null,null,null,null,0,0,0,0]
[null,null,null,null,null,null,null,null,null,null,null,"Variable omkostninger i alt",null,null,null,null,0,0,0,0]
[null,null,null,null,null,null,null,null,null,null,null,"Forsikring",null,null,null,null,0,0,0,0]
[null,null,null,null,null,null,null,null,null,null,null,"Diverse",null,null,null,null,0,0,0,0]
[null,null,null,null,null,null,null,null,null,null,null,"Afskrivning og forrentning (GKO)",null,null,null,null,0,0,0,0]
[null,null,null,null,null,null,null,null,null,null,null,"Faste omkostninger i alt",null,null,null,null,0,0,0,0]
[null,null,null,null,null,null,null,null,null,null,null,"Maskinstation",null,null,null,null,0,0,0,0]
[null,null,null,null,null,null,null,null,null,null,null,"Maskinomkostninger i alt",null,null,null,null,0,0,0,0]
[null,null,null,null,null,null,null,null,null,null,null,"Resultat",null,null,null,null,0,0,0,0]
[]
[true,null,null,null,null,null,null,null,null,null,null,"Maskinliste",null,null,null,null,"Kapitalomk.",null,null,null,null,"Kontante kapacitetsomk.",null,null,"Variable omkostninger",null,null,null,"Omkostninger i alt"]
[true,null,null,null,null,"nr",null,null,null,"id",null,"Nr.","Navn",null,null,"Type","Værdi","Levetid","Afskr.","Scrap","GKO","Forsikring","Diverse","KKO","Vedl./tim.","Brændst.\nl/time","Brændst.\nkr./time","VE/time","Timer\nAnvendt","TO","TE"]
[{"$f":"OR(M31<>0,Q31<>0,AC31<>0,AD31<>0)","v":false},null,null,null,null,{"$f":"L31:L80","v":1},null,null,null,{"$f":"Maskiner!J27:J76","v":0},null,{"$f":"Maskiner!L27","v":1},{"$f":"Maskiner!M27","v":0},null,null,{"$f":"Maskiner!N27","v":"Maskine"},{"$f":"Maskiner!O27","v":0},{"$f":"Maskiner!P27","v":0},{"$f":"Maskiner!Q27","v":0},{"$f":"Maskiner!R27","v":0},{"$f":"Maskiner!S27","v":0},{"$f":"Maskiner!T27","v":0},{"$f":"Maskiner!U27","v":0},{"$f":"Maskiner!V27","v":0},{"$f":"Maskiner!W27","v":0},{"$f":"Maskiner!X27","v":0},{"$f":"Maskiner!Y27","v":0},{"$f":"Maskiner!Z27","v":0},{"$f":"Maskiner!AA27","v":0},{"$f":"Maskiner!AB27","v":0},{"$f":"Maskiner!AC27","v":0}]
[{"$f":"OR(M32<>0,Q32<>0,AC32<>0,AD32<>0)","v":false},null,null,null,null,2,null,null,null,3,null,{"$f":"Maskiner!L28","v":2},{"$f":"Maskiner!M28","v":0},null,null,{"$f":"Maskiner!N28","v":"Maskine"},{"$f":"Maskiner!O28","v":0},{"$f":"Maskiner!P28","v":0},{"$f":"Maskiner!Q28","v":0},{"$f":"Maskiner!R28","v":0},{"$f":"Maskiner!S28","v":0},{"$f":"Maskiner!T28","v":0},{"$f":"Maskiner!U28","v":0},{"$f":"Maskiner!V28","v":0},{"$f":"Maskiner!W28","v":0},{"$f":"Maskiner!X28","v":0},{"$f":"Maskiner!Y28","v":0},{"$f":"Maskiner!Z28","v":0},{"$f":"Maskiner!AA28","v":0},{"$f":"Maskiner!AB28","v":0},{"$f":"Maskiner!AC28","v":0}]
[false,null,null,null,null,3,null,null,null,5,null,{"$f":"Maskiner!L29","v":3},{"$f":"Maskiner!M29","v":0},null,null,{"$f":"Maskiner!N29","v":"Maskine"},{"$f":"Maskiner!O29","v":0},{"$f":"Maskiner!P29","v":0},{"$f":"Maskiner!Q29","v":0},{"$f":"Maskiner!R29","v":0},{"$f":"Maskiner!S29","v":0},{"$f":"Maskiner!T29","v":0},{"$f":"Maskiner!U29","v":0},{"$f":"Maskiner!V29","v":0},{"$f":"Maskiner!W29","v":0},{"$f":"Maskiner!X29","v":0},{"$f":"Maskiner!Y29","v":0},{"$f":"Maskiner!Z29","v":0},{"$f":"Maskiner!AA29","v":0},{"$f":"Maskiner!AB29","v":0},{"$f":"Maskiner!AC29","v":0}]
[false,null,null,null,null,4,null,null,null,4,null,{"$f":"Maskiner!L30","v":4},{"$f":"Maskiner!M30","v":0},null,null,{"$f":"Maskiner!N30","v":"Maskine"},{"$f":"Maskiner!O30","v":0},{"$f":"Maskiner!P30","v":0},{"$f":"Maskiner!Q30","v":0},{"$f":"Maskiner!R30","v":0},{"$f":"Maskiner!S30","v":0},{"$f":"Maskiner!T30","v":0},{"$f":"Maskiner!U30","v":0},{"$f":"Maskiner!V30","v":0},{"$f":"Maskiner!W30","v":0},{"$f":"Maskiner!X30","v":0},{"$f":"Maskiner!Y30","v":0},{"$f":"Maskiner!Z30","v":0},{"$f":"Maskiner!AA30","v":0},{"$f":"Maskiner!AB30","v":0},{"$f":"Maskiner!AC30","v":0}]
[false,null,null,null,null,5,null,null,null,1,null,{"$f":"Maskiner!L31","v":5},{"$f":"Maskiner!M31","v":0},null,null,{"$f":"Maskiner!N31","v":"Maskine"},{"$f":"Maskiner!O31","v":0},{"$f":"Maskiner!P31","v":0},{"$f":"Maskiner!Q31","v":0},{"$f":"Maskiner!R31","v":0},{"$f":"Maskiner!S31","v":0},{"$f":"Maskiner!T31","v":0},{"$f":"Maskiner!U31","v":0},{"$f":"Maskiner!V31","v":0},{"$f":"Maskiner!W31","v":0},{"$f":"Maskiner!X31","v":0},{"$f":"Maskiner!Y31","v":0},{"$f":"Maskiner!Z31","v":0},{"$f":"Maskiner!AA31","v":0},{"$f":"Maskiner!AB31","v":0},{"$f":"Maskiner!AC31","v":0}]
[false,null,null,null,null,6,null,null,null,2,null,{"$f":"Maskiner!L32","v":6},{"$f":"Maskiner!M32","v":0},null,null,{"$f":"Maskiner!N32","v":"Maskine"},{"$f":"Maskiner!O32","v":0},{"$f":"Maskiner!P32","v":0},{"$f":"Maskiner!Q32","v":0},{"$f":"Maskiner!R32","v":0},{"$f":"Maskiner!S32","v":0},{"$f":"Maskiner!T32","v":0},{"$f":"Maskiner!U32","v":0},{"$f":"Maskiner!V32","v":0},{"$f":"Maskiner!W32","v":0},{"$f":"Maskiner!X32","v":0},{"$f":"Maskiner!Y32","v":0},{"$f":"Maskiner!Z32","v":0},{"$f":"Maskiner!AA32","v":0},{"$f":"Maskiner!AB32","v":0},{"$f":"Maskiner!AC32","v":0}]
[false,null,null,null,null,7,null,null,null,6,null,{"$f":"Maskiner!L33","v":7},{"$f":"Maskiner!M33","v":0},null,null,{"$f":"Maskiner!N33","v":"Maskine"},{"$f":"Maskiner!O33","v":0},{"$f":"Maskiner!P33","v":0},{"$f":"Maskiner!Q33","v":0},{"$f":"Maskiner!R33","v":0},{"$f":"Maskiner!S33","v":0},{"$f":"Maskiner!T33","v":0},{"$f":"Maskiner!U33","v":0},{"$f":"Maskiner!V33","v":0},{"$f":"Maskiner!W33","v":0},{"$f":"Maskiner!X33","v":0},{"$f":"Maskiner!Y33","v":0},{"$f":"Maskiner!Z33","v":0},{"$f":"Maskiner!AA33","v":0},{"$f":"Maskiner!AB33","v":0},{"$f":"Maskiner!AC33","v":0}]
[false,null,null,null,null,8,null,null,null,7,null,{"$f":"Maskiner!L34","v":8},{"$f":"Maskiner!M34","v":0},null,null,{"$f":"Maskiner!N34","v":"Maskine"},{"$f":"Maskiner!O34","v":0},{"$f":"Maskiner!P34","v":0},{"$f":"Maskiner!Q34","v":0},{"$f":"Maskiner!R34","v":0},{"$f":"Maskiner!S34","v":0},{"$f":"Maskiner!T34","v":0},{"$f":"Maskiner!U34","v":0},{"$f":"Maskiner!V34","v":0},{"$f":"Maskiner!W34","v":0},{"$f":"Maskiner!X34","v":0},{"$f":"Maskiner!Y34","v":0},{"$f":"Maskiner!Z34","v":0},{"$f":"Maskiner!AA34","v":0},{"$f":"Maskiner!AB34","v":0},{"$f":"Maskiner!AC34","v":0}]
[false,null,null,null,null,9,null,null,null,8,null,{"$f":"Maskiner!L35","v":9},{"$f":"Maskiner!M35","v":0},null,null,{"$f":"Maskiner!N35","v":"Maskine"},{"$f":"Maskiner!O35","v":0},{"$f":"Maskiner!P35","v":0},{"$f":"Maskiner!Q35","v":0},{"$f":"Maskiner!R35","v":0},{"$f":"Maskiner!S35","v":0},{"$f":"Maskiner!T35","v":0},{"$f":"Maskiner!U35","v":0},{"$f":"Maskiner!V35","v":0},{"$f":"Maskiner!W35","v":0},{"$f":"Maskiner!X35","v":0},{"$f":"Maskiner!Y35","v":0},{"$f":"Maskiner!Z35","v":0},{"$f":"Maskiner!AA35","v":0},{"$f":"Maskiner!AB35","v":0},{"$f":"Maskiner!AC35","v":0}]
[false,null,null,null,null,10,null,null,null,9,null,{"$f":"Maskiner!L36","v":10},{"$f":"Maskiner!M36","v":0},null,null,{"$f":"Maskiner!N36","v":"Maskine"},{"$f":"Maskiner!O36","v":0},{"$f":"Maskiner!P36","v":0},{"$f":"Maskiner!Q36","v":0},{"$f":"Maskiner!R36","v":0},{"$f":"Maskiner!S36","v":0},{"$f":"Maskiner!T36","v":0},{"$f":"Maskiner!U36","v":0},{"$f":"Maskiner!V36","v":0},{"$f":"Maskiner!W36","v":0},{"$f":"Maskiner!X36","v":0},{"$f":"Maskiner!Y36","v":0},{"$f":"Maskiner!Z36","v":0},{"$f":"Maskiner!AA36","v":0},{"$f":"Maskiner!AB36","v":0},{"$f":"Maskiner!AC36","v":0}]
[false,null,null,null,null,11,null,null,null,10,null,{"$f":"Maskiner!L37","v":11},{"$f":"Maskiner!M37","v":0},null,null,{"$f":"Maskiner!N37","v":"Maskine"},{"$f":"Maskiner!O37","v":0},{"$f":"Maskiner!P37","v":0},{"$f":"Maskiner!Q37","v":0},{"$f":"Maskiner!R37","v":0},{"$f":"Maskiner!S37","v":0},{"$f":"Maskiner!T37","v":0},{"$f":"Maskiner!U37","v":0},{"$f":"Maskiner!V37","v":0},{"$f":"Maskiner!W37","v":0},{"$f":"Maskiner!X37","v":0},{"$f":"Maskiner!Y37","v":0},{"$f":"Maskiner!Z37","v":0},{"$f":"Maskiner!AA37","v":0},{"$f":"Maskiner!AB37","v":0},{"$f":"Maskiner!AC37","v":0}]
[false,null,null,null,null,12,null,null,null,11,null,{"$f":"Maskiner!L38","v":12},{"$f":"Maskiner!M38","v":0},null,null,{"$f":"Maskiner!N38","v":"Maskine"},{"$f":"Maskiner!O38","v":0},{"$f":"Maskiner!P38","v":0},{"$f":"Maskiner!Q38","v":0},{"$f":"Maskiner!R38","v":0},{"$f":"Maskiner!S38","v":0},{"$f":"Maskiner!T38","v":0},{"$f":"Maskiner!U38","v":0},{"$f":"Maskiner!V38","v":0},{"$f":"Maskiner!W38","v":0},{"$f":"Maskiner!X38","v":0},{"$f":"Maskiner!Y38","v":0},{"$f":"Maskiner!Z38","v":0},{"$f":"Maskiner!AA38","v":0},{"$f":"Maskiner!AB38","v":0},{"$f":"Maskiner!AC38","v":0}]
[false,null,null,null,null,13,null,null,null,12,null,{"$f":"Maskiner!L39","v":13},{"$f":"Maskiner!M39","v":0},null,null,{"$f":"Maskiner!N39","v":"Maskine"},{"$f":"Maskiner!O39","v":0},{"$f":"Maskiner!P39","v":0},{"$f":"Maskiner!Q39","v":0},{"$f":"Maskiner!R39","v":0},{"$f":"Maskiner!S39","v":0},{"$f":"Maskiner!T39","v":0},{"$f":"Maskiner!U39","v":0},{"$f":"Maskiner!V39","v":0},{"$f":"Maskiner!W39","v":0},{"$f":"Maskiner!X39","v":0},{"$f":"Maskiner!Y39","v":0},{"$f":"Maskiner!Z39","v":0},{"$f":"Maskiner!AA39","v":0},{"$f":"Maskiner!AB39","v":0},{"$f":"Maskiner!AC39","v":0}]
[false,null,null,null,null,14,null,null,null,13,null,{"$f":"Maskiner!L40","v":14},{"$f":"Maskiner!M40","v":0},null,null,{"$f":"Maskiner!N40","v":"Maskine"},{"$f":"Maskiner!O40","v":0},{"$f":"Maskiner!P40","v":0},{"$f":"Maskiner!Q40","v":0},{"$f":"Maskiner!R40","v":0},{"$f":"Maskiner!S40","v":0},{"$f":"Maskiner!T40","v":0},{"$f":"Maskiner!U40","v":0},{"$f":"Maskiner!V40","v":0},{"$f":"Maskiner!W40","v":0},{"$f":"Maskiner!X40","v":0},{"$f":"Maskiner!Y40","v":0},{"$f":"Maskiner!Z40","v":0},{"$f":"Maskiner!AA40","v":0},{"$f":"Maskiner!AB40","v":0},{"$f":"Maskiner!AC40","v":0}]
[false,null,null,null,null,15,null,null,null,14,null,{"$f":"Maskiner!L41","v":15},{"$f":"Maskiner!M41","v":0},null,null,{"$f":"Maskiner!N41","v":"Maskine"},{"$f":"Maskiner!O41","v":0},{"$f":"Maskiner!P41","v":0},{"$f":"Maskiner!Q41","v":0},{"$f":"Maskiner!R41","v":0},{"$f":"Maskiner!S41","v":0},{"$f":"Maskiner!T41","v":0},{"$f":"Maskiner!U41","v":0},{"$f":"Maskiner!V41","v":0},{"$f":"Maskiner!W41","v":0},{"$f":"Maskiner!X41","v":0},{"$f":"Maskiner!Y41","v":0},{"$f":"Maskiner!Z41","v":0},{"$f":"Maskiner!AA41","v":0},{"$f":"Maskiner!AB41","v":0},{"$f":"Maskiner!AC41","v":0}]
[false,null,null,null,null,16,null,null,null,15,null,{"$f":"Maskiner!L42","v":16},{"$f":"Maskiner!M42","v":0},null,null,{"$f":"Maskiner!N42","v":"Maskine"},{"$f":"Maskiner!O42","v":0},{"$f":"Maskiner!P42","v":0},{"$f":"Maskiner!Q42","v":0},{"$f":"Maskiner!R42","v":0},{"$f":"Maskiner!S42","v":0},{"$f":"Maskiner!T42","v":0},{"$f":"Maskiner!U42","v":0},{"$f":"Maskiner!V42","v":0},{"$f":"Maskiner!W42","v":0},{"$f":"Maskiner!X42","v":0},{"$f":"Maskiner!Y42","v":0},{"$f":"Maskiner!Z42","v":0},{"$f":"Maskiner!AA42","v":0},{"$f":"Maskiner!AB42","v":0},{"$f":"Maskiner!AC42","v":0}]
[false,null,null,null,null,17,null,null,null,16,null,{"$f":"Maskiner!L43","v":17},{"$f":"Maskiner!M43","v":0},null,null,{"$f":"Maskiner!N43","v":"Maskine"},{"$f":"Maskiner!O43","v":0},{"$f":"Maskiner!P43","v":0},{"$f":"Maskiner!Q43","v":0},{"$f":"Maskiner!R43","v":0},{"$f":"Maskiner!S43","v":0},{"$f":"Maskiner!T43","v":0},{"$f":"Maskiner!U43","v":0},{"$f":"Maskiner!V43","v":0},{"$f":"Maskiner!W43","v":0},{"$f":"Maskiner!X43","v":0},{"$f":"Maskiner!Y43","v":0},{"$f":"Maskiner!Z43","v":0},{"$f":"Maskiner!AA43","v":0},{"$f":"Maskiner!AB43","v":0},{"$f":"Maskiner!AC43","v":0}]
[false,null,null,null,null,18,null,null,null,17,null,{"$f":"Maskiner!L44","v":18},{"$f":"Maskiner!M44","v":0},null,null,{"$f":"Maskiner!N44","v":"Maskine"},{"$f":"Maskiner!O44","v":0},{"$f":"Maskiner!P44","v":0},{"$f":"Maskiner!Q44","v":0},{"$f":"Maskiner!R44","v":0},{"$f":"Maskiner!S44","v":0},{"$f":"Maskiner!T44","v":0},{"$f":"Maskiner!U44","v":0},{"$f":"Maskiner!V44","v":0},{"$f":"Maskiner!W44","v":0},{"$f":"Maskiner!X44","v":0},{"$f":"Maskiner!Y44","v":0},{"$f":"Maskiner!Z44","v":0},{"$f":"Maskiner!AA44","v":0},{"$f":"Maskiner!AB44","v":0},{"$f":"Maskiner!AC44","v":0}]
[false,null,null,null,null,19,null,null,null,18,null,{"$f":"Maskiner!L45","v":19},{"$f":"Maskiner!M45","v":0},null,null,{"$f":"Maskiner!N45","v":"Maskine"},{"$f":"Maskiner!O45","v":0},{"$f":"Maskiner!P45","v":0},{"$f":"Maskiner!Q45","v":0},{"$f":"Maskiner!R45","v":0},{"$f":"Maskiner!S45","v":0},{"$f":"Maskiner!T45","v":0},{"$f":"Maskiner!U45","v":0},{"$f":"Maskiner!V45","v":0},{"$f":"Maskiner!W45","v":0},{"$f":"Maskiner!X45","v":0},{"$f":"Maskiner!Y45","v":0},{"$f":"Maskiner!Z45","v":0},{"$f":"Maskiner!AA45","v":0},{"$f":"Maskiner!AB45","v":0},{"$f":"Maskiner!AC45","v":0}]
[false,null,null,null,null,20,null,null,null,19,null,{"$f":"Maskiner!L46","v":20},{"$f":"Maskiner!M46","v":0},null,null,{"$f":"Maskiner!N46","v":"Maskine"},{"$f":"Maskiner!O46","v":0},{"$f":"Maskiner!P46","v":0},{"$f":"Maskiner!Q46","v":0},{"$f":"Maskiner!R46","v":0},{"$f":"Maskiner!S46","v":0},{"$f":"Maskiner!T46","v":0},{"$f":"Maskiner!U46","v":0},{"$f":"Maskiner!V46","v":0},{"$f":"Maskiner!W46","v":0},{"$f":"Maskiner!X46","v":0},{"$f":"Maskiner!Y46","v":0},{"$f":"Maskiner!Z46","v":0},{"$f":"Maskiner!AA46","v":0},{"$f":"Maskiner!AB46","v":0},{"$f":"Maskiner!AC46","v":0}]
[false,null,null,null,null,21,null,null,null,20,null,{"$f":"Maskiner!L47","v":21},{"$f":"Maskiner!M47","v":0},null,null,{"$f":"Maskiner!N47","v":"Maskine"},{"$f":"Maskiner!O47","v":0},{"$f":"Maskiner!P47","v":0},{"$f":"Maskiner!Q47","v":0},{"$f":"Maskiner!R47","v":0},{"$f":"Maskiner!S47","v":0},{"$f":"Maskiner!T47","v":0},{"$f":"Maskiner!U47","v":0},{"$f":"Maskiner!V47","v":0},{"$f":"Maskiner!W47","v":0},{"$f":"Maskiner!X47","v":0},{"$f":"Maskiner!Y47","v":0},{"$f":"Maskiner!Z47","v":0},{"$f":"Maskiner!AA47","v":0},{"$f":"Maskiner!AB47","v":0},{"$f":"Maskiner!AC47","v":0}]
[false,null,null,null,null,22,null,null,null,21,null,{"$f":"Maskiner!L48","v":22},{"$f":"Maskiner!M48","v":0},null,null,{"$f":"Maskiner!N48","v":"Maskine"},{"$f":"Maskiner!O48","v":0},{"$f":"Maskiner!P48","v":0},{"$f":"Maskiner!Q48","v":0},{"$f":"Maskiner!R48","v":0},{"$f":"Maskiner!S48","v":0},{"$f":"Maskiner!T48","v":0},{"$f":"Maskiner!U48","v":0},{"$f":"Maskiner!V48","v":0},{"$f":"Maskiner!W48","v":0},{"$f":"Maskiner!X48","v":0},{"$f":"Maskiner!Y48","v":0},{"$f":"Maskiner!Z48","v":0},{"$f":"Maskiner!AA48","v":0},{"$f":"Maskiner!AB48","v":0},{"$f":"Maskiner!AC48","v":0}]
[false,null,null,null,null,23,null,null,null,22,null,{"$f":"Maskiner!L49","v":23},{"$f":"Maskiner!M49","v":0},null,null,{"$f":"Maskiner!N49","v":"Maskine"},{"$f":"Maskiner!O49","v":0},{"$f":"Maskiner!P49","v":0},{"$f":"Maskiner!Q49","v":0},{"$f":"Maskiner!R49","v":0},{"$f":"Maskiner!S49","v":0},{"$f":"Maskiner!T49","v":0},{"$f":"Maskiner!U49","v":0},{"$f":"Maskiner!V49","v":0},{"$f":"Maskiner!W49","v":0},{"$f":"Maskiner!X49","v":0},{"$f":"Maskiner!Y49","v":0},{"$f":"Maskiner!Z49","v":0},{"$f":"Maskiner!AA49","v":0},{"$f":"Maskiner!AB49","v":0},{"$f":"Maskiner!AC49","v":0}]
[false,null,null,null,null,24,null,null,null,23,null,{"$f":"Maskiner!L50","v":24},{"$f":"Maskiner!M50","v":0},null,null,{"$f":"Maskiner!N50","v":"Maskine"},{"$f":"Maskiner!O50","v":0},{"$f":"Maskiner!P50","v":0},{"$f":"Maskiner!Q50","v":0},{"$f":"Maskiner!R50","v":0},{"$f":"Maskiner!S50","v":0},{"$f":"Maskiner!T50","v":0},{"$f":"Maskiner!U50","v":0},{"$f":"Maskiner!V50","v":0},{"$f":"Maskiner!W50","v":0},{"$f":"Maskiner!X50","v":0},{"$f":"Maskiner!Y50","v":0},{"$f":"Maskiner!Z50","v":0},{"$f":"Maskiner!AA50","v":0},{"$f":"Maskiner!AB50","v":0},{"$f":"Maskiner!AC50","v":0}]
[false,null,null,null,null,25,null,null,null,24,null,{"$f":"Maskiner!L51","v":25},{"$f":"Maskiner!M51","v":0},null,null,{"$f":"Maskiner!N51","v":"Maskine"},{"$f":"Maskiner!O51","v":0},{"$f":"Maskiner!P51","v":0},{"$f":"Maskiner!Q51","v":0},{"$f":"Maskiner!R51","v":0},{"$f":"Maskiner!S51","v":0},{"$f":"Maskiner!T51","v":0},{"$f":"Maskiner!U51","v":0},{"$f":"Maskiner!V51","v":0},{"$f":"Maskiner!W51","v":0},{"$f":"Maskiner!X51","v":0},{"$f":"Maskiner!Y51","v":0},{"$f":"Maskiner!Z51","v":0},{"$f":"Maskiner!AA51","v":0},{"$f":"Maskiner!AB51","v":0},{"$f":"Maskiner!AC51","v":0}]
[false,null,null,null,null,26,null,null,null,25,null,{"$f":"Maskiner!L52","v":26},{"$f":"Maskiner!M52","v":0},null,null,{"$f":"Maskiner!N52","v":"Maskine"},{"$f":"Maskiner!O52","v":0},{"$f":"Maskiner!P52","v":0},{"$f":"Maskiner!Q52","v":0},{"$f":"Maskiner!R52","v":0},{"$f":"Maskiner!S52","v":0},{"$f":"Maskiner!T52","v":0},{"$f":"Maskiner!U52","v":0},{"$f":"Maskiner!V52","v":0},{"$f":"Maskiner!W52","v":0},{"$f":"Maskiner!X52","v":0},{"$f":"Maskiner!Y52","v":0},{"$f":"Maskiner!Z52","v":0},{"$f":"Maskiner!AA52","v":0},{"$f":"Maskiner!AB52","v":0},{"$f":"Maskiner!AC52","v":0}]
[false,null,null,null,null,27,null,null,null,26,null,{"$f":"Maskiner!L53","v":27},{"$f":"Maskiner!M53","v":0},null,null,{"$f":"Maskiner!N53","v":"Maskine"},{"$f":"Maskiner!O53","v":0},{"$f":"Maskiner!P53","v":0},{"$f":"Maskiner!Q53","v":0},{"$f":"Maskiner!R53","v":0},{"$f":"Maskiner!S53","v":0},{"$f":"Maskiner!T53","v":0},{"$f":"Maskiner!U53","v":0},{"$f":"Maskiner!V53","v":0},{"$f":"Maskiner!W53","v":0},{"$f":"Maskiner!X53","v":0},{"$f":"Maskiner!Y53","v":0},{"$f":"Maskiner!Z53","v":0},{"$f":"Maskiner!AA53","v":0},{"$f":"Maskiner!AB53","v":0},{"$f":"Maskiner!AC53","v":0}]
[false,null,null,null,null,28,null,null,null,27,null,{"$f":"Maskiner!L54","v":28},{"$f":"Maskiner!M54","v":0},null,null,{"$f":"Maskiner!N54","v":"Maskine"},{"$f":"Maskiner!O54","v":0},{"$f":"Maskiner!P54","v":0},{"$f":"Maskiner!Q54","v":0},{"$f":"Maskiner!R54","v":0},{"$f":"Maskiner!S54","v":0},{"$f":"Maskiner!T54","v":0},{"$f":"Maskiner!U54","v":0},{"$f":"Maskiner!V54","v":0},{"$f":"Maskiner!W54","v":0},{"$f":"Maskiner!X54","v":0},{"$f":"Maskiner!Y54","v":0},{"$f":"Maskiner!Z54","v":0},{"$f":"Maskiner!AA54","v":0},{"$f":"Maskiner!AB54","v":0},{"$f":"Maskiner!AC54","v":0}]
[false,null,null,null,null,29,null,null,null,28,null,{"$f":"Maskiner!L55","v":29},{"$f":"Maskiner!M55","v":0},null,null,{"$f":"Maskiner!N55","v":"Maskine"},{"$f":"Maskiner!O55","v":0},{"$f":"Maskiner!P55","v":0},{"$f":"Maskiner!Q55","v":0},{"$f":"Maskiner!R55","v":0},{"$f":"Maskiner!S55","v":0},{"$f":"Maskiner!T55","v":0},{"$f":"Maskiner!U55","v":0},{"$f":"Maskiner!V55","v":0},{"$f":"Maskiner!W55","v":0},{"$f":"Maskiner!X55","v":0},{"$f":"Maskiner!Y55","v":0},{"$f":"Maskiner!Z55","v":0},{"$f":"Maskiner!AA55","v":0},{"$f":"Maskiner!AB55","v":0},{"$f":"Maskiner!AC55","v":0}]
[false,null,null,null,null,30,null,null,null,29,null,{"$f":"Maskiner!L56","v":30},{"$f":"Maskiner!M56","v":0},null,null,{"$f":"Maskiner!N56","v":"Maskine"},{"$f":"Maskiner!O56","v":0},{"$f":"Maskiner!P56","v":0},{"$f":"Maskiner!Q56","v":0},{"$f":"Maskiner!R56","v":0},{"$f":"Maskiner!S56","v":0},{"$f":"Maskiner!T56","v":0},{"$f":"Maskiner!U56","v":0},{"$f":"Maskiner!V56","v":0},{"$f":"Maskiner!W56","v":0},{"$f":"Maskiner!X56","v":0},{"$f":"Maskiner!Y56","v":0},{"$f":"Maskiner!Z56","v":0},{"$f":"Maskiner!AA56","v":0},{"$f":"Maskiner!AB56","v":0},{"$f":"Maskiner!AC56","v":0}]
[false,null,null,null,null,31,null,null,null,30,null,{"$f":"Maskiner!L57","v":31},{"$f":"Maskiner!M57","v":0},null,null,{"$f":"Maskiner!N57","v":"Maskine"},{"$f":"Maskiner!O57","v":0},{"$f":"Maskiner!P57","v":0},{"$f":"Maskiner!Q57","v":0},{"$f":"Maskiner!R57","v":0},{"$f":"Maskiner!S57","v":0},{"$f":"Maskiner!T57","v":0},{"$f":"Maskiner!U57","v":0},{"$f":"Maskiner!V57","v":0},{"$f":"Maskiner!W57","v":0},{"$f":"Maskiner!X57","v":0},{"$f":"Maskiner!Y57","v":0},{"$f":"Maskiner!Z57","v":0},{"$f":"Maskiner!AA57","v":0},{"$f":"Maskiner!AB57","v":0},{"$f":"Maskiner!AC57","v":0}]
[false,null,null,null,null,32,null,null,null,31,null,{"$f":"Maskiner!L58","v":32},{"$f":"Maskiner!M58","v":0},null,null,{"$f":"Maskiner!N58","v":"Maskine"},{"$f":"Maskiner!O58","v":0},{"$f":"Maskiner!P58","v":0},{"$f":"Maskiner!Q58","v":0},{"$f":"Maskiner!R58","v":0},{"$f":"Maskiner!S58","v":0},{"$f":"Maskiner!T58","v":0},{"$f":"Maskiner!U58","v":0},{"$f":"Maskiner!V58","v":0},{"$f":"Maskiner!W58","v":0},{"$f":"Maskiner!X58","v":0},{"$f":"Maskiner!Y58","v":0},{"$f":"Maskiner!Z58","v":0},{"$f":"Maskiner!AA58","v":0},{"$f":"Maskiner!AB58","v":0},{"$f":"Maskiner!AC58","v":0}]
[false,null,null,null,null,33,null,null,null,32,null,{"$f":"Maskiner!L59","v":33},{"$f":"Maskiner!M59","v":0},null,null,{"$f":"Maskiner!N59","v":"Maskine"},{"$f":"Maskiner!O59","v":0},{"$f":"Maskiner!P59","v":0},{"$f":"Maskiner!Q59","v":0},{"$f":"Maskiner!R59","v":0},{"$f":"Maskiner!S59","v":0},{"$f":"Maskiner!T59","v":0},{"$f":"Maskiner!U59","v":0},{"$f":"Maskiner!V59","v":0},{"$f":"Maskiner!W59","v":0},{"$f":"Maskiner!X59","v":0},{"$f":"Maskiner!Y59","v":0},{"$f":"Maskiner!Z59","v":0},{"$f":"Maskiner!AA59","v":0},{"$f":"Maskiner!AB59","v":0},{"$f":"Maskiner!AC59","v":0}]
[false,null,null,null,null,34,null,null,null,33,null,{"$f":"Maskiner!L60","v":34},{"$f":"Maskiner!M60","v":0},null,null,{"$f":"Maskiner!N60","v":"Maskine"},{"$f":"Maskiner!O60","v":0},{"$f":"Maskiner!P60","v":0},{"$f":"Maskiner!Q60","v":0},{"$f":"Maskiner!R60","v":0},{"$f":"Maskiner!S60","v":0},{"$f":"Maskiner!T60","v":0},{"$f":"Maskiner!U60","v":0},{"$f":"Maskiner!V60","v":0},{"$f":"Maskiner!W60","v":0},{"$f":"Maskiner!X60","v":0},{"$f":"Maskiner!Y60","v":0},{"$f":"Maskiner!Z60","v":0},{"$f":"Maskiner!AA60","v":0},{"$f":"Maskiner!AB60","v":0},{"$f":"Maskiner!AC60","v":0}]
[false,null,null,null,null,35,null,null,null,34,null,{"$f":"Maskiner!L61","v":35},{"$f":"Maskiner!M61","v":0},null,null,{"$f":"Maskiner!N61","v":"Maskine"},{"$f":"Maskiner!O61","v":0},{"$f":"Maskiner!P61","v":0},{"$f":"Maskiner!Q61","v":0},{"$f":"Maskiner!R61","v":0},{"$f":"Maskiner!S61","v":0},{"$f":"Maskiner!T61","v":0},{"$f":"Maskiner!U61","v":0},{"$f":"Maskiner!V61","v":0},{"$f":"Maskiner!W61","v":0},{"$f":"Maskiner!X61","v":0},{"$f":"Maskiner!Y61","v":0},{"$f":"Maskiner!Z61","v":0},{"$f":"Maskiner!AA61","v":0},{"$f":"Maskiner!AB61","v":0},{"$f":"Maskiner!AC61","v":0}]
[false,null,null,null,null,36,null,null,null,35,null,{"$f":"Maskiner!L62","v":36},{"$f":"Maskiner!M62","v":0},null,null,{"$f":"Maskiner!N62","v":"Maskine"},{"$f":"Maskiner!O62","v":0},{"$f":"Maskiner!P62","v":0},{"$f":"Maskiner!Q62","v":0},{"$f":"Maskiner!R62","v":0},{"$f":"Maskiner!S62","v":0},{"$f":"Maskiner!T62","v":0},{"$f":"Maskiner!U62","v":0},{"$f":"Maskiner!V62","v":0},{"$f":"Maskiner!W62","v":0},{"$f":"Maskiner!X62","v":0},{"$f":"Maskiner!Y62","v":0},{"$f":"Maskiner!Z62","v":0},{"$f":"Maskiner!AA62","v":0},{"$f":"Maskiner!AB62","v":0},{"$f":"Maskiner!AC62","v":0}]
[false,null,null,null,null,37,null,null,null,36,null,{"$f":"Maskiner!L63","v":37},{"$f":"Maskiner!M63","v":0},null,null,{"$f":"Maskiner!N63","v":"Maskine"},{"$f":"Maskiner!O63","v":0},{"$f":"Maskiner!P63","v":0},{"$f":"Maskiner!Q63","v":0},{"$f":"Maskiner!R63","v":0},{"$f":"Maskiner!S63","v":0},{"$f":"Maskiner!T63","v":0},{"$f":"Maskiner!U63","v":0},{"$f":"Maskiner!V63","v":0},{"$f":"Maskiner!W63","v":0},{"$f":"Maskiner!X63","v":0},{"$f":"Maskiner!Y63","v":0},{"$f":"Maskiner!Z63","v":0},{"$f":"Maskiner!AA63","v":0},{"$f":"Maskiner!AB63","v":0},{"$f":"Maskiner!AC63","v":0}]
[false,null,null,null,null,38,null,null,null,37,null,{"$f":"Maskiner!L64","v":38},{"$f":"Maskiner!M64","v":0},null,null,{"$f":"Maskiner!N64","v":"Maskine"},{"$f":"Maskiner!O64","v":0},{"$f":"Maskiner!P64","v":0},{"$f":"Maskiner!Q64","v":0},{"$f":"Maskiner!R64","v":0},{"$f":"Maskiner!S64","v":0},{"$f":"Maskiner!T64","v":0},{"$f":"Maskiner!U64","v":0},{"$f":"Maskiner!V64","v":0},{"$f":"Maskiner!W64","v":0},{"$f":"Maskiner!X64","v":0},{"$f":"Maskiner!Y64","v":0},{"$f":"Maskiner!Z64","v":0},{"$f":"Maskiner!AA64","v":0},{"$f":"Maskiner!AB64","v":0},{"$f":"Maskiner!AC64","v":0}]
[false,null,null,null,null,39,null,null,null,38,null,{"$f":"Maskiner!L65","v":39},{"$f":"Maskiner!M65","v":0},null,null,{"$f":"Maskiner!N65","v":"Maskine"},{"$f":"Maskiner!O65","v":0},{"$f":"Maskiner!P65","v":0},{"$f":"Maskiner!Q65","v":0},{"$f":"Maskiner!R65","v":0},{"$f":"Maskiner!S65","v":0},{"$f":"Maskiner!T65","v":0},{"$f":"Maskiner!U65","v":0},{"$f":"Maskiner!V65","v":0},{"$f":"Maskiner!W65","v":0},{"$f":"Maskiner!X65","v":0},{"$f":"Maskiner!Y65","v":0},{"$f":"Maskiner!Z65","v":0},{"$f":"Maskiner!AA65","v":0},{"$f":"Maskiner!AB65","v":0},{"$f":"Maskiner!AC65","v":0}]
[false,null,null,null,null,40,null,null,null,39,null,{"$f":"Maskiner!L66","v":40},{"$f":"Maskiner!M66","v":0},null,null,{"$f":"Maskiner!N66","v":"Maskine"},{"$f":"Maskiner!O66","v":0},{"$f":"Maskiner!P66","v":0},{"$f":"Maskiner!Q66","v":0},{"$f":"Maskiner!R66","v":0},{"$f":"Maskiner!S66","v":0},{"$f":"Maskiner!T66","v":0},{"$f":"Maskiner!U66","v":0},{"$f":"Maskiner!V66","v":0},{"$f":"Maskiner!W66","v":0},{"$f":"Maskiner!X66","v":0},{"$f":"Maskiner!Y66","v":0},{"$f":"Maskiner!Z66","v":0},{"$f":"Maskiner!AA66","v":0},{"$f":"Maskiner!AB66","v":0},{"$f":"Maskiner!AC66","v":0}]
[false,null,null,null,null,41,null,null,null,40,null,{"$f":"Maskiner!L67","v":41},{"$f":"Maskiner!M67","v":0},null,null,{"$f":"Maskiner!N67","v":"Maskine"},{"$f":"Maskiner!O67","v":0},{"$f":"Maskiner!P67","v":0},{"$f":"Maskiner!Q67","v":0},{"$f":"Maskiner!R67","v":0},{"$f":"Maskiner!S67","v":0},{"$f":"Maskiner!T67","v":0},{"$f":"Maskiner!U67","v":0},{"$f":"Maskiner!V67","v":0},{"$f":"Maskiner!W67","v":0},{"$f":"Maskiner!X67","v":0},{"$f":"Maskiner!Y67","v":0},{"$f":"Maskiner!Z67","v":0},{"$f":"Maskiner!AA67","v":0},{"$f":"Maskiner!AB67","v":0},{"$f":"Maskiner!AC67","v":0}]
[false,null,null,null,null,42,null,null,null,41,null,{"$f":"Maskiner!L68","v":42},{"$f":"Maskiner!M68","v":0},null,null,{"$f":"Maskiner!N68","v":"Maskine"},{"$f":"Maskiner!O68","v":0},{"$f":"Maskiner!P68","v":0},{"$f":"Maskiner!Q68","v":0},{"$f":"Maskiner!R68","v":0},{"$f":"Maskiner!S68","v":0},{"$f":"Maskiner!T68","v":0},{"$f":"Maskiner!U68","v":0},{"$f":"Maskiner!V68","v":0},{"$f":"Maskiner!W68","v":0},{"$f":"Maskiner!X68","v":0},{"$f":"Maskiner!Y68","v":0},{"$f":"Maskiner!Z68","v":0},{"$f":"Maskiner!AA68","v":0},{"$f":"Maskiner!AB68","v":0},{"$f":"Maskiner!AC68","v":0}]
[false,null,null,null,null,43,null,null,null,42,null,{"$f":"Maskiner!L69","v":43},{"$f":"Maskiner!M69","v":0},null,null,{"$f":"Maskiner!N69","v":"Maskine"},{"$f":"Maskiner!O69","v":0},{"$f":"Maskiner!P69","v":0},{"$f":"Maskiner!Q69","v":0},{"$f":"Maskiner!R69","v":0},{"$f":"Maskiner!S69","v":0},{"$f":"Maskiner!T69","v":0},{"$f":"Maskiner!U69","v":0},{"$f":"Maskiner!V69","v":0},{"$f":"Maskiner!W69","v":0},{"$f":"Maskiner!X69","v":0},{"$f":"Maskiner!Y69","v":0},{"$f":"Maskiner!Z69","v":0},{"$f":"Maskiner!AA69","v":0},{"$f":"Maskiner!AB69","v":0},{"$f":"Maskiner!AC69","v":0}]
[false,null,null,null,null,44,null,null,null,43,null,{"$f":"Maskiner!L70","v":44},{"$f":"Maskiner!M70","v":0},null,null,{"$f":"Maskiner!N70","v":"Maskine"},{"$f":"Maskiner!O70","v":0},{"$f":"Maskiner!P70","v":0},{"$f":"Maskiner!Q70","v":0},{"$f":"Maskiner!R70","v":0},{"$f":"Maskiner!S70","v":0},{"$f":"Maskiner!T70","v":0},{"$f":"Maskiner!U70","v":0},{"$f":"Maskiner!V70","v":0},{"$f":"Maskiner!W70","v":0},{"$f":"Maskiner!X70","v":0},{"$f":"Maskiner!Y70","v":0},{"$f":"Maskiner!Z70","v":0},{"$f":"Maskiner!AA70","v":0},{"$f":"Maskiner!AB70","v":0},{"$f":"Maskiner!AC70","v":0}]
[false,null,null,null,null,45,null,null,null,44,null,{"$f":"Maskiner!L71","v":45},{"$f":"Maskiner!M71","v":0},null,null,{"$f":"Maskiner!N71","v":"Maskine"},{"$f":"Maskiner!O71","v":0},{"$f":"Maskiner!P71","v":0},{"$f":"Maskiner!Q71","v":0},{"$f":"Maskiner!R71","v":0},{"$f":"Maskiner!S71","v":0},{"$f":"Maskiner!T71","v":0},{"$f":"Maskiner!U71","v":0},{"$f":"Maskiner!V71","v":0},{"$f":"Maskiner!W71","v":0},{"$f":"Maskiner!X71","v":0},{"$f":"Maskiner!Y71","v":0},{"$f":"Maskiner!Z71","v":0},{"$f":"Maskiner!AA71","v":0},{"$f":"Maskiner!AB71","v":0},{"$f":"Maskiner!AC71","v":0}]
[false,null,null,null,null,46,null,null,null,45,null,{"$f":"Maskiner!L72","v":46},{"$f":"Maskiner!M72","v":0},null,null,{"$f":"Maskiner!N72","v":"Maskine"},{"$f":"Maskiner!O72","v":0},{"$f":"Maskiner!P72","v":0},{"$f":"Maskiner!Q72","v":0},{"$f":"Maskiner!R72","v":0},{"$f":"Maskiner!S72","v":0},{"$f":"Maskiner!T72","v":0},{"$f":"Maskiner!U72","v":0},{"$f":"Maskiner!V72","v":0},{"$f":"Maskiner!W72","v":0},{"$f":"Maskiner!X72","v":0},{"$f":"Maskiner!Y72","v":0},{"$f":"Maskiner!Z72","v":0},{"$f":"Maskiner!AA72","v":0},{"$f":"Maskiner!AB72","v":0},{"$f":"Maskiner!AC72","v":0}]
[false,null,null,null,null,47,null,null,null,46,null,{"$f":"Maskiner!L73","v":47},{"$f":"Maskiner!M73","v":0},null,null,{"$f":"Maskiner!N73","v":"Maskine"},{"$f":"Maskiner!O73","v":0},{"$f":"Maskiner!P73","v":0},{"$f":"Maskiner!Q73","v":0},{"$f":"Maskiner!R73","v":0},{"$f":"Maskiner!S73","v":0},{"$f":"Maskiner!T73","v":0},{"$f":"Maskiner!U73","v":0},{"$f":"Maskiner!V73","v":0},{"$f":"Maskiner!W73","v":0},{"$f":"Maskiner!X73","v":0},{"$f":"Maskiner!Y73","v":0},{"$f":"Maskiner!Z73","v":0},{"$f":"Maskiner!AA73","v":0},{"$f":"Maskiner!AB73","v":0},{"$f":"Maskiner!AC73","v":0}]
[false,null,null,null,null,48,null,null,null,47,null,{"$f":"Maskiner!L74","v":48},{"$f":"Maskiner!M74","v":0},null,null,{"$f":"Maskiner!N74","v":"Maskine"},{"$f":"Maskiner!O74","v":0},{"$f":"Maskiner!P74","v":0},{"$f":"Maskiner!Q74","v":0},{"$f":"Maskiner!R74","v":0},{"$f":"Maskiner!S74","v":0},{"$f":"Maskiner!T74","v":0},{"$f":"Maskiner!U74","v":0},{"$f":"Maskiner!V74","v":0},{"$f":"Maskiner!W74","v":0},{"$f":"Maskiner!X74","v":0},{"$f":"Maskiner!Y74","v":0},{"$f":"Maskiner!Z74","v":0},{"$f":"Maskiner!AA74","v":0},{"$f":"Maskiner!AB74","v":0},{"$f":"Maskiner!AC74","v":0}]
[false,null,null,null,null,49,null,null,null,48,null,{"$f":"Maskiner!L75","v":49},{"$f":"Maskiner!M75","v":0},null,null,{"$f":"Maskiner!N75","v":"Maskine"},{"$f":"Maskiner!O75","v":0},{"$f":"Maskiner!P75","v":0},{"$f":"Maskiner!Q75","v":0},{"$f":"Maskiner!R75","v":0},{"$f":"Maskiner!S75","v":0},{"$f":"Maskiner!T75","v":0},{"$f":"Maskiner!U75","v":0},{"$f":"Maskiner!V75","v":0},{"$f":"Maskiner!W75","v":0},{"$f":"Maskiner!X75","v":0},{"$f":"Maskiner!Y75","v":0},{"$f":"Maskiner!Z75","v":0},{"$f":"Maskiner!AA75","v":0},{"$f":"Maskiner!AB75","v":0},{"$f":"Maskiner!AC75","v":0}]
[false,null,null,null,null,50,null,null,null,49,null,{"$f":"Maskiner!L76","v":50},{"$f":"Maskiner!M76","v":0},null,null,{"$f":"Maskiner!N76","v":"Maskine"},{"$f":"Maskiner!O76","v":0},{"$f":"Maskiner!P76","v":0},{"$f":"Maskiner!Q76","v":0},{"$f":"Maskiner!R76","v":0},{"$f":"Maskiner!S76","v":0},{"$f":"Maskiner!T76","v":0},{"$f":"Maskiner!U76","v":0},{"$f":"Maskiner!V76","v":0},{"$f":"Maskiner!W76","v":0},{"$f":"Maskiner!X76","v":0},{"$f":"Maskiner!Y76","v":0},{"$f":"Maskiner!Z76","v":0},{"$f":"Maskiner!AA76","v":0},{"$f":"Maskiner!AB76","v":0},{"$f":"Maskiner!AC76","v":0}]
[true,null,null,null,null,null,null,null,null,null,null,{"$f":"Maskiner!L77","v":"I alt"},null,null,null,null,{"$f":"Maskiner!O77","v":0},{"$f":"Maskiner!P77","v":0},{"$f":"Maskiner!Q77","v":0},{"$f":"Maskiner!R77","v":0},{"$f":"Maskiner!S77","v":0},{"$f":"Maskiner!T77","v":0},{"$f":"Maskiner!U77","v":0},{"$f":"Maskiner!V77","v":0},{"$f":"Maskiner!W77","v":0},{"$f":"Maskiner!X77","v":0},{"$f":"Maskiner!Y77","v":0},{"$f":"Maskiner!Z77","v":0},{"$f":"Maskiner!AA77","v":0},{"$f":"Maskiner!AB77","v":0},{"$f":"Maskiner!AC77","v":0}]
[true]
[true,null,null,null,null,null,null,null,null,null,null,"Opgaver",null,null,null,null,"Ressourcer anvendt til opgaven",null,null,null,null,null,null,null,null,"Anvendelse og effektivitet",null,null,null,null,null,"Omkostninger"]
[true,null,null,null,null,"nr",null,null,"maskiner","id",null,"Nr.","Navn",null,null,"Type","Maskiner",null,null,null,null,null,null,null,"Medarb.","Antal enh.",null,"Timer i alt",null,"effektivitet",null,"Omk. /\ntime","Omk./\nenh.","Maskinst.\nTakst"]
[{"$f":"Maskiner!A86","v":true},null,null,null,null,{"$f":"L85:L134","v":1},null,null,{"$f":"IF(Maskiner!F86:F135<>\"\",Maskiner!F86:F135,\"\")","v":""},{"$f":"Maskiner!J86:J135","v":0},null,{"$f":"Maskiner!L86","v":1},{"$f":"Maskiner!M86","v":0},null,null,{"$f":"Maskiner!N86","v":"Intern"},{"$f":"Maskiner!Q86","v":""},null,null,null,null,null,null,null,{"$f":"Maskiner!Z86","v":0},{"$f":"Maskiner!V86","v":0},{"$f":"Maskiner!O86","v":"ha."},{"$f":"Maskiner!Y86","v":0},"tim.",{"$f":"Maskiner!W86","v":1},{"$f":"Maskiner!X86","v":"ha./time"},{"$f":"Maskiner!AN86:AN136","v":0},{"$f":"Maskiner!AO86:AO136","v":0},{"$f":"Maskiner!AP86:AP136","v":0}]
[{"$f":"Maskiner!A87","v":false},null,null,null,null,2,null,null,"",1,null,{"$f":"Maskiner!L87","v":2},{"$f":"Maskiner!M87","v":0},null,null,{"$f":"Maskiner!N87","v":"Intern"},{"$f":"Maskiner!Q87","v":""},null,null,null,null,null,null,null,{"$f":"Maskiner!Z87","v":0},{"$f":"Maskiner!V87","v":0},{"$f":"Maskiner!O87","v":"ha."},{"$f":"Maskiner!Y87","v":0},"tim.",{"$f":"Maskiner!W87","v":1},{"$f":"Maskiner!X87","v":"ha./time"},0,0,0]
[{"$f":"Maskiner!A88","v":false},null,null,null,null,3,null,null,"",2,null,{"$f":"Maskiner!L88","v":3},{"$f":"Maskiner!M88","v":0},null,null,{"$f":"Maskiner!N88","v":"Intern"},{"$f":"Maskiner!Q88","v":""},null,null,null,null,null,null,null,{"$f":"Maskiner!Z88","v":0},{"$f":"Maskiner!V88","v":0},{"$f":"Maskiner!O88","v":"ha."},{"$f":"Maskiner!Y88","v":0},"tim.",{"$f":"Maskiner!W88","v":1},{"$f":"Maskiner!X88","v":"ha./time"},0,0,0]
[{"$f":"Maskiner!A89","v":false},null,null,null,null,4,null,null,"",11,null,{"$f":"Maskiner!L89","v":4},{"$f":"Maskiner!M89","v":0},null,null,{"$f":"Maskiner!N89","v":"Intern"},{"$f":"Maskiner!Q89","v":""},null,null,null,null,null,null,null,{"$f":"Maskiner!Z89","v":0},{"$f":"Maskiner!V89","v":0},{"$f":"Maskiner!O89","v":"ha."},{"$f":"Maskiner!Y89","v":0},"tim.",{"$f":"Maskiner!W89","v":1},{"$f":"Maskiner!X89","v":"ha./time"},0,0,0]
[{"$f":"Maskiner!A90","v":false},null,null,null,null,5,null,null,"",3,null,{"$f":"Maskiner!L90","v":5},{"$f":"Maskiner!M90","v":0},null,null,{"$f":"Maskiner!N90","v":"Intern"},{"$f":"Maskiner!Q90","v":""},null,null,null,null,null,null,null,{"$f":"Maskiner!Z90","v":0},{"$f":"Maskiner!V90","v":0},{"$f":"Maskiner!O90","v":"ha."},{"$f":"Maskiner!Y90","v":0},"tim.",{"$f":"Maskiner!W90","v":1},{"$f":"Maskiner!X90","v":"ha./time"},0,0,0]
[{"$f":"Maskiner!A91","v":false},null,null,null,null,6,null,null,"",4,null,{"$f":"Maskiner!L91","v":6},{"$f":"Maskiner!M91","v":0},null,null,{"$f":"Maskiner!N91","v":"Intern"},{"$f":"Maskiner!Q91","v":""},null,null,null,null,null,null,null,{"$f":"Maskiner!Z91","v":0},{"$f":"Maskiner!V91","v":0},{"$f":"Maskiner!O91","v":"ha."},{"$f":"Maskiner!Y91","v":0},"tim.",{"$f":"Maskiner!W91","v":1},{"$f":"Maskiner!X91","v":"ha./time"},0,0,0]
[{"$f":"Maskiner!A92","v":false},null,null,null,null,7,null,null,"",7,null,{"$f":"Maskiner!L92","v":7},{"$f":"Maskiner!M92","v":0},null,null,{"$f":"Maskiner!N92","v":"Intern"},{"$f":"Maskiner!Q92","v":""},null,null,null,null,null,null,null,{"$f":"Maskiner!Z92","v":0},{"$f":"Maskiner!V92","v":0},{"$f":"Maskiner!O92","v":"ha."},{"$f":"Maskiner!Y92","v":0},"tim.",{"$f":"Maskiner!W92","v":1},{"$f":"Maskiner!X92","v":"ha./time"},0,0,0]
[{"$f":"Maskiner!A93","v":false},null,null,null,null,8,null,null,"",10,null,{"$f":"Maskiner!L93","v":8},{"$f":"Maskiner!M93","v":0},null,null,{"$f":"Maskiner!N93","v":"Intern"},{"$f":"Maskiner!Q93","v":""},null,null,null,null,null,null,null,{"$f":"Maskiner!Z93","v":0},{"$f":"Maskiner!V93","v":0},{"$f":"Maskiner!O93","v":"ha."},{"$f":"Maskiner!Y93","v":0},"tim.",{"$f":"Maskiner!W93","v":1},{"$f":"Maskiner!X93","v":"ha./time"},0,0,0]
[{"$f":"Maskiner!A94","v":false},null,null,null,null,9,null,null,"",8,null,{"$f":"Maskiner!L94","v":9},{"$f":"Maskiner!M94","v":0},null,null,{"$f":"Maskiner!N94","v":"Intern"},{"$f":"Maskiner!Q94","v":""},null,null,null,null,null,null,null,{"$f":"Maskiner!Z94","v":0},{"$f":"Maskiner!V94","v":0},{"$f":"Maskiner!O94","v":"ha."},{"$f":"Maskiner!Y94","v":0},"tim.",{"$f":"Maskiner!W94","v":1},{"$f":"Maskiner!X94","v":"ha./time"},0,0,0]
[{"$f":"Maskiner!A95","v":false},null,null,null,null,10,null,null,"",9,null,{"$f":"Maskiner!L95","v":10},{"$f":"Maskiner!M95","v":0},null,null,{"$f":"Maskiner!N95","v":"Intern"},{"$f":"Maskiner!Q95","v":""},null,null,null,null,null,null,null,{"$f":"Maskiner!Z95","v":0},{"$f":"Maskiner!V95","v":0},{"$f":"Maskiner!O95","v":"ha."},{"$f":"Maskiner!Y95","v":0},"tim.",{"$f":"Maskiner!W95","v":1},{"$f":"Maskiner!X95","v":"ha./time"},0,0,0]
[{"$f":"Maskiner!A96","v":false},null,null,null,null,11,null,null,"",5,null,{"$f":"Maskiner!L96","v":11},{"$f":"Maskiner!M96","v":0},null,null,{"$f":"Maskiner!N96","v":"Intern"},{"$f":"Maskiner!Q96","v":""},null,null,null,null,null,null,null,{"$f":"Maskiner!Z96","v":0},{"$f":"Maskiner!V96","v":0},{"$f":"Maskiner!O96","v":"ha."},{"$f":"Maskiner!Y96","v":0},"tim.",{"$f":"Maskiner!W96","v":1},{"$f":"Maskiner!X96","v":"ha./time"},0,0,0]
[{"$f":"Maskiner!A97","v":false},null,null,null,null,12,null,null,"",6,null,{"$f":"Maskiner!L97","v":12},{"$f":"Maskiner!M97","v":0},null,null,{"$f":"Maskiner!N97","v":"Intern"},{"$f":"Maskiner!Q97","v":""},null,null,null,null,null,null,null,{"$f":"Maskiner!Z97","v":0},{"$f":"Maskiner!V97","v":0},{"$f":"Maskiner!O97","v":"ha."},{"$f":"Maskiner!Y97","v":0},"tim.",{"$f":"Maskiner!W97","v":1},{"$f":"Maskiner!X97","v":"ha./time"},0,0,0]
[{"$f":"Maskiner!A98","v":false},null,null,null,null,13,null,null,"",12,null,{"$f":"Maskiner!L98","v":13},{"$f":"Maskiner!M98","v":0},null,null,{"$f":"Maskiner!N98","v":"Intern"},{"$f":"Maskiner!Q98","v":""},null,null,null,null,null,null,null,{"$f":"Maskiner!Z98","v":0},{"$f":"Maskiner!V98","v":0},{"$f":"Maskiner!O98","v":"ha."},{"$f":"Maskiner!Y98","v":0},"tim.",{"$f":"Maskiner!W98","v":1},{"$f":"Maskiner!X98","v":"ha./time"},0,0,0]
[{"$f":"Maskiner!A99","v":false},null,null,null,null,14,null,null,"",13,null,{"$f":"Maskiner!L99","v":14},{"$f":"Maskiner!M99","v":0},null,null,{"$f":"Maskiner!N99","v":"Intern"},{"$f":"Maskiner!Q99","v":""},null,null,null,null,null,null,null,{"$f":"Maskiner!Z99","v":0},{"$f":"Maskiner!V99","v":0},{"$f":"Maskiner!O99","v":"ha."},{"$f":"Maskiner!Y99","v":0},"tim.",{"$f":"Maskiner!W99","v":1},{"$f":"Maskiner!X99","v":"ha./time"},0,0,0]
[{"$f":"Maskiner!A100","v":false},null,null,null,null,15,null,null,"",14,null,{"$f":"Maskiner!L100","v":15},{"$f":"Maskiner!M100","v":0},null,null,{"$f":"Maskiner!N100","v":"Intern"},{"$f":"Maskiner!Q100","v":""},null,null,null,null,null,null,null,{"$f":"Maskiner!Z100","v":0},{"$f":"Maskiner!V100","v":0},{"$f":"Maskiner!O100","v":"ha."},{"$f":"Maskiner!Y100","v":0},"tim.",{"$f":"Maskiner!W100","v":1},{"$f":"Maskiner!X100","v":"ha./time"},0,0,0]
[{"$f":"Maskiner!A101","v":false},null,null,null,null,16,null,null,"",15,null,{"$f":"Maskiner!L101","v":16},{"$f":"Maskiner!M101","v":0},null,null,{"$f":"Maskiner!N101","v":"Intern"},{"$f":"Maskiner!Q101","v":""},null,null,null,null,null,null,null,{"$f":"Maskiner!Z101","v":0},{"$f":"Maskiner!V101","v":0},{"$f":"Maskiner!O101","v":"ha."},{"$f":"Maskiner!Y101","v":0},"tim.",{"$f":"Maskiner!W101","v":1},{"$f":"Maskiner!X101","v":"ha./time"},0,0,0]
[{"$f":"Maskiner!A102","v":false},null,null,null,null,17,null,null,"",16,null,{"$f":"Maskiner!L102","v":17},{"$f":"Maskiner!M102","v":0},null,null,{"$f":"Maskiner!N102","v":"Intern"},{"$f":"Maskiner!Q102","v":""},null,null,null,null,null,null,null,{"$f":"Maskiner!Z102","v":0},{"$f":"Maskiner!V102","v":0},{"$f":"Maskiner!O102","v":"ha."},{"$f":"Maskiner!Y102","v":0},"tim.",{"$f":"Maskiner!W102","v":1},{"$f":"Maskiner!X102","v":"ha./time"},0,0,0]
[{"$f":"Maskiner!A103","v":false},null,null,null,null,18,null,null,"",17,null,{"$f":"Maskiner!L103","v":18},{"$f":"Maskiner!M103","v":0},null,null,{"$f":"Maskiner!N103","v":"Intern"},{"$f":"Maskiner!Q103","v":""},null,null,null,null,null,null,null,{"$f":"Maskiner!Z103","v":0},{"$f":"Maskiner!V103","v":0},{"$f":"Maskiner!O103","v":"ha."},{"$f":"Maskiner!Y103","v":0},"tim.",{"$f":"Maskiner!W103","v":1},{"$f":"Maskiner!X103","v":"ha./time"},0,0,0]
[{"$f":"Maskiner!A104","v":false},null,null,null,null,19,null,null,"",18,null,{"$f":"Maskiner!L104","v":19},{"$f":"Maskiner!M104","v":0},null,null,{"$f":"Maskiner!N104","v":"Intern"},{"$f":"Maskiner!Q104","v":""},null,null,null,null,null,null,null,{"$f":"Maskiner!Z104","v":0},{"$f":"Maskiner!V104","v":0},{"$f":"Maskiner!O104","v":"ha."},{"$f":"Maskiner!Y104","v":0},"tim.",{"$f":"Maskiner!W104","v":1},{"$f":"Maskiner!X104","v":"ha./time"},0,0,0]
[{"$f":"Maskiner!A105","v":false},null,null,null,null,20,null,null,"",19,null,{"$f":"Maskiner!L105","v":20},{"$f":"Maskiner!M105","v":0},null,null,{"$f":"Maskiner!N105","v":"Intern"},{"$f":"Maskiner!Q105","v":""},null,null,null,null,null,null,null,{"$f":"Maskiner!Z105","v":0},{"$f":"Maskiner!V105","v":0},{"$f":"Maskiner!O105","v":"ha."},{"$f":"Maskiner!Y105","v":0},"tim.",{"$f":"Maskiner!W105","v":1},{"$f":"Maskiner!X105","v":"ha./time"},0,0,0]
[{"$f":"Maskiner!A106","v":false},null,null,null,null,21,null,null,"",20,null,{"$f":"Maskiner!L106","v":21},{"$f":"Maskiner!M106","v":0},null,null,{"$f":"Maskiner!N106","v":"Intern"},{"$f":"Maskiner!Q106","v":""},null,null,null,null,null,null,null,{"$f":"Maskiner!Z106","v":0},{"$f":"Maskiner!V106","v":0},{"$f":"Maskiner!O106","v":"ha."},{"$f":"Maskiner!Y106","v":0},"tim.",{"$f":"Maskiner!W106","v":1},{"$f":"Maskiner!X106","v":"ha./time"},0,0,0]
[{"$f":"Maskiner!A107","v":false},null,null,null,null,22,null,null,"",21,null,{"$f":"Maskiner!L107","v":22},{"$f":"Maskiner!M107","v":0},null,null,{"$f":"Maskiner!N107","v":"Intern"},{"$f":"Maskiner!Q107","v":""},null,null,null,null,null,null,null,{"$f":"Maskiner!Z107","v":0},{"$f":"Maskiner!V107","v":0},{"$f":"Maskiner!O107","v":"ha."},{"$f":"Maskiner!Y107","v":0},"tim.",{"$f":"Maskiner!W107","v":1},{"$f":"Maskiner!X107","v":"ha./time"},0,0,0]
[{"$f":"Maskiner!A108","v":false},null,null,null,null,23,null,null,"",22,null,{"$f":"Maskiner!L108","v":23},{"$f":"Maskiner!M108","v":0},null,null,{"$f":"Maskiner!N108","v":"Intern"},{"$f":"Maskiner!Q108","v":""},null,null,null,null,null,null,null,{"$f":"Maskiner!Z108","v":0},{"$f":"Maskiner!V108","v":0},{"$f":"Maskiner!O108","v":"ha."},{"$f":"Maskiner!Y108","v":0},"tim.",{"$f":"Maskiner!W108","v":1},{"$f":"Maskiner!X108","v":"ha./time"},0,0,0]
[{"$f":"Maskiner!A109","v":false},null,null,null,null,24,null,null,"",23,null,{"$f":"Maskiner!L109","v":24},{"$f":"Maskiner!M109","v":0},null,null,{"$f":"Maskiner!N109","v":"Intern"},{"$f":"Maskiner!Q109","v":""},null,null,null,null,null,null,null,{"$f":"Maskiner!Z109","v":0},{"$f":"Maskiner!V109","v":0},{"$f":"Maskiner!O109","v":"ha."},{"$f":"Maskiner!Y109","v":0},"tim.",{"$f":"Maskiner!W109","v":1},{"$f":"Maskiner!X109","v":"ha./time"},0,0,0]
[{"$f":"Maskiner!A110","v":false},null,null,null,null,25,null,null,"",24,null,{"$f":"Maskiner!L110","v":25},{"$f":"Maskiner!M110","v":0},null,null,{"$f":"Maskiner!N110","v":"Intern"},{"$f":"Maskiner!Q110","v":""},null,null,null,null,null,null,null,{"$f":"Maskiner!Z110","v":0},{"$f":"Maskiner!V110","v":0},{"$f":"Maskiner!O110","v":"ha."},{"$f":"Maskiner!Y110","v":0},"tim.",{"$f":"Maskiner!W110","v":1},{"$f":"Maskiner!X110","v":"ha./time"},0,0,0]
[{"$f":"Maskiner!A111","v":false},null,null,null,null,26,null,null,"",25,null,{"$f":"Maskiner!L111","v":26},{"$f":"Maskiner!M111","v":0},null,null,{"$f":"Maskiner!N111","v":"Intern"},{"$f":"Maskiner!Q111","v":""},null,null,null,null,null,null,null,{"$f":"Maskiner!Z111","v":0},{"$f":"Maskiner!V111","v":0},{"$f":"Maskiner!O111","v":"ha."},{"$f":"Maskiner!Y111","v":0},"tim.",{"$f":"Maskiner!W111","v":1},{"$f":"Maskiner!X111","v":"ha./time"},0,0,0]
[{"$f":"Maskiner!A112","v":false},null,null,null,null,27,null,null,"",26,null,{"$f":"Maskiner!L112","v":27},{"$f":"Maskiner!M112","v":0},null,null,{"$f":"Maskiner!N112","v":"Intern"},{"$f":"Maskiner!Q112","v":""},null,null,null,null,null,null,null,{"$f":"Maskiner!Z112","v":0},{"$f":"Maskiner!V112","v":0},{"$f":"Maskiner!O112","v":"ha."},{"$f":"Maskiner!Y112","v":0},"tim.",{"$f":"Maskiner!W112","v":1},{"$f":"Maskiner!X112","v":"ha./time"},0,0,0]
[{"$f":"Maskiner!A113","v":false},null,null,null,null,28,null,null,"",27,null,{"$f":"Maskiner!L113","v":28},{"$f":"Maskiner!M113","v":0},null,null,{"$f":"Maskiner!N113","v":"Intern"},{"$f":"Maskiner!Q113","v":""},null,null,null,null,null,null,null,{"$f":"Maskiner!Z113","v":0},{"$f":"Maskiner!V113","v":0},{"$f":"Maskiner!O113","v":"ha."},{"$f":"Maskiner!Y113","v":0},"tim.",{"$f":"Maskiner!W113","v":1},{"$f":"Maskiner!X113","v":"ha./time"},0,0,0]
[{"$f":"Maskiner!A114","v":false},null,null,null,null,29,null,null,"",28,null,{"$f":"Maskiner!L114","v":29},{"$f":"Maskiner!M114","v":0},null,null,{"$f":"Maskiner!N114","v":"Intern"},{"$f":"Maskiner!Q114","v":""},null,null,null,null,null,null,null,{"$f":"Maskiner!Z114","v":0},{"$f":"Maskiner!V114","v":0},{"$f":"Maskiner!O114","v":"ha."},{"$f":"Maskiner!Y114","v":0},"tim.",{"$f":"Maskiner!W114","v":1},{"$f":"Maskiner!X114","v":"ha./time"},0,0,0]
[{"$f":"Maskiner!A115","v":false},null,null,null,null,30,null,null,"",29,null,{"$f":"Maskiner!L115","v":30},{"$f":"Maskiner!M115","v":0},null,null,{"$f":"Maskiner!N115","v":"Intern"},{"$f":"Maskiner!Q115","v":""},null,null,null,null,null,null,null,{"$f":"Maskiner!Z115","v":0},{"$f":"Maskiner!V115","v":0},{"$f":"Maskiner!O115","v":"ha."},{"$f":"Maskiner!Y115","v":0},"tim.",{"$f":"Maskiner!W115","v":1},{"$f":"Maskiner!X115","v":"ha./time"},0,0,0]
[{"$f":"Maskiner!A116","v":false},null,null,null,null,31,null,null,"",30,null,{"$f":"Maskiner!L116","v":31},{"$f":"Maskiner!M116","v":0},null,null,{"$f":"Maskiner!N116","v":"Intern"},{"$f":"Maskiner!Q116","v":""},null,null,null,null,null,null,null,{"$f":"Maskiner!Z116","v":0},{"$f":"Maskiner!V116","v":0},{"$f":"Maskiner!O116","v":"ha."},{"$f":"Maskiner!Y116","v":0},"tim.",{"$f":"Maskiner!W116","v":1},{"$f":"Maskiner!X116","v":"ha./time"},0,0,0]
[{"$f":"Maskiner!A117","v":false},null,null,null,null,32,null,null,"",31,null,{"$f":"Maskiner!L117","v":32},{"$f":"Maskiner!M117","v":0},null,null,{"$f":"Maskiner!N117","v":"Intern"},{"$f":"Maskiner!Q117","v":""},null,null,null,null,null,null,null,{"$f":"Maskiner!Z117","v":0},{"$f":"Maskiner!V117","v":0},{"$f":"Maskiner!O117","v":"ha."},{"$f":"Maskiner!Y117","v":0},"tim.",{"$f":"Maskiner!W117","v":1},{"$f":"Maskiner!X117","v":"ha./time"},0,0,0]
[{"$f":"Maskiner!A118","v":false},null,null,null,null,33,null,null,"",32,null,{"$f":"Maskiner!L118","v":33},{"$f":"Maskiner!M118","v":0},null,null,{"$f":"Maskiner!N118","v":"Intern"},{"$f":"Maskiner!Q118","v":""},null,null,null,null,null,null,null,{"$f":"Maskiner!Z118","v":0},{"$f":"Maskiner!V118","v":0},{"$f":"Maskiner!O118","v":"ha."},{"$f":"Maskiner!Y118","v":0},"tim.",{"$f":"Maskiner!W118","v":1},{"$f":"Maskiner!X118","v":"ha./time"},0,0,0]
[{"$f":"Maskiner!A119","v":false},null,null,null,null,34,null,null,"",33,null,{"$f":"Maskiner!L119","v":34},{"$f":"Maskiner!M119","v":0},null,null,{"$f":"Maskiner!N119","v":"Intern"},{"$f":"Maskiner!Q119","v":""},null,null,null,null,null,null,null,{"$f":"Maskiner!Z119","v":0},{"$f":"Maskiner!V119","v":0},{"$f":"Maskiner!O119","v":"ha."},{"$f":"Maskiner!Y119","v":0},"tim.",{"$f":"Maskiner!W119","v":1},{"$f":"Maskiner!X119","v":"ha./time"},0,0,0]
[{"$f":"Maskiner!A120","v":false},null,null,null,null,35,null,null,"",34,null,{"$f":"Maskiner!L120","v":35},{"$f":"Maskiner!M120","v":0},null,null,{"$f":"Maskiner!N120","v":"Intern"},{"$f":"Maskiner!Q120","v":""},null,null,null,null,null,null,null,{"$f":"Maskiner!Z120","v":0},{"$f":"Maskiner!V120","v":0},{"$f":"Maskiner!O120","v":"ha."},{"$f":"Maskiner!Y120","v":0},"tim.",{"$f":"Maskiner!W120","v":1},{"$f":"Maskiner!X120","v":"ha./time"},0,0,0]
[{"$f":"Maskiner!A121","v":false},null,null,null,null,36,null,null,"",35,null,{"$f":"Maskiner!L121","v":36},{"$f":"Maskiner!M121","v":0},null,null,{"$f":"Maskiner!N121","v":"Intern"},{"$f":"Maskiner!Q121","v":""},null,null,null,null,null,null,null,{"$f":"Maskiner!Z121","v":0},{"$f":"Maskiner!V121","v":0},{"$f":"Maskiner!O121","v":"ha."},{"$f":"Maskiner!Y121","v":0},"tim.",{"$f":"Maskiner!W121","v":1},{"$f":"Maskiner!X121","v":"ha./time"},0,0,0]
[{"$f":"Maskiner!A122","v":false},null,null,null,null,37,null,null,"",36,null,{"$f":"Maskiner!L122","v":37},{"$f":"Maskiner!M122","v":0},null,null,{"$f":"Maskiner!N122","v":"Intern"},{"$f":"Maskiner!Q122","v":""},null,null,null,null,null,null,null,{"$f":"Maskiner!Z122","v":0},{"$f":"Maskiner!V122","v":0},{"$f":"Maskiner!O122","v":"ha."},{"$f":"Maskiner!Y122","v":0},"tim.",{"$f":"Maskiner!W122","v":1},{"$f":"Maskiner!X122","v":"ha./time"},0,0,0]
[{"$f":"Maskiner!A123","v":false},null,null,null,null,38,null,null,"",37,null,{"$f":"Maskiner!L123","v":38},{"$f":"Maskiner!M123","v":0},null,null,{"$f":"Maskiner!N123","v":"Intern"},{"$f":"Maskiner!Q123","v":""},null,null,null,null,null,null,null,{"$f":"Maskiner!Z123","v":0},{"$f":"Maskiner!V123","v":0},{"$f":"Maskiner!O123","v":"ha."},{"$f":"Maskiner!Y123","v":0},"tim.",{"$f":"Maskiner!W123","v":1},{"$f":"Maskiner!X123","v":"ha./time"},0,0,0]
[{"$f":"Maskiner!A124","v":false},null,null,null,null,39,null,null,"",38,null,{"$f":"Maskiner!L124","v":39},{"$f":"Maskiner!M124","v":0},null,null,{"$f":"Maskiner!N124","v":"Intern"},{"$f":"Maskiner!Q124","v":""},null,null,null,null,null,null,null,{"$f":"Maskiner!Z124","v":0},{"$f":"Maskiner!V124","v":0},{"$f":"Maskiner!O124","v":"ha."},{"$f":"Maskiner!Y124","v":0},"tim.",{"$f":"Maskiner!W124","v":1},{"$f":"Maskiner!X124","v":"ha./time"},0,0,0]
[{"$f":"Maskiner!A125","v":false},null,null,null,null,40,null,null,"",39,null,{"$f":"Maskiner!L125","v":40},{"$f":"Maskiner!M125","v":0},null,null,{"$f":"Maskiner!N125","v":"Intern"},{"$f":"Maskiner!Q125","v":""},null,null,null,null,null,null,null,{"$f":"Maskiner!Z125","v":0},{"$f":"Maskiner!V125","v":0},{"$f":"Maskiner!O125","v":"ha."},{"$f":"Maskiner!Y125","v":0},"tim.",{"$f":"Maskiner!W125","v":1},{"$f":"Maskiner!X125","v":"ha./time"},0,0,0]
[{"$f":"Maskiner!A126","v":false},null,null,null,null,41,null,null,"",40,null,{"$f":"Maskiner!L126","v":41},{"$f":"Maskiner!M126","v":0},null,null,{"$f":"Maskiner!N126","v":"Intern"},{"$f":"Maskiner!Q126","v":""},null,null,null,null,null,null,null,{"$f":"Maskiner!Z126","v":0},{"$f":"Maskiner!V126","v":0},{"$f":"Maskiner!O126","v":"ha."},{"$f":"Maskiner!Y126","v":0},"tim.",{"$f":"Maskiner!W126","v":1},{"$f":"Maskiner!X126","v":"ha./time"},0,0,0]
[{"$f":"Maskiner!A127","v":false},null,null,null,null,42,null,null,"",41,null,{"$f":"Maskiner!L127","v":42},{"$f":"Maskiner!M127","v":0},null,null,{"$f":"Maskiner!N127","v":"Intern"},{"$f":"Maskiner!Q127","v":""},null,null,null,null,null,null,null,{"$f":"Maskiner!Z127","v":0},{"$f":"Maskiner!V127","v":0},{"$f":"Maskiner!O127","v":"ha."},{"$f":"Maskiner!Y127","v":0},"tim.",{"$f":"Maskiner!W127","v":1},{"$f":"Maskiner!X127","v":"ha./time"},0,0,0]
[{"$f":"Maskiner!A128","v":false},null,null,null,null,43,null,null,"",42,null,{"$f":"Maskiner!L128","v":43},{"$f":"Maskiner!M128","v":0},null,null,{"$f":"Maskiner!N128","v":"Intern"},{"$f":"Maskiner!Q128","v":""},null,null,null,null,null,null,null,{"$f":"Maskiner!Z128","v":0},{"$f":"Maskiner!V128","v":0},{"$f":"Maskiner!O128","v":"ha."},{"$f":"Maskiner!Y128","v":0},"tim.",{"$f":"Maskiner!W128","v":1},{"$f":"Maskiner!X128","v":"ha./time"},0,0,0]
[{"$f":"Maskiner!A129","v":false},null,null,null,null,44,null,null,"",43,null,{"$f":"Maskiner!L129","v":44},{"$f":"Maskiner!M129","v":0},null,null,{"$f":"Maskiner!N129","v":"Intern"},{"$f":"Maskiner!Q129","v":""},null,null,null,null,null,null,null,{"$f":"Maskiner!Z129","v":0},{"$f":"Maskiner!V129","v":0},{"$f":"Maskiner!O129","v":"ha."},{"$f":"Maskiner!Y129","v":0},"tim.",{"$f":"Maskiner!W129","v":1},{"$f":"Maskiner!X129","v":"ha./time"},0,0,0]
[{"$f":"Maskiner!A130","v":false},null,null,null,null,45,null,null,"",44,null,{"$f":"Maskiner!L130","v":45},{"$f":"Maskiner!M130","v":0},null,null,{"$f":"Maskiner!N130","v":"Intern"},{"$f":"Maskiner!Q130","v":""},null,null,null,null,null,null,null,{"$f":"Maskiner!Z130","v":0},{"$f":"Maskiner!V130","v":0},{"$f":"Maskiner!O130","v":"ha."},{"$f":"Maskiner!Y130","v":0},"tim.",{"$f":"Maskiner!W130","v":1},{"$f":"Maskiner!X130","v":"ha./time"},0,0,0]
[{"$f":"Maskiner!A131","v":false},null,null,null,null,46,null,null,"",45,null,{"$f":"Maskiner!L131","v":46},{"$f":"Maskiner!M131","v":0},null,null,{"$f":"Maskiner!N131","v":"Intern"},{"$f":"Maskiner!Q131","v":""},null,null,null,null,null,null,null,{"$f":"Maskiner!Z131","v":0},{"$f":"Maskiner!V131","v":0},{"$f":"Maskiner!O131","v":"ha."},{"$f":"Maskiner!Y131","v":0},"tim.",{"$f":"Maskiner!W131","v":1},{"$f":"Maskiner!X131","v":"ha./time"},0,0,0]
[{"$f":"Maskiner!A132","v":false},null,null,null,null,47,null,null,"",46,null,{"$f":"Maskiner!L132","v":47},{"$f":"Maskiner!M132","v":0},null,null,{"$f":"Maskiner!N132","v":"Intern"},{"$f":"Maskiner!Q132","v":""},null,null,null,null,null,null,null,{"$f":"Maskiner!Z132","v":0},{"$f":"Maskiner!V132","v":0},{"$f":"Maskiner!O132","v":"ha."},{"$f":"Maskiner!Y132","v":0},"tim.",{"$f":"Maskiner!W132","v":1},{"$f":"Maskiner!X132","v":"ha./time"},0,0,0]
[{"$f":"Maskiner!A133","v":false},null,null,null,null,48,null,null,"",47,null,{"$f":"Maskiner!L133","v":48},{"$f":"Maskiner!M133","v":0},null,null,{"$f":"Maskiner!N133","v":"Intern"},{"$f":"Maskiner!Q133","v":""},null,null,null,null,null,null,null,{"$f":"Maskiner!Z133","v":0},{"$f":"Maskiner!V133","v":0},{"$f":"Maskiner!O133","v":"ha."},{"$f":"Maskiner!Y133","v":0},"tim.",{"$f":"Maskiner!W133","v":1},{"$f":"Maskiner!X133","v":"ha./time"},0,0,0]
[{"$f":"Maskiner!A134","v":false},null,null,null,null,49,null,null,"",48,null,{"$f":"Maskiner!L134","v":49},{"$f":"Maskiner!M134","v":0},null,null,{"$f":"Maskiner!N134","v":"Intern"},{"$f":"Maskiner!Q134","v":""},null,null,null,null,null,null,null,{"$f":"Maskiner!Z134","v":0},{"$f":"Maskiner!V134","v":0},{"$f":"Maskiner!O134","v":"ha."},{"$f":"Maskiner!Y134","v":0},"tim.",{"$f":"Maskiner!W134","v":1},{"$f":"Maskiner!X134","v":"ha./time"},0,0,0]
[{"$f":"Maskiner!A135","v":false},null,null,null,null,50,null,null,"",49,null,{"$f":"Maskiner!L135","v":50},{"$f":"Maskiner!M135","v":0},null,null,{"$f":"Maskiner!N135","v":"Intern"},{"$f":"Maskiner!Q135","v":""},null,null,null,null,null,null,null,{"$f":"Maskiner!Z135","v":0},{"$f":"Maskiner!V135","v":0},{"$f":"Maskiner!O135","v":"ha."},{"$f":"Maskiner!Y135","v":0},"tim.",{"$f":"Maskiner!W135","v":1},{"$f":"Maskiner!X135","v":"ha./time"},0,0,0]
[true,null,null,null,null,null,null,null,null,null,null,{"$f":"Maskiner!L136","v":0},{"$f":"Maskiner!M136","v":"Ufordelte omkostninger"},null,null,{"$f":"Maskiner!N136","v":0},{"$f":"Maskiner!Q136","v":0},null,null,null,null,null,null,null,{"$f":"Maskiner!Z136","v":0},{"$f":"Maskiner!V136","v":0},{"$f":"Maskiner!O136","v":0},{"$f":"Maskiner!Y136","v":0},"tim.",{"$f":"Maskiner!W136","v":0},{"$f":"Maskiner!X136","v":0},0,0,0]
[true,null,null,null,null,null,null,null,null,null,null,{"$f":"Maskiner!L137","v":0},{"$f":"Maskiner!M137","v":"Omkostninger i alt"},null,null,{"$f":"Maskiner!N137","v":0},{"$f":"Maskiner!Q137","v":0},null,null,null,null,null,null,null,{"$f":"Maskiner!Z137","v":0},{"$f":"Maskiner!V137","v":0},{"$f":"Maskiner!O137","v":0},{"$f":"Maskiner!Y137","v":0},"tim.",{"$f":"Maskiner!W137","v":0},{"$f":"Maskiner!X137","v":0}]
[true]
[{"$f":"OR(L138<>0,P139<>0,T142<>0,R141<>0)","v":false},null,null,null,null,"nr.","id",null,null,null,null,{"$f":"VLOOKUP(F139,$L$31:$AE$80,2,FALSE)","v":0},null,null,null,null,null,null,"i alt",null,null,"pr. time."]
[{"$f":"A138","v":false},null,null,null,null,1,{"$f":"VLOOKUP(F139,$F$31:$J$80,5,FALSE)","v":0},null,null,null,null,"Værdi primo:",null,null,null,{"$f":"VLOOKUP(F139,$L$31:$AE$80,6,FALSE)","v":0},"Brændst.",{"$f":"VLOOKUP(F139,$L$31:$AE$80,15,FALSE)","v":0},"GKO",{"$f":"VLOOKUP(F139,$L$31:$AE$80,10,FALSE)","v":0},"GKE",{"$f":"IFERROR(+T139/R141,\"\")","v":""}]
[{"$f":"A139","v":false},null,null,null,null,null,null,null,null,null,null,"Levetid:",null,null,null,{"$f":"VLOOKUP(F139,$L$31:$AE$80,7,FALSE)","v":0},"Vedl.",{"$f":"VLOOKUP(F139,$L$31:$AE$80,14,FALSE)","v":0},"KKO",{"$f":"VLOOKUP(F139,$L$31:$AE$80,13,FALSE)","v":0},"KKE",{"$f":"IFERROR(+T140/R141,\"\")","v":""}]
[false,null,null,null,null,null,null,null,null,null,null,"Afskrivningspct:",null,null,null,{"$f":"VLOOKUP(F139,$L$31:$AE$80,8,FALSE)","v":0},"Anvendt",{"$f":"VLOOKUP(F139,$L$31:$AE$80,18,FALSE)","v":0},"VO",{"$f":"+R141*V141","v":0},"VE",{"$f":"VLOOKUP(F139,$L$31:$AE$80,17,FALSE)","v":0}]
[false,null,null,null,null,null,null,null,null,null,null,"Scrapværdi:",null,null,null,{"$f":"VLOOKUP(F139,$L$31:$AE$80,9,FALSE)","v":0},null,null,"TO",{"$f":"+T139+T140+T141","v":0},"TE",{"$f":"IFERROR(+V139+V140+V141,\"\")","v":""}]
[false,null,null,null,null,null,null,null,null,null,null,"Opgaver:"]
[{"$f":"CheckOne($I$85,G139)","v":false},null,null,null,null,null,null,null,null,null,null,{"$f":"L85:L134","v":1},{"$f":"M85:M135","v":0},null,null,{"$f":"$Z$85:$Z$134","v":0},{"$f":"$AA$85:$AA$134&\" a. kr.\"","v":"ha. a. kr."},{"$f":"$AG$85:$AG$134","v":0},null,{"$f":"$AB$85:$AB$135","v":0},"tim. a. kr.",{"$f":"_xlfn.ANCHORARRAY($AF$85)","v":0}]
[{"$f":"CheckOne($I$86,G139)","v":false},null,null,null,null,null,null,null,null,null,null,2,0,null,null,0,"ha. a. kr.",0,null,0,"tim. a. kr.",0]
[{"$f":"CheckOne($I$87,G139)","v":false},null,null,null,null,null,null,null,null,null,null,3,0,null,null,0,"ha. a. kr.",0,null,0,"tim. a. kr.",0]
[{"$f":"CheckOne($I$88,G139)","v":false},null,null,null,null,null,null,null,null,null,null,4,0,null,null,0,"ha. a. kr.",0,null,0,"tim. a. kr.",0]
[{"$f":"CheckOne($I$89,G139)","v":false},null,null,null,null,null,null,null,null,null,null,5,0,null,null,0,"ha. a. kr.",0,null,0,"tim. a. kr.",0]
[{"$f":"CheckOne($I$90,G139)","v":false},null,null,null,null,null,null,null,null,null,null,6,0,null,null,0,"ha. a. kr.",0,null,0,"tim. a. kr.",0]
[{"$f":"CheckOne($I$91,G139)","v":false},null,null,null,null,null,null,null,null,null,null,7,0,null,null,0,"ha. a. kr.",0,null,0,"tim. a. kr.",0]
[{"$f":"CheckOne($I$92,G139)","v":false},null,null,null,null,null,null,null,null,null,null,8,0,null,null,0,"ha. a. kr.",0,null,0,"tim. a. kr.",0]
[{"$f":"CheckOne($I$93,G139)","v":false},null,null,null,null,null,null,null,null,null,null,9,0,null,null,0,"ha. a. kr.",0,null,0,"tim. a. kr.",0]
[{"$f":"CheckOne($I$94,G139)","v":false},null,null,null,null,null,null,null,null,null,null,10,0,null,null,0,"ha. a. kr.",0,null,0,"tim. a. kr.",0]
[{"$f":"CheckOne($I$95,G139)","v":false},null,null,null,null,null,null,null,null,null,null,11,0,null,null,0,"ha. a. kr.",0,null,0,"tim. a. kr.",0]
[{"$f":"CheckOne($I$96,G139)","v":false},null,null,null,null,null,null,null,null,null,null,12,0,null,null,0,"ha. a. kr.",0,null,0,"tim. a. kr.",0]
[{"$f":"CheckOne($I$97,G139)","v":false},null,null,null,null,null,null,null,null,null,null,13,0,null,null,0,"ha. a. kr.",0,null,0,"tim. a. kr.",0]
[{"$f":"CheckOne($I$98,G139)","v":false},null,null,null,null,null,null,null,null,null,null,14,0,null,null,0,"ha. a. kr.",0,null,0,"tim. a. kr.",0]
[{"$f":"CheckOne($I$99,G139)","v":false},null,null,null,null,null,null,null,null,null,null,15,0,null,null,0,"ha. a. kr.",0,null,0,"tim. a. kr.",0]
[{"$f":"CheckOne($I$100,G139)","v":false},null,null,null,null,null,null,null,null,null,null,16,0,null,null,0,"ha. a. kr.",0,null,0,"tim. a. kr.",0]
[{"$f":"CheckOne($I$101,G139)","v":false},null,null,null,null,null,null,null,null,null,null,17,0,null,null,0,"ha. a. kr.",0,null,0,"tim. a. kr.",0]
[{"$f":"CheckOne($I$102,G139)","v":false},null,null,null,null,null,null,null,null,null,null,18,0,null,null,0,"ha. a. kr.",0,null,0,"tim. a. kr.",0]
[{"$f":"CheckOne($I$103,G139)","v":false},null,null,null,null,null,null,null,null,null,null,19,0,null,null,0,"ha. a. kr.",0,null,0,"tim. a. kr.",0]
[{"$f":"CheckOne($I$104,G139)","v":false},null,null,null,null,null,null,null,null,null,null,20,0,null,null,0,"ha. a. kr.",0,null,0,"tim. a. kr.",0]
[{"$f":"CheckOne($I$105,G139)","v":false},null,null,null,null,null,null,null,null,null,null,21,0,null,null,0,"ha. a. kr.",0,null,0,"tim. a. kr.",0]
[{"$f":"CheckOne($I$106,G139)","v":false},null,null,null,null,null,null,null,null,null,null,22,0,null,null,0,"ha. a. kr.",0,null,0,"tim. a. kr.",0]
[{"$f":"CheckOne($I$107,G139)","v":false},null,null,null,null,null,null,null,null,null,null,23,0,null,null,0,"ha. a. kr.",0,null,0,"tim. a. kr.",0]
[{"$f":"CheckOne($I$108,G139)","v":false},null,null,null,null,null,null,null,null,null,null,24,0,null,null,0,"ha. a. kr.",0,null,0,"tim. a. kr.",0]
[{"$f":"CheckOne($I$109,G139)","v":false},null,null,null,null,null,null,null,null,null,null,25,0,null,null,0,"ha. a. kr.",0,null,0,"tim. a. kr.",0]
[{"$f":"CheckOne($I$110,G139)","v":false},null,null,null,null,null,null,null,null,null,null,26,0,null,null,0,"ha. a. kr.",0,null,0,"tim. a. kr.",0]
[{"$f":"CheckOne($I$111,G139)","v":false},null,null,null,null,null,null,null,null,null,null,27,0,null,null,0,"ha. a. kr.",0,null,0,"tim. a. kr.",0]
[{"$f":"CheckOne($I$112,G139)","v":false},null,null,null,null,null,null,null,null,null,null,28,0,null,null,0,"ha. a. kr.",0,null,0,"tim. a. kr.",0]
[{"$f":"CheckOne($I$113,G139)","v":false},null,null,null,null,null,null,null,null,null,null,29,0,null,null,0,"ha. a. kr.",0,null,0,"tim. a. kr.",0]
[{"$f":"CheckOne($I$114,G139)","v":false},null,null,null,null,null,null,null,null,null,null,30,0,null,null,0,"ha. a. kr.",0,null,0,"tim. a. kr.",0]
[{"$f":"CheckOne($I$115,G139)","v":false},null,null,null,null,null,null,null,null,null,null,31,0,null,null,0,"ha. a. kr.",0,null,0,"tim. a. kr.",0]
[{"$f":"CheckOne($I$116,G139)","v":false},null,null,null,null,null,null,null,null,null,null,32,0,null,null,0,"ha. a. kr.",0,null,0,"tim. a. kr.",0]
[{"$f":"CheckOne($I$117,G139)","v":false},null,null,null,null,null,null,null,null,null,null,33,0,null,null,0,"ha. a. kr.",0,null,0,"tim. a. kr.",0]
[{"$f":"CheckOne($I$118,G139)","v":false},null,null,null,null,null,null,null,null,null,null,34,0,null,null,0,"ha. a. kr.",0,null,0,"tim. a. kr.",0]
[{"$f":"CheckOne($I$119,G139)","v":false},null,null,null,null,null,null,null,null,null,null,35,0,null,null,0,"ha. a. kr.",0,null,0,"tim. a. kr.",0]
[{"$f":"CheckOne($I$120,G139)","v":false},null,null,null,null,null,null,null,null,null,null,36,0,null,null,0,"ha. a. kr.",0,null,0,"tim. a. kr.",0]
[{"$f":"CheckOne($I$121,G139)","v":false},null,null,null,null,null,null,null,null,null,null,37,0,null,null,0,"ha. a. kr.",0,null,0,"tim. a. kr.",0]
[{"$f":"CheckOne($I$122,G139)","v":false},null,null,null,null,null,null,null,null,null,null,38,0,null,null,0,"ha. a. kr.",0,null,0,"tim. a. kr.",0]
[{"$f":"CheckOne($I$123,G139)","v":false},null,null,null,null,null,null,null,null,null,null,39,0,null,null,0,"ha. a. kr.",0,null,0,"tim. a. kr.",0]
[{"$f":"CheckOne($I$124,G139)","v":false},null,null,null,null,null,null,null,null,null,null,40,0,null,null,0,"ha. a. kr.",0,null,0,"tim. a. kr.",0]
[{"$f":"CheckOne($I$125,G139)","v":false},null,null,null,null,null,null,null,null,null,null,41,0,null,null,0,"ha. a. kr.",0,null,0,"tim. a. kr.",0]
[{"$f":"CheckOne($I$126,G139)","v":false},null,null,null,null,null,null,null,null,null,null,42,0,null,null,0,"ha. a. kr.",0,null,0,"tim. a. kr.",0]
[{"$f":"CheckOne($I$127,G139)","v":false},null,null,null,null,null,null,null,null,null,null,43,0,null,null,0,"ha. a. kr.",0,null,0,"tim. a. kr.",0]
[{"$f":"CheckOne($I$128,G139)","v":false},null,null,null,null,null,null,null,null,null,null,44,0,null,null,0,"ha. a. kr.",0,null,0,"tim. a. kr.",0]
[{"$f":"CheckOne($I$129,G139)","v":false},null,null,null,null,null,null,null,null,null,null,45,0,null,null,0,"ha. a. kr.",0,null,0,"tim. a. kr.",0]
[{"$f":"CheckOne($I$130,G139)","v":false},null,null,null,null,null,null,null,null,null,null,46,0,null,null,0,"ha. a. kr.",0,null,0,"tim. a. kr.",0]
[{"$f":"CheckOne($I$131,G139)","v":false},null,null,null,null,null,null,null,null,null,null,47,0,null,null,0,"ha. a. kr.",0,null,0,"tim. a. kr.",0]
[{"$f":"CheckOne($I$132,G139)","v":false},null,null,null,null,null,null,null,null,null,null,48,0,null,null,0,"ha. a. kr.",0,null,0,"tim. a. kr.",0]
[{"$f":"CheckOne($I$133,G139)","v":false},null,null,null,null,null,null,null,null,null,null,49,0,null,null,0,"ha. a. kr.",0,null,0,"tim. a. kr.",0]
[{"$f":"CheckOne($I$134,G139)","v":false},null,null,null,null,null,null,null,null,null,null,50,0,null,null,0,"ha. a. kr.",0,null,0,"tim. a. kr.",0]
[{"$f":"OR(T194<>0)","v":false},null,null,null,null,null,null,null,null,null,null,null,"Ufordelte omkostninger",null,null,null,null,null,null,0,"tim. a. kr.",0]
[{"$f":"A138","v":false},null,null,null,null,null,null,null,null,null,null,"I alt",null,null,null,null,null,null,null,{"$f":"SUMIF(A144:A193,TRUE,T144:T193)","v":0},"timer"]
[{"$f":"A195","v":false}]
[{"$f":"OR(L197<>0,P198<>0,T201<>0,R200<>0)","v":false},null,null,null,null,"nr.","id",null,null,null,null,{"$f":"VLOOKUP(F198,$L$31:$AE$80,2,FALSE)","v":0},null,null,null,null,null,null,"i alt",null,null,"pr. time."]
[{"$f":"A197","v":false},null,null,null,null,{"$f":"F139+1","v":2},{"$f":"VLOOKUP(F198,$F$31:$J$80,5,FALSE)","v":3},null,null,null,null,"Værdi primo:",null,null,null,{"$f":"VLOOKUP(F198,$L$31:$AE$80,6,FALSE)","v":0},"Brændst.",{"$f":"VLOOKUP(F198,$L$31:$AE$80,15,FALSE)","v":0},"GKO",{"$f":"VLOOKUP(F198,$L$31:$AE$80,10,FALSE)","v":0},"GKE",{"$f":"IFERROR(+T198/R200,\"\")","v":""}]
[{"$f":"A198","v":false},null,null,null,null,null,{"$f":"G198","v":3},null,null,null,null,"Levetid:",null,null,null,{"$f":"VLOOKUP(F198,$L$31:$AE$80,7,FALSE)","v":0},"Vedl.",{"$f":"VLOOKUP(F198,$L$31:$AE$80,14,FALSE)","v":0},"KKO",{"$f":"VLOOKUP(F198,$L$31:$AE$80,13,FALSE)","v":0},"KKE",{"$f":"IFERROR(+T199/R200,\"\")","v":""}]
[false,null,null,null,null,null,{"$f":"G199","v":3},null,null,null,null,"Afskrivningspct:",null,null,null,{"$f":"VLOOKUP(F198,$L$31:$AE$80,8,FALSE)","v":0},"Anvendt",{"$f":"VLOOKUP(F198,$L$31:$AE$80,18,FALSE)","v":0},"VO",{"$f":"+R200*V200","v":0},"VE",{"$f":"VLOOKUP(F198,$L$31:$AE$80,17,FALSE)","v":0}]
[false,null,null,null,null,null,3,null,null,null,null,"Scrapværdi:",null,null,null,{"$f":"VLOOKUP(F198,$L$31:$AE$80,9,FALSE)","v":0},null,null,"TO",{"$f":"+T198+T199+T200","v":0},"TE",{"$f":"IFERROR(+V198+V199+V200,\"\")","v":""}]
[false,null,null,null,null,null,3,null,null,null,null,"Opgaver:"]
[{"$f":"CheckOne($I$85,G198)","v":false},null,null,null,null,null,3,null,null,null,null,{"$f":"L144:L193","v":1},{"$f":"M144:M194","v":0},null,null,{"$f":"$Z$85:$Z$134","v":0},{"$f":"$AA$85:$AA$134&\" a. kr.\"","v":"ha. a. kr."},{"$f":"$AG$85:$AG$134","v":0},null,{"$f":"$AB$85:$AB$135","v":0},"tim. a. kr.",{"$f":"_xlfn.ANCHORARRAY($AF$85)","v":0}]
[{"$f":"CheckOne($I$86,G198)","v":false},null,null,null,null,null,3,null,null,null,null,2,0,null,null,0,"ha. a. kr.",0,null,0,"tim. a. kr.",0]
[{"$f":"CheckOne($I$87,G198)","v":false},null,null,null,null,null,3,null,null,null,null,3,0,null,null,0,"ha. a. kr.",0,null,0,"tim. a. kr.",0]
[{"$f":"CheckOne($I$88,G198)","v":false},null,null,null,null,null,3,null,null,null,null,4,0,null,null,0,"ha. a. kr.",0,null,0,"tim. a. kr.",0]
[{"$f":"CheckOne($I$89,G198)","v":false},null,null,null,null,null,3,null,null,null,null,5,0,null,null,0,"ha. a. kr.",0,null,0,"tim. a. kr.",0]
[{"$f":"CheckOne($I$90,G198)","v":false},null,null,null,null,null,3,null,null,null,null,6,0,null,null,0,"ha. a. kr.",0,null,0,"tim. a. kr.",0]
[{"$f":"CheckOne($I$91,G198)","v":false},null,null,null,null,null,3,null,null,null,null,7,0,null,null,0,"ha. a. kr.",0,null,0,"tim. a. kr.",0]
[{"$f":"CheckOne($I$92,G198)","v":false},null,null,null,null,null,3,null,null,null,null,8,0,null,null,0,"ha. a. kr.",0,null,0,"tim. a. kr.",0]
[{"$f":"CheckOne($I$93,G198)","v":false},null,null,null,null,null,3,null,null,null,null,9,0,null,null,0,"ha. a. kr.",0,null,0,"tim. a. kr.",0]
[{"$f":"CheckOne($I$94,G198)","v":false},null,null,null,null,null,3,null,null,null,null,10,0,null,null,0,"ha. a. kr.",0,null,0,"tim. a. kr.",0]
[{"$f":"CheckOne($I$95,G198)","v":false},null,null,null,null,null,3,null,null,null,null,11,0,null,null,0,"ha. a. kr.",0,null,0,"tim. a. kr.",0]
[{"$f":"CheckOne($I$96,G198)","v":false},null,null,null,null,null,3,null,null,null,null,12,0,null,null,0,"ha. a. kr.",0,null,0,"tim. a. kr.",0]
[{"$f":"CheckOne($I$97,G198)","v":false},null,null,null,null,null,3,null,null,null,null,13,0,null,null,0,"ha. a. kr.",0,null,0,"tim. a. kr.",0]
[{"$f":"CheckOne($I$98,G198)","v":false},null,null,null,null,null,3,null,null,null,null,14,0,null,null,0,"ha. a. kr.",0,null,0,"tim. a. kr.",0]
[{"$f":"CheckOne($I$99,G198)","v":false},null,null,null,null,null,3,null,null,null,null,15,0,null,null,0,"ha. a. kr.",0,null,0,"tim. a. kr.",0]
[{"$f":"CheckOne($I$100,G198)","v":false},null,null,null,null,null,3,null,null,null,null,16,0,null,null,0,"ha. a. kr.",0,null,0,"tim. a. kr.",0]
[{"$f":"CheckOne($I$101,G198)","v":false},null,null,null,null,null,3,null,null,null,null,17,0,null,null,0,"ha. a. kr.",0,null,0,"tim. a. kr.",0]
[{"$f":"CheckOne($I$102,G198)","v":false},null,null,null,null,null,3,null,null,null,null,18,0,null,null,0,"ha. a. kr.",0,null,0,"tim. a. kr.",0]
[{"$f":"CheckOne($I$103,G198)","v":false},null,null,null,null,null,3,null,null,null,null,19,0,null,null,0,"ha. a. kr.",0,null,0,"tim. a. kr.",0]
[{"$f":"CheckOne($I$104,G198)","v":false},null,null,null,null,null,3,null,null,null,null,20,0,null,null,0,"ha. a. kr.",0,null,0,"tim. a. kr.",0]
[{"$f":"CheckOne($I$105,G198)","v":false},null,null,null,null,null,3,null,null,null,null,21,0,null,null,0,"ha. a. kr.",0,null,0,"tim. a. kr.",0]
[{"$f":"CheckOne($I$106,G198)","v":false},null,null,null,null,null,3,null,null,null,null,22,0,null,null,0,"ha. a. kr.",0,null,0,"tim. a. kr.",0]
[{"$f":"CheckOne($I$107,G198)","v":false},null,null,null,null,null,3,null,null,null,null,23,0,null,null,0,"ha. a. kr.",0,null,0,"tim. a. kr.",0]
[{"$f":"CheckOne($I$108,G198)","v":false},null,null,null,null,null,3,null,null,null,null,24,0,null,null,0,"ha. a. kr.",0,null,0,"tim. a. kr.",0]
[{"$f":"CheckOne($I$109,G198)","v":false},null,null,null,null,null,3,null,null,null,null,25,0,null,null,0,"ha. a. kr.",0,null,0,"tim. a. kr.",0]
[{"$f":"CheckOne($I$110,G198)","v":false},null,null,null,null,null,3,null,null,null,null,26,0,null,null,0,"ha. a. kr.",0,null,0,"tim. a. kr.",0]
[{"$f":"CheckOne($I$111,G198)","v":false},null,null,null,null,null,3,null,null,null,null,27,0,null,null,0,"ha. a. kr.",0,null,0,"tim. a. kr.",0]
[{"$f":"CheckOne($I$112,G198)","v":false},null,null,null,null,null,3,null,null,null,null,28,0,null,null,0,"ha. a. kr.",0,null,0,"tim. a. kr.",0]
[{"$f":"CheckOne($I$113,G198)","v":false},null,null,null,null,null,3,null,null,null,null,29,0,null,null,0,"ha. a. kr.",0,null,0,"tim. a. kr.",0]
[{"$f":"CheckOne($I$114,G198)","v":false},null,null,null,null,null,3,null,null,null,null,30,0,null,null,0,"ha. a. kr.",0,null,0,"tim. a. kr.",0]
[{"$f":"CheckOne($I$115,G198)","v":false},null,null,null,null,null,3,null,null,null,null,31,0,null,null,0,"ha. a. kr.",0,null,0,"tim. a. kr.",0]
[{"$f":"CheckOne($I$116,G198)","v":false},null,null,null,null,null,3,null,null,null,null,32,0,null,null,0,"ha. a. kr.",0,null,0,"tim. a. kr.",0]
[{"$f":"CheckOne($I$117,G198)","v":false},null,null,null,null,null,3,null,null,null,null,33,0,null,null,0,"ha. a. kr.",0,null,0,"tim. a. kr.",0]
[{"$f":"CheckOne($I$118,G198)","v":false},null,null,null,null,null,3,null,null,null,null,34,0,null,null,0,"ha. a. kr.",0,null,0,"tim. a. kr.",0]
[{"$f":"CheckOne($I$119,G198)","v":false},null,null,null,null,null,3,null,null,null,null,35,0,null,null,0,"ha. a. kr.",0,null,0,"tim. a. kr.",0]
[{"$f":"CheckOne($I$120,G198)","v":false},null,null,null,null,null,3,null,null,null,null,36,0,null,null,0,"ha. a. kr.",0,null,0,"tim. a. kr.",0]
[{"$f":"CheckOne($I$121,G198)","v":false},null,null,null,null,null,3,null,null,null,null,37,0,null,null,0,"ha. a. kr.",0,null,0,"tim. a. kr.",0]
[{"$f":"CheckOne($I$122,G198)","v":false},null,null,null,null,null,3,null,null,null,null,38,0,null,null,0,"ha. a. kr.",0,null,0,"tim. a. kr.",0]
[{"$f":"CheckOne($I$123,G198)","v":false},null,null,null,null,null,3,null,null,null,null,39,0,null,null,0,"ha. a. kr.",0,null,0,"tim. a. kr.",0]
[{"$f":"CheckOne($I$124,G198)","v":false},null,null,null,null,null,3,null,null,null,null,40,0,null,null,0,"ha. a. kr.",0,null,0,"tim. a. kr.",0]
[{"$f":"CheckOne($I$125,G198)","v":false},null,null,null,null,null,3,null,null,null,null,41,0,null,null,0,"ha. a. kr.",0,null,0,"tim. a. kr.",0]
[{"$f":"CheckOne($I$126,G198)","v":false},null,null,null,null,null,3,null,null,null,null,42,0,null,null,0,"ha. a. kr.",0,null,0,"tim. a. kr.",0]
[{"$f":"CheckOne($I$127,G198)","v":false},null,null,null,null,null,3,null,null,null,null,43,0,null,null,0,"ha. a. kr.",0,null,0,"tim. a. kr.",0]
[{"$f":"CheckOne($I$128,G198)","v":false},null,null,null,null,null,3,null,null,null,null,44,0,null,null,0,"ha. a. kr.",0,null,0,"tim. a. kr.",0]
[{"$f":"CheckOne($I$129,G198)","v":false},null,null,null,null,null,3,null,null,null,null,45,0,null,null,0,"ha. a. kr.",0,null,0,"tim. a. kr.",0]
[{"$f":"CheckOne($I$130,G198)","v":false},null,null,null,null,null,3,null,null,null,null,46,0,null,null,0,"ha. a. kr.",0,null,0,"tim. a. kr.",0]
[{"$f":"CheckOne($I$131,G198)","v":false},null,null,null,null,null,3,null,null,null,null,47,0,null,null,0,"ha. a. kr.",0,null,0,"tim. a. kr.",0]
[{"$f":"CheckOne($I$132,G198)","v":false},null,null,null,null,null,3,null,null,null,null,48,0,null,null,0,"ha. a. kr.",0,null,0,"tim. a. kr.",0]
[{"$f":"CheckOne($I$133,G198)","v":false},null,null,null,null,null,3,null,null,null,null,49,0,null,null,0,"ha. a. kr.",0,null,0,"tim. a. kr.",0]
[{"$f":"CheckOne($I$134,G198)","v":false},null,null,null,null,null,3,null,null,null,null,50,0,null,null,0,"ha. a. kr.",0,null,0,"tim. a. kr.",0]
[{"$f":"OR(T253<>0)","v":false},null,null,null,null,null,null,null,null,null,null,null,"Ufordelte omkostninger",null,null,null,null,null,null,0,"tim. a. kr.",0]
[{"$f":"A197","v":false},null,null,null,null,null,null,null,null,null,null,"I alt",null,null,null,null,null,null,null,{"$f":"SUMIF(A203:A252,TRUE,T203:T252)","v":0},"timer"]
[{"$f":"A254","v":false}]
[{"$f":"OR(L256<>0,P257<>0,T260<>0,R259<>0)","v":false},null,null,null,null,"nr.","id",null,null,null,null,{"$f":"VLOOKUP(F257,$L$31:$AE$80,2,FALSE)","v":0},null,null,null,null,null,null,"i alt",null,null,"pr. time."]
[{"$f":"A256","v":false},null,null,null,null,{"$f":"F198+1","v":3},{"$f":"VLOOKUP(F257,$F$31:$J$80,5,FALSE)","v":5},null,null,null,null,"Værdi primo:",null,null,null,{"$f":"VLOOKUP(F257,$L$31:$AE$80,6,FALSE)","v":0},"Brændst.",{"$f":"VLOOKUP(F257,$L$31:$AE$80,15,FALSE)","v":0},"GKO",{"$f":"VLOOKUP(F257,$L$31:$AE$80,10,FALSE)","v":0},"GKE",{"$f":"IFERROR(+T257/R259,\"\")","v":""}]
[{"$f":"A257","v":false},null,null,null,null,null,{"$f":"G257","v":5},null,null,null,null,"Levetid:",null,null,null,{"$f":"VLOOKUP(F257,$L$31:$AE$80,7,FALSE)","v":0},"Vedl.",{"$f":"VLOOKUP(F257,$L$31:$AE$80,14,FALSE)","v":0},"KKO",{"$f":"VLOOKUP(F257,$L$31:$AE$80,13,FALSE)","v":0},"KKE",{"$f":"IFERROR(+T258/R259,\"\")","v":""}]
[false,null,null,null,null,null,{"$f":"G258","v":5},null,null,null,null,"Afskrivningspct:",null,null,null,{"$f":"VLOOKUP(F257,$L$31:$AE$80,8,FALSE)","v":0},"Anvendt",{"$f":"VLOOKUP(F257,$L$31:$AE$80,18,FALSE)","v":0},"VO",{"$f":"+R259*V259","v":0},"VE",{"$f":"VLOOKUP(F257,$L$31:$AE$80,17,FALSE)","v":0}]
[false,null,null,null,null,null,5,null,null,null,null,"Scrapværdi:",null,null,null,{"$f":"VLOOKUP(F257,$L$31:$AE$80,9,FALSE)","v":0},null,null,"TO",{"$f":"+T257+T258+T259","v":0},"TE",{"$f":"IFERROR(+V257+V258+V259,\"\")","v":""}]
[false,null,null,null,null,null,5,null,null,null,null,"Opgaver:"]
[{"$f":"CheckOne($I$85,G257)","v":false},null,null,null,null,null,5,null,null,null,null,{"$f":"L203:L252","v":1},{"$f":"M203:M253","v":0},null,null,{"$f":"$Z$85:$Z$134","v":0},{"$f":"$AA$85:$AA$134&\" a. kr.\"","v":"ha. a. kr."},{"$f":"$AG$85:$AG$134","v":0},null,{"$f":"$AB$85:$AB$135","v":0},"tim. a. kr.",{"$f":"_xlfn.ANCHORARRAY($AF$85)","v":0}]
[{"$f":"CheckOne($I$86,G257)","v":false},null,null,null,null,null,5,null,null,null,null,2,0,null,null,0,"ha. a. kr.",0,null,0,"tim. a. kr.",0]
[{"$f":"CheckOne($I$87,G257)","v":false},null,null,null,null,null,5,null,null,null,null,3,0,null,null,0,"ha. a. kr.",0,null,0,"tim. a. kr.",0]
[{"$f":"CheckOne($I$88,G257)","v":false},null,null,null,null,null,5,null,null,null,null,4,0,null,null,0,"ha. a. kr.",0,null,0,"tim. a. kr.",0]
[{"$f":"CheckOne($I$89,G257)","v":false},null,null,null,null,null,5,null,null,null,null,5,0,null,null,0,"ha. a. kr.",0,null,0,"tim. a. kr.",0]
[{"$f":"CheckOne($I$90,G257)","v":false},null,null,null,null,null,5,null,null,null,null,6,0,null,null,0,"ha. a. kr.",0,null,0,"tim. a. kr.",0]
[{"$f":"CheckOne($I$91,G257)","v":false},null,null,null,null,null,5,null,null,null,null,7,0,null,null,0,"ha. a. kr.",0,null,0,"tim. a. kr.",0]
[{"$f":"CheckOne($I$92,G257)","v":false},null,null,null,null,null,5,null,null,null,null,8,0,null,null,0,"ha. a. kr.",0,null,0,"tim. a. kr.",0]
[{"$f":"CheckOne($I$93,G257)","v":false},null,null,null,null,null,5,null,null,null,null,9,0,null,null,0,"ha. a. kr.",0,null,0,"tim. a. kr.",0]
[{"$f":"CheckOne($I$94,G257)","v":false},null,null,null,null,null,5,null,null,null,null,10,0,null,null,0,"ha. a. kr.",0,null,0,"tim. a. kr.",0]
[{"$f":"CheckOne($I$95,G257)","v":false},null,null,null,null,null,5,null,null,null,null,11,0,null,null,0,"ha. a. kr.",0,null,0,"tim. a. kr.",0]
[{"$f":"CheckOne($I$96,G257)","v":false},null,null,null,null,null,5,null,null,null,null,12,0,null,null,0,"ha. a. kr.",0,null,0,"tim. a. kr.",0]
[{"$f":"CheckOne($I$97,G257)","v":false},null,null,null,null,null,5,null,null,null,null,13,0,null,null,0,"ha. a. kr.",0,null,0,"tim. a. kr.",0]
[{"$f":"CheckOne($I$98,G257)","v":false},null,null,null,null,null,5,null,null,null,null,14,0,null,null,0,"ha. a. kr.",0,null,0,"tim. a. kr.",0]
[{"$f":"CheckOne($I$99,G257)","v":false},null,null,null,null,null,5,null,null,null,null,15,0,null,null,0,"ha. a. kr.",0,null,0,"tim. a. kr.",0]
[{"$f":"CheckOne($I$100,G257)","v":false},null,null,null,null,null,5,null,null,null,null,16,0,null,null,0,"ha. a. kr.",0,null,0,"tim. a. kr.",0]
[{"$f":"CheckOne($I$101,G257)","v":false},null,null,null,null,null,5,null,null,null,null,17,0,null,null,0,"ha. a. kr.",0,null,0,"tim. a. kr.",0]
[{"$f":"CheckOne($I$102,G257)","v":false},null,null,null,null,null,5,null,null,null,null,18,0,null,null,0,"ha. a. kr.",0,null,0,"tim. a. kr.",0]
[{"$f":"CheckOne($I$103,G257)","v":false},null,null,null,null,null,5,null,null,null,null,19,0,null,null,0,"ha. a. kr.",0,null,0,"tim. a. kr.",0]
[{"$f":"CheckOne($I$104,G257)","v":false},null,null,null,null,null,5,null,null,null,null,20,0,null,null,0,"ha. a. kr.",0,null,0,"tim. a. kr.",0]
[{"$f":"CheckOne($I$105,G257)","v":false},null,null,null,null,null,5,null,null,null,null,21,0,null,null,0,"ha. a. kr.",0,null,0,"tim. a. kr.",0]
[{"$f":"CheckOne($I$106,G257)","v":false},null,null,null,null,null,5,null,null,null,null,22,0,null,null,0,"ha. a. kr.",0,null,0,"tim. a. kr.",0]
[{"$f":"CheckOne($I$107,G257)","v":false},null,null,null,null,null,5,null,null,null,null,23,0,null,null,0,"ha. a. kr.",0,null,0,"tim. a. kr.",0]
[{"$f":"CheckOne($I$108,G257)","v":false},null,null,null,null,null,5,null,null,null,null,24,0,null,null,0,"ha. a. kr.",0,null,0,"tim. a. kr.",0]
[{"$f":"CheckOne($I$109,G257)","v":false},null,null,null,null,null,5,null,null,null,null,25,0,null,null,0,"ha. a. kr.",0,null,0,"tim. a. kr.",0]
[{"$f":"CheckOne($I$110,G257)","v":false},null,null,null,null,null,5,null,null,null,null,26,0,null,null,0,"ha. a. kr.",0,null,0,"tim. a. kr.",0]
[{"$f":"CheckOne($I$111,G257)","v":false},null,null,null,null,null,5,null,null,null,null,27,0,null,null,0,"ha. a. kr.",0,null,0,"tim. a. kr.",0]
[{"$f":"CheckOne($I$112,G257)","v":false},null,null,null,null,null,5,null,null,null,null,28,0,null,null,0,"ha. a. kr.",0,null,0,"tim. a. kr.",0]
[{"$f":"CheckOne($I$113,G257)","v":false},null,null,null,null,null,5,null,null,null,null,29,0,null,null,0,"ha. a. kr.",0,null,0,"tim. a. kr.",0]
[{"$f":"CheckOne($I$114,G257)","v":false},null,null,null,null,null,5,null,null,null,null,30,0,null,null,0,"ha. a. kr.",0,null,0,"tim. a. kr.",0]
[{"$f":"CheckOne($I$115,G257)","v":false},null,null,null,null,null,5,null,null,null,null,31,0,null,null,0,"ha. a. kr.",0,null,0,"tim. a. kr.",0]
[{"$f":"CheckOne($I$116,G257)","v":false},null,null,null,null,null,5,null,null,null,null,32,0,null,null,0,"ha. a. kr.",0,null,0,"tim. a. kr.",0]
[{"$f":"CheckOne($I$117,G257)","v":false},null,null,null,null,null,5,null,null,null,null,33,0,null,null,0,"ha. a. kr.",0,null,0,"tim. a. kr.",0]
[{"$f":"CheckOne($I$118,G257)","v":false},null,null,null,null,null,5,null,null,null,null,34,0,null,null,0,"ha. a. kr.",0,null,0,"tim. a. kr.",0]
[{"$f":"CheckOne($I$119,G257)","v":false},null,null,null,null,null,5,null,null,null,null,35,0,null,null,0,"ha. a. kr.",0,null,0,"tim. a. kr.",0]
[{"$f":"CheckOne($I$120,G257)","v":false},null,null,null,null,null,5,null,null,null,null,36,0,null,null,0,"ha. a. kr.",0,null,0,"tim. a. kr.",0]
[{"$f":"CheckOne($I$121,G257)","v":false},null,null,null,null,null,5,null,null,null,null,37,0,null,null,0,"ha. a. kr.",0,null,0,"tim. a. kr.",0]
[{"$f":"CheckOne($I$122,G257)","v":false},null,null,null,null,null,5,null,null,null,null,38,0,null,null,0,"ha. a. kr.",0,null,0,"tim. a. kr.",0]
[{"$f":"CheckOne($I$123,G257)","v":false},null,null,null,null,null,5,null,null,null,null,39,0,null,null,0,"ha. a. kr.",0,null,0,"tim. a. kr.",0]
[{"$f":"CheckOne($I$124,G257)","v":false},null,null,null,null,null,5,null,null,null,null,40,0,null,null,0,"ha. a. kr.",0,null,0,"tim. a. kr.",0]
[{"$f":"CheckOne($I$125,G257)","v":false},null,null,null,null,null,5,null,null,null,null,41,0,null,null,0,"ha. a. kr.",0,null,0,"tim. a. kr.",0]
[{"$f":"CheckOne($I$126,G257)","v":false},null,null,null,null,null,5,null,null,null,null,42,0,null,null,0,"ha. a. kr.",0,null,0,"tim. a. kr.",0]
[{"$f":"CheckOne($I$127,G257)","v":false},null,null,null,null,null,5,null,null,null,null,43,0,null,null,0,"ha. a. kr.",0,null,0,"tim. a. kr.",0]
[{"$f":"CheckOne($I$128,G257)","v":false},null,null,null,null,null,5,null,null,null,null,44,0,null,null,0,"ha. a. kr.",0,null,0,"tim. a. kr.",0]
[{"$f":"CheckOne($I$129,G257)","v":false},null,null,null,null,null,5,null,null,null,null,45,0,null,null,0,"ha. a. kr.",0,null,0,"tim. a. kr.",0]
[{"$f":"CheckOne($I$130,G257)","v":false},null,null,null,null,null,5,null,null,null,null,46,0,null,null,0,"ha. a. kr.",0,null,0,"tim. a. kr.",0]
[{"$f":"CheckOne($I$131,G257)","v":false},null,null,null,null,null,5,null,null,null,null,47,0,null,null,0,"ha. a. kr.",0,null,0,"tim. a. kr.",0]
[{"$f":"CheckOne($I$132,G257)","v":false},null,null,null,null,null,5,null,null,null,null,48,0,null,null,0,"ha. a. kr.",0,null,0,"tim. a. kr.",0]
[{"$f":"CheckOne($I$133,G257)","v":false},null,null,null,null,null,5,null,null,null,null,49,0,null,null,0,"ha. a. kr.",0,null,0,"tim. a. kr.",0]
[{"$f":"CheckOne($I$134,G257)","v":false},null,null,null,null,null,5,null,null,null,null,50,0,null,null,0,"ha. a. kr.",0,null,0,"tim. a. kr.",0]
[{"$f":"OR(T312<>0)","v":false},null,null,null,null,null,null,null,null,null,null,null,"Ufordelte omkostninger",null,null,null,null,null,null,0,"tim. a. kr.",0]
[{"$f":"A256","v":false},null,null,null,null,null,null,null,null,null,null,"I alt",null,null,null,null,null,null,null,{"$f":"SUMIF(A262:A311,TRUE,T262:T311)","v":0},"timer"]
[{"$f":"A313","v":false}]
[{"$f":"OR(L315<>0,P316<>0,T319<>0,R318<>0)","v":false},null,null,null,null,"nr.","id",null,null,null,null,{"$f":"VLOOKUP(F316,$L$31:$AE$80,2,FALSE)","v":0},null,null,null,null,null,null,"i alt",null,null,"pr. time."]
[{"$f":"A315","v":false},null,null,null,null,{"$f":"F257+1","v":4},{"$f":"VLOOKUP(F316,$F$31:$J$80,5,FALSE)","v":4},null,null,null,null,"Værdi primo:",null,null,null,{"$f":"VLOOKUP(F316,$L$31:$AE$80,6,FALSE)","v":0},"Brændst.",{"$f":"VLOOKUP(F316,$L$31:$AE$80,15,FALSE)","v":0},"GKO",{"$f":"VLOOKUP(F316,$L$31:$AE$80,10,FALSE)","v":0},"GKE",{"$f":"IFERROR(+T316/R318,\"\")","v":""}]
[{"$f":"A316","v":false},null,null,null,null,null,{"$f":"G316","v":4},null,null,null,null,"Levetid:",null,null,null,{"$f":"VLOOKUP(F316,$L$31:$AE$80,7,FALSE)","v":0},"Vedl.",{"$f":"VLOOKUP(F316,$L$31:$AE$80,14,FALSE)","v":0},"KKO",{"$f":"VLOOKUP(F316,$L$31:$AE$80,13,FALSE)","v":0},"KKE",{"$f":"IFERROR(+T317/R318,\"\")","v":""}]
[false,null,null,null,null,null,{"$f":"G317","v":4},null,null,null,null,"Afskrivningspct:",null,null,null,{"$f":"VLOOKUP(F316,$L$31:$AE$80,8,FALSE)","v":0},"Anvendt",{"$f":"VLOOKUP(F316,$L$31:$AE$80,18,FALSE)","v":0},"VO",{"$f":"+R318*V318","v":0},"VE",{"$f":"VLOOKUP(F316,$L$31:$AE$80,17,FALSE)","v":0}]
[false,null,null,null,null,null,4,null,null,null,null,"Scrapværdi:",null,null,null,{"$f":"VLOOKUP(F316,$L$31:$AE$80,9,FALSE)","v":0},null,null,"TO",{"$f":"+T316+T317+T318","v":0},"TE",{"$f":"IFERROR(+V316+V317+V318,\"\")","v":""}]
[false,null,null,null,null,null,4,null,null,null,null,"Opgaver:"]
[{"$f":"CheckOne($I$85,G316)","v":false},null,null,null,null,null,4,null,null,null,null,{"$f":"L262:L311","v":1},{"$f":"M262:M312","v":0},null,null,{"$f":"$Z$85:$Z$134","v":0},{"$f":"$AA$85:$AA$134&\" a. kr.\"","v":"ha. a. kr."},{"$f":"$AG$85:$AG$134","v":0},null,{"$f":"$AB$85:$AB$135","v":0},"tim. a. kr.",{"$f":"_xlfn.ANCHORARRAY($AF$85)","v":0}]
[{"$f":"CheckOne($I$86,G316)","v":false},null,null,null,null,null,4,null,null,null,null,2,0,null,null,0,"ha. a. kr.",0,null,0,"tim. a. kr.",0]
[{"$f":"CheckOne($I$87,G316)","v":false},null,null,null,null,null,4,null,null,null,null,3,0,null,null,0,"ha. a. kr.",0,null,0,"tim. a. kr.",0]
[{"$f":"CheckOne($I$88,G316)","v":false},null,null,null,null,null,4,null,null,null,null,4,0,null,null,0,"ha. a. kr.",0,null,0,"tim. a. kr.",0]
[{"$f":"CheckOne($I$89,G316)","v":false},null,null,null,null,null,4,null,null,null,null,5,0,null,null,0,"ha. a. kr.",0,null,0,"tim. a. kr.",0]
[{"$f":"CheckOne($I$90,G316)","v":false},null,null,null,null,null,4,null,null,null,null,6,0,null,null,0,"ha. a. kr.",0,null,0,"tim. a. kr.",0]
[{"$f":"CheckOne($I$91,G316)","v":false},null,null,null,null,null,4,null,null,null,null,7,0,null,null,0,"ha. a. kr.",0,null,0,"tim. a. kr.",0]
[{"$f":"CheckOne($I$92,G316)","v":false},null,null,null,null,null,4,null,null,null,null,8,0,null,null,0,"ha. a. kr.",0,null,0,"tim. a. kr.",0]
[{"$f":"CheckOne($I$93,G316)","v":false},null,null,null,null,null,4,null,null,null,null,9,0,null,null,0,"ha. a. kr.",0,null,0,"tim. a. kr.",0]
[{"$f":"CheckOne($I$94,G316)","v":false},null,null,null,null,null,4,null,null,null,null,10,0,null,null,0,"ha. a. kr.",0,null,0,"tim. a. kr.",0]
[{"$f":"CheckOne($I$95,G316)","v":false},null,null,null,null,null,4,null,null,null,null,11,0,null,null,0,"ha. a. kr.",0,null,0,"tim. a. kr.",0]
[{"$f":"CheckOne($I$96,G316)","v":false},null,null,null,null,null,4,null,null,null,null,12,0,null,null,0,"ha. a. kr.",0,null,0,"tim. a. kr.",0]
[{"$f":"CheckOne($I$97,G316)","v":false},null,null,null,null,null,4,null,null,null,null,13,0,null,null,0,"ha. a. kr.",0,null,0,"tim. a. kr.",0]
[{"$f":"CheckOne($I$98,G316)","v":false},null,null,null,null,null,4,null,null,null,null,14,0,null,null,0,"ha. a. kr.",0,null,0,"tim. a. kr.",0]
[{"$f":"CheckOne($I$99,G316)","v":false},null,null,null,null,null,4,null,null,null,null,15,0,null,null,0,"ha. a. kr.",0,null,0,"tim. a. kr.",0]
[{"$f":"CheckOne($I$100,G316)","v":false},null,null,null,null,null,4,null,null,null,null,16,0,null,null,0,"ha. a. kr.",0,null,0,"tim. a. kr.",0]
[{"$f":"CheckOne($I$101,G316)","v":false},null,null,null,null,null,4,null,null,null,null,17,0,null,null,0,"ha. a. kr.",0,null,0,"tim. a. kr.",0]
[{"$f":"CheckOne($I$102,G316)","v":false},null,null,null,null,null,4,null,null,null,null,18,0,null,null,0,"ha. a. kr.",0,null,0,"tim. a. kr.",0]
[{"$f":"CheckOne($I$103,G316)","v":false},null,null,null,null,null,4,null,null,null,null,19,0,null,null,0,"ha. a. kr.",0,null,0,"tim. a. kr.",0]
[{"$f":"CheckOne($I$104,G316)","v":false},null,null,null,null,null,4,null,null,null,null,20,0,null,null,0,"ha. a. kr.",0,null,0,"tim. a. kr.",0]
[{"$f":"CheckOne($I$105,G316)","v":false},null,null,null,null,null,4,null,null,null,null,21,0,null,null,0,"ha. a. kr.",0,null,0,"tim. a. kr.",0]
[{"$f":"CheckOne($I$106,G316)","v":false},null,null,null,null,null,4,null,null,null,null,22,0,null,null,0,"ha. a. kr.",0,null,0,"tim. a. kr.",0]
[{"$f":"CheckOne($I$107,G316)","v":false},null,null,null,null,null,4,null,null,null,null,23,0,null,null,0,"ha. a. kr.",0,null,0,"tim. a. kr.",0]
[{"$f":"CheckOne($I$108,G316)","v":false},null,null,null,null,null,4,null,null,null,null,24,0,null,null,0,"ha. a. kr.",0,null,0,"tim. a. kr.",0]
[{"$f":"CheckOne($I$109,G316)","v":false},null,null,null,null,null,4,null,null,null,null,25,0,null,null,0,"ha. a. kr.",0,null,0,"tim. a. kr.",0]
[{"$f":"CheckOne($I$110,G316)","v":false},null,null,null,null,null,4,null,null,null,null,26,0,null,null,0,"ha. a. kr.",0,null,0,"tim. a. kr.",0]
[{"$f":"CheckOne($I$111,G316)","v":false},null,null,null,null,null,4,null,null,null,null,27,0,null,null,0,"ha. a. kr.",0,null,0,"tim. a. kr.",0]
[{"$f":"CheckOne($I$112,G316)","v":false},null,null,null,null,null,4,null,null,null,null,28,0,null,null,0,"ha. a. kr.",0,null,0,"tim. a. kr.",0]
[{"$f":"CheckOne($I$113,G316)","v":false},null,null,null,null,null,4,null,null,null,null,29,0,null,null,0,"ha. a. kr.",0,null,0,"tim. a. kr.",0]
[{"$f":"CheckOne($I$114,G316)","v":false},null,null,null,null,null,4,null,null,null,null,30,0,null,null,0,"ha. a. kr.",0,null,0,"tim. a. kr.",0]
[{"$f":"CheckOne($I$115,G316)","v":false},null,null,null,null,null,4,null,null,null,null,31,0,null,null,0,"ha. a. kr.",0,null,0,"tim. a. kr.",0]
[{"$f":"CheckOne($I$116,G316)","v":false},null,null,null,null,null,4,null,null,null,null,32,0,null,null,0,"ha. a. kr.",0,null,0,"tim. a. kr.",0]
[{"$f":"CheckOne($I$117,G316)","v":false},null,null,null,null,null,4,null,null,null,null,33,0,null,null,0,"ha. a. kr.",0,null,0,"tim. a. kr.",0]
[{"$f":"CheckOne($I$118,G316)","v":false},null,null,null,null,null,4,null,null,null,null,34,0,null,null,0,"ha. a. kr.",0,null,0,"tim. a. kr.",0]
[{"$f":"CheckOne($I$119,G316)","v":false},null,null,null,null,null,4,null,null,null,null,35,0,null,null,0,"ha. a. kr.",0,null,0,"tim. a. kr.",0]
[{"$f":"CheckOne($I$120,G316)","v":false},null,null,null,null,null,4,null,null,null,null,36,0,null,null,0,"ha. a. kr.",0,null,0,"tim. a. kr.",0]
[{"$f":"CheckOne($I$121,G316)","v":false},null,null,null,null,null,4,null,null,null,null,37,0,null,null,0,"ha. a. kr.",0,null,0,"tim. a. kr.",0]
[{"$f":"CheckOne($I$122,G316)","v":false},null,null,null,null,null,4,null,null,null,null,38,0,null,null,0,"ha. a. kr.",0,null,0,"tim. a. kr.",0]
[{"$f":"CheckOne($I$123,G316)","v":false},null,null,null,null,null,4,null,null,null,null,39,0,null,null,0,"ha. a. kr.",0,null,0,"tim. a. kr.",0]
[{"$f":"CheckOne($I$124,G316)","v":false},null,null,null,null,null,4,null,null,null,null,40,0,null,null,0,"ha. a. kr.",0,null,0,"tim. a. kr.",0]
[{"$f":"CheckOne($I$125,G316)","v":false},null,null,null,null,null,4,null,null,null,null,41,0,null,null,0,"ha. a. kr.",0,null,0,"tim. a. kr.",0]
[{"$f":"CheckOne($I$126,G316)","v":false},null,null,null,null,null,4,null,null,null,null,42,0,null,null,0,"ha. a. kr.",0,null,0,"tim. a. kr.",0]
[{"$f":"CheckOne($I$127,G316)","v":false},null,null,null,null,null,4,null,null,null,null,43,0,null,null,0,"ha. a. kr.",0,null,0,"tim. a. kr.",0]
[{"$f":"CheckOne($I$128,G316)","v":false},null,null,null,null,null,4,null,null,null,null,44,0,null,null,0,"ha. a. kr.",0,null,0,"tim. a. kr.",0]
[{"$f":"CheckOne($I$129,G316)","v":false},null,null,null,null,null,4,null,null,null,null,45,0,null,null,0,"ha. a. kr.",0,null,0,"tim. a. kr.",0]
[{"$f":"CheckOne($I$130,G316)","v":false},null,null,null,null,null,4,null,null,null,null,46,0,null,null,0,"ha. a. kr.",0,null,0,"tim. a. kr.",0]
[{"$f":"CheckOne($I$131,G316)","v":false},null,null,null,null,null,4,null,null,null,null,47,0,null,null,0,"ha. a. kr.",0,null,0,"tim. a. kr.",0]
[{"$f":"CheckOne($I$132,G316)","v":false},null,null,null,null,null,4,null,null,null,null,48,0,null,null,0,"ha. a. kr.",0,null,0,"tim. a. kr.",0]
[{"$f":"CheckOne($I$133,G316)","v":false},null,null,null,null,null,4,null,null,null,null,49,0,null,null,0,"ha. a. kr.",0,null,0,"tim. a. kr.",0]
[{"$f":"CheckOne($I$134,G316)","v":false},null,null,null,null,null,4,null,null,null,null,50,0,null,null,0,"ha. a. kr.",0,null,0,"tim. a. kr.",0]
[{"$f":"OR(T371<>0)","v":false},null,null,null,null,null,null,null,null,null,null,null,"Ufordelte omkostninger",null,null,null,null,null,null,0,"tim. a. kr.",0]
[{"$f":"A315","v":false},null,null,null,null,null,null,null,null,null,null,"I alt",null,null,null,null,null,null,null,{"$f":"SUMIF(A321:A370,TRUE,T321:T370)","v":0},"timer"]
[{"$f":"A372","v":false}]
[{"$f":"OR(L374<>0,P375<>0,T378<>0,R377<>0)","v":false},null,null,null,null,"nr.","id",null,null,null,null,{"$f":"VLOOKUP(F375,$L$31:$AE$80,2,FALSE)","v":0},null,null,null,null,null,null,"i alt",null,null,"pr. time."]
[{"$f":"A374","v":false},null,null,null,null,{"$f":"F316+1","v":5},{"$f":"VLOOKUP(F375,$F$31:$J$80,5,FALSE)","v":1},null,null,null,null,"Værdi primo:",null,null,null,{"$f":"VLOOKUP(F375,$L$31:$AE$80,6,FALSE)","v":0},"Brændst.",{"$f":"VLOOKUP(F375,$L$31:$AE$80,15,FALSE)","v":0},"GKO",{"$f":"VLOOKUP(F375,$L$31:$AE$80,10,FALSE)","v":0},"GKE",{"$f":"IFERROR(+T375/R377,\"\")","v":""}]
[{"$f":"A375","v":false},null,null,null,null,null,{"$f":"G375","v":1},null,null,null,null,"Levetid:",null,null,null,{"$f":"VLOOKUP(F375,$L$31:$AE$80,7,FALSE)","v":0},"Vedl.",{"$f":"VLOOKUP(F375,$L$31:$AE$80,14,FALSE)","v":0},"KKO",{"$f":"VLOOKUP(F375,$L$31:$AE$80,13,FALSE)","v":0},"KKE",{"$f":"IFERROR(+T376/R377,\"\")","v":""}]
[false,null,null,null,null,null,{"$f":"G376","v":1},null,null,null,null,"Afskrivningspct:",null,null,null,{"$f":"VLOOKUP(F375,$L$31:$AE$80,8,FALSE)","v":0},"Anvendt",{"$f":"VLOOKUP(F375,$L$31:$AE$80,18,FALSE)","v":0},"VO",{"$f":"+R377*V377","v":0},"VE",{"$f":"VLOOKUP(F375,$L$31:$AE$80,17,FALSE)","v":0}]
[false,null,null,null,null,null,1,null,null,null,null,"Scrapværdi:",null,null,null,{"$f":"VLOOKUP(F375,$L$31:$AE$80,9,FALSE)","v":0},null,null,"TO",{"$f":"+T375+T376+T377","v":0},"TE",{"$f":"IFERROR(+V375+V376+V377,\"\")","v":""}]
[false,null,null,null,null,null,1,null,null,null,null,"Opgaver:"]
[{"$f":"CheckOne($I$85,G375)","v":false},null,null,null,null,null,1,null,null,null,null,{"$f":"L321:L370","v":1},{"$f":"M321:M371","v":0},null,null,{"$f":"$Z$85:$Z$134","v":0},{"$f":"$AA$85:$AA$134&\" a. kr.\"","v":"ha. a. kr."},{"$f":"$AG$85:$AG$134","v":0},null,{"$f":"$AB$85:$AB$135","v":0},"tim. a. kr.",{"$f":"_xlfn.ANCHORARRAY($AF$85)","v":0}]
[{"$f":"CheckOne($I$86,G375)","v":false},null,null,null,null,null,1,null,null,null,null,2,0,null,null,0,"ha. a. kr.",0,null,0,"tim. a. kr.",0]
[{"$f":"CheckOne($I$87,G375)","v":false},null,null,null,null,null,1,null,null,null,null,3,0,null,null,0,"ha. a. kr.",0,null,0,"tim. a. kr.",0]
[{"$f":"CheckOne($I$88,G375)","v":false},null,null,null,null,null,1,null,null,null,null,4,0,null,null,0,"ha. a. kr.",0,null,0,"tim. a. kr.",0]
[{"$f":"CheckOne($I$89,G375)","v":false},null,null,null,null,null,1,null,null,null,null,5,0,null,null,0,"ha. a. kr.",0,null,0,"tim. a. kr.",0]
[{"$f":"CheckOne($I$90,G375)","v":false},null,null,null,null,null,1,null,null,null,null,6,0,null,null,0,"ha. a. kr.",0,null,0,"tim. a. kr.",0]
[{"$f":"CheckOne($I$91,G375)","v":false},null,null,null,null,null,1,null,null,null,null,7,0,null,null,0,"ha. a. kr.",0,null,0,"tim. a. kr.",0]
[{"$f":"CheckOne($I$92,G375)","v":false},null,null,null,null,null,1,null,null,null,null,8,0,null,null,0,"ha. a. kr.",0,null,0,"tim. a. kr.",0]
[{"$f":"CheckOne($I$93,G375)","v":false},null,null,null,null,null,1,null,null,null,null,9,0,null,null,0,"ha. a. kr.",0,null,0,"tim. a. kr.",0]
[{"$f":"CheckOne($I$94,G375)","v":false},null,null,null,null,null,1,null,null,null,null,10,0,null,null,0,"ha. a. kr.",0,null,0,"tim. a. kr.",0]
[{"$f":"CheckOne($I$95,G375)","v":false},null,null,null,null,null,1,null,null,null,null,11,0,null,null,0,"ha. a. kr.",0,null,0,"tim. a. kr.",0]
[{"$f":"CheckOne($I$96,G375)","v":false},null,null,null,null,null,1,null,null,null,null,12,0,null,null,0,"ha. a. kr.",0,null,0,"tim. a. kr.",0]
[{"$f":"CheckOne($I$97,G375)","v":false},null,null,null,null,null,1,null,null,null,null,13,0,null,null,0,"ha. a. kr.",0,null,0,"tim. a. kr.",0]
[{"$f":"CheckOne($I$98,G375)","v":false},null,null,null,null,null,1,null,null,null,null,14,0,null,null,0,"ha. a. kr.",0,null,0,"tim. a. kr.",0]
[{"$f":"CheckOne($I$99,G375)","v":false},null,null,null,null,null,1,null,null,null,null,15,0,null,null,0,"ha. a. kr.",0,null,0,"tim. a. kr.",0]
[{"$f":"CheckOne($I$100,G375)","v":false},null,null,null,null,null,1,null,null,null,null,16,0,null,null,0,"ha. a. kr.",0,null,0,"tim. a. kr.",0]
[{"$f":"CheckOne($I$101,G375)","v":false},null,null,null,null,null,1,null,null,null,null,17,0,null,null,0,"ha. a. kr.",0,null,0,"tim. a. kr.",0]
[{"$f":"CheckOne($I$102,G375)","v":false},null,null,null,null,null,1,null,null,null,null,18,0,null,null,0,"ha. a. kr.",0,null,0,"tim. a. kr.",0]
[{"$f":"CheckOne($I$103,G375)","v":false},null,null,null,null,null,1,null,null,null,null,19,0,null,null,0,"ha. a. kr.",0,null,0,"tim. a. kr.",0]
[{"$f":"CheckOne($I$104,G375)","v":false},null,null,null,null,null,1,null,null,null,null,20,0,null,null,0,"ha. a. kr.",0,null,0,"tim. a. kr.",0]
[{"$f":"CheckOne($I$105,G375)","v":false},null,null,null,null,null,1,null,null,null,null,21,0,null,null,0,"ha. a. kr.",0,null,0,"tim. a. kr.",0]
[{"$f":"CheckOne($I$106,G375)","v":false},null,null,null,null,null,1,null,null,null,null,22,0,null,null,0,"ha. a. kr.",0,null,0,"tim. a. kr.",0]
[{"$f":"CheckOne($I$107,G375)","v":false},null,null,null,null,null,1,null,null,null,null,23,0,null,null,0,"ha. a. kr.",0,null,0,"tim. a. kr.",0]
[{"$f":"CheckOne($I$108,G375)","v":false},null,null,null,null,null,1,null,null,null,null,24,0,null,null,0,"ha. a. kr.",0,null,0,"tim. a. kr.",0]
[{"$f":"CheckOne($I$109,G375)","v":false},null,null,null,null,null,1,null,null,null,null,25,0,null,null,0,"ha. a. kr.",0,null,0,"tim. a. kr.",0]
[{"$f":"CheckOne($I$110,G375)","v":false},null,null,null,null,null,1,null,null,null,null,26,0,null,null,0,"ha. a. kr.",0,null,0,"tim. a. kr.",0]
[{"$f":"CheckOne($I$111,G375)","v":false},null,null,null,null,null,1,null,null,null,null,27,0,null,null,0,"ha. a. kr.",0,null,0,"tim. a. kr.",0]
[{"$f":"CheckOne($I$112,G375)","v":false},null,null,null,null,null,1,null,null,null,null,28,0,null,null,0,"ha. a. kr.",0,null,0,"tim. a. kr.",0]
[{"$f":"CheckOne($I$113,G375)","v":false},null,null,null,null,null,1,null,null,null,null,29,0,null,null,0,"ha. a. kr.",0,null,0,"tim. a. kr.",0]
[{"$f":"CheckOne($I$114,G375)","v":false},null,null,null,null,null,1,null,null,null,null,30,0,null,null,0,"ha. a. kr.",0,null,0,"tim. a. kr.",0]
[{"$f":"CheckOne($I$115,G375)","v":false},null,null,null,null,null,1,null,null,null,null,31,0,null,null,0,"ha. a. kr.",0,null,0,"tim. a. kr.",0]
[{"$f":"CheckOne($I$116,G375)","v":false},null,null,null,null,null,1,null,null,null,null,32,0,null,null,0,"ha. a. kr.",0,null,0,"tim. a. kr.",0]
[{"$f":"CheckOne($I$117,G375)","v":false},null,null,null,null,null,1,null,null,null,null,33,0,null,null,0,"ha. a. kr.",0,null,0,"tim. a. kr.",0]
[{"$f":"CheckOne($I$118,G375)","v":false},null,null,null,null,null,1,null,null,null,null,34,0,null,null,0,"ha. a. kr.",0,null,0,"tim. a. kr.",0]
[{"$f":"CheckOne($I$119,G375)","v":false},null,null,null,null,null,1,null,null,null,null,35,0,null,null,0,"ha. a. kr.",0,null,0,"tim. a. kr.",0]
[{"$f":"CheckOne($I$120,G375)","v":false},null,null,null,null,null,1,null,null,null,null,36,0,null,null,0,"ha. a. kr.",0,null,0,"tim. a. kr.",0]
[{"$f":"CheckOne($I$121,G375)","v":false},null,null,null,null,null,1,null,null,null,null,37,0,null,null,0,"ha. a. kr.",0,null,0,"tim. a. kr.",0]
[{"$f":"CheckOne($I$122,G375)","v":false},null,null,null,null,null,1,null,null,null,null,38,0,null,null,0,"ha. a. kr.",0,null,0,"tim. a. kr.",0]
[{"$f":"CheckOne($I$123,G375)","v":false},null,null,null,null,null,1,null,null,null,null,39,0,null,null,0,"ha. a. kr.",0,null,0,"tim. a. kr.",0]
[{"$f":"CheckOne($I$124,G375)","v":false},null,null,null,null,null,1,null,null,null,null,40,0,null,null,0,"ha. a. kr.",0,null,0,"tim. a. kr.",0]
[{"$f":"CheckOne($I$125,G375)","v":false},null,null,null,null,null,1,null,null,null,null,41,0,null,null,0,"ha. a. kr.",0,null,0,"tim. a. kr.",0]
[{"$f":"CheckOne($I$126,G375)","v":false},null,null,null,null,null,1,null,null,null,null,42,0,null,null,0,"ha. a. kr.",0,null,0,"tim. a. kr.",0]
[{"$f":"CheckOne($I$127,G375)","v":false},null,null,null,null,null,1,null,null,null,null,43,0,null,null,0,"ha. a. kr.",0,null,0,"tim. a. kr.",0]
[{"$f":"CheckOne($I$128,G375)","v":false},null,null,null,null,null,1,null,null,null,null,44,0,null,null,0,"ha. a. kr.",0,null,0,"tim. a. kr.",0]
[{"$f":"CheckOne($I$129,G375)","v":false},null,null,null,null,null,1,null,null,null,null,45,0,null,null,0,"ha. a. kr.",0,null,0,"tim. a. kr.",0]
[{"$f":"CheckOne($I$130,G375)","v":false},null,null,null,null,null,1,null,null,null,null,46,0,null,null,0,"ha. a. kr.",0,null,0,"tim. a. kr.",0]
[{"$f":"CheckOne($I$131,G375)","v":false},null,null,null,null,null,1,null,null,null,null,47,0,null,null,0,"ha. a. kr.",0,null,0,"tim. a. kr.",0]
[{"$f":"CheckOne($I$132,G375)","v":false},null,null,null,null,null,1,null,null,null,null,48,0,null,null,0,"ha. a. kr.",0,null,0,"tim. a. kr.",0]
[{"$f":"CheckOne($I$133,G375)","v":false},null,null,null,null,null,1,null,null,null,null,49,0,null,null,0,"ha. a. kr.",0,null,0,"tim. a. kr.",0]
[{"$f":"CheckOne($I$134,G375)","v":false},null,null,null,null,null,1,null,null,null,null,50,0,null,null,0,"ha. a. kr.",0,null,0,"tim. a. kr.",0]
[{"$f":"OR(T430<>0)","v":false},null,null,null,null,null,null,null,null,null,null,null,"Ufordelte omkostninger",null,null,null,null,null,null,0,"tim. a. kr.",0]
[{"$f":"A374","v":false},null,null,null,null,null,null,null,null,null,null,"I alt",null,null,null,null,null,null,null,{"$f":"SUMIF(A380:A429,TRUE,T380:T429)","v":0},"timer"]
[{"$f":"A431","v":false}]
[{"$f":"OR(L433<>0,P434<>0,T437<>0,R436<>0)","v":false},null,null,null,null,"nr.","id",null,null,null,null,{"$f":"VLOOKUP(F434,$L$31:$AE$80,2,FALSE)","v":0},null,null,null,null,null,null,"i alt",null,null,"pr. time."]
[{"$f":"A433","v":false},null,null,null,null,{"$f":"F375+1","v":6},{"$f":"VLOOKUP(F434,$F$31:$J$80,5,FALSE)","v":2},null,null,null,null,"Værdi primo:",null,null,null,{"$f":"VLOOKUP(F434,$L$31:$AE$80,6,FALSE)","v":0},"Brændst.",{"$f":"VLOOKUP(F434,$L$31:$AE$80,15,FALSE)","v":0},"GKO",{"$f":"VLOOKUP(F434,$L$31:$AE$80,10,FALSE)","v":0},"GKE",{"$f":"IFERROR(+T434/R436,\"\")","v":""}]
[{"$f":"A434","v":false},null,null,null,null,null,{"$f":"G434","v":2},null,null,null,null,"Levetid:",null,null,null,{"$f":"VLOOKUP(F434,$L$31:$AE$80,7,FALSE)","v":0},"Vedl.",{"$f":"VLOOKUP(F434,$L$31:$AE$80,14,FALSE)","v":0},"KKO",{"$f":"VLOOKUP(F434,$L$31:$AE$80,13,FALSE)","v":0},"KKE",{"$f":"IFERROR(+T435/R436,\"\")","v":""}]
[false,null,null,null,null,null,{"$f":"G435","v":2},null,null,null,null,"Afskrivningspct:",null,null,null,{"$f":"VLOOKUP(F434,$L$31:$AE$80,8,FALSE)","v":0},"Anvendt",{"$f":"VLOOKUP(F434,$L$31:$AE$80,18,FALSE)","v":0},"VO",{"$f":"+R436*V436","v":0},"VE",{"$f":"VLOOKUP(F434,$L$31:$AE$80,17,FALSE)","v":0}]
[false,null,null,null,null,null,2,null,null,null,null,"Scrapværdi:",null,null,null,{"$f":"VLOOKUP(F434,$L$31:$AE$80,9,FALSE)","v":0},null,null,"TO",{"$f":"+T434+T435+T436","v":0},"TE",{"$f":"IFERROR(+V434+V435+V436,\"\")","v":""}]
[false,null,null,null,null,null,2,null,null,null,null,"Opgaver:"]
[{"$f":"CheckOne($I$85,G434)","v":false},null,null,null,null,null,2,null,null,null,null,{"$f":"L380:L429","v":1},{"$f":"M380:M430","v":0},null,null,{"$f":"$Z$85:$Z$134","v":0},{"$f":"$AA$85:$AA$134&\" a. kr.\"","v":"ha. a. kr."},{"$f":"$AG$85:$AG$134","v":0},null,{"$f":"$AB$85:$AB$135","v":0},"tim. a. kr.",{"$f":"_xlfn.ANCHORARRAY($AF$85)","v":0}]
[{"$f":"CheckOne($I$86,G434)","v":false},null,null,null,null,null,2,null,null,null,null,2,0,null,null,0,"ha. a. kr.",0,null,0,"tim. a. kr.",0]
[{"$f":"CheckOne($I$87,G434)","v":false},null,null,null,null,null,2,null,null,null,null,3,0,null,null,0,"ha. a. kr.",0,null,0,"tim. a. kr.",0]
[{"$f":"CheckOne($I$88,G434)","v":false},null,null,null,null,null,2,null,null,null,null,4,0,null,null,0,"ha. a. kr.",0,null,0,"tim. a. kr.",0]
[{"$f":"CheckOne($I$89,G434)","v":false},null,null,null,null,null,2,null,null,null,null,5,0,null,null,0,"ha. a. kr.",0,null,0,"tim. a. kr.",0]
[{"$f":"CheckOne($I$90,G434)","v":false},null,null,null,null,null,2,null,null,null,null,6,0,null,null,0,"ha. a. kr.",0,null,0,"tim. a. kr.",0]
[{"$f":"CheckOne($I$91,G434)","v":false},null,null,null,null,null,2,null,null,null,null,7,0,null,null,0,"ha. a. kr.",0,null,0,"tim. a. kr.",0]
[{"$f":"CheckOne($I$92,G434)","v":false},null,null,null,null,null,2,null,null,null,null,8,0,null,null,0,"ha. a. kr.",0,null,0,"tim. a. kr.",0]
[{"$f":"CheckOne($I$93,G434)","v":false},null,null,null,null,null,2,null,null,null,null,9,0,null,null,0,"ha. a. kr.",0,null,0,"tim. a. kr.",0]
[{"$f":"CheckOne($I$94,G434)","v":false},null,null,null,null,null,2,null,null,null,null,10,0,null,null,0,"ha. a. kr.",0,null,0,"tim. a. kr.",0]
[{"$f":"CheckOne($I$95,G434)","v":false},null,null,null,null,null,2,null,null,null,null,11,0,null,null,0,"ha. a. kr.",0,null,0,"tim. a. kr.",0]
[{"$f":"CheckOne($I$96,G434)","v":false},null,null,null,null,null,2,null,null,null,null,12,0,null,null,0,"ha. a. kr.",0,null,0,"tim. a. kr.",0]
[{"$f":"CheckOne($I$97,G434)","v":false},null,null,null,null,null,2,null,null,null,null,13,0,null,null,0,"ha. a. kr.",0,null,0,"tim. a. kr.",0]
[{"$f":"CheckOne($I$98,G434)","v":false},null,null,null,null,null,2,null,null,null,null,14,0,null,null,0,"ha. a. kr.",0,null,0,"tim. a. kr.",0]
[{"$f":"CheckOne($I$99,G434)","v":false},null,null,null,null,null,2,null,null,null,null,15,0,null,null,0,"ha. a. kr.",0,null,0,"tim. a. kr.",0]
[{"$f":"CheckOne($I$100,G434)","v":false},null,null,null,null,null,2,null,null,null,null,16,0,null,null,0,"ha. a. kr.",0,null,0,"tim. a. kr.",0]
[{"$f":"CheckOne($I$101,G434)","v":false},null,null,null,null,null,2,null,null,null,null,17,0,null,null,0,"ha. a. kr.",0,null,0,"tim. a. kr.",0]
[{"$f":"CheckOne($I$102,G434)","v":false},null,null,null,null,null,2,null,null,null,null,18,0,null,null,0,"ha. a. kr.",0,null,0,"tim. a. kr.",0]
[{"$f":"CheckOne($I$103,G434)","v":false},null,null,null,null,null,2,null,null,null,null,19,0,null,null,0,"ha. a. kr.",0,null,0,"tim. a. kr.",0]
[{"$f":"CheckOne($I$104,G434)","v":false},null,null,null,null,null,2,null,null,null,null,20,0,null,null,0,"ha. a. kr.",0,null,0,"tim. a. kr.",0]
[{"$f":"CheckOne($I$105,G434)","v":false},null,null,null,null,null,2,null,null,null,null,21,0,null,null,0,"ha. a. kr.",0,null,0,"tim. a. kr.",0]
[{"$f":"CheckOne($I$106,G434)","v":false},null,null,null,null,null,2,null,null,null,null,22,0,null,null,0,"ha. a. kr.",0,null,0,"tim. a. kr.",0]
[{"$f":"CheckOne($I$107,G434)","v":false},null,null,null,null,null,2,null,null,null,null,23,0,null,null,0,"ha. a. kr.",0,null,0,"tim. a. kr.",0]
[{"$f":"CheckOne($I$108,G434)","v":false},null,null,null,null,null,2,null,null,null,null,24,0,null,null,0,"ha. a. kr.",0,null,0,"tim. a. kr.",0]
[{"$f":"CheckOne($I$109,G434)","v":false},null,null,null,null,null,2,null,null,null,null,25,0,null,null,0,"ha. a. kr.",0,null,0,"tim. a. kr.",0]
[{"$f":"CheckOne($I$110,G434)","v":false},null,null,null,null,null,2,null,null,null,null,26,0,null,null,0,"ha. a. kr.",0,null,0,"tim. a. kr.",0]
[{"$f":"CheckOne($I$111,G434)","v":false},null,null,null,null,null,2,null,null,null,null,27,0,null,null,0,"ha. a. kr.",0,null,0,"tim. a. kr.",0]
[{"$f":"CheckOne($I$112,G434)","v":false},null,null,null,null,null,2,null,null,null,null,28,0,null,null,0,"ha. a. kr.",0,null,0,"tim. a. kr.",0]
[{"$f":"CheckOne($I$113,G434)","v":false},null,null,null,null,null,2,null,null,null,null,29,0,null,null,0,"ha. a. kr.",0,null,0,"tim. a. kr.",0]
[{"$f":"CheckOne($I$114,G434)","v":false},null,null,null,null,null,2,null,null,null,null,30,0,null,null,0,"ha. a. kr.",0,null,0,"tim. a. kr.",0]
[{"$f":"CheckOne($I$115,G434)","v":false},null,null,null,null,null,2,null,null,null,null,31,0,null,null,0,"ha. a. kr.",0,null,0,"tim. a. kr.",0]
[{"$f":"CheckOne($I$116,G434)","v":false},null,null,null,null,null,2,null,null,null,null,32,0,null,null,0,"ha. a. kr.",0,null,0,"tim. a. kr.",0]
[{"$f":"CheckOne($I$117,G434)","v":false},null,null,null,null,null,2,null,null,null,null,33,0,null,null,0,"ha. a. kr.",0,null,0,"tim. a. kr.",0]
[{"$f":"CheckOne($I$118,G434)","v":false},null,null,null,null,null,2,null,null,null,null,34,0,null,null,0,"ha. a. kr.",0,null,0,"tim. a. kr.",0]
[{"$f":"CheckOne($I$119,G434)","v":false},null,null,null,null,null,2,null,null,null,null,35,0,null,null,0,"ha. a. kr.",0,null,0,"tim. a. kr.",0]
[{"$f":"CheckOne($I$120,G434)","v":false},null,null,null,null,null,2,null,null,null,null,36,0,null,null,0,"ha. a. kr.",0,null,0,"tim. a. kr.",0]
[{"$f":"CheckOne($I$121,G434)","v":false},null,null,null,null,null,2,null,null,null,null,37,0,null,null,0,"ha. a. kr.",0,null,0,"tim. a. kr.",0]
[{"$f":"CheckOne($I$122,G434)","v":false},null,null,null,null,null,2,null,null,null,null,38,0,null,null,0,"ha. a. kr.",0,null,0,"tim. a. kr.",0]
[{"$f":"CheckOne($I$123,G434)","v":false},null,null,null,null,null,2,null,null,null,null,39,0,null,null,0,"ha. a. kr.",0,null,0,"tim. a. kr.",0]
[{"$f":"CheckOne($I$124,G434)","v":false},null,null,null,null,null,2,null,null,null,null,40,0,null,null,0,"ha. a. kr.",0,null,0,"tim. a. kr.",0]
[{"$f":"CheckOne($I$125,G434)","v":false},null,null,null,null,null,2,null,null,null,null,41,0,null,null,0,"ha. a. kr.",0,null,0,"tim. a. kr.",0]
[{"$f":"CheckOne($I$126,G434)","v":false},null,null,null,null,null,2,null,null,null,null,42,0,null,null,0,"ha. a. kr.",0,null,0,"tim. a. kr.",0]
[{"$f":"CheckOne($I$127,G434)","v":false},null,null,null,null,null,2,null,null,null,null,43,0,null,null,0,"ha. a. kr.",0,null,0,"tim. a. kr.",0]
[{"$f":"CheckOne($I$128,G434)","v":false},null,null,null,null,null,2,null,null,null,null,44,0,null,null,0,"ha. a. kr.",0,null,0,"tim. a. kr.",0]
[{"$f":"CheckOne($I$129,G434)","v":false},null,null,null,null,null,2,null,null,null,null,45,0,null,null,0,"ha. a. kr.",0,null,0,"tim. a. kr.",0]
[{"$f":"CheckOne($I$130,G434)","v":false},null,null,null,null,null,2,null,null,null,null,46,0,null,null,0,"ha. a. kr.",0,null,0,"tim. a. kr.",0]
[{"$f":"CheckOne($I$131,G434)","v":false},null,null,null,null,null,2,null,null,null,null,47,0,null,null,0,"ha. a. kr.",0,null,0,"tim. a. kr.",0]
[{"$f":"CheckOne($I$132,G434)","v":false},null,null,null,null,null,2,null,null,null,null,48,0,null,null,0,"ha. a. kr.",0,null,0,"tim. a. kr.",0]
[{"$f":"CheckOne($I$133,G434)","v":false},null,null,null,null,null,2,null,null,null,null,49,0,null,null,0,"ha. a. kr.",0,null,0,"tim. a. kr.",0]
[{"$f":"CheckOne($I$134,G434)","v":false},null,null,null,null,null,2,null,null,null,null,50,0,null,null,0,"ha. a. kr.",0,null,0,"tim. a. kr.",0]
[{"$f":"OR(T489<>0)","v":false},null,null,null,null,null,null,null,null,null,null,null,"Ufordelte omkostninger",null,null,null,null,null,null,0,"tim. a. kr.",0]
[{"$f":"A433","v":false},null,null,null,null,null,null,null,null,null,null,"I alt",null,null,null,null,null,null,null,{"$f":"SUMIF(A439:A488,TRUE,T439:T488)","v":0},"timer"]
[{"$f":"A490","v":false}]
[{"$f":"OR(L492<>0,P493<>0,T496<>0,R495<>0)","v":false},null,null,null,null,"nr.","id",null,null,null,null,{"$f":"VLOOKUP(F493,$L$31:$AE$80,2,FALSE)","v":0},null,null,null,null,null,null,"i alt",null,null,"pr. time."]
[{"$f":"A492","v":false},null,null,null,null,{"$f":"F434+1","v":7},{"$f":"VLOOKUP(F493,$F$31:$J$80,5,FALSE)","v":6},null,null,null,null,"Værdi primo:",null,null,null,{"$f":"VLOOKUP(F493,$L$31:$AE$80,6,FALSE)","v":0},"Brændst.",{"$f":"VLOOKUP(F493,$L$31:$AE$80,15,FALSE)","v":0},"GKO",{"$f":"VLOOKUP(F493,$L$31:$AE$80,10,FALSE)","v":0},"GKE",{"$f":"IFERROR(+T493/R495,\"\")","v":""}]
[{"$f":"A493","v":false},null,null,null,null,null,{"$f":"G493","v":6},null,null,null,null,"Levetid:",null,null,null,{"$f":"VLOOKUP(F493,$L$31:$AE$80,7,FALSE)","v":0},"Vedl.",{"$f":"VLOOKUP(F493,$L$31:$AE$80,14,FALSE)","v":0},"KKO",{"$f":"VLOOKUP(F493,$L$31:$AE$80,13,FALSE)","v":0},"KKE",{"$f":"IFERROR(+T494/R495,\"\")","v":""}]
[false,null,null,null,null,null,{"$f":"G494","v":6},null,null,null,null,"Afskrivningspct:",null,null,null,{"$f":"VLOOKUP(F493,$L$31:$AE$80,8,FALSE)","v":0},"Anvendt",{"$f":"VLOOKUP(F493,$L$31:$AE$80,18,FALSE)","v":0},"VO",{"$f":"+R495*V495","v":0},"VE",{"$f":"VLOOKUP(F493,$L$31:$AE$80,17,FALSE)","v":0}]
[false,null,null,null,null,null,6,null,null,null,null,"Scrapværdi:",null,null,null,{"$f":"VLOOKUP(F493,$L$31:$AE$80,9,FALSE)","v":0},null,null,"TO",{"$f":"+T493+T494+T495","v":0},"TE",{"$f":"IFERROR(+V493+V494+V495,\"\")","v":""}]
[false,null,null,null,null,null,6,null,null,null,null,"Opgaver:"]
[{"$f":"CheckOne($I$85,G493)","v":false},null,null,null,null,null,6,null,null,null,null,{"$f":"L439:L488","v":1},{"$f":"M439:M489","v":0},null,null,{"$f":"$Z$85:$Z$134","v":0},{"$f":"$AA$85:$AA$134&\" a. kr.\"","v":"ha. a. kr."},{"$f":"$AG$85:$AG$134","v":0},null,{"$f":"$AB$85:$AB$135","v":0},"tim. a. kr.",{"$f":"_xlfn.ANCHORARRAY($AF$85)","v":0}]
[{"$f":"CheckOne($I$86,G493)","v":false},null,null,null,null,null,6,null,null,null,null,2,0,null,null,0,"ha. a. kr.",0,null,0,"tim. a. kr.",0]
[{"$f":"CheckOne($I$87,G493)","v":false},null,null,null,null,null,6,null,null,null,null,3,0,null,null,0,"ha. a. kr.",0,null,0,"tim. a. kr.",0]
[{"$f":"CheckOne($I$88,G493)","v":false},null,null,null,null,null,6,null,null,null,null,4,0,null,null,0,"ha. a. kr.",0,null,0,"tim. a. kr.",0]
[{"$f":"CheckOne($I$89,G493)","v":false},null,null,null,null,null,6,null,null,null,null,5,0,null,null,0,"ha. a. kr.",0,null,0,"tim. a. kr.",0]
[{"$f":"CheckOne($I$90,G493)","v":false},null,null,null,null,null,6,null,null,null,null,6,0,null,null,0,"ha. a. kr.",0,null,0,"tim. a. kr.",0]
[{"$f":"CheckOne($I$91,G493)","v":false},null,null,null,null,null,6,null,null,null,null,7,0,null,null,0,"ha. a. kr.",0,null,0,"tim. a. kr.",0]
[{"$f":"CheckOne($I$92,G493)","v":false},null,null,null,null,null,6,null,null,null,null,8,0,null,null,0,"ha. a. kr.",0,null,0,"tim. a. kr.",0]
[{"$f":"CheckOne($I$93,G493)","v":false},null,null,null,null,null,6,null,null,null,null,9,0,null,null,0,"ha. a. kr.",0,null,0,"tim. a. kr.",0]
[{"$f":"CheckOne($I$94,G493)","v":false},null,null,null,null,null,6,null,null,null,null,10,0,null,null,0,"ha. a. kr.",0,null,0,"tim. a. kr.",0]
[{"$f":"CheckOne($I$95,G493)","v":false},null,null,null,null,null,6,null,null,null,null,11,0,null,null,0,"ha. a. kr.",0,null,0,"tim. a. kr.",0]
[{"$f":"CheckOne($I$96,G493)","v":false},null,null,null,null,null,6,null,null,null,null,12,0,null,null,0,"ha. a. kr.",0,null,0,"tim. a. kr.",0]
[{"$f":"CheckOne($I$97,G493)","v":false},null,null,null,null,null,6,null,null,null,null,13,0,null,null,0,"ha. a. kr.",0,null,0,"tim. a. kr.",0]
[{"$f":"CheckOne($I$98,G493)","v":false},null,null,null,null,null,6,null,null,null,null,14,0,null,null,0,"ha. a. kr.",0,null,0,"tim. a. kr.",0]
[{"$f":"CheckOne($I$99,G493)","v":false},null,null,null,null,null,6,null,null,null,null,15,0,null,null,0,"ha. a. kr.",0,null,0,"tim. a. kr.",0]
[{"$f":"CheckOne($I$100,G493)","v":false},null,null,null,null,null,6,null,null,null,null,16,0,null,null,0,"ha. a. kr.",0,null,0,"tim. a. kr.",0]
[{"$f":"CheckOne($I$101,G493)","v":false},null,null,null,null,null,6,null,null,null,null,17,0,null,null,0,"ha. a. kr.",0,null,0,"tim. a. kr.",0]
[{"$f":"CheckOne($I$102,G493)","v":false},null,null,null,null,null,6,null,null,null,null,18,0,null,null,0,"ha. a. kr.",0,null,0,"tim. a. kr.",0]
[{"$f":"CheckOne($I$103,G493)","v":false},null,null,null,null,null,6,null,null,null,null,19,0,null,null,0,"ha. a. kr.",0,null,0,"tim. a. kr.",0]
[{"$f":"CheckOne($I$104,G493)","v":false},null,null,null,null,null,6,null,null,null,null,20,0,null,null,0,"ha. a. kr.",0,null,0,"tim. a. kr.",0]
[{"$f":"CheckOne($I$105,G493)","v":false},null,null,null,null,null,6,null,null,null,null,21,0,null,null,0,"ha. a. kr.",0,null,0,"tim. a. kr.",0]
[{"$f":"CheckOne($I$106,G493)","v":false},null,null,null,null,null,6,null,null,null,null,22,0,null,null,0,"ha. a. kr.",0,null,0,"tim. a. kr.",0]
[{"$f":"CheckOne($I$107,G493)","v":false},null,null,null,null,null,6,null,null,null,null,23,0,null,null,0,"ha. a. kr.",0,null,0,"tim. a. kr.",0]
[{"$f":"CheckOne($I$108,G493)","v":false},null,null,null,null,null,6,null,null,null,null,24,0,null,null,0,"ha. a. kr.",0,null,0,"tim. a. kr.",0]
[{"$f":"CheckOne($I$109,G493)","v":false},null,null,null,null,null,6,null,null,null,null,25,0,null,null,0,"ha. a. kr.",0,null,0,"tim. a. kr.",0]
[{"$f":"CheckOne($I$110,G493)","v":false},null,null,null,null,null,6,null,null,null,null,26,0,null,null,0,"ha. a. kr.",0,null,0,"tim. a. kr.",0]
[{"$f":"CheckOne($I$111,G493)","v":false},null,null,null,null,null,6,null,null,null,null,27,0,null,null,0,"ha. a. kr.",0,null,0,"tim. a. kr.",0]
[{"$f":"CheckOne($I$112,G493)","v":false},null,null,null,null,null,6,null,null,null,null,28,0,null,null,0,"ha. a. kr.",0,null,0,"tim. a. kr.",0]
[{"$f":"CheckOne($I$113,G493)","v":false},null,null,null,null,null,6,null,null,null,null,29,0,null,null,0,"ha. a. kr.",0,null,0,"tim. a. kr.",0]
[{"$f":"CheckOne($I$114,G493)","v":false},null,null,null,null,null,6,null,null,null,null,30,0,null,null,0,"ha. a. kr.",0,null,0,"tim. a. kr.",0]
[{"$f":"CheckOne($I$115,G493)","v":false},null,null,null,null,null,6,null,null,null,null,31,0,null,null,0,"ha. a. kr.",0,null,0,"tim. a. kr.",0]
[{"$f":"CheckOne($I$116,G493)","v":false},null,null,null,null,null,6,null,null,null,null,32,0,null,null,0,"ha. a. kr.",0,null,0,"tim. a. kr.",0]
[{"$f":"CheckOne($I$117,G493)","v":false},null,null,null,null,null,6,null,null,null,null,33,0,null,null,0,"ha. a. kr.",0,null,0,"tim. a. kr.",0]
[{"$f":"CheckOne($I$118,G493)","v":false},null,null,null,null,null,6,null,null,null,null,34,0,null,null,0,"ha. a. kr.",0,null,0,"tim. a. kr.",0]
[{"$f":"CheckOne($I$119,G493)","v":false},null,null,null,null,null,6,null,null,null,null,35,0,null,null,0,"ha. a. kr.",0,null,0,"tim. a. kr.",0]
[{"$f":"CheckOne($I$120,G493)","v":false},null,null,null,null,null,6,null,null,null,null,36,0,null,null,0,"ha. a. kr.",0,null,0,"tim. a. kr.",0]
[{"$f":"CheckOne($I$121,G493)","v":false},null,null,null,null,null,6,null,null,null,null,37,0,null,null,0,"ha. a. kr.",0,null,0,"tim. a. kr.",0]
[{"$f":"CheckOne($I$122,G493)","v":false},null,null,null,null,null,6,null,null,null,null,38,0,null,null,0,"ha. a. kr.",0,null,0,"tim. a. kr.",0]
[{"$f":"CheckOne($I$123,G493)","v":false},null,null,null,null,null,6,null,null,null,null,39,0,null,null,0,"ha. a. kr.",0,null,0,"tim. a. kr.",0]
[{"$f":"CheckOne($I$124,G493)","v":false},null,null,null,null,null,6,null,null,null,null,40,0,null,null,0,"ha. a. kr.",0,null,0,"tim. a. kr.",0]
[{"$f":"CheckOne($I$125,G493)","v":false},null,null,null,null,null,6,null,null,null,null,41,0,null,null,0,"ha. a. kr.",0,null,0,"tim. a. kr.",0]
[{"$f":"CheckOne($I$126,G493)","v":false},null,null,null,null,null,6,null,null,null,null,42,0,null,null,0,"ha. a. kr.",0,null,0,"tim. a. kr.",0]
[{"$f":"CheckOne($I$127,G493)","v":false},null,null,null,null,null,6,null,null,null,null,43,0,null,null,0,"ha. a. kr.",0,null,0,"tim. a. kr.",0]
[{"$f":"CheckOne($I$128,G493)","v":false},null,null,null,null,null,6,null,null,null,null,44,0,null,null,0,"ha. a. kr.",0,null,0,"tim. a. kr.",0]
[{"$f":"CheckOne($I$129,G493)","v":false},null,null,null,null,null,6,null,null,null,null,45,0,null,null,0,"ha. a. kr.",0,null,0,"tim. a. kr.",0]
[{"$f":"CheckOne($I$130,G493)","v":false},null,null,null,null,null,6,null,null,null,null,46,0,null,null,0,"ha. a. kr.",0,null,0,"tim. a. kr.",0]
[{"$f":"CheckOne($I$131,G493)","v":false},null,null,null,null,null,6,null,null,null,null,47,0,null,null,0,"ha. a. kr.",0,null,0,"tim. a. kr.",0]
[{"$f":"CheckOne($I$132,G493)","v":false},null,null,null,null,null,6,null,null,null,null,48,0,null,null,0,"ha. a. kr.",0,null,0,"tim. a. kr.",0]
[{"$f":"CheckOne($I$133,G493)","v":false},null,null,null,null,null,6,null,null,null,null,49,0,null,null,0,"ha. a. kr.",0,null,0,"tim. a. kr.",0]
[{"$f":"CheckOne($I$134,G493)","v":false},null,null,null,null,null,6,null,null,null,null,50,0,null,null,0,"ha. a. kr.",0,null,0,"tim. a. kr.",0]
[{"$f":"OR(T548<>0)","v":false},null,null,null,null,null,null,null,null,null,null,null,"Ufordelte omkostninger",null,null,null,null,null,null,0,"tim. a. kr.",0]
[{"$f":"A492","v":false},null,null,null,null,null,null,null,null,null,null,"I alt",null,null,null,null,null,null,null,{"$f":"SUMIF(A498:A547,TRUE,T498:T547)","v":0},"timer"]
[{"$f":"A549","v":false}]
[{"$f":"OR(L551<>0,P552<>0,T555<>0,R554<>0)","v":false},null,null,null,null,"nr.","id",null,null,null,null,{"$f":"VLOOKUP(F552,$L$31:$AE$80,2,FALSE)","v":0},null,null,null,null,null,null,"i alt",null,null,"pr. time."]
[{"$f":"A551","v":false},null,null,null,null,{"$f":"F493+1","v":8},{"$f":"VLOOKUP(F552,$F$31:$J$80,5,FALSE)","v":7},null,null,null,null,"Værdi primo:",null,null,null,{"$f":"VLOOKUP(F552,$L$31:$AE$80,6,FALSE)","v":0},"Brændst.",{"$f":"VLOOKUP(F552,$L$31:$AE$80,15,FALSE)","v":0},"GKO",{"$f":"VLOOKUP(F552,$L$31:$AE$80,10,FALSE)","v":0},"GKE",{"$f":"IFERROR(+T552/R554,\"\")","v":""}]
[{"$f":"A552","v":false},null,null,null,null,null,{"$f":"G552","v":7},null,null,null,null,"Levetid:",null,null,null,{"$f":"VLOOKUP(F552,$L$31:$AE$80,7,FALSE)","v":0},"Vedl.",{"$f":"VLOOKUP(F552,$L$31:$AE$80,14,FALSE)","v":0},"KKO",{"$f":"VLOOKUP(F552,$L$31:$AE$80,13,FALSE)","v":0},"KKE",{"$f":"IFERROR(+T553/R554,\"\")","v":""}]
[false,null,null,null,null,null,{"$f":"G553","v":7},null,null,null,null,"Afskrivningspct:",null,null,null,{"$f":"VLOOKUP(F552,$L$31:$AE$80,8,FALSE)","v":0},"Anvendt",{"$f":"VLOOKUP(F552,$L$31:$AE$80,18,FALSE)","v":0},"VO",{"$f":"+R554*V554","v":0},"VE",{"$f":"VLOOKUP(F552,$L$31:$AE$80,17,FALSE)","v":0}]
[false,null,null,null,null,null,7,null,null,null,null,"Scrapværdi:",null,null,null,{"$f":"VLOOKUP(F552,$L$31:$AE$80,9,FALSE)","v":0},null,null,"TO",{"$f":"+T552+T553+T554","v":0},"TE",{"$f":"IFERROR(+V552+V553+V554,\"\")","v":""}]
[false,null,null,null,null,null,7,null,null,null,null,"Opgaver:"]
[{"$f":"CheckOne($I$85,G552)","v":false},null,null,null,null,null,7,null,null,null,null,{"$f":"L498:L547","v":1},{"$f":"M498:M548","v":0},null,null,{"$f":"$Z$85:$Z$134","v":0},{"$f":"$AA$85:$AA$134&\" a. kr.\"","v":"ha. a. kr."},{"$f":"$AG$85:$AG$134","v":0},null,{"$f":"$AB$85:$AB$135","v":0},"tim. a. kr.",{"$f":"_xlfn.ANCHORARRAY($AF$85)","v":0}]
[{"$f":"CheckOne($I$86,G552)","v":false},null,null,null,null,null,7,null,null,null,null,2,0,null,null,0,"ha. a. kr.",0,null,0,"tim. a. kr.",0]
[{"$f":"CheckOne($I$87,G552)","v":false},null,null,null,null,null,7,null,null,null,null,3,0,null,null,0,"ha. a. kr.",0,null,0,"tim. a. kr.",0]
[{"$f":"CheckOne($I$88,G552)","v":false},null,null,null,null,null,7,null,null,null,null,4,0,null,null,0,"ha. a. kr.",0,null,0,"tim. a. kr.",0]
[{"$f":"CheckOne($I$89,G552)","v":false},null,null,null,null,null,7,null,null,null,null,5,0,null,null,0,"ha. a. kr.",0,null,0,"tim. a. kr.",0]
[{"$f":"CheckOne($I$90,G552)","v":false},null,null,null,null,null,7,null,null,null,null,6,0,null,null,0,"ha. a. kr.",0,null,0,"tim. a. kr.",0]
[{"$f":"CheckOne($I$91,G552)","v":false},null,null,null,null,null,7,null,null,null,null,7,0,null,null,0,"ha. a. kr.",0,null,0,"tim. a. kr.",0]
[{"$f":"CheckOne($I$92,G552)","v":false},null,null,null,null,null,7,null,null,null,null,8,0,null,null,0,"ha. a. kr.",0,null,0,"tim. a. kr.",0]
[{"$f":"CheckOne($I$93,G552)","v":false},null,null,null,null,null,7,null,null,null,null,9,0,null,null,0,"ha. a. kr.",0,null,0,"tim. a. kr.",0]
[{"$f":"CheckOne($I$94,G552)","v":false},null,null,null,null,null,7,null,null,null,null,10,0,null,null,0,"ha. a. kr.",0,null,0,"tim. a. kr.",0]
[{"$f":"CheckOne($I$95,G552)","v":false},null,null,null,null,null,7,null,null,null,null,11,0,null,null,0,"ha. a. kr.",0,null,0,"tim. a. kr.",0]
[{"$f":"CheckOne($I$96,G552)","v":false},null,null,null,null,null,7,null,null,null,null,12,0,null,null,0,"ha. a. kr.",0,null,0,"tim. a. kr.",0]
[{"$f":"CheckOne($I$97,G552)","v":false},null,null,null,null,null,7,null,null,null,null,13,0,null,null,0,"ha. a. kr.",0,null,0,"tim. a. kr.",0]
[{"$f":"CheckOne($I$98,G552)","v":false},null,null,null,null,null,7,null,null,null,null,14,0,null,null,0,"ha. a. kr.",0,null,0,"tim. a. kr.",0]
[{"$f":"CheckOne($I$99,G552)","v":false},null,null,null,null,null,7,null,null,null,null,15,0,null,null,0,"ha. a. kr.",0,null,0,"tim. a. kr.",0]
[{"$f":"CheckOne($I$100,G552)","v":false},null,null,null,null,null,7,null,null,null,null,16,0,null,null,0,"ha. a. kr.",0,null,0,"tim. a. kr.",0]
[{"$f":"CheckOne($I$101,G552)","v":false},null,null,null,null,null,7,null,null,null,null,17,0,null,null,0,"ha. a. kr.",0,null,0,"tim. a. kr.",0]
[{"$f":"CheckOne($I$102,G552)","v":false},null,null,null,null,null,7,null,null,null,null,18,0,null,null,0,"ha. a. kr.",0,null,0,"tim. a. kr.",0]
[{"$f":"CheckOne($I$103,G552)","v":false},null,null,null,null,null,7,null,null,null,null,19,0,null,null,0,"ha. a. kr.",0,null,0,"tim. a. kr.",0]
[{"$f":"CheckOne($I$104,G552)","v":false},null,null,null,null,null,7,null,null,null,null,20,0,null,null,0,"ha. a. kr.",0,null,0,"tim. a. kr.",0]
[{"$f":"CheckOne($I$105,G552)","v":false},null,null,null,null,null,7,null,null,null,null,21,0,null,null,0,"ha. a. kr.",0,null,0,"tim. a. kr.",0]
[{"$f":"CheckOne($I$106,G552)","v":false},null,null,null,null,null,7,null,null,null,null,22,0,null,null,0,"ha. a. kr.",0,null,0,"tim. a. kr.",0]
[{"$f":"CheckOne($I$107,G552)","v":false},null,null,null,null,null,7,null,null,null,null,23,0,null,null,0,"ha. a. kr.",0,null,0,"tim. a. kr.",0]
[{"$f":"CheckOne($I$108,G552)","v":false},null,null,null,null,null,7,null,null,null,null,24,0,null,null,0,"ha. a. kr.",0,null,0,"tim. a. kr.",0]
[{"$f":"CheckOne($I$109,G552)","v":false},null,null,null,null,null,7,null,null,null,null,25,0,null,null,0,"ha. a. kr.",0,null,0,"tim. a. kr.",0]
[{"$f":"CheckOne($I$110,G552)","v":false},null,null,null,null,null,7,null,null,null,null,26,0,null,null,0,"ha. a. kr.",0,null,0,"tim. a. kr.",0]
[{"$f":"CheckOne($I$111,G552)","v":false},null,null,null,null,null,7,null,null,null,null,27,0,null,null,0,"ha. a. kr.",0,null,0,"tim. a. kr.",0]
[{"$f":"CheckOne($I$112,G552)","v":false},null,null,null,null,null,7,null,null,null,null,28,0,null,null,0,"ha. a. kr.",0,null,0,"tim. a. kr.",0]
[{"$f":"CheckOne($I$113,G552)","v":false},null,null,null,null,null,7,null,null,null,null,29,0,null,null,0,"ha. a. kr.",0,null,0,"tim. a. kr.",0]
[{"$f":"CheckOne($I$114,G552)","v":false},null,null,null,null,null,7,null,null,null,null,30,0,null,null,0,"ha. a. kr.",0,null,0,"tim. a. kr.",0]
[{"$f":"CheckOne($I$115,G552)","v":false},null,null,null,null,null,7,null,null,null,null,31,0,null,null,0,"ha. a. kr.",0,null,0,"tim. a. kr.",0]
[{"$f":"CheckOne($I$116,G552)","v":false},null,null,null,null,null,7,null,null,null,null,32,0,null,null,0,"ha. a. kr.",0,null,0,"tim. a. kr.",0]
[{"$f":"CheckOne($I$117,G552)","v":false},null,null,null,null,null,7,null,null,null,null,33,0,null,null,0,"ha. a. kr.",0,null,0,"tim. a. kr.",0]
[{"$f":"CheckOne($I$118,G552)","v":false},null,null,null,null,null,7,null,null,null,null,34,0,null,null,0,"ha. a. kr.",0,null,0,"tim. a. kr.",0]
[{"$f":"CheckOne($I$119,G552)","v":false},null,null,null,null,null,7,null,null,null,null,35,0,null,null,0,"ha. a. kr.",0,null,0,"tim. a. kr.",0]
[{"$f":"CheckOne($I$120,G552)","v":false},null,null,null,null,null,7,null,null,null,null,36,0,null,null,0,"ha. a. kr.",0,null,0,"tim. a. kr.",0]
[{"$f":"CheckOne($I$121,G552)","v":false},null,null,null,null,null,7,null,null,null,null,37,0,null,null,0,"ha. a. kr.",0,null,0,"tim. a. kr.",0]
[{"$f":"CheckOne($I$122,G552)","v":false},null,null,null,null,null,7,null,null,null,null,38,0,null,null,0,"ha. a. kr.",0,null,0,"tim. a. kr.",0]
[{"$f":"CheckOne($I$123,G552)","v":false},null,null,null,null,null,7,null,null,null,null,39,0,null,null,0,"ha. a. kr.",0,null,0,"tim. a. kr.",0]
[{"$f":"CheckOne($I$124,G552)","v":false},null,null,null,null,null,7,null,null,null,null,40,0,null,null,0,"ha. a. kr.",0,null,0,"tim. a. kr.",0]
[{"$f":"CheckOne($I$125,G552)","v":false},null,null,null,null,null,7,null,null,null,null,41,0,null,null,0,"ha. a. kr.",0,null,0,"tim. a. kr.",0]
[{"$f":"CheckOne($I$126,G552)","v":false},null,null,null,null,null,7,null,null,null,null,42,0,null,null,0,"ha. a. kr.",0,null,0,"tim. a. kr.",0]
[{"$f":"CheckOne($I$127,G552)","v":false},null,null,null,null,null,7,null,null,null,null,43,0,null,null,0,"ha. a. kr.",0,null,0,"tim. a. kr.",0]
[{"$f":"CheckOne($I$128,G552)","v":false},null,null,null,null,null,7,null,null,null,null,44,0,null,null,0,"ha. a. kr.",0,null,0,"tim. a. kr.",0]
[{"$f":"CheckOne($I$129,G552)","v":false},null,null,null,null,null,7,null,null,null,null,45,0,null,null,0,"ha. a. kr.",0,null,0,"tim. a. kr.",0]
[{"$f":"CheckOne($I$130,G552)","v":false},null,null,null,null,null,7,null,null,null,null,46,0,null,null,0,"ha. a. kr.",0,null,0,"tim. a. kr.",0]
[{"$f":"CheckOne($I$131,G552)","v":false},null,null,null,null,null,7,null,null,null,null,47,0,null,null,0,"ha. a. kr.",0,null,0,"tim. a. kr.",0]
[{"$f":"CheckOne($I$132,G552)","v":false},null,null,null,null,null,7,null,null,null,null,48,0,null,null,0,"ha. a. kr.",0,null,0,"tim. a. kr.",0]
[{"$f":"CheckOne($I$133,G552)","v":false},null,null,null,null,null,7,null,null,null,null,49,0,null,null,0,"ha. a. kr.",0,null,0,"tim. a. kr.",0]
[{"$f":"CheckOne($I$134,G552)","v":false},null,null,null,null,null,7,null,null,null,null,50,0,null,null,0,"ha. a. kr.",0,null,0,"tim. a. kr.",0]
[{"$f":"OR(T607<>0)","v":false},null,null,null,null,null,null,null,null,null,null,null,"Ufordelte omkostninger",null,null,null,null,null,null,0,"tim. a. kr.",0]
[{"$f":"A551","v":false},null,null,null,null,null,null,null,null,null,null,"I alt",null,null,null,null,null,null,null,{"$f":"SUMIF(A557:A606,TRUE,T557:T606)","v":0},"timer"]
[{"$f":"A608","v":false}]
[{"$f":"OR(L610<>0,P611<>0,T614<>0,R613<>0)","v":false},null,null,null,null,"nr.","id",null,null,null,null,{"$f":"VLOOKUP(F611,$L$31:$AE$80,2,FALSE)","v":0},null,null,null,null,null,null,"i alt",null,null,"pr. time."]
[{"$f":"A610","v":false},null,null,null,null,{"$f":"F552+1","v":9},{"$f":"VLOOKUP(F611,$F$31:$J$80,5,FALSE)","v":8},null,null,null,null,"Værdi primo:",null,null,null,{"$f":"VLOOKUP(F611,$L$31:$AE$80,6,FALSE)","v":0},"Brændst.",{"$f":"VLOOKUP(F611,$L$31:$AE$80,15,FALSE)","v":0},"GKO",{"$f":"VLOOKUP(F611,$L$31:$AE$80,10,FALSE)","v":0},"GKE",{"$f":"IFERROR(+T611/R613,\"\")","v":""}]
[{"$f":"A611","v":false},null,null,null,null,null,{"$f":"G611","v":8},null,null,null,null,"Levetid:",null,null,null,{"$f":"VLOOKUP(F611,$L$31:$AE$80,7,FALSE)","v":0},"Vedl.",{"$f":"VLOOKUP(F611,$L$31:$AE$80,14,FALSE)","v":0},"KKO",{"$f":"VLOOKUP(F611,$L$31:$AE$80,13,FALSE)","v":0},"KKE",{"$f":"IFERROR(+T612/R613,\"\")","v":""}]
[false,null,null,null,null,null,{"$f":"G612","v":8},null,null,null,null,"Afskrivningspct:",null,null,null,{"$f":"VLOOKUP(F611,$L$31:$AE$80,8,FALSE)","v":0},"Anvendt",{"$f":"VLOOKUP(F611,$L$31:$AE$80,18,FALSE)","v":0},"VO",{"$f":"+R613*V613","v":0},"VE",{"$f":"VLOOKUP(F611,$L$31:$AE$80,17,FALSE)","v":0}]
[false,null,null,null,null,null,8,null,null,null,null,"Scrapværdi:",null,null,null,{"$f":"VLOOKUP(F611,$L$31:$AE$80,9,FALSE)","v":0},null,null,"TO",{"$f":"+T611+T612+T613","v":0},"TE",{"$f":"IFERROR(+V611+V612+V613,\"\")","v":""}]
[false,null,null,null,null,null,8,null,null,null,null,"Opgaver:"]
[{"$f":"CheckOne($I$85,G611)","v":false},null,null,null,null,null,8,null,null,null,null,{"$f":"L557:L606","v":1},{"$f":"M557:M607","v":0},null,null,{"$f":"$Z$85:$Z$134","v":0},{"$f":"$AA$85:$AA$134&\" a. kr.\"","v":"ha. a. kr."},{"$f":"$AG$85:$AG$134","v":0},null,{"$f":"$AB$85:$AB$135","v":0},"tim. a. kr.",{"$f":"_xlfn.ANCHORARRAY($AF$85)","v":0}]
[{"$f":"CheckOne($I$86,G611)","v":false},null,null,null,null,null,8,null,null,null,null,2,0,null,null,0,"ha. a. kr.",0,null,0,"tim. a. kr.",0]
[{"$f":"CheckOne($I$87,G611)","v":false},null,null,null,null,null,8,null,null,null,null,3,0,null,null,0,"ha. a. kr.",0,null,0,"tim. a. kr.",0]
[{"$f":"CheckOne($I$88,G611)","v":false},null,null,null,null,null,8,null,null,null,null,4,0,null,null,0,"ha. a. kr.",0,null,0,"tim. a. kr.",0]
[{"$f":"CheckOne($I$89,G611)","v":false},null,null,null,null,null,8,null,null,null,null,5,0,null,null,0,"ha. a. kr.",0,null,0,"tim. a. kr.",0]
[{"$f":"CheckOne($I$90,G611)","v":false},null,null,null,null,null,8,null,null,null,null,6,0,null,null,0,"ha. a. kr.",0,null,0,"tim. a. kr.",0]
[{"$f":"CheckOne($I$91,G611)","v":false},null,null,null,null,null,8,null,null,null,null,7,0,null,null,0,"ha. a. kr.",0,null,0,"tim. a. kr.",0]
[{"$f":"CheckOne($I$92,G611)","v":false},null,null,null,null,null,8,null,null,null,null,8,0,null,null,0,"ha. a. kr.",0,null,0,"tim. a. kr.",0]
[{"$f":"CheckOne($I$93,G611)","v":false},null,null,null,null,null,8,null,null,null,null,9,0,null,null,0,"ha. a. kr.",0,null,0,"tim. a. kr.",0]
[{"$f":"CheckOne($I$94,G611)","v":false},null,null,null,null,null,8,null,null,null,null,10,0,null,null,0,"ha. a. kr.",0,null,0,"tim. a. kr.",0]
[{"$f":"CheckOne($I$95,G611)","v":false},null,null,null,null,null,8,null,null,null,null,11,0,null,null,0,"ha. a. kr.",0,null,0,"tim. a. kr.",0]
[{"$f":"CheckOne($I$96,G611)","v":false},null,null,null,null,null,8,null,null,null,null,12,0,null,null,0,"ha. a. kr.",0,null,0,"tim. a. kr.",0]
[{"$f":"CheckOne($I$97,G611)","v":false},null,null,null,null,null,8,null,null,null,null,13,0,null,null,0,"ha. a. kr.",0,null,0,"tim. a. kr.",0]
[{"$f":"CheckOne($I$98,G611)","v":false},null,null,null,null,null,8,null,null,null,null,14,0,null,null,0,"ha. a. kr.",0,null,0,"tim. a. kr.",0]
[{"$f":"CheckOne($I$99,G611)","v":false},null,null,null,null,null,8,null,null,null,null,15,0,null,null,0,"ha. a. kr.",0,null,0,"tim. a. kr.",0]
[{"$f":"CheckOne($I$100,G611)","v":false},null,null,null,null,null,8,null,null,null,null,16,0,null,null,0,"ha. a. kr.",0,null,0,"tim. a. kr.",0]
[{"$f":"CheckOne($I$101,G611)","v":false},null,null,null,null,null,8,null,null,null,null,17,0,null,null,0,"ha. a. kr.",0,null,0,"tim. a. kr.",0]
[{"$f":"CheckOne($I$102,G611)","v":false},null,null,null,null,null,8,null,null,null,null,18,0,null,null,0,"ha. a. kr.",0,null,0,"tim. a. kr.",0]
[{"$f":"CheckOne($I$103,G611)","v":false},null,null,null,null,null,8,null,null,null,null,19,0,null,null,0,"ha. a. kr.",0,null,0,"tim. a. kr.",0]
[{"$f":"CheckOne($I$104,G611)","v":false},null,null,null,null,null,8,null,null,null,null,20,0,null,null,0,"ha. a. kr.",0,null,0,"tim. a. kr.",0]
[{"$f":"CheckOne($I$105,G611)","v":false},null,null,null,null,null,8,null,null,null,null,21,0,null,null,0,"ha. a. kr.",0,null,0,"tim. a. kr.",0]
[{"$f":"CheckOne($I$106,G611)","v":false},null,null,null,null,null,8,null,null,null,null,22,0,null,null,0,"ha. a. kr.",0,null,0,"tim. a. kr.",0]
[{"$f":"CheckOne($I$107,G611)","v":false},null,null,null,null,null,8,null,null,null,null,23,0,null,null,0,"ha. a. kr.",0,null,0,"tim. a. kr.",0]
[{"$f":"CheckOne($I$108,G611)","v":false},null,null,null,null,null,8,null,null,null,null,24,0,null,null,0,"ha. a. kr.",0,null,0,"tim. a. kr.",0]
[{"$f":"CheckOne($I$109,G611)","v":false},null,null,null,null,null,8,null,null,null,null,25,0,null,null,0,"ha. a. kr.",0,null,0,"tim. a. kr.",0]
[{"$f":"CheckOne($I$110,G611)","v":false},null,null,null,null,null,8,null,null,null,null,26,0,null,null,0,"ha. a. kr.",0,null,0,"tim. a. kr.",0]
[{"$f":"CheckOne($I$111,G611)","v":false},null,null,null,null,null,8,null,null,null,null,27,0,null,null,0,"ha. a. kr.",0,null,0,"tim. a. kr.",0]
[{"$f":"CheckOne($I$112,G611)","v":false},null,null,null,null,null,8,null,null,null,null,28,0,null,null,0,"ha. a. kr.",0,null,0,"tim. a. kr.",0]
[{"$f":"CheckOne($I$113,G611)","v":false},null,null,null,null,null,8,null,null,null,null,29,0,null,null,0,"ha. a. kr.",0,null,0,"tim. a. kr.",0]
[{"$f":"CheckOne($I$114,G611)","v":false},null,null,null,null,null,8,null,null,null,null,30,0,null,null,0,"ha. a. kr.",0,null,0,"tim. a. kr.",0]
[{"$f":"CheckOne($I$115,G611)","v":false},null,null,null,null,null,8,null,null,null,null,31,0,null,null,0,"ha. a. kr.",0,null,0,"tim. a. kr.",0]
[{"$f":"CheckOne($I$116,G611)","v":false},null,null,null,null,null,8,null,null,null,null,32,0,null,null,0,"ha. a. kr.",0,null,0,"tim. a. kr.",0]
[{"$f":"CheckOne($I$117,G611)","v":false},null,null,null,null,null,8,null,null,null,null,33,0,null,null,0,"ha. a. kr.",0,null,0,"tim. a. kr.",0]
[{"$f":"CheckOne($I$118,G611)","v":false},null,null,null,null,null,8,null,null,null,null,34,0,null,null,0,"ha. a. kr.",0,null,0,"tim. a. kr.",0]
[{"$f":"CheckOne($I$119,G611)","v":false},null,null,null,null,null,8,null,null,null,null,35,0,null,null,0,"ha. a. kr.",0,null,0,"tim. a. kr.",0]
[{"$f":"CheckOne($I$120,G611)","v":false},null,null,null,null,null,8,null,null,null,null,36,0,null,null,0,"ha. a. kr.",0,null,0,"tim. a. kr.",0]
[{"$f":"CheckOne($I$121,G611)","v":false},null,null,null,null,null,8,null,null,null,null,37,0,null,null,0,"ha. a. kr.",0,null,0,"tim. a. kr.",0]
[{"$f":"CheckOne($I$122,G611)","v":false},null,null,null,null,null,8,null,null,null,null,38,0,null,null,0,"ha. a. kr.",0,null,0,"tim. a. kr.",0]
[{"$f":"CheckOne($I$123,G611)","v":false},null,null,null,null,null,8,null,null,null,null,39,0,null,null,0,"ha. a. kr.",0,null,0,"tim. a. kr.",0]
[{"$f":"CheckOne($I$124,G611)","v":false},null,null,null,null,null,8,null,null,null,null,40,0,null,null,0,"ha. a. kr.",0,null,0,"tim. a. kr.",0]
[{"$f":"CheckOne($I$125,G611)","v":false},null,null,null,null,null,8,null,null,null,null,41,0,null,null,0,"ha. a. kr.",0,null,0,"tim. a. kr.",0]
[{"$f":"CheckOne($I$126,G611)","v":false},null,null,null,null,null,8,null,null,null,null,42,0,null,null,0,"ha. a. kr.",0,null,0,"tim. a. kr.",0]
[{"$f":"CheckOne($I$127,G611)","v":false},null,null,null,null,null,8,null,null,null,null,43,0,null,null,0,"ha. a. kr.",0,null,0,"tim. a. kr.",0]
[{"$f":"CheckOne($I$128,G611)","v":false},null,null,null,null,null,8,null,null,null,null,44,0,null,null,0,"ha. a. kr.",0,null,0,"tim. a. kr.",0]
[{"$f":"CheckOne($I$129,G611)","v":false},null,null,null,null,null,8,null,null,null,null,45,0,null,null,0,"ha. a. kr.",0,null,0,"tim. a. kr.",0]
[{"$f":"CheckOne($I$130,G611)","v":false},null,null,null,null,null,8,null,null,null,null,46,0,null,null,0,"ha. a. kr.",0,null,0,"tim. a. kr.",0]
[{"$f":"CheckOne($I$131,G611)","v":false},null,null,null,null,null,8,null,null,null,null,47,0,null,null,0,"ha. a. kr.",0,null,0,"tim. a. kr.",0]
[{"$f":"CheckOne($I$132,G611)","v":false},null,null,null,null,null,8,null,null,null,null,48,0,null,null,0,"ha. a. kr.",0,null,0,"tim. a. kr.",0]
[{"$f":"CheckOne($I$133,G611)","v":false},null,null,null,null,null,8,null,null,null,null,49,0,null,null,0,"ha. a. kr.",0,null,0,"tim. a. kr.",0]
[{"$f":"CheckOne($I$134,G611)","v":false},null,null,null,null,null,8,null,null,null,null,50,0,null,null,0,"ha. a. kr.",0,null,0,"tim. a. kr.",0]
[{"$f":"OR(T666<>0)","v":false},null,null,null,null,null,null,null,null,null,null,null,"Ufordelte omkostninger",null,null,null,null,null,null,0,"tim. a. kr.",0]
[{"$f":"A610","v":false},null,null,null,null,null,null,null,null,null,null,"I alt",null,null,null,null,null,null,null,{"$f":"SUMIF(A616:A665,TRUE,T616:T665)","v":0},"timer"]
[{"$f":"A667","v":false}]
[{"$f":"OR(L669<>0,P670<>0,T673<>0,R672<>0)","v":false},null,null,null,null,"nr.","id",null,null,null,null,{"$f":"VLOOKUP(F670,$L$31:$AE$80,2,FALSE)","v":0},null,null,null,null,null,null,"i alt",null,null,"pr. time."]
[{"$f":"A669","v":false},null,null,null,null,{"$f":"F611+1","v":10},{"$f":"VLOOKUP(F670,$F$31:$J$80,5,FALSE)","v":9},null,null,null,null,"Værdi primo:",null,null,null,{"$f":"VLOOKUP(F670,$L$31:$AE$80,6,FALSE)","v":0},"Brændst.",{"$f":"VLOOKUP(F670,$L$31:$AE$80,15,FALSE)","v":0},"GKO",{"$f":"VLOOKUP(F670,$L$31:$AE$80,10,FALSE)","v":0},"GKE",{"$f":"IFERROR(+T670/R672,\"\")","v":""}]
[{"$f":"A670","v":false},null,null,null,null,null,{"$f":"G670","v":9},null,null,null,null,"Levetid:",null,null,null,{"$f":"VLOOKUP(F670,$L$31:$AE$80,7,FALSE)","v":0},"Vedl.",{"$f":"VLOOKUP(F670,$L$31:$AE$80,14,FALSE)","v":0},"KKO",{"$f":"VLOOKUP(F670,$L$31:$AE$80,13,FALSE)","v":0},"KKE",{"$f":"IFERROR(+T671/R672,\"\")","v":""}]
[false,null,null,null,null,null,{"$f":"G671","v":9},null,null,null,null,"Afskrivningspct:",null,null,null,{"$f":"VLOOKUP(F670,$L$31:$AE$80,8,FALSE)","v":0},"Anvendt",{"$f":"VLOOKUP(F670,$L$31:$AE$80,18,FALSE)","v":0},"VO",{"$f":"+R672*V672","v":0},"VE",{"$f":"VLOOKUP(F670,$L$31:$AE$80,17,FALSE)","v":0}]
[false,null,null,null,null,null,9,null,null,null,null,"Scrapværdi:",null,null,null,{"$f":"VLOOKUP(F670,$L$31:$AE$80,9,FALSE)","v":0},null,null,"TO",{"$f":"+T670+T671+T672","v":0},"TE",{"$f":"IFERROR(+V670+V671+V672,\"\")","v":""}]
[false,null,null,null,null,null,9,null,null,null,null,"Opgaver:"]
[{"$f":"CheckOne($I$85,G670)","v":false},null,null,null,null,null,9,null,null,null,null,{"$f":"L616:L665","v":1},{"$f":"M616:M666","v":0},null,null,{"$f":"$Z$85:$Z$134","v":0},{"$f":"$AA$85:$AA$134&\" a. kr.\"","v":"ha. a. kr."},{"$f":"$AG$85:$AG$134","v":0},null,{"$f":"$AB$85:$AB$135","v":0},"tim. a. kr.",{"$f":"_xlfn.ANCHORARRAY($AF$85)","v":0}]
[{"$f":"CheckOne($I$86,G670)","v":false},null,null,null,null,null,9,null,null,null,null,2,0,null,null,0,"ha. a. kr.",0,null,0,"tim. a. kr.",0]
[{"$f":"CheckOne($I$87,G670)","v":false},null,null,null,null,null,9,null,null,null,null,3,0,null,null,0,"ha. a. kr.",0,null,0,"tim. a. kr.",0]
[{"$f":"CheckOne($I$88,G670)","v":false},null,null,null,null,null,9,null,null,null,null,4,0,null,null,0,"ha. a. kr.",0,null,0,"tim. a. kr.",0]
[{"$f":"CheckOne($I$89,G670)","v":false},null,null,null,null,null,9,null,null,null,null,5,0,null,null,0,"ha. a. kr.",0,null,0,"tim. a. kr.",0]
[{"$f":"CheckOne($I$90,G670)","v":false},null,null,null,null,null,9,null,null,null,null,6,0,null,null,0,"ha. a. kr.",0,null,0,"tim. a. kr.",0]
[{"$f":"CheckOne($I$91,G670)","v":false},null,null,null,null,null,9,null,null,null,null,7,0,null,null,0,"ha. a. kr.",0,null,0,"tim. a. kr.",0]
[{"$f":"CheckOne($I$92,G670)","v":false},null,null,null,null,null,9,null,null,null,null,8,0,null,null,0,"ha. a. kr.",0,null,0,"tim. a. kr.",0]
[{"$f":"CheckOne($I$93,G670)","v":false},null,null,null,null,null,9,null,null,null,null,9,0,null,null,0,"ha. a. kr.",0,null,0,"tim. a. kr.",0]
[{"$f":"CheckOne($I$94,G670)","v":false},null,null,null,null,null,9,null,null,null,null,10,0,null,null,0,"ha. a. kr.",0,null,0,"tim. a. kr.",0]
[{"$f":"CheckOne($I$95,G670)","v":false},null,null,null,null,null,9,null,null,null,null,11,0,null,null,0,"ha. a. kr.",0,null,0,"tim. a. kr.",0]
[{"$f":"CheckOne($I$96,G670)","v":false},null,null,null,null,null,9,null,null,null,null,12,0,null,null,0,"ha. a. kr.",0,null,0,"tim. a. kr.",0]
[{"$f":"CheckOne($I$97,G670)","v":false},null,null,null,null,null,9,null,null,null,null,13,0,null,null,0,"ha. a. kr.",0,null,0,"tim. a. kr.",0]
[{"$f":"CheckOne($I$98,G670)","v":false},null,null,null,null,null,9,null,null,null,null,14,0,null,null,0,"ha. a. kr.",0,null,0,"tim. a. kr.",0]
[{"$f":"CheckOne($I$99,G670)","v":false},null,null,null,null,null,9,null,null,null,null,15,0,null,null,0,"ha. a. kr.",0,null,0,"tim. a. kr.",0]
[{"$f":"CheckOne($I$100,G670)","v":false},null,null,null,null,null,9,null,null,null,null,16,0,null,null,0,"ha. a. kr.",0,null,0,"tim. a. kr.",0]
[{"$f":"CheckOne($I$101,G670)","v":false},null,null,null,null,null,9,null,null,null,null,17,0,null,null,0,"ha. a. kr.",0,null,0,"tim. a. kr.",0]
[{"$f":"CheckOne($I$102,G670)","v":false},null,null,null,null,null,9,null,null,null,null,18,0,null,null,0,"ha. a. kr.",0,null,0,"tim. a. kr.",0]
[{"$f":"CheckOne($I$103,G670)","v":false},null,null,null,null,null,9,null,null,null,null,19,0,null,null,0,"ha. a. kr.",0,null,0,"tim. a. kr.",0]
[{"$f":"CheckOne($I$104,G670)","v":false},null,null,null,null,null,9,null,null,null,null,20,0,null,null,0,"ha. a. kr.",0,null,0,"tim. a. kr.",0]
[{"$f":"CheckOne($I$105,G670)","v":false},null,null,null,null,null,9,null,null,null,null,21,0,null,null,0,"ha. a. kr.",0,null,0,"tim. a. kr.",0]
[{"$f":"CheckOne($I$106,G670)","v":false},null,null,null,null,null,9,null,null,null,null,22,0,null,null,0,"ha. a. kr.",0,null,0,"tim. a. kr.",0]
[{"$f":"CheckOne($I$107,G670)","v":false},null,null,null,null,null,9,null,null,null,null,23,0,null,null,0,"ha. a. kr.",0,null,0,"tim. a. kr.",0]
[{"$f":"CheckOne($I$108,G670)","v":false},null,null,null,null,null,9,null,null,null,null,24,0,null,null,0,"ha. a. kr.",0,null,0,"tim. a. kr.",0]
[{"$f":"CheckOne($I$109,G670)","v":false},null,null,null,null,null,9,null,null,null,null,25,0,null,null,0,"ha. a. kr.",0,null,0,"tim. a. kr.",0]
[{"$f":"CheckOne($I$110,G670)","v":false},null,null,null,null,null,9,null,null,null,null,26,0,null,null,0,"ha. a. kr.",0,null,0,"tim. a. kr.",0]
[{"$f":"CheckOne($I$111,G670)","v":false},null,null,null,null,null,9,null,null,null,null,27,0,null,null,0,"ha. a. kr.",0,null,0,"tim. a. kr.",0]
[{"$f":"CheckOne($I$112,G670)","v":false},null,null,null,null,null,9,null,null,null,null,28,0,null,null,0,"ha. a. kr.",0,null,0,"tim. a. kr.",0]
[{"$f":"CheckOne($I$113,G670)","v":false},null,null,null,null,null,9,null,null,null,null,29,0,null,null,0,"ha. a. kr.",0,null,0,"tim. a. kr.",0]
[{"$f":"CheckOne($I$114,G670)","v":false},null,null,null,null,null,9,null,null,null,null,30,0,null,null,0,"ha. a. kr.",0,null,0,"tim. a. kr.",0]
[{"$f":"CheckOne($I$115,G670)","v":false},null,null,null,null,null,9,null,null,null,null,31,0,null,null,0,"ha. a. kr.",0,null,0,"tim. a. kr.",0]
[{"$f":"CheckOne($I$116,G670)","v":false},null,null,null,null,null,9,null,null,null,null,32,0,null,null,0,"ha. a. kr.",0,null,0,"tim. a. kr.",0]
[{"$f":"CheckOne($I$117,G670)","v":false},null,null,null,null,null,9,null,null,null,null,33,0,null,null,0,"ha. a. kr.",0,null,0,"tim. a. kr.",0]
[{"$f":"CheckOne($I$118,G670)","v":false},null,null,null,null,null,9,null,null,null,null,34,0,null,null,0,"ha. a. kr.",0,null,0,"tim. a. kr.",0]
[{"$f":"CheckOne($I$119,G670)","v":false},null,null,null,null,null,9,null,null,null,null,35,0,null,null,0,"ha. a. kr.",0,null,0,"tim. a. kr.",0]
[{"$f":"CheckOne($I$120,G670)","v":false},null,null,null,null,null,9,null,null,null,null,36,0,null,null,0,"ha. a. kr.",0,null,0,"tim. a. kr.",0]
[{"$f":"CheckOne($I$121,G670)","v":false},null,null,null,null,null,9,null,null,null,null,37,0,null,null,0,"ha. a. kr.",0,null,0,"tim. a. kr.",0]
[{"$f":"CheckOne($I$122,G670)","v":false},null,null,null,null,null,9,null,null,null,null,38,0,null,null,0,"ha. a. kr.",0,null,0,"tim. a. kr.",0]
[{"$f":"CheckOne($I$123,G670)","v":false},null,null,null,null,null,9,null,null,null,null,39,0,null,null,0,"ha. a. kr.",0,null,0,"tim. a. kr.",0]
[{"$f":"CheckOne($I$124,G670)","v":false},null,null,null,null,null,9,null,null,null,null,40,0,null,null,0,"ha. a. kr.",0,null,0,"tim. a. kr.",0]
[{"$f":"CheckOne($I$125,G670)","v":false},null,null,null,null,null,9,null,null,null,null,41,0,null,null,0,"ha. a. kr.",0,null,0,"tim. a. kr.",0]
[{"$f":"CheckOne($I$126,G670)","v":false},null,null,null,null,null,9,null,null,null,null,42,0,null,null,0,"ha. a. kr.",0,null,0,"tim. a. kr.",0]
[{"$f":"CheckOne($I$127,G670)","v":false},null,null,null,null,null,9,null,null,null,null,43,0,null,null,0,"ha. a. kr.",0,null,0,"tim. a. kr.",0]
[{"$f":"CheckOne($I$128,G670)","v":false},null,null,null,null,null,9,null,null,null,null,44,0,null,null,0,"ha. a. kr.",0,null,0,"tim. a. kr.",0]
[{"$f":"CheckOne($I$129,G670)","v":false},null,null,null,null,null,9,null,null,null,null,45,0,null,null,0,"ha. a. kr.",0,null,0,"tim. a. kr.",0]
[{"$f":"CheckOne($I$130,G670)","v":false},null,null,null,null,null,9,null,null,null,null,46,0,null,null,0,"ha. a. kr.",0,null,0,"tim. a. kr.",0]
[{"$f":"CheckOne($I$131,G670)","v":false},null,null,null,null,null,9,null,null,null,null,47,0,null,null,0,"ha. a. kr.",0,null,0,"tim. a. kr.",0]
[{"$f":"CheckOne($I$132,G670)","v":false},null,null,null,null,null,9,null,null,null,null,48,0,null,null,0,"ha. a. kr.",0,null,0,"tim. a. kr.",0]
[{"$f":"CheckOne($I$133,G670)","v":false},null,null,null,null,null,9,null,null,null,null,49,0,null,null,0,"ha. a. kr.",0,null,0,"tim. a. kr.",0]
[{"$f":"CheckOne($I$134,G670)","v":false},null,null,null,null,null,9,null,null,null,null,50,0,null,null,0,"ha. a. kr.",0,null,0,"tim. a. kr.",0]
[{"$f":"OR(T725<>0)","v":false},null,null,null,null,null,null,null,null,null,null,null,"Ufordelte omkostninger",null,null,null,null,null,null,0,"tim. a. kr.",0]
[{"$f":"A669","v":false},null,null,null,null,null,null,null,null,null,null,"I alt",null,null,null,null,null,null,null,{"$f":"SUMIF(A675:A724,TRUE,T675:T724)","v":0},"timer"]
[{"$f":"A726","v":false}]
[{"$f":"OR(L728<>0,P729<>0,T732<>0,R731<>0)","v":false},null,null,null,null,"nr.","id",null,null,null,null,{"$f":"VLOOKUP(F729,$L$31:$AE$80,2,FALSE)","v":0},null,null,null,null,null,null,"i alt",null,null,"pr. time."]
[{"$f":"A728","v":false},null,null,null,null,{"$f":"F670+1","v":11},{"$f":"VLOOKUP(F729,$F$31:$J$80,5,FALSE)","v":10},null,null,null,null,"Værdi primo:",null,null,null,{"$f":"VLOOKUP(F729,$L$31:$AE$80,6,FALSE)","v":0},"Brændst.",{"$f":"VLOOKUP(F729,$L$31:$AE$80,15,FALSE)","v":0},"GKO",{"$f":"VLOOKUP(F729,$L$31:$AE$80,10,FALSE)","v":0},"GKE",{"$f":"IFERROR(+T729/R731,\"\")","v":""}]
[{"$f":"A729","v":false},null,null,null,null,null,{"$f":"G729","v":10},null,null,null,null,"Levetid:",null,null,null,{"$f":"VLOOKUP(F729,$L$31:$AE$80,7,FALSE)","v":0},"Vedl.",{"$f":"VLOOKUP(F729,$L$31:$AE$80,14,FALSE)","v":0},"KKO",{"$f":"VLOOKUP(F729,$L$31:$AE$80,13,FALSE)","v":0},"KKE",{"$f":"IFERROR(+T730/R731,\"\")","v":""}]
[false,null,null,null,null,null,{"$f":"G730","v":10},null,null,null,null,"Afskrivningspct:",null,null,null,{"$f":"VLOOKUP(F729,$L$31:$AE$80,8,FALSE)","v":0},"Anvendt",{"$f":"VLOOKUP(F729,$L$31:$AE$80,18,FALSE)","v":0},"VO",{"$f":"+R731*V731","v":0},"VE",{"$f":"VLOOKUP(F729,$L$31:$AE$80,17,FALSE)","v":0}]
[false,null,null,null,null,null,10,null,null,null,null,"Scrapværdi:",null,null,null,{"$f":"VLOOKUP(F729,$L$31:$AE$80,9,FALSE)","v":0},null,null,"TO",{"$f":"+T729+T730+T731","v":0},"TE",{"$f":"IFERROR(+V729+V730+V731,\"\")","v":""}]
[false,null,null,null,null,null,10,null,null,null,null,"Opgaver:"]
[{"$f":"CheckOne($I$85,G729)","v":false},null,null,null,null,null,10,null,null,null,null,{"$f":"L675:L724","v":1},{"$f":"M675:M725","v":0},null,null,{"$f":"$Z$85:$Z$134","v":0},{"$f":"$AA$85:$AA$134&\" a. kr.\"","v":"ha. a. kr."},{"$f":"$AG$85:$AG$134","v":0},null,{"$f":"$AB$85:$AB$135","v":0},"tim. a. kr.",{"$f":"_xlfn.ANCHORARRAY($AF$85)","v":0}]
[{"$f":"CheckOne($I$86,G729)","v":false},null,null,null,null,null,10,null,null,null,null,2,0,null,null,0,"ha. a. kr.",0,null,0,"tim. a. kr.",0]
[{"$f":"CheckOne($I$87,G729)","v":false},null,null,null,null,null,10,null,null,null,null,3,0,null,null,0,"ha. a. kr.",0,null,0,"tim. a. kr.",0]
[{"$f":"CheckOne($I$88,G729)","v":false},null,null,null,null,null,10,null,null,null,null,4,0,null,null,0,"ha. a. kr.",0,null,0,"tim. a. kr.",0]
[{"$f":"CheckOne($I$89,G729)","v":false},null,null,null,null,null,10,null,null,null,null,5,0,null,null,0,"ha. a. kr.",0,null,0,"tim. a. kr.",0]
[{"$f":"CheckOne($I$90,G729)","v":false},null,null,null,null,null,10,null,null,null,null,6,0,null,null,0,"ha. a. kr.",0,null,0,"tim. a. kr.",0]
[{"$f":"CheckOne($I$91,G729)","v":false},null,null,null,null,null,10,null,null,null,null,7,0,null,null,0,"ha. a. kr.",0,null,0,"tim. a. kr.",0]
[{"$f":"CheckOne($I$92,G729)","v":false},null,null,null,null,null,10,null,null,null,null,8,0,null,null,0,"ha. a. kr.",0,null,0,"tim. a. kr.",0]
[{"$f":"CheckOne($I$93,G729)","v":false},null,null,null,null,null,10,null,null,null,null,9,0,null,null,0,"ha. a. kr.",0,null,0,"tim. a. kr.",0]
[{"$f":"CheckOne($I$94,G729)","v":false},null,null,null,null,null,10,null,null,null,null,10,0,null,null,0,"ha. a. kr.",0,null,0,"tim. a. kr.",0]
[{"$f":"CheckOne($I$95,G729)","v":false},null,null,null,null,null,10,null,null,null,null,11,0,null,null,0,"ha. a. kr.",0,null,0,"tim. a. kr.",0]
[{"$f":"CheckOne($I$96,G729)","v":false},null,null,null,null,null,10,null,null,null,null,12,0,null,null,0,"ha. a. kr.",0,null,0,"tim. a. kr.",0]
[{"$f":"CheckOne($I$97,G729)","v":false},null,null,null,null,null,10,null,null,null,null,13,0,null,null,0,"ha. a. kr.",0,null,0,"tim. a. kr.",0]
[{"$f":"CheckOne($I$98,G729)","v":false},null,null,null,null,null,10,null,null,null,null,14,0,null,null,0,"ha. a. kr.",0,null,0,"tim. a. kr.",0]
[{"$f":"CheckOne($I$99,G729)","v":false},null,null,null,null,null,10,null,null,null,null,15,0,null,null,0,"ha. a. kr.",0,null,0,"tim. a. kr.",0]
[{"$f":"CheckOne($I$100,G729)","v":false},null,null,null,null,null,10,null,null,null,null,16,0,null,null,0,"ha. a. kr.",0,null,0,"tim. a. kr.",0]
[{"$f":"CheckOne($I$101,G729)","v":false},null,null,null,null,null,10,null,null,null,null,17,0,null,null,0,"ha. a. kr.",0,null,0,"tim. a. kr.",0]
[{"$f":"CheckOne($I$102,G729)","v":false},null,null,null,null,null,10,null,null,null,null,18,0,null,null,0,"ha. a. kr.",0,null,0,"tim. a. kr.",0]
[{"$f":"CheckOne($I$103,G729)","v":false},null,null,null,null,null,10,null,null,null,null,19,0,null,null,0,"ha. a. kr.",0,null,0,"tim. a. kr.",0]
[{"$f":"CheckOne($I$104,G729)","v":false},null,null,null,null,null,10,null,null,null,null,20,0,null,null,0,"ha. a. kr.",0,null,0,"tim. a. kr.",0]
[{"$f":"CheckOne($I$105,G729)","v":false},null,null,null,null,null,10,null,null,null,null,21,0,null,null,0,"ha. a. kr.",0,null,0,"tim. a. kr.",0]
[{"$f":"CheckOne($I$106,G729)","v":false},null,null,null,null,null,10,null,null,null,null,22,0,null,null,0,"ha. a. kr.",0,null,0,"tim. a. kr.",0]
[{"$f":"CheckOne($I$107,G729)","v":false},null,null,null,null,null,10,null,null,null,null,23,0,null,null,0,"ha. a. kr.",0,null,0,"tim. a. kr.",0]
[{"$f":"CheckOne($I$108,G729)","v":false},null,null,null,null,null,10,null,null,null,null,24,0,null,null,0,"ha. a. kr.",0,null,0,"tim. a. kr.",0]
[{"$f":"CheckOne($I$109,G729)","v":false},null,null,null,null,null,10,null,null,null,null,25,0,null,null,0,"ha. a. kr.",0,null,0,"tim. a. kr.",0]
[{"$f":"CheckOne($I$110,G729)","v":false},null,null,null,null,null,10,null,null,null,null,26,0,null,null,0,"ha. a. kr.",0,null,0,"tim. a. kr.",0]
[{"$f":"CheckOne($I$111,G729)","v":false},null,null,null,null,null,10,null,null,null,null,27,0,null,null,0,"ha. a. kr.",0,null,0,"tim. a. kr.",0]
[{"$f":"CheckOne($I$112,G729)","v":false},null,null,null,null,null,10,null,null,null,null,28,0,null,null,0,"ha. a. kr.",0,null,0,"tim. a. kr.",0]
[{"$f":"CheckOne($I$113,G729)","v":false},null,null,null,null,null,10,null,null,null,null,29,0,null,null,0,"ha. a. kr.",0,null,0,"tim. a. kr.",0]
[{"$f":"CheckOne($I$114,G729)","v":false},null,null,null,null,null,10,null,null,null,null,30,0,null,null,0,"ha. a. kr.",0,null,0,"tim. a. kr.",0]
[{"$f":"CheckOne($I$115,G729)","v":false},null,null,null,null,null,10,null,null,null,null,31,0,null,null,0,"ha. a. kr.",0,null,0,"tim. a. kr.",0]
[{"$f":"CheckOne($I$116,G729)","v":false},null,null,null,null,null,10,null,null,null,null,32,0,null,null,0,"ha. a. kr.",0,null,0,"tim. a. kr.",0]
[{"$f":"CheckOne($I$117,G729)","v":false},null,null,null,null,null,10,null,null,null,null,33,0,null,null,0,"ha. a. kr.",0,null,0,"tim. a. kr.",0]
[{"$f":"CheckOne($I$118,G729)","v":false},null,null,null,null,null,10,null,null,null,null,34,0,null,null,0,"ha. a. kr.",0,null,0,"tim. a. kr.",0]
[{"$f":"CheckOne($I$119,G729)","v":false},null,null,null,null,null,10,null,null,null,null,35,0,null,null,0,"ha. a. kr.",0,null,0,"tim. a. kr.",0]
[{"$f":"CheckOne($I$120,G729)","v":false},null,null,null,null,null,10,null,null,null,null,36,0,null,null,0,"ha. a. kr.",0,null,0,"tim. a. kr.",0]
[{"$f":"CheckOne($I$121,G729)","v":false},null,null,null,null,null,10,null,null,null,null,37,0,null,null,0,"ha. a. kr.",0,null,0,"tim. a. kr.",0]
[{"$f":"CheckOne($I$122,G729)","v":false},null,null,null,null,null,10,null,null,null,null,38,0,null,null,0,"ha. a. kr.",0,null,0,"tim. a. kr.",0]
[{"$f":"CheckOne($I$123,G729)","v":false},null,null,null,null,null,10,null,null,null,null,39,0,null,null,0,"ha. a. kr.",0,null,0,"tim. a. kr.",0]
[{"$f":"CheckOne($I$124,G729)","v":false},null,null,null,null,null,10,null,null,null,null,40,0,null,null,0,"ha. a. kr.",0,null,0,"tim. a. kr.",0]
[{"$f":"CheckOne($I$125,G729)","v":false},null,null,null,null,null,10,null,null,null,null,41,0,null,null,0,"ha. a. kr.",0,null,0,"tim. a. kr.",0]
[{"$f":"CheckOne($I$126,G729)","v":false},null,null,null,null,null,10,null,null,null,null,42,0,null,null,0,"ha. a. kr.",0,null,0,"tim. a. kr.",0]
[{"$f":"CheckOne($I$127,G729)","v":false},null,null,null,null,null,10,null,null,null,null,43,0,null,null,0,"ha. a. kr.",0,null,0,"tim. a. kr.",0]
[{"$f":"CheckOne($I$128,G729)","v":false},null,null,null,null,null,10,null,null,null,null,44,0,null,null,0,"ha. a. kr.",0,null,0,"tim. a. kr.",0]
[{"$f":"CheckOne($I$129,G729)","v":false},null,null,null,null,null,10,null,null,null,null,45,0,null,null,0,"ha. a. kr.",0,null,0,"tim. a. kr.",0]
[{"$f":"CheckOne($I$130,G729)","v":false},null,null,null,null,null,10,null,null,null,null,46,0,null,null,0,"ha. a. kr.",0,null,0,"tim. a. kr.",0]
[{"$f":"CheckOne($I$131,G729)","v":false},null,null,null,null,null,10,null,null,null,null,47,0,null,null,0,"ha. a. kr.",0,null,0,"tim. a. kr.",0]
[{"$f":"CheckOne($I$132,G729)","v":false},null,null,null,null,null,10,null,null,null,null,48,0,null,null,0,"ha. a. kr.",0,null,0,"tim. a. kr.",0]
[{"$f":"CheckOne($I$133,G729)","v":false},null,null,null,null,null,10,null,null,null,null,49,0,null,null,0,"ha. a. kr.",0,null,0,"tim. a. kr.",0]
[{"$f":"CheckOne($I$134,G729)","v":false},null,null,null,null,null,10,null,null,null,null,50,0,null,null,0,"ha. a. kr.",0,null,0,"tim. a. kr.",0]
[{"$f":"OR(T784<>0)","v":false},null,null,null,null,null,null,null,null,null,null,null,"Ufordelte omkostninger",null,null,null,null,null,null,0,"tim. a. kr.",0]
[{"$f":"A728","v":false},null,null,null,null,null,null,null,null,null,null,"I alt",null,null,null,null,null,null,null,{"$f":"SUMIF(A734:A783,TRUE,T734:T783)","v":0},"timer"]
[{"$f":"A785","v":false}]
[{"$f":"OR(L787<>0,P788<>0,T791<>0,R790<>0)","v":false},null,null,null,null,"nr.","id",null,null,null,null,{"$f":"VLOOKUP(F788,$L$31:$AE$80,2,FALSE)","v":0},null,null,null,null,null,null,"i alt",null,null,"pr. time."]
[{"$f":"A787","v":false},null,null,null,null,{"$f":"F729+1","v":12},{"$f":"VLOOKUP(F788,$F$31:$J$80,5,FALSE)","v":11},null,null,null,null,"Værdi primo:",null,null,null,{"$f":"VLOOKUP(F788,$L$31:$AE$80,6,FALSE)","v":0},"Brændst.",{"$f":"VLOOKUP(F788,$L$31:$AE$80,15,FALSE)","v":0},"GKO",{"$f":"VLOOKUP(F788,$L$31:$AE$80,10,FALSE)","v":0},"GKE",{"$f":"IFERROR(+T788/R790,\"\")","v":""}]
[{"$f":"A788","v":false},null,null,null,null,null,{"$f":"G788","v":11},null,null,null,null,"Levetid:",null,null,null,{"$f":"VLOOKUP(F788,$L$31:$AE$80,7,FALSE)","v":0},"Vedl.",{"$f":"VLOOKUP(F788,$L$31:$AE$80,14,FALSE)","v":0},"KKO",{"$f":"VLOOKUP(F788,$L$31:$AE$80,13,FALSE)","v":0},"KKE",{"$f":"IFERROR(+T789/R790,\"\")","v":""}]
[false,null,null,null,null,null,{"$f":"G789","v":11},null,null,null,null,"Afskrivningspct:",null,null,null,{"$f":"VLOOKUP(F788,$L$31:$AE$80,8,FALSE)","v":0},"Anvendt",{"$f":"VLOOKUP(F788,$L$31:$AE$80,18,FALSE)","v":0},"VO",{"$f":"+R790*V790","v":0},"VE",{"$f":"VLOOKUP(F788,$L$31:$AE$80,17,FALSE)","v":0}]
[false,null,null,null,null,null,11,null,null,null,null,"Scrapværdi:",null,null,null,{"$f":"VLOOKUP(F788,$L$31:$AE$80,9,FALSE)","v":0},null,null,"TO",{"$f":"+T788+T789+T790","v":0},"TE",{"$f":"IFERROR(+V788+V789+V790,\"\")","v":""}]
[false,null,null,null,null,null,11,null,null,null,null,"Opgaver:"]
[{"$f":"CheckOne($I$85,G788)","v":false},null,null,null,null,null,11,null,null,null,null,{"$f":"L734:L783","v":1},{"$f":"M734:M784","v":0},null,null,{"$f":"$Z$85:$Z$134","v":0},{"$f":"$AA$85:$AA$134&\" a. kr.\"","v":"ha. a. kr."},{"$f":"$AG$85:$AG$134","v":0},null,{"$f":"$AB$85:$AB$135","v":0},"tim. a. kr.",{"$f":"_xlfn.ANCHORARRAY($AF$85)","v":0}]
[{"$f":"CheckOne($I$86,G788)","v":false},null,null,null,null,null,11,null,null,null,null,2,0,null,null,0,"ha. a. kr.",0,null,0,"tim. a. kr.",0]
[{"$f":"CheckOne($I$87,G788)","v":false},null,null,null,null,null,11,null,null,null,null,3,0,null,null,0,"ha. a. kr.",0,null,0,"tim. a. kr.",0]
[{"$f":"CheckOne($I$88,G788)","v":false},null,null,null,null,null,11,null,null,null,null,4,0,null,null,0,"ha. a. kr.",0,null,0,"tim. a. kr.",0]
[{"$f":"CheckOne($I$89,G788)","v":false},null,null,null,null,null,11,null,null,null,null,5,0,null,null,0,"ha. a. kr.",0,null,0,"tim. a. kr.",0]
[{"$f":"CheckOne($I$90,G788)","v":false},null,null,null,null,null,11,null,null,null,null,6,0,null,null,0,"ha. a. kr.",0,null,0,"tim. a. kr.",0]
[{"$f":"CheckOne($I$91,G788)","v":false},null,null,null,null,null,11,null,null,null,null,7,0,null,null,0,"ha. a. kr.",0,null,0,"tim. a. kr.",0]
[{"$f":"CheckOne($I$92,G788)","v":false},null,null,null,null,null,11,null,null,null,null,8,0,null,null,0,"ha. a. kr.",0,null,0,"tim. a. kr.",0]
[{"$f":"CheckOne($I$93,G788)","v":false},null,null,null,null,null,11,null,null,null,null,9,0,null,null,0,"ha. a. kr.",0,null,0,"tim. a. kr.",0]
[{"$f":"CheckOne($I$94,G788)","v":false},null,null,null,null,null,11,null,null,null,null,10,0,null,null,0,"ha. a. kr.",0,null,0,"tim. a. kr.",0]
[{"$f":"CheckOne($I$95,G788)","v":false},null,null,null,null,null,11,null,null,null,null,11,0,null,null,0,"ha. a. kr.",0,null,0,"tim. a. kr.",0]
[{"$f":"CheckOne($I$96,G788)","v":false},null,null,null,null,null,11,null,null,null,null,12,0,null,null,0,"ha. a. kr.",0,null,0,"tim. a. kr.",0]
[{"$f":"CheckOne($I$97,G788)","v":false},null,null,null,null,null,11,null,null,null,null,13,0,null,null,0,"ha. a. kr.",0,null,0,"tim. a. kr.",0]
[{"$f":"CheckOne($I$98,G788)","v":false},null,null,null,null,null,11,null,null,null,null,14,0,null,null,0,"ha. a. kr.",0,null,0,"tim. a. kr.",0]
[{"$f":"CheckOne($I$99,G788)","v":false},null,null,null,null,null,11,null,null,null,null,15,0,null,null,0,"ha. a. kr.",0,null,0,"tim. a. kr.",0]
[{"$f":"CheckOne($I$100,G788)","v":false},null,null,null,null,null,11,null,null,null,null,16,0,null,null,0,"ha. a. kr.",0,null,0,"tim. a. kr.",0]
[{"$f":"CheckOne($I$101,G788)","v":false},null,null,null,null,null,11,null,null,null,null,17,0,null,null,0,"ha. a. kr.",0,null,0,"tim. a. kr.",0]
[{"$f":"CheckOne($I$102,G788)","v":false},null,null,null,null,null,11,null,null,null,null,18,0,null,null,0,"ha. a. kr.",0,null,0,"tim. a. kr.",0]
[{"$f":"CheckOne($I$103,G788)","v":false},null,null,null,null,null,11,null,null,null,null,19,0,null,null,0,"ha. a. kr.",0,null,0,"tim. a. kr.",0]
[{"$f":"CheckOne($I$104,G788)","v":false},null,null,null,null,null,11,null,null,null,null,20,0,null,null,0,"ha. a. kr.",0,null,0,"tim. a. kr.",0]
[{"$f":"CheckOne($I$105,G788)","v":false},null,null,null,null,null,11,null,null,null,null,21,0,null,null,0,"ha. a. kr.",0,null,0,"tim. a. kr.",0]
[{"$f":"CheckOne($I$106,G788)","v":false},null,null,null,null,null,11,null,null,null,null,22,0,null,null,0,"ha. a. kr.",0,null,0,"tim. a. kr.",0]
[{"$f":"CheckOne($I$107,G788)","v":false},null,null,null,null,null,11,null,null,null,null,23,0,null,null,0,"ha. a. kr.",0,null,0,"tim. a. kr.",0]
[{"$f":"CheckOne($I$108,G788)","v":false},null,null,null,null,null,11,null,null,null,null,24,0,null,null,0,"ha. a. kr.",0,null,0,"tim. a. kr.",0]
[{"$f":"CheckOne($I$109,G788)","v":false},null,null,null,null,null,11,null,null,null,null,25,0,null,null,0,"ha. a. kr.",0,null,0,"tim. a. kr.",0]
[{"$f":"CheckOne($I$110,G788)","v":false},null,null,null,null,null,11,null,null,null,null,26,0,null,null,0,"ha. a. kr.",0,null,0,"tim. a. kr.",0]
[{"$f":"CheckOne($I$111,G788)","v":false},null,null,null,null,null,11,null,null,null,null,27,0,null,null,0,"ha. a. kr.",0,null,0,"tim. a. kr.",0]
[{"$f":"CheckOne($I$112,G788)","v":false},null,null,null,null,null,11,null,null,null,null,28,0,null,null,0,"ha. a. kr.",0,null,0,"tim. a. kr.",0]
[{"$f":"CheckOne($I$113,G788)","v":false},null,null,null,null,null,11,null,null,null,null,29,0,null,null,0,"ha. a. kr.",0,null,0,"tim. a. kr.",0]
[{"$f":"CheckOne($I$114,G788)","v":false},null,null,null,null,null,11,null,null,null,null,30,0,null,null,0,"ha. a. kr.",0,null,0,"tim. a. kr.",0]
[{"$f":"CheckOne($I$115,G788)","v":false},null,null,null,null,null,11,null,null,null,null,31,0,null,null,0,"ha. a. kr.",0,null,0,"tim. a. kr.",0]
[{"$f":"CheckOne($I$116,G788)","v":false},null,null,null,null,null,11,null,null,null,null,32,0,null,null,0,"ha. a. kr.",0,null,0,"tim. a. kr.",0]
[{"$f":"CheckOne($I$117,G788)","v":false},null,null,null,null,null,11,null,null,null,null,33,0,null,null,0,"ha. a. kr.",0,null,0,"tim. a. kr.",0]
[{"$f":"CheckOne($I$118,G788)","v":false},null,null,null,null,null,11,null,null,null,null,34,0,null,null,0,"ha. a. kr.",0,null,0,"tim. a. kr.",0]
[{"$f":"CheckOne($I$119,G788)","v":false},null,null,null,null,null,11,null,null,null,null,35,0,null,null,0,"ha. a. kr.",0,null,0,"tim. a. kr.",0]
[{"$f":"CheckOne($I$120,G788)","v":false},null,null,null,null,null,11,null,null,null,null,36,0,null,null,0,"ha. a. kr.",0,null,0,"tim. a. kr.",0]
[{"$f":"CheckOne($I$121,G788)","v":false},null,null,null,null,null,11,null,null,null,null,37,0,null,null,0,"ha. a. kr.",0,null,0,"tim. a. kr.",0]
[{"$f":"CheckOne($I$122,G788)","v":false},null,null,null,null,null,11,null,null,null,null,38,0,null,null,0,"ha. a. kr.",0,null,0,"tim. a. kr.",0]
[{"$f":"CheckOne($I$123,G788)","v":false},null,null,null,null,null,11,null,null,null,null,39,0,null,null,0,"ha. a. kr.",0,null,0,"tim. a. kr.",0]
[{"$f":"CheckOne($I$124,G788)","v":false},null,null,null,null,null,11,null,null,null,null,40,0,null,null,0,"ha. a. kr.",0,null,0,"tim. a. kr.",0]
[{"$f":"CheckOne($I$125,G788)","v":false},null,null,null,null,null,11,null,null,null,null,41,0,null,null,0,"ha. a. kr.",0,null,0,"tim. a. kr.",0]
[{"$f":"CheckOne($I$126,G788)","v":false},null,null,null,null,null,11,null,null,null,null,42,0,null,null,0,"ha. a. kr.",0,null,0,"tim. a. kr.",0]
[{"$f":"CheckOne($I$127,G788)","v":false},null,null,null,null,null,11,null,null,null,null,43,0,null,null,0,"ha. a. kr.",0,null,0,"tim. a. kr.",0]
[{"$f":"CheckOne($I$128,G788)","v":false},null,null,null,null,null,11,null,null,null,null,44,0,null,null,0,"ha. a. kr.",0,null,0,"tim. a. kr.",0]
[{"$f":"CheckOne($I$129,G788)","v":false},null,null,null,null,null,11,null,null,null,null,45,0,null,null,0,"ha. a. kr.",0,null,0,"tim. a. kr.",0]
[{"$f":"CheckOne($I$130,G788)","v":false},null,null,null,null,null,11,null,null,null,null,46,0,null,null,0,"ha. a. kr.",0,null,0,"tim. a. kr.",0]
[{"$f":"CheckOne($I$131,G788)","v":false},null,null,null,null,null,11,null,null,null,null,47,0,null,null,0,"ha. a. kr.",0,null,0,"tim. a. kr.",0]
[{"$f":"CheckOne($I$132,G788)","v":false},null,null,null,null,null,11,null,null,null,null,48,0,null,null,0,"ha. a. kr.",0,null,0,"tim. a. kr.",0]
[{"$f":"CheckOne($I$133,G788)","v":false},null,null,null,null,null,11,null,null,null,null,49,0,null,null,0,"ha. a. kr.",0,null,0,"tim. a. kr.",0]
[{"$f":"CheckOne($I$134,G788)","v":false},null,null,null,null,null,11,null,null,null,null,50,0,null,null,0,"ha. a. kr.",0,null,0,"tim. a. kr.",0]
[{"$f":"OR(T843<>0)","v":false},null,null,null,null,null,null,null,null,null,null,null,"Ufordelte omkostninger",null,null,null,null,null,null,0,"tim. a. kr.",0]
[{"$f":"A787","v":false},null,null,null,null,null,null,null,null,null,null,"I alt",null,null,null,null,null,null,null,{"$f":"SUMIF(A793:A842,TRUE,T793:T842)","v":0},"timer"]
[{"$f":"A844","v":false}]
[{"$f":"OR(L846<>0,P847<>0,T850<>0,R849<>0)","v":false},null,null,null,null,"nr.","id",null,null,null,null,{"$f":"VLOOKUP(F847,$L$31:$AE$80,2,FALSE)","v":0},null,null,null,null,null,null,"i alt",null,null,"pr. time."]
[{"$f":"A846","v":false},null,null,null,null,{"$f":"F788+1","v":13},{"$f":"VLOOKUP(F847,$F$31:$J$80,5,FALSE)","v":12},null,null,null,null,"Værdi primo:",null,null,null,{"$f":"VLOOKUP(F847,$L$31:$AE$80,6,FALSE)","v":0},"Brændst.",{"$f":"VLOOKUP(F847,$L$31:$AE$80,15,FALSE)","v":0},"GKO",{"$f":"VLOOKUP(F847,$L$31:$AE$80,10,FALSE)","v":0},"GKE",{"$f":"IFERROR(+T847/R849,\"\")","v":""}]
[{"$f":"A847","v":false},null,null,null,null,null,{"$f":"G847","v":12},null,null,null,null,"Levetid:",null,null,null,{"$f":"VLOOKUP(F847,$L$31:$AE$80,7,FALSE)","v":0},"Vedl.",{"$f":"VLOOKUP(F847,$L$31:$AE$80,14,FALSE)","v":0},"KKO",{"$f":"VLOOKUP(F847,$L$31:$AE$80,13,FALSE)","v":0},"KKE",{"$f":"IFERROR(+T848/R849,\"\")","v":""}]
[false,null,null,null,null,null,{"$f":"G848","v":12},null,null,null,null,"Afskrivningspct:",null,null,null,{"$f":"VLOOKUP(F847,$L$31:$AE$80,8,FALSE)","v":0},"Anvendt",{"$f":"VLOOKUP(F847,$L$31:$AE$80,18,FALSE)","v":0},"VO",{"$f":"+R849*V849","v":0},"VE",{"$f":"VLOOKUP(F847,$L$31:$AE$80,17,FALSE)","v":0}]
[false,null,null,null,null,null,12,null,null,null,null,"Scrapværdi:",null,null,null,{"$f":"VLOOKUP(F847,$L$31:$AE$80,9,FALSE)","v":0},null,null,"TO",{"$f":"+T847+T848+T849","v":0},"TE",{"$f":"IFERROR(+V847+V848+V849,\"\")","v":""}]
[false,null,null,null,null,null,12,null,null,null,null,"Opgaver:"]
[{"$f":"CheckOne($I$85,G847)","v":false},null,null,null,null,null,12,null,null,null,null,{"$f":"L793:L842","v":1},{"$f":"M793:M843","v":0},null,null,{"$f":"$Z$85:$Z$134","v":0},{"$f":"$AA$85:$AA$134&\" a. kr.\"","v":"ha. a. kr."},{"$f":"$AG$85:$AG$134","v":0},null,{"$f":"$AB$85:$AB$135","v":0},"tim. a. kr.",{"$f":"_xlfn.ANCHORARRAY($AF$85)","v":0}]
[{"$f":"CheckOne($I$86,G847)","v":false},null,null,null,null,null,12,null,null,null,null,2,0,null,null,0,"ha. a. kr.",0,null,0,"tim. a. kr.",0]
[{"$f":"CheckOne($I$87,G847)","v":false},null,null,null,null,null,12,null,null,null,null,3,0,null,null,0,"ha. a. kr.",0,null,0,"tim. a. kr.",0]
[{"$f":"CheckOne($I$88,G847)","v":false},null,null,null,null,null,12,null,null,null,null,4,0,null,null,0,"ha. a. kr.",0,null,0,"tim. a. kr.",0]
[{"$f":"CheckOne($I$89,G847)","v":false},null,null,null,null,null,12,null,null,null,null,5,0,null,null,0,"ha. a. kr.",0,null,0,"tim. a. kr.",0]
[{"$f":"CheckOne($I$90,G847)","v":false},null,null,null,null,null,12,null,null,null,null,6,0,null,null,0,"ha. a. kr.",0,null,0,"tim. a. kr.",0]
[{"$f":"CheckOne($I$91,G847)","v":false},null,null,null,null,null,12,null,null,null,null,7,0,null,null,0,"ha. a. kr.",0,null,0,"tim. a. kr.",0]
[{"$f":"CheckOne($I$92,G847)","v":false},null,null,null,null,null,12,null,null,null,null,8,0,null,null,0,"ha. a. kr.",0,null,0,"tim. a. kr.",0]
[{"$f":"CheckOne($I$93,G847)","v":false},null,null,null,null,null,12,null,null,null,null,9,0,null,null,0,"ha. a. kr.",0,null,0,"tim. a. kr.",0]
[{"$f":"CheckOne($I$94,G847)","v":false},null,null,null,null,null,12,null,null,null,null,10,0,null,null,0,"ha. a. kr.",0,null,0,"tim. a. kr.",0]
[{"$f":"CheckOne($I$95,G847)","v":false},null,null,null,null,null,12,null,null,null,null,11,0,null,null,0,"ha. a. kr.",0,null,0,"tim. a. kr.",0]
[{"$f":"CheckOne($I$96,G847)","v":false},null,null,null,null,null,12,null,null,null,null,12,0,null,null,0,"ha. a. kr.",0,null,0,"tim. a. kr.",0]
[{"$f":"CheckOne($I$97,G847)","v":false},null,null,null,null,null,12,null,null,null,null,13,0,null,null,0,"ha. a. kr.",0,null,0,"tim. a. kr.",0]
[{"$f":"CheckOne($I$98,G847)","v":false},null,null,null,null,null,12,null,null,null,null,14,0,null,null,0,"ha. a. kr.",0,null,0,"tim. a. kr.",0]
[{"$f":"CheckOne($I$99,G847)","v":false},null,null,null,null,null,12,null,null,null,null,15,0,null,null,0,"ha. a. kr.",0,null,0,"tim. a. kr.",0]
[{"$f":"CheckOne($I$100,G847)","v":false},null,null,null,null,null,12,null,null,null,null,16,0,null,null,0,"ha. a. kr.",0,null,0,"tim. a. kr.",0]
[{"$f":"CheckOne($I$101,G847)","v":false},null,null,null,null,null,12,null,null,null,null,17,0,null,null,0,"ha. a. kr.",0,null,0,"tim. a. kr.",0]
[{"$f":"CheckOne($I$102,G847)","v":false},null,null,null,null,null,12,null,null,null,null,18,0,null,null,0,"ha. a. kr.",0,null,0,"tim. a. kr.",0]
[{"$f":"CheckOne($I$103,G847)","v":false},null,null,null,null,null,12,null,null,null,null,19,0,null,null,0,"ha. a. kr.",0,null,0,"tim. a. kr.",0]
[{"$f":"CheckOne($I$104,G847)","v":false},null,null,null,null,null,12,null,null,null,null,20,0,null,null,0,"ha. a. kr.",0,null,0,"tim. a. kr.",0]
[{"$f":"CheckOne($I$105,G847)","v":false},null,null,null,null,null,12,null,null,null,null,21,0,null,null,0,"ha. a. kr.",0,null,0,"tim. a. kr.",0]
[{"$f":"CheckOne($I$106,G847)","v":false},null,null,null,null,null,12,null,null,null,null,22,0,null,null,0,"ha. a. kr.",0,null,0,"tim. a. kr.",0]
[{"$f":"CheckOne($I$107,G847)","v":false},null,null,null,null,null,12,null,null,null,null,23,0,null,null,0,"ha. a. kr.",0,null,0,"tim. a. kr.",0]
[{"$f":"CheckOne($I$108,G847)","v":false},null,null,null,null,null,12,null,null,null,null,24,0,null,null,0,"ha. a. kr.",0,null,0,"tim. a. kr.",0]
[{"$f":"CheckOne($I$109,G847)","v":false},null,null,null,null,null,12,null,null,null,null,25,0,null,null,0,"ha. a. kr.",0,null,0,"tim. a. kr.",0]
[{"$f":"CheckOne($I$110,G847)","v":false},null,null,null,null,null,12,null,null,null,null,26,0,null,null,0,"ha. a. kr.",0,null,0,"tim. a. kr.",0]
[{"$f":"CheckOne($I$111,G847)","v":false},null,null,null,null,null,12,null,null,null,null,27,0,null,null,0,"ha. a. kr.",0,null,0,"tim. a. kr.",0]
[{"$f":"CheckOne($I$112,G847)","v":false},null,null,null,null,null,12,null,null,null,null,28,0,null,null,0,"ha. a. kr.",0,null,0,"tim. a. kr.",0]
[{"$f":"CheckOne($I$113,G847)","v":false},null,null,null,null,null,12,null,null,null,null,29,0,null,null,0,"ha. a. kr.",0,null,0,"tim. a. kr.",0]
[{"$f":"CheckOne($I$114,G847)","v":false},null,null,null,null,null,12,null,null,null,null,30,0,null,null,0,"ha. a. kr.",0,null,0,"tim. a. kr.",0]
[{"$f":"CheckOne($I$115,G847)","v":false},null,null,null,null,null,12,null,null,null,null,31,0,null,null,0,"ha. a. kr.",0,null,0,"tim. a. kr.",0]
[{"$f":"CheckOne($I$116,G847)","v":false},null,null,null,null,null,12,null,null,null,null,32,0,null,null,0,"ha. a. kr.",0,null,0,"tim. a. kr.",0]
[{"$f":"CheckOne($I$117,G847)","v":false},null,null,null,null,null,12,null,null,null,null,33,0,null,null,0,"ha. a. kr.",0,null,0,"tim. a. kr.",0]
[{"$f":"CheckOne($I$118,G847)","v":false},null,null,null,null,null,12,null,null,null,null,34,0,null,null,0,"ha. a. kr.",0,null,0,"tim. a. kr.",0]
[{"$f":"CheckOne($I$119,G847)","v":false},null,null,null,null,null,12,null,null,null,null,35,0,null,null,0,"ha. a. kr.",0,null,0,"tim. a. kr.",0]
[{"$f":"CheckOne($I$120,G847)","v":false},null,null,null,null,null,12,null,null,null,null,36,0,null,null,0,"ha. a. kr.",0,null,0,"tim. a. kr.",0]
[{"$f":"CheckOne($I$121,G847)","v":false},null,null,null,null,null,12,null,null,null,null,37,0,null,null,0,"ha. a. kr.",0,null,0,"tim. a. kr.",0]
[{"$f":"CheckOne($I$122,G847)","v":false},null,null,null,null,null,12,null,null,null,null,38,0,null,null,0,"ha. a. kr.",0,null,0,"tim. a. kr.",0]
[{"$f":"CheckOne($I$123,G847)","v":false},null,null,null,null,null,12,null,null,null,null,39,0,null,null,0,"ha. a. kr.",0,null,0,"tim. a. kr.",0]
[{"$f":"CheckOne($I$124,G847)","v":false},null,null,null,null,null,12,null,null,null,null,40,0,null,null,0,"ha. a. kr.",0,null,0,"tim. a. kr.",0]
[{"$f":"CheckOne($I$125,G847)","v":false},null,null,null,null,null,12,null,null,null,null,41,0,null,null,0,"ha. a. kr.",0,null,0,"tim. a. kr.",0]
[{"$f":"CheckOne($I$126,G847)","v":false},null,null,null,null,null,12,null,null,null,null,42,0,null,null,0,"ha. a. kr.",0,null,0,"tim. a. kr.",0]
[{"$f":"CheckOne($I$127,G847)","v":false},null,null,null,null,null,12,null,null,null,null,43,0,null,null,0,"ha. a. kr.",0,null,0,"tim. a. kr.",0]
[{"$f":"CheckOne($I$128,G847)","v":false},null,null,null,null,null,12,null,null,null,null,44,0,null,null,0,"ha. a. kr.",0,null,0,"tim. a. kr.",0]
[{"$f":"CheckOne($I$129,G847)","v":false},null,null,null,null,null,12,null,null,null,null,45,0,null,null,0,"ha. a. kr.",0,null,0,"tim. a. kr.",0]
[{"$f":"CheckOne($I$130,G847)","v":false},null,null,null,null,null,12,null,null,null,null,46,0,null,null,0,"ha. a. kr.",0,null,0,"tim. a. kr.",0]
[{"$f":"CheckOne($I$131,G847)","v":false},null,null,null,null,null,12,null,null,null,null,47,0,null,null,0,"ha. a. kr.",0,null,0,"tim. a. kr.",0]
[{"$f":"CheckOne($I$132,G847)","v":false},null,null,null,null,null,12,null,null,null,null,48,0,null,null,0,"ha. a. kr.",0,null,0,"tim. a. kr.",0]
[{"$f":"CheckOne($I$133,G847)","v":false},null,null,null,null,null,12,null,null,null,null,49,0,null,null,0,"ha. a. kr.",0,null,0,"tim. a. kr.",0]
[{"$f":"CheckOne($I$134,G847)","v":false},null,null,null,null,null,12,null,null,null,null,50,0,null,null,0,"ha. a. kr.",0,null,0,"tim. a. kr.",0]
[{"$f":"OR(T902<>0)","v":false},null,null,null,null,null,null,null,null,null,null,null,"Ufordelte omkostninger",null,null,null,null,null,null,0,"tim. a. kr.",0]
[{"$f":"A846","v":false},null,null,null,null,null,null,null,null,null,null,"I alt",null,null,null,null,null,null,null,{"$f":"SUMIF(A852:A901,TRUE,T852:T901)","v":0},"timer"]
[{"$f":"A903","v":false}]
[{"$f":"OR(L905<>0,P906<>0,T909<>0,R908<>0)","v":false},null,null,null,null,"nr.","id",null,null,null,null,{"$f":"VLOOKUP(F906,$L$31:$AE$80,2,FALSE)","v":0},null,null,null,null,null,null,"i alt",null,null,"pr. time."]
[{"$f":"A905","v":false},null,null,null,null,{"$f":"F847+1","v":14},{"$f":"VLOOKUP(F906,$F$31:$J$80,5,FALSE)","v":13},null,null,null,null,"Værdi primo:",null,null,null,{"$f":"VLOOKUP(F906,$L$31:$AE$80,6,FALSE)","v":0},"Brændst.",{"$f":"VLOOKUP(F906,$L$31:$AE$80,15,FALSE)","v":0},"GKO",{"$f":"VLOOKUP(F906,$L$31:$AE$80,10,FALSE)","v":0},"GKE",{"$f":"IFERROR(+T906/R908,\"\")","v":""}]
[{"$f":"A906","v":false},null,null,null,null,null,{"$f":"G906","v":13},null,null,null,null,"Levetid:",null,null,null,{"$f":"VLOOKUP(F906,$L$31:$AE$80,7,FALSE)","v":0},"Vedl.",{"$f":"VLOOKUP(F906,$L$31:$AE$80,14,FALSE)","v":0},"KKO",{"$f":"VLOOKUP(F906,$L$31:$AE$80,13,FALSE)","v":0},"KKE",{"$f":"IFERROR(+T907/R908,\"\")","v":""}]
[false,null,null,null,null,null,{"$f":"G907","v":13},null,null,null,null,"Afskrivningspct:",null,null,null,{"$f":"VLOOKUP(F906,$L$31:$AE$80,8,FALSE)","v":0},"Anvendt",{"$f":"VLOOKUP(F906,$L$31:$AE$80,18,FALSE)","v":0},"VO",{"$f":"+R908*V908","v":0},"VE",{"$f":"VLOOKUP(F906,$L$31:$AE$80,17,FALSE)","v":0}]
[false,null,null,null,null,null,13,null,null,null,null,"Scrapværdi:",null,null,null,{"$f":"VLOOKUP(F906,$L$31:$AE$80,9,FALSE)","v":0},null,null,"TO",{"$f":"+T906+T907+T908","v":0},"TE",{"$f":"IFERROR(+V906+V907+V908,\"\")","v":""}]
[false,null,null,null,null,null,13,null,null,null,null,"Opgaver:"]
[{"$f":"CheckOne($I$85,G906)","v":false},null,null,null,null,null,13,null,null,null,null,{"$f":"L852:L901","v":1},{"$f":"M852:M902","v":0},null,null,{"$f":"$Z$85:$Z$134","v":0},{"$f":"$AA$85:$AA$134&\" a. kr.\"","v":"ha. a. kr."},{"$f":"$AG$85:$AG$134","v":0},null,{"$f":"$AB$85:$AB$135","v":0},"tim. a. kr.",{"$f":"_xlfn.ANCHORARRAY($AF$85)","v":0}]
[{"$f":"CheckOne($I$86,G906)","v":false},null,null,null,null,null,13,null,null,null,null,2,0,null,null,0,"ha. a. kr.",0,null,0,"tim. a. kr.",0]
[{"$f":"CheckOne($I$87,G906)","v":false},null,null,null,null,null,13,null,null,null,null,3,0,null,null,0,"ha. a. kr.",0,null,0,"tim. a. kr.",0]
[{"$f":"CheckOne($I$88,G906)","v":false},null,null,null,null,null,13,null,null,null,null,4,0,null,null,0,"ha. a. kr.",0,null,0,"tim. a. kr.",0]
[{"$f":"CheckOne($I$89,G906)","v":false},null,null,null,null,null,13,null,null,null,null,5,0,null,null,0,"ha. a. kr.",0,null,0,"tim. a. kr.",0]
[{"$f":"CheckOne($I$90,G906)","v":false},null,null,null,null,null,13,null,null,null,null,6,0,null,null,0,"ha. a. kr.",0,null,0,"tim. a. kr.",0]
[{"$f":"CheckOne($I$91,G906)","v":false},null,null,null,null,null,13,null,null,null,null,7,0,null,null,0,"ha. a. kr.",0,null,0,"tim. a. kr.",0]
[{"$f":"CheckOne($I$92,G906)","v":false},null,null,null,null,null,13,null,null,null,null,8,0,null,null,0,"ha. a. kr.",0,null,0,"tim. a. kr.",0]
[{"$f":"CheckOne($I$93,G906)","v":false},null,null,null,null,null,13,null,null,null,null,9,0,null,null,0,"ha. a. kr.",0,null,0,"tim. a. kr.",0]
[{"$f":"CheckOne($I$94,G906)","v":false},null,null,null,null,null,13,null,null,null,null,10,0,null,null,0,"ha. a. kr.",0,null,0,"tim. a. kr.",0]
[{"$f":"CheckOne($I$95,G906)","v":false},null,null,null,null,null,13,null,null,null,null,11,0,null,null,0,"ha. a. kr.",0,null,0,"tim. a. kr.",0]
[{"$f":"CheckOne($I$96,G906)","v":false},null,null,null,null,null,13,null,null,null,null,12,0,null,null,0,"ha. a. kr.",0,null,0,"tim. a. kr.",0]
[{"$f":"CheckOne($I$97,G906)","v":false},null,null,null,null,null,13,null,null,null,null,13,0,null,null,0,"ha. a. kr.",0,null,0,"tim. a. kr.",0]
[{"$f":"CheckOne($I$98,G906)","v":false},null,null,null,null,null,13,null,null,null,null,14,0,null,null,0,"ha. a. kr.",0,null,0,"tim. a. kr.",0]
[{"$f":"CheckOne($I$99,G906)","v":false},null,null,null,null,null,13,null,null,null,null,15,0,null,null,0,"ha. a. kr.",0,null,0,"tim. a. kr.",0]
[{"$f":"CheckOne($I$100,G906)","v":false},null,null,null,null,null,13,null,null,null,null,16,0,null,null,0,"ha. a. kr.",0,null,0,"tim. a. kr.",0]
[{"$f":"CheckOne($I$101,G906)","v":false},null,null,null,null,null,13,null,null,null,null,17,0,null,null,0,"ha. a. kr.",0,null,0,"tim. a. kr.",0]
[{"$f":"CheckOne($I$102,G906)","v":false},null,null,null,null,null,13,null,null,null,null,18,0,null,null,0,"ha. a. kr.",0,null,0,"tim. a. kr.",0]
[{"$f":"CheckOne($I$103,G906)","v":false},null,null,null,null,null,13,null,null,null,null,19,0,null,null,0,"ha. a. kr.",0,null,0,"tim. a. kr.",0]
[{"$f":"CheckOne($I$104,G906)","v":false},null,null,null,null,null,13,null,null,null,null,20,0,null,null,0,"ha. a. kr.",0,null,0,"tim. a. kr.",0]
[{"$f":"CheckOne($I$105,G906)","v":false},null,null,null,null,null,13,null,null,null,null,21,0,null,null,0,"ha. a. kr.",0,null,0,"tim. a. kr.",0]
[{"$f":"CheckOne($I$106,G906)","v":false},null,null,null,null,null,13,null,null,null,null,22,0,null,null,0,"ha. a. kr.",0,null,0,"tim. a. kr.",0]
[{"$f":"CheckOne($I$107,G906)","v":false},null,null,null,null,null,13,null,null,null,null,23,0,null,null,0,"ha. a. kr.",0,null,0,"tim. a. kr.",0]
[{"$f":"CheckOne($I$108,G906)","v":false},null,null,null,null,null,13,null,null,null,null,24,0,null,null,0,"ha. a. kr.",0,null,0,"tim. a. kr.",0]
[{"$f":"CheckOne($I$109,G906)","v":false},null,null,null,null,null,13,null,null,null,null,25,0,null,null,0,"ha. a. kr.",0,null,0,"tim. a. kr.",0]
[{"$f":"CheckOne($I$110,G906)","v":false},null,null,null,null,null,13,null,null,null,null,26,0,null,null,0,"ha. a. kr.",0,null,0,"tim. a. kr.",0]
[{"$f":"CheckOne($I$111,G906)","v":false},null,null,null,null,null,13,null,null,null,null,27,0,null,null,0,"ha. a. kr.",0,null,0,"tim. a. kr.",0]
[{"$f":"CheckOne($I$112,G906)","v":false},null,null,null,null,null,13,null,null,null,null,28,0,null,null,0,"ha. a. kr.",0,null,0,"tim. a. kr.",0]
[{"$f":"CheckOne($I$113,G906)","v":false},null,null,null,null,null,13,null,null,null,null,29,0,null,null,0,"ha. a. kr.",0,null,0,"tim. a. kr.",0]
[{"$f":"CheckOne($I$114,G906)","v":false},null,null,null,null,null,13,null,null,null,null,30,0,null,null,0,"ha. a. kr.",0,null,0,"tim. a. kr.",0]
[{"$f":"CheckOne($I$115,G906)","v":false},null,null,null,null,null,13,null,null,null,null,31,0,null,null,0,"ha. a. kr.",0,null,0,"tim. a. kr.",0]
[{"$f":"CheckOne($I$116,G906)","v":false},null,null,null,null,null,13,null,null,null,null,32,0,null,null,0,"ha. a. kr.",0,null,0,"tim. a. kr.",0]
[{"$f":"CheckOne($I$117,G906)","v":false},null,null,null,null,null,13,null,null,null,null,33,0,null,null,0,"ha. a. kr.",0,null,0,"tim. a. kr.",0]
[{"$f":"CheckOne($I$118,G906)","v":false},null,null,null,null,null,13,null,null,null,null,34,0,null,null,0,"ha. a. kr.",0,null,0,"tim. a. kr.",0]
[{"$f":"CheckOne($I$119,G906)","v":false},null,null,null,null,null,13,null,null,null,null,35,0,null,null,0,"ha. a. kr.",0,null,0,"tim. a. kr.",0]
[{"$f":"CheckOne($I$120,G906)","v":false},null,null,null,null,null,13,null,null,null,null,36,0,null,null,0,"ha. a. kr.",0,null,0,"tim. a. kr.",0]
[{"$f":"CheckOne($I$121,G906)","v":false},null,null,null,null,null,13,null,null,null,null,37,0,null,null,0,"ha. a. kr.",0,null,0,"tim. a. kr.",0]
[{"$f":"CheckOne($I$122,G906)","v":false},null,null,null,null,null,13,null,null,null,null,38,0,null,null,0,"ha. a. kr.",0,null,0,"tim. a. kr.",0]
[{"$f":"CheckOne($I$123,G906)","v":false},null,null,null,null,null,13,null,null,null,null,39,0,null,null,0,"ha. a. kr.",0,null,0,"tim. a. kr.",0]
[{"$f":"CheckOne($I$124,G906)","v":false},null,null,null,null,null,13,null,null,null,null,40,0,null,null,0,"ha. a. kr.",0,null,0,"tim. a. kr.",0]
[{"$f":"CheckOne($I$125,G906)","v":false},null,null,null,null,null,13,null,null,null,null,41,0,null,null,0,"ha. a. kr.",0,null,0,"tim. a. kr.",0]
[{"$f":"CheckOne($I$126,G906)","v":false},null,null,null,null,null,13,null,null,null,null,42,0,null,null,0,"ha. a. kr.",0,null,0,"tim. a. kr.",0]
[{"$f":"CheckOne($I$127,G906)","v":false},null,null,null,null,null,13,null,null,null,null,43,0,null,null,0,"ha. a. kr.",0,null,0,"tim. a. kr.",0]
[{"$f":"CheckOne($I$128,G906)","v":false},null,null,null,null,null,13,null,null,null,null,44,0,null,null,0,"ha. a. kr.",0,null,0,"tim. a. kr.",0]
[{"$f":"CheckOne($I$129,G906)","v":false},null,null,null,null,null,13,null,null,null,null,45,0,null,null,0,"ha. a. kr.",0,null,0,"tim. a. kr.",0]
[{"$f":"CheckOne($I$130,G906)","v":false},null,null,null,null,null,13,null,null,null,null,46,0,null,null,0,"ha. a. kr.",0,null,0,"tim. a. kr.",0]
[{"$f":"CheckOne($I$131,G906)","v":false},null,null,null,null,null,13,null,null,null,null,47,0,null,null,0,"ha. a. kr.",0,null,0,"tim. a. kr.",0]
[{"$f":"CheckOne($I$132,G906)","v":false},null,null,null,null,null,13,null,null,null,null,48,0,null,null,0,"ha. a. kr.",0,null,0,"tim. a. kr.",0]
[{"$f":"CheckOne($I$133,G906)","v":false},null,null,null,null,null,13,null,null,null,null,49,0,null,null,0,"ha. a. kr.",0,null,0,"tim. a. kr.",0]
[{"$f":"CheckOne($I$134,G906)","v":false},null,null,null,null,null,13,null,null,null,null,50,0,null,null,0,"ha. a. kr.",0,null,0,"tim. a. kr.",0]
[{"$f":"OR(T961<>0)","v":false},null,null,null,null,null,null,null,null,null,null,null,"Ufordelte omkostninger",null,null,null,null,null,null,0,"tim. a. kr.",0]
[{"$f":"A905","v":false},null,null,null,null,null,null,null,null,null,null,"I alt",null,null,null,null,null,null,null,{"$f":"SUMIF(A911:A960,TRUE,T911:T960)","v":0},"timer"]
[{"$f":"A962","v":false}]
[{"$f":"OR(L964<>0,P965<>0,T968<>0,R967<>0)","v":false},null,null,null,null,"nr.","id",null,null,null,null,{"$f":"VLOOKUP(F965,$L$31:$AE$80,2,FALSE)","v":0},null,null,null,null,null,null,"i alt",null,null,"pr. time."]
[{"$f":"A964","v":false},null,null,null,null,{"$f":"F906+1","v":15},{"$f":"VLOOKUP(F965,$F$31:$J$80,5,FALSE)","v":14},null,null,null,null,"Værdi primo:",null,null,null,{"$f":"VLOOKUP(F965,$L$31:$AE$80,6,FALSE)","v":0},"Brændst.",{"$f":"VLOOKUP(F965,$L$31:$AE$80,15,FALSE)","v":0},"GKO",{"$f":"VLOOKUP(F965,$L$31:$AE$80,10,FALSE)","v":0},"GKE",{"$f":"IFERROR(+T965/R967,\"\")","v":""}]
[{"$f":"A965","v":false},null,null,null,null,null,{"$f":"G965","v":14},null,null,null,null,"Levetid:",null,null,null,{"$f":"VLOOKUP(F965,$L$31:$AE$80,7,FALSE)","v":0},"Vedl.",{"$f":"VLOOKUP(F965,$L$31:$AE$80,14,FALSE)","v":0},"KKO",{"$f":"VLOOKUP(F965,$L$31:$AE$80,13,FALSE)","v":0},"KKE",{"$f":"IFERROR(+T966/R967,\"\")","v":""}]
[false,null,null,null,null,null,{"$f":"G966","v":14},null,null,null,null,"Afskrivningspct:",null,null,null,{"$f":"VLOOKUP(F965,$L$31:$AE$80,8,FALSE)","v":0},"Anvendt",{"$f":"VLOOKUP(F965,$L$31:$AE$80,18,FALSE)","v":0},"VO",{"$f":"+R967*V967","v":0},"VE",{"$f":"VLOOKUP(F965,$L$31:$AE$80,17,FALSE)","v":0}]
[false,null,null,null,null,null,14,null,null,null,null,"Scrapværdi:",null,null,null,{"$f":"VLOOKUP(F965,$L$31:$AE$80,9,FALSE)","v":0},null,null,"TO",{"$f":"+T965+T966+T967","v":0},"TE",{"$f":"IFERROR(+V965+V966+V967,\"\")","v":""}]
[false,null,null,null,null,null,14,null,null,null,null,"Opgaver:"]
[{"$f":"CheckOne($I$85,G965)","v":false},null,null,null,null,null,14,null,null,null,null,{"$f":"L911:L960","v":1},{"$f":"M911:M961","v":0},null,null,{"$f":"$Z$85:$Z$134","v":0},{"$f":"$AA$85:$AA$134&\" a. kr.\"","v":"ha. a. kr."},{"$f":"$AG$85:$AG$134","v":0},null,{"$f":"$AB$85:$AB$135","v":0},"tim. a. kr.",{"$f":"_xlfn.ANCHORARRAY($AF$85)","v":0}]
[{"$f":"CheckOne($I$86,G965)","v":false},null,null,null,null,null,14,null,null,null,null,2,0,null,null,0,"ha. a. kr.",0,null,0,"tim. a. kr.",0]
[{"$f":"CheckOne($I$87,G965)","v":false},null,null,null,null,null,14,null,null,null,null,3,0,null,null,0,"ha. a. kr.",0,null,0,"tim. a. kr.",0]
[{"$f":"CheckOne($I$88,G965)","v":false},null,null,null,null,null,14,null,null,null,null,4,0,null,null,0,"ha. a. kr.",0,null,0,"tim. a. kr.",0]
[{"$f":"CheckOne($I$89,G965)","v":false},null,null,null,null,null,14,null,null,null,null,5,0,null,null,0,"ha. a. kr.",0,null,0,"tim. a. kr.",0]
[{"$f":"CheckOne($I$90,G965)","v":false},null,null,null,null,null,14,null,null,null,null,6,0,null,null,0,"ha. a. kr.",0,null,0,"tim. a. kr.",0]
[{"$f":"CheckOne($I$91,G965)","v":false},null,null,null,null,null,14,null,null,null,null,7,0,null,null,0,"ha. a. kr.",0,null,0,"tim. a. kr.",0]
[{"$f":"CheckOne($I$92,G965)","v":false},null,null,null,null,null,14,null,null,null,null,8,0,null,null,0,"ha. a. kr.",0,null,0,"tim. a. kr.",0]
[{"$f":"CheckOne($I$93,G965)","v":false},null,null,null,null,null,14,null,null,null,null,9,0,null,null,0,"ha. a. kr.",0,null,0,"tim. a. kr.",0]
[{"$f":"CheckOne($I$94,G965)","v":false},null,null,null,null,null,14,null,null,null,null,10,0,null,null,0,"ha. a. kr.",0,null,0,"tim. a. kr.",0]
[{"$f":"CheckOne($I$95,G965)","v":false},null,null,null,null,null,14,null,null,null,null,11,0,null,null,0,"ha. a. kr.",0,null,0,"tim. a. kr.",0]
[{"$f":"CheckOne($I$96,G965)","v":false},null,null,null,null,null,14,null,null,null,null,12,0,null,null,0,"ha. a. kr.",0,null,0,"tim. a. kr.",0]
[{"$f":"CheckOne($I$97,G965)","v":false},null,null,null,null,null,14,null,null,null,null,13,0,null,null,0,"ha. a. kr.",0,null,0,"tim. a. kr.",0]
[{"$f":"CheckOne($I$98,G965)","v":false},null,null,null,null,null,14,null,null,null,null,14,0,null,null,0,"ha. a. kr.",0,null,0,"tim. a. kr.",0]
[{"$f":"CheckOne($I$99,G965)","v":false},null,null,null,null,null,14,null,null,null,null,15,0,null,null,0,"ha. a. kr.",0,null,0,"tim. a. kr.",0]
[{"$f":"CheckOne($I$100,G965)","v":false},null,null,null,null,null,14,null,null,null,null,16,0,null,null,0,"ha. a. kr.",0,null,0,"tim. a. kr.",0]
[{"$f":"CheckOne($I$101,G965)","v":false},null,null,null,null,null,14,null,null,null,null,17,0,null,null,0,"ha. a. kr.",0,null,0,"tim. a. kr.",0]
[{"$f":"CheckOne($I$102,G965)","v":false},null,null,null,null,null,14,null,null,null,null,18,0,null,null,0,"ha. a. kr.",0,null,0,"tim. a. kr.",0]
[{"$f":"CheckOne($I$103,G965)","v":false},null,null,null,null,null,14,null,null,null,null,19,0,null,null,0,"ha. a. kr.",0,null,0,"tim. a. kr.",0]
[{"$f":"CheckOne($I$104,G965)","v":false},null,null,null,null,null,14,null,null,null,null,20,0,null,null,0,"ha. a. kr.",0,null,0,"tim. a. kr.",0]
[{"$f":"CheckOne($I$105,G965)","v":false},null,null,null,null,null,14,null,null,null,null,21,0,null,null,0,"ha. a. kr.",0,null,0,"tim. a. kr.",0]
[{"$f":"CheckOne($I$106,G965)","v":false},null,null,null,null,null,14,null,null,null,null,22,0,null,null,0,"ha. a. kr.",0,null,0,"tim. a. kr.",0]
[{"$f":"CheckOne($I$107,G965)","v":false},null,null,null,null,null,14,null,null,null,null,23,0,null,null,0,"ha. a. kr.",0,null,0,"tim. a. kr.",0]
[{"$f":"CheckOne($I$108,G965)","v":false},null,null,null,null,null,14,null,null,null,null,24,0,null,null,0,"ha. a. kr.",0,null,0,"tim. a. kr.",0]
[{"$f":"CheckOne($I$109,G965)","v":false},null,null,null,null,null,14,null,null,null,null,25,0,null,null,0,"ha. a. kr.",0,null,0,"tim. a. kr.",0]
[{"$f":"CheckOne($I$110,G965)","v":false},null,null,null,null,null,14,null,null,null,null,26,0,null,null,0,"ha. a. kr.",0,null,0,"tim. a. kr.",0]
[{"$f":"CheckOne($I$111,G965)","v":false},null,null,null,null,null,14,null,null,null,null,27,0,null,null,0,"ha. a. kr.",0,null,0,"tim. a. kr.",0]
[{"$f":"CheckOne($I$112,G965)","v":false},null,null,null,null,null,14,null,null,null,null,28,0,null,null,0,"ha. a. kr.",0,null,0,"tim. a. kr.",0]
[{"$f":"CheckOne($I$113,G965)","v":false},null,null,null,null,null,14,null,null,null,null,29,0,null,null,0,"ha. a. kr.",0,null,0,"tim. a. kr.",0]
[{"$f":"CheckOne($I$114,G965)","v":false},null,null,null,null,null,14,null,null,null,null,30,0,null,null,0,"ha. a. kr.",0,null,0,"tim. a. kr.",0]
[{"$f":"CheckOne($I$115,G965)","v":false},null,null,null,null,null,14,null,null,null,null,31,0,null,null,0,"ha. a. kr.",0,null,0,"tim. a. kr.",0]
[{"$f":"CheckOne($I$116,G965)","v":false},null,null,null,null,null,14,null,null,null,null,32,0,null,null,0,"ha. a. kr.",0,null,0,"tim. a. kr.",0]
[{"$f":"CheckOne($I$117,G965)","v":false},null,null,null,null,null,14,null,null,null,null,33,0,null,null,0,"ha. a. kr.",0,null,0,"tim. a. kr.",0]
[{"$f":"CheckOne($I$118,G965)","v":false},null,null,null,null,null,14,null,null,null,null,34,0,null,null,0,"ha. a. kr.",0,null,0,"tim. a. kr.",0]
[{"$f":"CheckOne($I$119,G965)","v":false},null,null,null,null,null,14,null,null,null,null,35,0,null,null,0,"ha. a. kr.",0,null,0,"tim. a. kr.",0]
[{"$f":"CheckOne($I$120,G965)","v":false},null,null,null,null,null,14,null,null,null,null,36,0,null,null,0,"ha. a. kr.",0,null,0,"tim. a. kr.",0]
[{"$f":"CheckOne($I$121,G965)","v":false},null,null,null,null,null,14,null,null,null,null,37,0,null,null,0,"ha. a. kr.",0,null,0,"tim. a. kr.",0]
[{"$f":"CheckOne($I$122,G965)","v":false},null,null,null,null,null,14,null,null,null,null,38,0,null,null,0,"ha. a. kr.",0,null,0,"tim. a. kr.",0]
[{"$f":"CheckOne($I$123,G965)","v":false},null,null,null,null,null,14,null,null,null,null,39,0,null,null,0,"ha. a. kr.",0,null,0,"tim. a. kr.",0]
[{"$f":"CheckOne($I$124,G965)","v":false},null,null,null,null,null,14,null,null,null,null,40,0,null,null,0,"ha. a. kr.",0,null,0,"tim. a. kr.",0]
[{"$f":"CheckOne($I$125,G965)","v":false},null,null,null,null,null,14,null,null,null,null,41,0,null,null,0,"ha. a. kr.",0,null,0,"tim. a. kr.",0]
[{"$f":"CheckOne($I$126,G965)","v":false},null,null,null,null,null,14,null,null,null,null,42,0,null,null,0,"ha. a. kr.",0,null,0,"tim. a. kr.",0]
[{"$f":"CheckOne($I$127,G965)","v":false},null,null,null,null,null,14,null,null,null,null,43,0,null,null,0,"ha. a. kr.",0,null,0,"tim. a. kr.",0]
[{"$f":"CheckOne($I$128,G965)","v":false},null,null,null,null,null,14,null,null,null,null,44,0,null,null,0,"ha. a. kr.",0,null,0,"tim. a. kr.",0]
[{"$f":"CheckOne($I$129,G965)","v":false},null,null,null,null,null,14,null,null,null,null,45,0,null,null,0,"ha. a. kr.",0,null,0,"tim. a. kr.",0]
[{"$f":"CheckOne($I$130,G965)","v":false},null,null,null,null,null,14,null,null,null,null,46,0,null,null,0,"ha. a. kr.",0,null,0,"tim. a. kr.",0]
[{"$f":"CheckOne($I$131,G965)","v":false},null,null,null,null,null,14,null,null,null,null,47,0,null,null,0,"ha. a. kr.",0,null,0,"tim. a. kr.",0]
[{"$f":"CheckOne($I$132,G965)","v":false},null,null,null,null,null,14,null,null,null,null,48,0,null,null,0,"ha. a. kr.",0,null,0,"tim. a. kr.",0]
[{"$f":"CheckOne($I$133,G965)","v":false},null,null,null,null,null,14,null,null,null,null,49,0,null,null,0,"ha. a. kr.",0,null,0,"tim. a. kr.",0]
[{"$f":"CheckOne($I$134,G965)","v":false},null,null,null,null,null,14,null,null,null,null,50,0,null,null,0,"ha. a. kr.",0,null,0,"tim. a. kr.",0]
[{"$f":"OR(T1020<>0)","v":false},null,null,null,null,null,null,null,null,null,null,null,"Ufordelte omkostninger",null,null,null,null,null,null,0,"tim. a. kr.",0]
[{"$f":"A964","v":false},null,null,null,null,null,null,null,null,null,null,"I alt",null,null,null,null,null,null,null,{"$f":"SUMIF(A970:A1019,TRUE,T970:T1019)","v":0},"timer"]
[{"$f":"A1021","v":false}]
[{"$f":"OR(L1023<>0,P1024<>0,T1027<>0,R1026<>0)","v":false},null,null,null,null,"nr.","id",null,null,null,null,{"$f":"VLOOKUP(F1024,$L$31:$AE$80,2,FALSE)","v":0},null,null,null,null,null,null,"i alt",null,null,"pr. time."]
[{"$f":"A1023","v":false},null,null,null,null,{"$f":"F965+1","v":16},{"$f":"VLOOKUP(F1024,$F$31:$J$80,5,FALSE)","v":15},null,null,null,null,"Værdi primo:",null,null,null,{"$f":"VLOOKUP(F1024,$L$31:$AE$80,6,FALSE)","v":0},"Brændst.",{"$f":"VLOOKUP(F1024,$L$31:$AE$80,15,FALSE)","v":0},"GKO",{"$f":"VLOOKUP(F1024,$L$31:$AE$80,10,FALSE)","v":0},"GKE",{"$f":"IFERROR(+T1024/R1026,\"\")","v":""}]
[{"$f":"A1024","v":false},null,null,null,null,null,{"$f":"G1024","v":15},null,null,null,null,"Levetid:",null,null,null,{"$f":"VLOOKUP(F1024,$L$31:$AE$80,7,FALSE)","v":0},"Vedl.",{"$f":"VLOOKUP(F1024,$L$31:$AE$80,14,FALSE)","v":0},"KKO",{"$f":"VLOOKUP(F1024,$L$31:$AE$80,13,FALSE)","v":0},"KKE",{"$f":"IFERROR(+T1025/R1026,\"\")","v":""}]
[false,null,null,null,null,null,{"$f":"G1025","v":15},null,null,null,null,"Afskrivningspct:",null,null,null,{"$f":"VLOOKUP(F1024,$L$31:$AE$80,8,FALSE)","v":0},"Anvendt",{"$f":"VLOOKUP(F1024,$L$31:$AE$80,18,FALSE)","v":0},"VO",{"$f":"+R1026*V1026","v":0},"VE",{"$f":"VLOOKUP(F1024,$L$31:$AE$80,17,FALSE)","v":0}]
[false,null,null,null,null,null,15,null,null,null,null,"Scrapværdi:",null,null,null,{"$f":"VLOOKUP(F1024,$L$31:$AE$80,9,FALSE)","v":0},null,null,"TO",{"$f":"+T1024+T1025+T1026","v":0},"TE",{"$f":"IFERROR(+V1024+V1025+V1026,\"\")","v":""}]
[false,null,null,null,null,null,15,null,null,null,null,"Opgaver:"]
[{"$f":"CheckOne($I$85,G1024)","v":false},null,null,null,null,null,15,null,null,null,null,{"$f":"L970:L1019","v":1},{"$f":"M970:M1020","v":0},null,null,{"$f":"$Z$85:$Z$134","v":0},{"$f":"$AA$85:$AA$134&\" a. kr.\"","v":"ha. a. kr."},{"$f":"$AG$85:$AG$134","v":0},null,{"$f":"$AB$85:$AB$135","v":0},"tim. a. kr.",{"$f":"_xlfn.ANCHORARRAY($AF$85)","v":0}]
[{"$f":"CheckOne($I$86,G1024)","v":false},null,null,null,null,null,15,null,null,null,null,2,0,null,null,0,"ha. a. kr.",0,null,0,"tim. a. kr.",0]
[{"$f":"CheckOne($I$87,G1024)","v":false},null,null,null,null,null,15,null,null,null,null,3,0,null,null,0,"ha. a. kr.",0,null,0,"tim. a. kr.",0]
[{"$f":"CheckOne($I$88,G1024)","v":false},null,null,null,null,null,15,null,null,null,null,4,0,null,null,0,"ha. a. kr.",0,null,0,"tim. a. kr.",0]
[{"$f":"CheckOne($I$89,G1024)","v":false},null,null,null,null,null,15,null,null,null,null,5,0,null,null,0,"ha. a. kr.",0,null,0,"tim. a. kr.",0]
[{"$f":"CheckOne($I$90,G1024)","v":false},null,null,null,null,null,15,null,null,null,null,6,0,null,null,0,"ha. a. kr.",0,null,0,"tim. a. kr.",0]
[{"$f":"CheckOne($I$91,G1024)","v":false},null,null,null,null,null,15,null,null,null,null,7,0,null,null,0,"ha. a. kr.",0,null,0,"tim. a. kr.",0]
[{"$f":"CheckOne($I$92,G1024)","v":false},null,null,null,null,null,15,null,null,null,null,8,0,null,null,0,"ha. a. kr.",0,null,0,"tim. a. kr.",0]
[{"$f":"CheckOne($I$93,G1024)","v":false},null,null,null,null,null,15,null,null,null,null,9,0,null,null,0,"ha. a. kr.",0,null,0,"tim. a. kr.",0]
[{"$f":"CheckOne($I$94,G1024)","v":false},null,null,null,null,null,15,null,null,null,null,10,0,null,null,0,"ha. a. kr.",0,null,0,"tim. a. kr.",0]
[{"$f":"CheckOne($I$95,G1024)","v":false},null,null,null,null,null,15,null,null,null,null,11,0,null,null,0,"ha. a. kr.",0,null,0,"tim. a. kr.",0]
[{"$f":"CheckOne($I$96,G1024)","v":false},null,null,null,null,null,15,null,null,null,null,12,0,null,null,0,"ha. a. kr.",0,null,0,"tim. a. kr.",0]
[{"$f":"CheckOne($I$97,G1024)","v":false},null,null,null,null,null,15,null,null,null,null,13,0,null,null,0,"ha. a. kr.",0,null,0,"tim. a. kr.",0]
[{"$f":"CheckOne($I$98,G1024)","v":false},null,null,null,null,null,15,null,null,null,null,14,0,null,null,0,"ha. a. kr.",0,null,0,"tim. a. kr.",0]
[{"$f":"CheckOne($I$99,G1024)","v":false},null,null,null,null,null,15,null,null,null,null,15,0,null,null,0,"ha. a. kr.",0,null,0,"tim. a. kr.",0]
[{"$f":"CheckOne($I$100,G1024)","v":false},null,null,null,null,null,15,null,null,null,null,16,0,null,null,0,"ha. a. kr.",0,null,0,"tim. a. kr.",0]
[{"$f":"CheckOne($I$101,G1024)","v":false},null,null,null,null,null,15,null,null,null,null,17,0,null,null,0,"ha. a. kr.",0,null,0,"tim. a. kr.",0]
[{"$f":"CheckOne($I$102,G1024)","v":false},null,null,null,null,null,15,null,null,null,null,18,0,null,null,0,"ha. a. kr.",0,null,0,"tim. a. kr.",0]
[{"$f":"CheckOne($I$103,G1024)","v":false},null,null,null,null,null,15,null,null,null,null,19,0,null,null,0,"ha. a. kr.",0,null,0,"tim. a. kr.",0]
[{"$f":"CheckOne($I$104,G1024)","v":false},null,null,null,null,null,15,null,null,null,null,20,0,null,null,0,"ha. a. kr.",0,null,0,"tim. a. kr.",0]
[{"$f":"CheckOne($I$105,G1024)","v":false},null,null,null,null,null,15,null,null,null,null,21,0,null,null,0,"ha. a. kr.",0,null,0,"tim. a. kr.",0]
[{"$f":"CheckOne($I$106,G1024)","v":false},null,null,null,null,null,15,null,null,null,null,22,0,null,null,0,"ha. a. kr.",0,null,0,"tim. a. kr.",0]
[{"$f":"CheckOne($I$107,G1024)","v":false},null,null,null,null,null,15,null,null,null,null,23,0,null,null,0,"ha. a. kr.",0,null,0,"tim. a. kr.",0]
[{"$f":"CheckOne($I$108,G1024)","v":false},null,null,null,null,null,15,null,null,null,null,24,0,null,null,0,"ha. a. kr.",0,null,0,"tim. a. kr.",0]
[{"$f":"CheckOne($I$109,G1024)","v":false},null,null,null,null,null,15,null,null,null,null,25,0,null,null,0,"ha. a. kr.",0,null,0,"tim. a. kr.",0]
[{"$f":"CheckOne($I$110,G1024)","v":false},null,null,null,null,null,15,null,null,null,null,26,0,null,null,0,"ha. a. kr.",0,null,0,"tim. a. kr.",0]
[{"$f":"CheckOne($I$111,G1024)","v":false},null,null,null,null,null,15,null,null,null,null,27,0,null,null,0,"ha. a. kr.",0,null,0,"tim. a. kr.",0]
[{"$f":"CheckOne($I$112,G1024)","v":false},null,null,null,null,null,15,null,null,null,null,28,0,null,null,0,"ha. a. kr.",0,null,0,"tim. a. kr.",0]
[{"$f":"CheckOne($I$113,G1024)","v":false},null,null,null,null,null,15,null,null,null,null,29,0,null,null,0,"ha. a. kr.",0,null,0,"tim. a. kr.",0]
[{"$f":"CheckOne($I$114,G1024)","v":false},null,null,null,null,null,15,null,null,null,null,30,0,null,null,0,"ha. a. kr.",0,null,0,"tim. a. kr.",0]
[{"$f":"CheckOne($I$115,G1024)","v":false},null,null,null,null,null,15,null,null,null,null,31,0,null,null,0,"ha. a. kr.",0,null,0,"tim. a. kr.",0]
[{"$f":"CheckOne($I$116,G1024)","v":false},null,null,null,null,null,15,null,null,null,null,32,0,null,null,0,"ha. a. kr.",0,null,0,"tim. a. kr.",0]
[{"$f":"CheckOne($I$117,G1024)","v":false},null,null,null,null,null,15,null,null,null,null,33,0,null,null,0,"ha. a. kr.",0,null,0,"tim. a. kr.",0]
[{"$f":"CheckOne($I$118,G1024)","v":false},null,null,null,null,null,15,null,null,null,null,34,0,null,null,0,"ha. a. kr.",0,null,0,"tim. a. kr.",0]
[{"$f":"CheckOne($I$119,G1024)","v":false},null,null,null,null,null,15,null,null,null,null,35,0,null,null,0,"ha. a. kr.",0,null,0,"tim. a. kr.",0]
[{"$f":"CheckOne($I$120,G1024)","v":false},null,null,null,null,null,15,null,null,null,null,36,0,null,null,0,"ha. a. kr.",0,null,0,"tim. a. kr.",0]
[{"$f":"CheckOne($I$121,G1024)","v":false},null,null,null,null,null,15,null,null,null,null,37,0,null,null,0,"ha. a. kr.",0,null,0,"tim. a. kr.",0]
[{"$f":"CheckOne($I$122,G1024)","v":false},null,null,null,null,null,15,null,null,null,null,38,0,null,null,0,"ha. a. kr.",0,null,0,"tim. a. kr.",0]
[{"$f":"CheckOne($I$123,G1024)","v":false},null,null,null,null,null,15,null,null,null,null,39,0,null,null,0,"ha. a. kr.",0,null,0,"tim. a. kr.",0]
[{"$f":"CheckOne($I$124,G1024)","v":false},null,null,null,null,null,15,null,null,null,null,40,0,null,null,0,"ha. a. kr.",0,null,0,"tim. a. kr.",0]
[{"$f":"CheckOne($I$125,G1024)","v":false},null,null,null,null,null,15,null,null,null,null,41,0,null,null,0,"ha. a. kr.",0,null,0,"tim. a. kr.",0]
[{"$f":"CheckOne($I$126,G1024)","v":false},null,null,null,null,null,15,null,null,null,null,42,0,null,null,0,"ha. a. kr.",0,null,0,"tim. a. kr.",0]
[{"$f":"CheckOne($I$127,G1024)","v":false},null,null,null,null,null,15,null,null,null,null,43,0,null,null,0,"ha. a. kr.",0,null,0,"tim. a. kr.",0]
[{"$f":"CheckOne($I$128,G1024)","v":false},null,null,null,null,null,15,null,null,null,null,44,0,null,null,0,"ha. a. kr.",0,null,0,"tim. a. kr.",0]
[{"$f":"CheckOne($I$129,G1024)","v":false},null,null,null,null,null,15,null,null,null,null,45,0,null,null,0,"ha. a. kr.",0,null,0,"tim. a. kr.",0]
[{"$f":"CheckOne($I$130,G1024)","v":false},null,null,null,null,null,15,null,null,null,null,46,0,null,null,0,"ha. a. kr.",0,null,0,"tim. a. kr.",0]
[{"$f":"CheckOne($I$131,G1024)","v":false},null,null,null,null,null,15,null,null,null,null,47,0,null,null,0,"ha. a. kr.",0,null,0,"tim. a. kr.",0]
[{"$f":"CheckOne($I$132,G1024)","v":false},null,null,null,null,null,15,null,null,null,null,48,0,null,null,0,"ha. a. kr.",0,null,0,"tim. a. kr.",0]
[{"$f":"CheckOne($I$133,G1024)","v":false},null,null,null,null,null,15,null,null,null,null,49,0,null,null,0,"ha. a. kr.",0,null,0,"tim. a. kr.",0]
[{"$f":"CheckOne($I$134,G1024)","v":false},null,null,null,null,null,15,null,null,null,null,50,0,null,null,0,"ha. a. kr.",0,null,0,"tim. a. kr.",0]
[{"$f":"OR(T1079<>0)","v":false},null,null,null,null,null,null,null,null,null,null,null,"Ufordelte omkostninger",null,null,null,null,null,null,0,"tim. a. kr.",0]
[{"$f":"A1023","v":false},null,null,null,null,null,null,null,null,null,null,"I alt",null,null,null,null,null,null,null,{"$f":"SUMIF(A1029:A1078,TRUE,T1029:T1078)","v":0},"timer"]
[{"$f":"A1080","v":false}]
[{"$f":"OR(L1082<>0,P1083<>0,T1086<>0,R1085<>0)","v":false},null,null,null,null,"nr.","id",null,null,null,null,{"$f":"VLOOKUP(F1083,$L$31:$AE$80,2,FALSE)","v":0},null,null,null,null,null,null,"i alt",null,null,"pr. time."]
[{"$f":"A1082","v":false},null,null,null,null,{"$f":"F1024+1","v":17},{"$f":"VLOOKUP(F1083,$F$31:$J$80,5,FALSE)","v":16},null,null,null,null,"Værdi primo:",null,null,null,{"$f":"VLOOKUP(F1083,$L$31:$AE$80,6,FALSE)","v":0},"Brændst.",{"$f":"VLOOKUP(F1083,$L$31:$AE$80,15,FALSE)","v":0},"GKO",{"$f":"VLOOKUP(F1083,$L$31:$AE$80,10,FALSE)","v":0},"GKE",{"$f":"IFERROR(+T1083/R1085,\"\")","v":""}]
[{"$f":"A1083","v":false},null,null,null,null,null,{"$f":"G1083","v":16},null,null,null,null,"Levetid:",null,null,null,{"$f":"VLOOKUP(F1083,$L$31:$AE$80,7,FALSE)","v":0},"Vedl.",{"$f":"VLOOKUP(F1083,$L$31:$AE$80,14,FALSE)","v":0},"KKO",{"$f":"VLOOKUP(F1083,$L$31:$AE$80,13,FALSE)","v":0},"KKE",{"$f":"IFERROR(+T1084/R1085,\"\")","v":""}]
[false,null,null,null,null,null,{"$f":"G1084","v":16},null,null,null,null,"Afskrivningspct:",null,null,null,{"$f":"VLOOKUP(F1083,$L$31:$AE$80,8,FALSE)","v":0},"Anvendt",{"$f":"VLOOKUP(F1083,$L$31:$AE$80,18,FALSE)","v":0},"VO",{"$f":"+R1085*V1085","v":0},"VE",{"$f":"VLOOKUP(F1083,$L$31:$AE$80,17,FALSE)","v":0}]
[false,null,null,null,null,null,16,null,null,null,null,"Scrapværdi:",null,null,null,{"$f":"VLOOKUP(F1083,$L$31:$AE$80,9,FALSE)","v":0},null,null,"TO",{"$f":"+T1083+T1084+T1085","v":0},"TE",{"$f":"IFERROR(+V1083+V1084+V1085,\"\")","v":""}]
[false,null,null,null,null,null,16,null,null,null,null,"Opgaver:"]
[{"$f":"CheckOne($I$85,G1083)","v":false},null,null,null,null,null,16,null,null,null,null,{"$f":"L1029:L1078","v":1},{"$f":"M1029:M1079","v":0},null,null,{"$f":"$Z$85:$Z$134","v":0},{"$f":"$AA$85:$AA$134&\" a. kr.\"","v":"ha. a. kr."},{"$f":"$AG$85:$AG$134","v":0},null,{"$f":"$AB$85:$AB$135","v":0},"tim. a. kr.",{"$f":"_xlfn.ANCHORARRAY($AF$85)","v":0}]
[{"$f":"CheckOne($I$86,G1083)","v":false},null,null,null,null,null,16,null,null,null,null,2,0,null,null,0,"ha. a. kr.",0,null,0,"tim. a. kr.",0]
[{"$f":"CheckOne($I$87,G1083)","v":false},null,null,null,null,null,16,null,null,null,null,3,0,null,null,0,"ha. a. kr.",0,null,0,"tim. a. kr.",0]
[{"$f":"CheckOne($I$88,G1083)","v":false},null,null,null,null,null,16,null,null,null,null,4,0,null,null,0,"ha. a. kr.",0,null,0,"tim. a. kr.",0]
[{"$f":"CheckOne($I$89,G1083)","v":false},null,null,null,null,null,16,null,null,null,null,5,0,null,null,0,"ha. a. kr.",0,null,0,"tim. a. kr.",0]
[{"$f":"CheckOne($I$90,G1083)","v":false},null,null,null,null,null,16,null,null,null,null,6,0,null,null,0,"ha. a. kr.",0,null,0,"tim. a. kr.",0]
[{"$f":"CheckOne($I$91,G1083)","v":false},null,null,null,null,null,16,null,null,null,null,7,0,null,null,0,"ha. a. kr.",0,null,0,"tim. a. kr.",0]
[{"$f":"CheckOne($I$92,G1083)","v":false},null,null,null,null,null,16,null,null,null,null,8,0,null,null,0,"ha. a. kr.",0,null,0,"tim. a. kr.",0]
[{"$f":"CheckOne($I$93,G1083)","v":false},null,null,null,null,null,16,null,null,null,null,9,0,null,null,0,"ha. a. kr.",0,null,0,"tim. a. kr.",0]
[{"$f":"CheckOne($I$94,G1083)","v":false},null,null,null,null,null,16,null,null,null,null,10,0,null,null,0,"ha. a. kr.",0,null,0,"tim. a. kr.",0]
[{"$f":"CheckOne($I$95,G1083)","v":false},null,null,null,null,null,16,null,null,null,null,11,0,null,null,0,"ha. a. kr.",0,null,0,"tim. a. kr.",0]
[{"$f":"CheckOne($I$96,G1083)","v":false},null,null,null,null,null,16,null,null,null,null,12,0,null,null,0,"ha. a. kr.",0,null,0,"tim. a. kr.",0]
[{"$f":"CheckOne($I$97,G1083)","v":false},null,null,null,null,null,16,null,null,null,null,13,0,null,null,0,"ha. a. kr.",0,null,0,"tim. a. kr.",0]
[{"$f":"CheckOne($I$98,G1083)","v":false},null,null,null,null,null,16,null,null,null,null,14,0,null,null,0,"ha. a. kr.",0,null,0,"tim. a. kr.",0]
[{"$f":"CheckOne($I$99,G1083)","v":false},null,null,null,null,null,16,null,null,null,null,15,0,null,null,0,"ha. a. kr.",0,null,0,"tim. a. kr.",0]
[{"$f":"CheckOne($I$100,G1083)","v":false},null,null,null,null,null,16,null,null,null,null,16,0,null,null,0,"ha. a. kr.",0,null,0,"tim. a. kr.",0]
[{"$f":"CheckOne($I$101,G1083)","v":false},null,null,null,null,null,16,null,null,null,null,17,0,null,null,0,"ha. a. kr.",0,null,0,"tim. a. kr.",0]
[{"$f":"CheckOne($I$102,G1083)","v":false},null,null,null,null,null,16,null,null,null,null,18,0,null,null,0,"ha. a. kr.",0,null,0,"tim. a. kr.",0]
[{"$f":"CheckOne($I$103,G1083)","v":false},null,null,null,null,null,16,null,null,null,null,19,0,null,null,0,"ha. a. kr.",0,null,0,"tim. a. kr.",0]
[{"$f":"CheckOne($I$104,G1083)","v":false},null,null,null,null,null,16,null,null,null,null,20,0,null,null,0,"ha. a. kr.",0,null,0,"tim. a. kr.",0]
[{"$f":"CheckOne($I$105,G1083)","v":false},null,null,null,null,null,16,null,null,null,null,21,0,null,null,0,"ha. a. kr.",0,null,0,"tim. a. kr.",0]
[{"$f":"CheckOne($I$106,G1083)","v":false},null,null,null,null,null,16,null,null,null,null,22,0,null,null,0,"ha. a. kr.",0,null,0,"tim. a. kr.",0]
[{"$f":"CheckOne($I$107,G1083)","v":false},null,null,null,null,null,16,null,null,null,null,23,0,null,null,0,"ha. a. kr.",0,null,0,"tim. a. kr.",0]
[{"$f":"CheckOne($I$108,G1083)","v":false},null,null,null,null,null,16,null,null,null,null,24,0,null,null,0,"ha. a. kr.",0,null,0,"tim. a. kr.",0]
[{"$f":"CheckOne($I$109,G1083)","v":false},null,null,null,null,null,16,null,null,null,null,25,0,null,null,0,"ha. a. kr.",0,null,0,"tim. a. kr.",0]
[{"$f":"CheckOne($I$110,G1083)","v":false},null,null,null,null,null,16,null,null,null,null,26,0,null,null,0,"ha. a. kr.",0,null,0,"tim. a. kr.",0]
[{"$f":"CheckOne($I$111,G1083)","v":false},null,null,null,null,null,16,null,null,null,null,27,0,null,null,0,"ha. a. kr.",0,null,0,"tim. a. kr.",0]
[{"$f":"CheckOne($I$112,G1083)","v":false},null,null,null,null,null,16,null,null,null,null,28,0,null,null,0,"ha. a. kr.",0,null,0,"tim. a. kr.",0]
[{"$f":"CheckOne($I$113,G1083)","v":false},null,null,null,null,null,16,null,null,null,null,29,0,null,null,0,"ha. a. kr.",0,null,0,"tim. a. kr.",0]
[{"$f":"CheckOne($I$114,G1083)","v":false},null,null,null,null,null,16,null,null,null,null,30,0,null,null,0,"ha. a. kr.",0,null,0,"tim. a. kr.",0]
[{"$f":"CheckOne($I$115,G1083)","v":false},null,null,null,null,null,16,null,null,null,null,31,0,null,null,0,"ha. a. kr.",0,null,0,"tim. a. kr.",0]
[{"$f":"CheckOne($I$116,G1083)","v":false},null,null,null,null,null,16,null,null,null,null,32,0,null,null,0,"ha. a. kr.",0,null,0,"tim. a. kr.",0]
[{"$f":"CheckOne($I$117,G1083)","v":false},null,null,null,null,null,16,null,null,null,null,33,0,null,null,0,"ha. a. kr.",0,null,0,"tim. a. kr.",0]
[{"$f":"CheckOne($I$118,G1083)","v":false},null,null,null,null,null,16,null,null,null,null,34,0,null,null,0,"ha. a. kr.",0,null,0,"tim. a. kr.",0]
[{"$f":"CheckOne($I$119,G1083)","v":false},null,null,null,null,null,16,null,null,null,null,35,0,null,null,0,"ha. a. kr.",0,null,0,"tim. a. kr.",0]
[{"$f":"CheckOne($I$120,G1083)","v":false},null,null,null,null,null,16,null,null,null,null,36,0,null,null,0,"ha. a. kr.",0,null,0,"tim. a. kr.",0]
[{"$f":"CheckOne($I$121,G1083)","v":false},null,null,null,null,null,16,null,null,null,null,37,0,null,null,0,"ha. a. kr.",0,null,0,"tim. a. kr.",0]
[{"$f":"CheckOne($I$122,G1083)","v":false},null,null,null,null,null,16,null,null,null,null,38,0,null,null,0,"ha. a. kr.",0,null,0,"tim. a. kr.",0]
[{"$f":"CheckOne($I$123,G1083)","v":false},null,null,null,null,null,16,null,null,null,null,39,0,null,null,0,"ha. a. kr.",0,null,0,"tim. a. kr.",0]
[{"$f":"CheckOne($I$124,G1083)","v":false},null,null,null,null,null,16,null,null,null,null,40,0,null,null,0,"ha. a. kr.",0,null,0,"tim. a. kr.",0]
[{"$f":"CheckOne($I$125,G1083)","v":false},null,null,null,null,null,16,null,null,null,null,41,0,null,null,0,"ha. a. kr.",0,null,0,"tim. a. kr.",0]
[{"$f":"CheckOne($I$126,G1083)","v":false},null,null,null,null,null,16,null,null,null,null,42,0,null,null,0,"ha. a. kr.",0,null,0,"tim. a. kr.",0]
[{"$f":"CheckOne($I$127,G1083)","v":false},null,null,null,null,null,16,null,null,null,null,43,0,null,null,0,"ha. a. kr.",0,null,0,"tim. a. kr.",0]
[{"$f":"CheckOne($I$128,G1083)","v":false},null,null,null,null,null,16,null,null,null,null,44,0,null,null,0,"ha. a. kr.",0,null,0,"tim. a. kr.",0]
[{"$f":"CheckOne($I$129,G1083)","v":false},null,null,null,null,null,16,null,null,null,null,45,0,null,null,0,"ha. a. kr.",0,null,0,"tim. a. kr.",0]
[{"$f":"CheckOne($I$130,G1083)","v":false},null,null,null,null,null,16,null,null,null,null,46,0,null,null,0,"ha. a. kr.",0,null,0,"tim. a. kr.",0]
[{"$f":"CheckOne($I$131,G1083)","v":false},null,null,null,null,null,16,null,null,null,null,47,0,null,null,0,"ha. a. kr.",0,null,0,"tim. a. kr.",0]
[{"$f":"CheckOne($I$132,G1083)","v":false},null,null,null,null,null,16,null,null,null,null,48,0,null,null,0,"ha. a. kr.",0,null,0,"tim. a. kr.",0]
[{"$f":"CheckOne($I$133,G1083)","v":false},null,null,null,null,null,16,null,null,null,null,49,0,null,null,0,"ha. a. kr.",0,null,0,"tim. a. kr.",0]
[{"$f":"CheckOne($I$134,G1083)","v":false},null,null,null,null,null,16,null,null,null,null,50,0,null,null,0,"ha. a. kr.",0,null,0,"tim. a. kr.",0]
[{"$f":"OR(T1138<>0)","v":false},null,null,null,null,null,null,null,null,null,null,null,"Ufordelte omkostninger",null,null,null,null,null,null,0,"tim. a. kr.",0]
[{"$f":"A1082","v":false},null,null,null,null,null,null,null,null,null,null,"I alt",null,null,null,null,null,null,null,{"$f":"SUMIF(A1088:A1137,TRUE,T1088:T1137)","v":0},"timer"]
[{"$f":"A1139","v":false}]
[{"$f":"OR(L1141<>0,P1142<>0,T1145<>0,R1144<>0)","v":false},null,null,null,null,"nr.","id",null,null,null,null,{"$f":"VLOOKUP(F1142,$L$31:$AE$80,2,FALSE)","v":0},null,null,null,null,null,null,"i alt",null,null,"pr. time."]
[{"$f":"A1141","v":false},null,null,null,null,{"$f":"F1083+1","v":18},{"$f":"VLOOKUP(F1142,$F$31:$J$80,5,FALSE)","v":17},null,null,null,null,"Værdi primo:",null,null,null,{"$f":"VLOOKUP(F1142,$L$31:$AE$80,6,FALSE)","v":0},"Brændst.",{"$f":"VLOOKUP(F1142,$L$31:$AE$80,15,FALSE)","v":0},"GKO",{"$f":"VLOOKUP(F1142,$L$31:$AE$80,10,FALSE)","v":0},"GKE",{"$f":"IFERROR(+T1142/R1144,\"\")","v":""}]
[{"$f":"A1142","v":false},null,null,null,null,null,{"$f":"G1142","v":17},null,null,null,null,"Levetid:",null,null,null,{"$f":"VLOOKUP(F1142,$L$31:$AE$80,7,FALSE)","v":0},"Vedl.",{"$f":"VLOOKUP(F1142,$L$31:$AE$80,14,FALSE)","v":0},"KKO",{"$f":"VLOOKUP(F1142,$L$31:$AE$80,13,FALSE)","v":0},"KKE",{"$f":"IFERROR(+T1143/R1144,\"\")","v":""}]
[false,null,null,null,null,null,{"$f":"G1143","v":17},null,null,null,null,"Afskrivningspct:",null,null,null,{"$f":"VLOOKUP(F1142,$L$31:$AE$80,8,FALSE)","v":0},"Anvendt",{"$f":"VLOOKUP(F1142,$L$31:$AE$80,18,FALSE)","v":0},"VO",{"$f":"+R1144*V1144","v":0},"VE",{"$f":"VLOOKUP(F1142,$L$31:$AE$80,17,FALSE)","v":0}]
[false,null,null,null,null,null,17,null,null,null,null,"Scrapværdi:",null,null,null,{"$f":"VLOOKUP(F1142,$L$31:$AE$80,9,FALSE)","v":0},null,null,"TO",{"$f":"+T1142+T1143+T1144","v":0},"TE",{"$f":"IFERROR(+V1142+V1143+V1144,\"\")","v":""}]
[false,null,null,null,null,null,17,null,null,null,null,"Opgaver:"]
[{"$f":"CheckOne($I$85,G1142)","v":false},null,null,null,null,null,17,null,null,null,null,{"$f":"L1088:L1137","v":1},{"$f":"M1088:M1138","v":0},null,null,{"$f":"$Z$85:$Z$134","v":0},{"$f":"$AA$85:$AA$134&\" a. kr.\"","v":"ha. a. kr."},{"$f":"$AG$85:$AG$134","v":0},null,{"$f":"$AB$85:$AB$135","v":0},"tim. a. kr.",{"$f":"_xlfn.ANCHORARRAY($AF$85)","v":0}]
[{"$f":"CheckOne($I$86,G1142)","v":false},null,null,null,null,null,17,null,null,null,null,2,0,null,null,0,"ha. a. kr.",0,null,0,"tim. a. kr.",0]
[{"$f":"CheckOne($I$87,G1142)","v":false},null,null,null,null,null,17,null,null,null,null,3,0,null,null,0,"ha. a. kr.",0,null,0,"tim. a. kr.",0]
[{"$f":"CheckOne($I$88,G1142)","v":false},null,null,null,null,null,17,null,null,null,null,4,0,null,null,0,"ha. a. kr.",0,null,0,"tim. a. kr.",0]
[{"$f":"CheckOne($I$89,G1142)","v":false},null,null,null,null,null,17,null,null,null,null,5,0,null,null,0,"ha. a. kr.",0,null,0,"tim. a. kr.",0]
[{"$f":"CheckOne($I$90,G1142)","v":false},null,null,null,null,null,17,null,null,null,null,6,0,null,null,0,"ha. a. kr.",0,null,0,"tim. a. kr.",0]
[{"$f":"CheckOne($I$91,G1142)","v":false},null,null,null,null,null,17,null,null,null,null,7,0,null,null,0,"ha. a. kr.",0,null,0,"tim. a. kr.",0]
[{"$f":"CheckOne($I$92,G1142)","v":false},null,null,null,null,null,17,null,null,null,null,8,0,null,null,0,"ha. a. kr.",0,null,0,"tim. a. kr.",0]
[{"$f":"CheckOne($I$93,G1142)","v":false},null,null,null,null,null,17,null,null,null,null,9,0,null,null,0,"ha. a. kr.",0,null,0,"tim. a. kr.",0]
[{"$f":"CheckOne($I$94,G1142)","v":false},null,null,null,null,null,17,null,null,null,null,10,0,null,null,0,"ha. a. kr.",0,null,0,"tim. a. kr.",0]
[{"$f":"CheckOne($I$95,G1142)","v":false},null,null,null,null,null,17,null,null,null,null,11,0,null,null,0,"ha. a. kr.",0,null,0,"tim. a. kr.",0]
[{"$f":"CheckOne($I$96,G1142)","v":false},null,null,null,null,null,17,null,null,null,null,12,0,null,null,0,"ha. a. kr.",0,null,0,"tim. a. kr.",0]
[{"$f":"CheckOne($I$97,G1142)","v":false},null,null,null,null,null,17,null,null,null,null,13,0,null,null,0,"ha. a. kr.",0,null,0,"tim. a. kr.",0]
[{"$f":"CheckOne($I$98,G1142)","v":false},null,null,null,null,null,17,null,null,null,null,14,0,null,null,0,"ha. a. kr.",0,null,0,"tim. a. kr.",0]
[{"$f":"CheckOne($I$99,G1142)","v":false},null,null,null,null,null,17,null,null,null,null,15,0,null,null,0,"ha. a. kr.",0,null,0,"tim. a. kr.",0]
[{"$f":"CheckOne($I$100,G1142)","v":false},null,null,null,null,null,17,null,null,null,null,16,0,null,null,0,"ha. a. kr.",0,null,0,"tim. a. kr.",0]
[{"$f":"CheckOne($I$101,G1142)","v":false},null,null,null,null,null,17,null,null,null,null,17,0,null,null,0,"ha. a. kr.",0,null,0,"tim. a. kr.",0]
[{"$f":"CheckOne($I$102,G1142)","v":false},null,null,null,null,null,17,null,null,null,null,18,0,null,null,0,"ha. a. kr.",0,null,0,"tim. a. kr.",0]
[{"$f":"CheckOne($I$103,G1142)","v":false},null,null,null,null,null,17,null,null,null,null,19,0,null,null,0,"ha. a. kr.",0,null,0,"tim. a. kr.",0]
[{"$f":"CheckOne($I$104,G1142)","v":false},null,null,null,null,null,17,null,null,null,null,20,0,null,null,0,"ha. a. kr.",0,null,0,"tim. a. kr.",0]
[{"$f":"CheckOne($I$105,G1142)","v":false},null,null,null,null,null,17,null,null,null,null,21,0,null,null,0,"ha. a. kr.",0,null,0,"tim. a. kr.",0]
[{"$f":"CheckOne($I$106,G1142)","v":false},null,null,null,null,null,17,null,null,null,null,22,0,null,null,0,"ha. a. kr.",0,null,0,"tim. a. kr.",0]
[{"$f":"CheckOne($I$107,G1142)","v":false},null,null,null,null,null,17,null,null,null,null,23,0,null,null,0,"ha. a. kr.",0,null,0,"tim. a. kr.",0]
[{"$f":"CheckOne($I$108,G1142)","v":false},null,null,null,null,null,17,null,null,null,null,24,0,null,null,0,"ha. a. kr.",0,null,0,"tim. a. kr.",0]
[{"$f":"CheckOne($I$109,G1142)","v":false},null,null,null,null,null,17,null,null,null,null,25,0,null,null,0,"ha. a. kr.",0,null,0,"tim. a. kr.",0]
[{"$f":"CheckOne($I$110,G1142)","v":false},null,null,null,null,null,17,null,null,null,null,26,0,null,null,0,"ha. a. kr.",0,null,0,"tim. a. kr.",0]
[{"$f":"CheckOne($I$111,G1142)","v":false},null,null,null,null,null,17,null,null,null,null,27,0,null,null,0,"ha. a. kr.",0,null,0,"tim. a. kr.",0]
[{"$f":"CheckOne($I$112,G1142)","v":false},null,null,null,null,null,17,null,null,null,null,28,0,null,null,0,"ha. a. kr.",0,null,0,"tim. a. kr.",0]
[{"$f":"CheckOne($I$113,G1142)","v":false},null,null,null,null,null,17,null,null,null,null,29,0,null,null,0,"ha. a. kr.",0,null,0,"tim. a. kr.",0]
[{"$f":"CheckOne($I$114,G1142)","v":false},null,null,null,null,null,17,null,null,null,null,30,0,null,null,0,"ha. a. kr.",0,null,0,"tim. a. kr.",0]
[{"$f":"CheckOne($I$115,G1142)","v":false},null,null,null,null,null,17,null,null,null,null,31,0,null,null,0,"ha. a. kr.",0,null,0,"tim. a. kr.",0]
[{"$f":"CheckOne($I$116,G1142)","v":false},null,null,null,null,null,17,null,null,null,null,32,0,null,null,0,"ha. a. kr.",0,null,0,"tim. a. kr.",0]
[{"$f":"CheckOne($I$117,G1142)","v":false},null,null,null,null,null,17,null,null,null,null,33,0,null,null,0,"ha. a. kr.",0,null,0,"tim. a. kr.",0]
[{"$f":"CheckOne($I$118,G1142)","v":false},null,null,null,null,null,17,null,null,null,null,34,0,null,null,0,"ha. a. kr.",0,null,0,"tim. a. kr.",0]
[{"$f":"CheckOne($I$119,G1142)","v":false},null,null,null,null,null,17,null,null,null,null,35,0,null,null,0,"ha. a. kr.",0,null,0,"tim. a. kr.",0]
[{"$f":"CheckOne($I$120,G1142)","v":false},null,null,null,null,null,17,null,null,null,null,36,0,null,null,0,"ha. a. kr.",0,null,0,"tim. a. kr.",0]
[{"$f":"CheckOne($I$121,G1142)","v":false},null,null,null,null,null,17,null,null,null,null,37,0,null,null,0,"ha. a. kr.",0,null,0,"tim. a. kr.",0]
[{"$f":"CheckOne($I$122,G1142)","v":false},null,null,null,null,null,17,null,null,null,null,38,0,null,null,0,"ha. a. kr.",0,null,0,"tim. a. kr.",0]
[{"$f":"CheckOne($I$123,G1142)","v":false},null,null,null,null,null,17,null,null,null,null,39,0,null,null,0,"ha. a. kr.",0,null,0,"tim. a. kr.",0]
[{"$f":"CheckOne($I$124,G1142)","v":false},null,null,null,null,null,17,null,null,null,null,40,0,null,null,0,"ha. a. kr.",0,null,0,"tim. a. kr.",0]
[{"$f":"CheckOne($I$125,G1142)","v":false},null,null,null,null,null,17,null,null,null,null,41,0,null,null,0,"ha. a. kr.",0,null,0,"tim. a. kr.",0]
[{"$f":"CheckOne($I$126,G1142)","v":false},null,null,null,null,null,17,null,null,null,null,42,0,null,null,0,"ha. a. kr.",0,null,0,"tim. a. kr.",0]
[{"$f":"CheckOne($I$127,G1142)","v":false},null,null,null,null,null,17,null,null,null,null,43,0,null,null,0,"ha. a. kr.",0,null,0,"tim. a. kr.",0]
[{"$f":"CheckOne($I$128,G1142)","v":false},null,null,null,null,null,17,null,null,null,null,44,0,null,null,0,"ha. a. kr.",0,null,0,"tim. a. kr.",0]
[{"$f":"CheckOne($I$129,G1142)","v":false},null,null,null,null,null,17,null,null,null,null,45,0,null,null,0,"ha. a. kr.",0,null,0,"tim. a. kr.",0]
[{"$f":"CheckOne($I$130,G1142)","v":false},null,null,null,null,null,17,null,null,null,null,46,0,null,null,0,"ha. a. kr.",0,null,0,"tim. a. kr.",0]
[{"$f":"CheckOne($I$131,G1142)","v":false},null,null,null,null,null,17,null,null,null,null,47,0,null,null,0,"ha. a. kr.",0,null,0,"tim. a. kr.",0]
[{"$f":"CheckOne($I$132,G1142)","v":false},null,null,null,null,null,17,null,null,null,null,48,0,null,null,0,"ha. a. kr.",0,null,0,"tim. a. kr.",0]
[{"$f":"CheckOne($I$133,G1142)","v":false},null,null,null,null,null,17,null,null,null,null,49,0,null,null,0,"ha. a. kr.",0,null,0,"tim. a. kr.",0]
[{"$f":"CheckOne($I$134,G1142)","v":false},null,null,null,null,null,17,null,null,null,null,50,0,null,null,0,"ha. a. kr.",0,null,0,"tim. a. kr.",0]
[{"$f":"OR(T1197<>0)","v":false},null,null,null,null,null,null,null,null,null,null,null,"Ufordelte omkostninger",null,null,null,null,null,null,0,"tim. a. kr.",0]
[{"$f":"A1141","v":false},null,null,null,null,null,null,null,null,null,null,"I alt",null,null,null,null,null,null,null,{"$f":"SUMIF(A1147:A1196,TRUE,T1147:T1196)","v":0},"timer"]
[{"$f":"A1198","v":false}]
[{"$f":"OR(L1200<>0,P1201<>0,T1204<>0,R1203<>0)","v":false},null,null,null,null,"nr.","id",null,null,null,null,{"$f":"VLOOKUP(F1201,$L$31:$AE$80,2,FALSE)","v":0},null,null,null,null,null,null,"i alt",null,null,"pr. time."]
[{"$f":"A1200","v":false},null,null,null,null,{"$f":"F1142+1","v":19},{"$f":"VLOOKUP(F1201,$F$31:$J$80,5,FALSE)","v":18},null,null,null,null,"Værdi primo:",null,null,null,{"$f":"VLOOKUP(F1201,$L$31:$AE$80,6,FALSE)","v":0},"Brændst.",{"$f":"VLOOKUP(F1201,$L$31:$AE$80,15,FALSE)","v":0},"GKO",{"$f":"VLOOKUP(F1201,$L$31:$AE$80,10,FALSE)","v":0},"GKE",{"$f":"IFERROR(+T1201/R1203,\"\")","v":""}]
[{"$f":"A1201","v":false},null,null,null,null,null,{"$f":"G1201","v":18},null,null,null,null,"Levetid:",null,null,null,{"$f":"VLOOKUP(F1201,$L$31:$AE$80,7,FALSE)","v":0},"Vedl.",{"$f":"VLOOKUP(F1201,$L$31:$AE$80,14,FALSE)","v":0},"KKO",{"$f":"VLOOKUP(F1201,$L$31:$AE$80,13,FALSE)","v":0},"KKE",{"$f":"IFERROR(+T1202/R1203,\"\")","v":""}]
[false,null,null,null,null,null,{"$f":"G1202","v":18},null,null,null,null,"Afskrivningspct:",null,null,null,{"$f":"VLOOKUP(F1201,$L$31:$AE$80,8,FALSE)","v":0},"Anvendt",{"$f":"VLOOKUP(F1201,$L$31:$AE$80,18,FALSE)","v":0},"VO",{"$f":"+R1203*V1203","v":0},"VE",{"$f":"VLOOKUP(F1201,$L$31:$AE$80,17,FALSE)","v":0}]
[false,null,null,null,null,null,18,null,null,null,null,"Scrapværdi:",null,null,null,{"$f":"VLOOKUP(F1201,$L$31:$AE$80,9,FALSE)","v":0},null,null,"TO",{"$f":"+T1201+T1202+T1203","v":0},"TE",{"$f":"IFERROR(+V1201+V1202+V1203,\"\")","v":""}]
[false,null,null,null,null,null,18,null,null,null,null,"Opgaver:"]
[{"$f":"CheckOne($I$85,G1201)","v":false},null,null,null,null,null,18,null,null,null,null,{"$f":"L1147:L1196","v":1},{"$f":"M1147:M1197","v":0},null,null,{"$f":"$Z$85:$Z$134","v":0},{"$f":"$AA$85:$AA$134&\" a. kr.\"","v":"ha. a. kr."},{"$f":"$AG$85:$AG$134","v":0},null,{"$f":"$AB$85:$AB$135","v":0},"tim. a. kr.",{"$f":"_xlfn.ANCHORARRAY($AF$85)","v":0}]
[{"$f":"CheckOne($I$86,G1201)","v":false},null,null,null,null,null,18,null,null,null,null,2,0,null,null,0,"ha. a. kr.",0,null,0,"tim. a. kr.",0]
[{"$f":"CheckOne($I$87,G1201)","v":false},null,null,null,null,null,18,null,null,null,null,3,0,null,null,0,"ha. a. kr.",0,null,0,"tim. a. kr.",0]
[{"$f":"CheckOne($I$88,G1201)","v":false},null,null,null,null,null,18,null,null,null,null,4,0,null,null,0,"ha. a. kr.",0,null,0,"tim. a. kr.",0]
[{"$f":"CheckOne($I$89,G1201)","v":false},null,null,null,null,null,18,null,null,null,null,5,0,null,null,0,"ha. a. kr.",0,null,0,"tim. a. kr.",0]
[{"$f":"CheckOne($I$90,G1201)","v":false},null,null,null,null,null,18,null,null,null,null,6,0,null,null,0,"ha. a. kr.",0,null,0,"tim. a. kr.",0]
[{"$f":"CheckOne($I$91,G1201)","v":false},null,null,null,null,null,18,null,null,null,null,7,0,null,null,0,"ha. a. kr.",0,null,0,"tim. a. kr.",0]
[{"$f":"CheckOne($I$92,G1201)","v":false},null,null,null,null,null,18,null,null,null,null,8,0,null,null,0,"ha. a. kr.",0,null,0,"tim. a. kr.",0]
[{"$f":"CheckOne($I$93,G1201)","v":false},null,null,null,null,null,18,null,null,null,null,9,0,null,null,0,"ha. a. kr.",0,null,0,"tim. a. kr.",0]
[{"$f":"CheckOne($I$94,G1201)","v":false},null,null,null,null,null,18,null,null,null,null,10,0,null,null,0,"ha. a. kr.",0,null,0,"tim. a. kr.",0]
[{"$f":"CheckOne($I$95,G1201)","v":false},null,null,null,null,null,18,null,null,null,null,11,0,null,null,0,"ha. a. kr.",0,null,0,"tim. a. kr.",0]
[{"$f":"CheckOne($I$96,G1201)","v":false},null,null,null,null,null,18,null,null,null,null,12,0,null,null,0,"ha. a. kr.",0,null,0,"tim. a. kr.",0]
[{"$f":"CheckOne($I$97,G1201)","v":false},null,null,null,null,null,18,null,null,null,null,13,0,null,null,0,"ha. a. kr.",0,null,0,"tim. a. kr.",0]
[{"$f":"CheckOne($I$98,G1201)","v":false},null,null,null,null,null,18,null,null,null,null,14,0,null,null,0,"ha. a. kr.",0,null,0,"tim. a. kr.",0]
[{"$f":"CheckOne($I$99,G1201)","v":false},null,null,null,null,null,18,null,null,null,null,15,0,null,null,0,"ha. a. kr.",0,null,0,"tim. a. kr.",0]
[{"$f":"CheckOne($I$100,G1201)","v":false},null,null,null,null,null,18,null,null,null,null,16,0,null,null,0,"ha. a. kr.",0,null,0,"tim. a. kr.",0]
[{"$f":"CheckOne($I$101,G1201)","v":false},null,null,null,null,null,18,null,null,null,null,17,0,null,null,0,"ha. a. kr.",0,null,0,"tim. a. kr.",0]
[{"$f":"CheckOne($I$102,G1201)","v":false},null,null,null,null,null,18,null,null,null,null,18,0,null,null,0,"ha. a. kr.",0,null,0,"tim. a. kr.",0]
[{"$f":"CheckOne($I$103,G1201)","v":false},null,null,null,null,null,18,null,null,null,null,19,0,null,null,0,"ha. a. kr.",0,null,0,"tim. a. kr.",0]
[{"$f":"CheckOne($I$104,G1201)","v":false},null,null,null,null,null,18,null,null,null,null,20,0,null,null,0,"ha. a. kr.",0,null,0,"tim. a. kr.",0]
[{"$f":"CheckOne($I$105,G1201)","v":false},null,null,null,null,null,18,null,null,null,null,21,0,null,null,0,"ha. a. kr.",0,null,0,"tim. a. kr.",0]
[{"$f":"CheckOne($I$106,G1201)","v":false},null,null,null,null,null,18,null,null,null,null,22,0,null,null,0,"ha. a. kr.",0,null,0,"tim. a. kr.",0]
[{"$f":"CheckOne($I$107,G1201)","v":false},null,null,null,null,null,18,null,null,null,null,23,0,null,null,0,"ha. a. kr.",0,null,0,"tim. a. kr.",0]
[{"$f":"CheckOne($I$108,G1201)","v":false},null,null,null,null,null,18,null,null,null,null,24,0,null,null,0,"ha. a. kr.",0,null,0,"tim. a. kr.",0]
[{"$f":"CheckOne($I$109,G1201)","v":false},null,null,null,null,null,18,null,null,null,null,25,0,null,null,0,"ha. a. kr.",0,null,0,"tim. a. kr.",0]
[{"$f":"CheckOne($I$110,G1201)","v":false},null,null,null,null,null,18,null,null,null,null,26,0,null,null,0,"ha. a. kr.",0,null,0,"tim. a. kr.",0]
[{"$f":"CheckOne($I$111,G1201)","v":false},null,null,null,null,null,18,null,null,null,null,27,0,null,null,0,"ha. a. kr.",0,null,0,"tim. a. kr.",0]
[{"$f":"CheckOne($I$112,G1201)","v":false},null,null,null,null,null,18,null,null,null,null,28,0,null,null,0,"ha. a. kr.",0,null,0,"tim. a. kr.",0]
[{"$f":"CheckOne($I$113,G1201)","v":false},null,null,null,null,null,18,null,null,null,null,29,0,null,null,0,"ha. a. kr.",0,null,0,"tim. a. kr.",0]
[{"$f":"CheckOne($I$114,G1201)","v":false},null,null,null,null,null,18,null,null,null,null,30,0,null,null,0,"ha. a. kr.",0,null,0,"tim. a. kr.",0]
[{"$f":"CheckOne($I$115,G1201)","v":false},null,null,null,null,null,18,null,null,null,null,31,0,null,null,0,"ha. a. kr.",0,null,0,"tim. a. kr.",0]
[{"$f":"CheckOne($I$116,G1201)","v":false},null,null,null,null,null,18,null,null,null,null,32,0,null,null,0,"ha. a. kr.",0,null,0,"tim. a. kr.",0]
[{"$f":"CheckOne($I$117,G1201)","v":false},null,null,null,null,null,18,null,null,null,null,33,0,null,null,0,"ha. a. kr.",0,null,0,"tim. a. kr.",0]
[{"$f":"CheckOne($I$118,G1201)","v":false},null,null,null,null,null,18,null,null,null,null,34,0,null,null,0,"ha. a. kr.",0,null,0,"tim. a. kr.",0]
[{"$f":"CheckOne($I$119,G1201)","v":false},null,null,null,null,null,18,null,null,null,null,35,0,null,null,0,"ha. a. kr.",0,null,0,"tim. a. kr.",0]
[{"$f":"CheckOne($I$120,G1201)","v":false},null,null,null,null,null,18,null,null,null,null,36,0,null,null,0,"ha. a. kr.",0,null,0,"tim. a. kr.",0]
[{"$f":"CheckOne($I$121,G1201)","v":false},null,null,null,null,null,18,null,null,null,null,37,0,null,null,0,"ha. a. kr.",0,null,0,"tim. a. kr.",0]
[{"$f":"CheckOne($I$122,G1201)","v":false},null,null,null,null,null,18,null,null,null,null,38,0,null,null,0,"ha. a. kr.",0,null,0,"tim. a. kr.",0]
[{"$f":"CheckOne($I$123,G1201)","v":false},null,null,null,null,null,18,null,null,null,null,39,0,null,null,0,"ha. a. kr.",0,null,0,"tim. a. kr.",0]
[{"$f":"CheckOne($I$124,G1201)","v":false},null,null,null,null,null,18,null,null,null,null,40,0,null,null,0,"ha. a. kr.",0,null,0,"tim. a. kr.",0]
[{"$f":"CheckOne($I$125,G1201)","v":false},null,null,null,null,null,18,null,null,null,null,41,0,null,null,0,"ha. a. kr.",0,null,0,"tim. a. kr.",0]
[{"$f":"CheckOne($I$126,G1201)","v":false},null,null,null,null,null,18,null,null,null,null,42,0,null,null,0,"ha. a. kr.",0,null,0,"tim. a. kr.",0]
[{"$f":"CheckOne($I$127,G1201)","v":false},null,null,null,null,null,18,null,null,null,null,43,0,null,null,0,"ha. a. kr.",0,null,0,"tim. a. kr.",0]
[{"$f":"CheckOne($I$128,G1201)","v":false},null,null,null,null,null,18,null,null,null,null,44,0,null,null,0,"ha. a. kr.",0,null,0,"tim. a. kr.",0]
[{"$f":"CheckOne($I$129,G1201)","v":false},null,null,null,null,null,18,null,null,null,null,45,0,null,null,0,"ha. a. kr.",0,null,0,"tim. a. kr.",0]
[{"$f":"CheckOne($I$130,G1201)","v":false},null,null,null,null,null,18,null,null,null,null,46,0,null,null,0,"ha. a. kr.",0,null,0,"tim. a. kr.",0]
[{"$f":"CheckOne($I$131,G1201)","v":false},null,null,null,null,null,18,null,null,null,null,47,0,null,null,0,"ha. a. kr.",0,null,0,"tim. a. kr.",0]
[{"$f":"CheckOne($I$132,G1201)","v":false},null,null,null,null,null,18,null,null,null,null,48,0,null,null,0,"ha. a. kr.",0,null,0,"tim. a. kr.",0]
[{"$f":"CheckOne($I$133,G1201)","v":false},null,null,null,null,null,18,null,null,null,null,49,0,null,null,0,"ha. a. kr.",0,null,0,"tim. a. kr.",0]
[{"$f":"CheckOne($I$134,G1201)","v":false},null,null,null,null,null,18,null,null,null,null,50,0,null,null,0,"ha. a. kr.",0,null,0,"tim. a. kr.",0]
[{"$f":"OR(T1256<>0)","v":false},null,null,null,null,null,null,null,null,null,null,null,"Ufordelte omkostninger",null,null,null,null,null,null,0,"tim. a. kr.",0]
[{"$f":"A1200","v":false},null,null,null,null,null,null,null,null,null,null,"I alt",null,null,null,null,null,null,null,{"$f":"SUMIF(A1206:A1255,TRUE,T1206:T1255)","v":0},"timer"]
[{"$f":"A1257","v":false}]
[{"$f":"OR(L1259<>0,P1260<>0,T1263<>0,R1262<>0)","v":false},null,null,null,null,"nr.","id",null,null,null,null,{"$f":"VLOOKUP(F1260,$L$31:$AE$80,2,FALSE)","v":0},null,null,null,null,null,null,"i alt",null,null,"pr. time."]
[{"$f":"A1259","v":false},null,null,null,null,{"$f":"F1201+1","v":20},{"$f":"VLOOKUP(F1260,$F$31:$J$80,5,FALSE)","v":19},null,null,null,null,"Værdi primo:",null,null,null,{"$f":"VLOOKUP(F1260,$L$31:$AE$80,6,FALSE)","v":0},"Brændst.",{"$f":"VLOOKUP(F1260,$L$31:$AE$80,15,FALSE)","v":0},"GKO",{"$f":"VLOOKUP(F1260,$L$31:$AE$80,10,FALSE)","v":0},"GKE",{"$f":"IFERROR(+T1260/R1262,\"\")","v":""}]
[{"$f":"A1260","v":false},null,null,null,null,null,{"$f":"G1260","v":19},null,null,null,null,"Levetid:",null,null,null,{"$f":"VLOOKUP(F1260,$L$31:$AE$80,7,FALSE)","v":0},"Vedl.",{"$f":"VLOOKUP(F1260,$L$31:$AE$80,14,FALSE)","v":0},"KKO",{"$f":"VLOOKUP(F1260,$L$31:$AE$80,13,FALSE)","v":0},"KKE",{"$f":"IFERROR(+T1261/R1262,\"\")","v":""}]
[false,null,null,null,null,null,{"$f":"G1261","v":19},null,null,null,null,"Afskrivningspct:",null,null,null,{"$f":"VLOOKUP(F1260,$L$31:$AE$80,8,FALSE)","v":0},"Anvendt",{"$f":"VLOOKUP(F1260,$L$31:$AE$80,18,FALSE)","v":0},"VO",{"$f":"+R1262*V1262","v":0},"VE",{"$f":"VLOOKUP(F1260,$L$31:$AE$80,17,FALSE)","v":0}]
[false,null,null,null,null,null,19,null,null,null,null,"Scrapværdi:",null,null,null,{"$f":"VLOOKUP(F1260,$L$31:$AE$80,9,FALSE)","v":0},null,null,"TO",{"$f":"+T1260+T1261+T1262","v":0},"TE",{"$f":"IFERROR(+V1260+V1261+V1262,\"\")","v":""}]
[false,null,null,null,null,null,19,null,null,null,null,"Opgaver:"]
[{"$f":"CheckOne($I$85,G1260)","v":false},null,null,null,null,null,19,null,null,null,null,{"$f":"L1206:L1255","v":1},{"$f":"M1206:M1256","v":0},null,null,{"$f":"$Z$85:$Z$134","v":0},{"$f":"$AA$85:$AA$134&\" a. kr.\"","v":"ha. a. kr."},{"$f":"$AG$85:$AG$134","v":0},null,{"$f":"$AB$85:$AB$135","v":0},"tim. a. kr.",{"$f":"_xlfn.ANCHORARRAY($AF$85)","v":0}]
[{"$f":"CheckOne($I$86,G1260)","v":false},null,null,null,null,null,19,null,null,null,null,2,0,null,null,0,"ha. a. kr.",0,null,0,"tim. a. kr.",0]
[{"$f":"CheckOne($I$87,G1260)","v":false},null,null,null,null,null,19,null,null,null,null,3,0,null,null,0,"ha. a. kr.",0,null,0,"tim. a. kr.",0]
[{"$f":"CheckOne($I$88,G1260)","v":false},null,null,null,null,null,19,null,null,null,null,4,0,null,null,0,"ha. a. kr.",0,null,0,"tim. a. kr.",0]
[{"$f":"CheckOne($I$89,G1260)","v":false},null,null,null,null,null,19,null,null,null,null,5,0,null,null,0,"ha. a. kr.",0,null,0,"tim. a. kr.",0]
[{"$f":"CheckOne($I$90,G1260)","v":false},null,null,null,null,null,19,null,null,null,null,6,0,null,null,0,"ha. a. kr.",0,null,0,"tim. a. kr.",0]
[{"$f":"CheckOne($I$91,G1260)","v":false},null,null,null,null,null,19,null,null,null,null,7,0,null,null,0,"ha. a. kr.",0,null,0,"tim. a. kr.",0]
[{"$f":"CheckOne($I$92,G1260)","v":false},null,null,null,null,null,19,null,null,null,null,8,0,null,null,0,"ha. a. kr.",0,null,0,"tim. a. kr.",0]
[{"$f":"CheckOne($I$93,G1260)","v":false},null,null,null,null,null,19,null,null,null,null,9,0,null,null,0,"ha. a. kr.",0,null,0,"tim. a. kr.",0]
[{"$f":"CheckOne($I$94,G1260)","v":false},null,null,null,null,null,19,null,null,null,null,10,0,null,null,0,"ha. a. kr.",0,null,0,"tim. a. kr.",0]
[{"$f":"CheckOne($I$95,G1260)","v":false},null,null,null,null,null,19,null,null,null,null,11,0,null,null,0,"ha. a. kr.",0,null,0,"tim. a. kr.",0]
[{"$f":"CheckOne($I$96,G1260)","v":false},null,null,null,null,null,19,null,null,null,null,12,0,null,null,0,"ha. a. kr.",0,null,0,"tim. a. kr.",0]
[{"$f":"CheckOne($I$97,G1260)","v":false},null,null,null,null,null,19,null,null,null,null,13,0,null,null,0,"ha. a. kr.",0,null,0,"tim. a. kr.",0]
[{"$f":"CheckOne($I$98,G1260)","v":false},null,null,null,null,null,19,null,null,null,null,14,0,null,null,0,"ha. a. kr.",0,null,0,"tim. a. kr.",0]
[{"$f":"CheckOne($I$99,G1260)","v":false},null,null,null,null,null,19,null,null,null,null,15,0,null,null,0,"ha. a. kr.",0,null,0,"tim. a. kr.",0]
[{"$f":"CheckOne($I$100,G1260)","v":false},null,null,null,null,null,19,null,null,null,null,16,0,null,null,0,"ha. a. kr.",0,null,0,"tim. a. kr.",0]
[{"$f":"CheckOne($I$101,G1260)","v":false},null,null,null,null,null,19,null,null,null,null,17,0,null,null,0,"ha. a. kr.",0,null,0,"tim. a. kr.",0]
[{"$f":"CheckOne($I$102,G1260)","v":false},null,null,null,null,null,19,null,null,null,null,18,0,null,null,0,"ha. a. kr.",0,null,0,"tim. a. kr.",0]
[{"$f":"CheckOne($I$103,G1260)","v":false},null,null,null,null,null,19,null,null,null,null,19,0,null,null,0,"ha. a. kr.",0,null,0,"tim. a. kr.",0]
[{"$f":"CheckOne($I$104,G1260)","v":false},null,null,null,null,null,19,null,null,null,null,20,0,null,null,0,"ha. a. kr.",0,null,0,"tim. a. kr.",0]
[{"$f":"CheckOne($I$105,G1260)","v":false},null,null,null,null,null,19,null,null,null,null,21,0,null,null,0,"ha. a. kr.",0,null,0,"tim. a. kr.",0]
[{"$f":"CheckOne($I$106,G1260)","v":false},null,null,null,null,null,19,null,null,null,null,22,0,null,null,0,"ha. a. kr.",0,null,0,"tim. a. kr.",0]
[{"$f":"CheckOne($I$107,G1260)","v":false},null,null,null,null,null,19,null,null,null,null,23,0,null,null,0,"ha. a. kr.",0,null,0,"tim. a. kr.",0]
[{"$f":"CheckOne($I$108,G1260)","v":false},null,null,null,null,null,19,null,null,null,null,24,0,null,null,0,"ha. a. kr.",0,null,0,"tim. a. kr.",0]
[{"$f":"CheckOne($I$109,G1260)","v":false},null,null,null,null,null,19,null,null,null,null,25,0,null,null,0,"ha. a. kr.",0,null,0,"tim. a. kr.",0]
[{"$f":"CheckOne($I$110,G1260)","v":false},null,null,null,null,null,19,null,null,null,null,26,0,null,null,0,"ha. a. kr.",0,null,0,"tim. a. kr.",0]
[{"$f":"CheckOne($I$111,G1260)","v":false},null,null,null,null,null,19,null,null,null,null,27,0,null,null,0,"ha. a. kr.",0,null,0,"tim. a. kr.",0]
[{"$f":"CheckOne($I$112,G1260)","v":false},null,null,null,null,null,19,null,null,null,null,28,0,null,null,0,"ha. a. kr.",0,null,0,"tim. a. kr.",0]
[{"$f":"CheckOne($I$113,G1260)","v":false},null,null,null,null,null,19,null,null,null,null,29,0,null,null,0,"ha. a. kr.",0,null,0,"tim. a. kr.",0]
[{"$f":"CheckOne($I$114,G1260)","v":false},null,null,null,null,null,19,null,null,null,null,30,0,null,null,0,"ha. a. kr.",0,null,0,"tim. a. kr.",0]
[{"$f":"CheckOne($I$115,G1260)","v":false},null,null,null,null,null,19,null,null,null,null,31,0,null,null,0,"ha. a. kr.",0,null,0,"tim. a. kr.",0]
[{"$f":"CheckOne($I$116,G1260)","v":false},null,null,null,null,null,19,null,null,null,null,32,0,null,null,0,"ha. a. kr.",0,null,0,"tim. a. kr.",0]
[{"$f":"CheckOne($I$117,G1260)","v":false},null,null,null,null,null,19,null,null,null,null,33,0,null,null,0,"ha. a. kr.",0,null,0,"tim. a. kr.",0]
[{"$f":"CheckOne($I$118,G1260)","v":false},null,null,null,null,null,19,null,null,null,null,34,0,null,null,0,"ha. a. kr.",0,null,0,"tim. a. kr.",0]
[{"$f":"CheckOne($I$119,G1260)","v":false},null,null,null,null,null,19,null,null,null,null,35,0,null,null,0,"ha. a. kr.",0,null,0,"tim. a. kr.",0]
[{"$f":"CheckOne($I$120,G1260)","v":false},null,null,null,null,null,19,null,null,null,null,36,0,null,null,0,"ha. a. kr.",0,null,0,"tim. a. kr.",0]
[{"$f":"CheckOne($I$121,G1260)","v":false},null,null,null,null,null,19,null,null,null,null,37,0,null,null,0,"ha. a. kr.",0,null,0,"tim. a. kr.",0]
[{"$f":"CheckOne($I$122,G1260)","v":false},null,null,null,null,null,19,null,null,null,null,38,0,null,null,0,"ha. a. kr.",0,null,0,"tim. a. kr.",0]
[{"$f":"CheckOne($I$123,G1260)","v":false},null,null,null,null,null,19,null,null,null,null,39,0,null,null,0,"ha. a. kr.",0,null,0,"tim. a. kr.",0]
[{"$f":"CheckOne($I$124,G1260)","v":false},null,null,null,null,null,19,null,null,null,null,40,0,null,null,0,"ha. a. kr.",0,null,0,"tim. a. kr.",0]
[{"$f":"CheckOne($I$125,G1260)","v":false},null,null,null,null,null,19,null,null,null,null,41,0,null,null,0,"ha. a. kr.",0,null,0,"tim. a. kr.",0]
[{"$f":"CheckOne($I$126,G1260)","v":false},null,null,null,null,null,19,null,null,null,null,42,0,null,null,0,"ha. a. kr.",0,null,0,"tim. a. kr.",0]
[{"$f":"CheckOne($I$127,G1260)","v":false},null,null,null,null,null,19,null,null,null,null,43,0,null,null,0,"ha. a. kr.",0,null,0,"tim. a. kr.",0]
[{"$f":"CheckOne($I$128,G1260)","v":false},null,null,null,null,null,19,null,null,null,null,44,0,null,null,0,"ha. a. kr.",0,null,0,"tim. a. kr.",0]
[{"$f":"CheckOne($I$129,G1260)","v":false},null,null,null,null,null,19,null,null,null,null,45,0,null,null,0,"ha. a. kr.",0,null,0,"tim. a. kr.",0]
[{"$f":"CheckOne($I$130,G1260)","v":false},null,null,null,null,null,19,null,null,null,null,46,0,null,null,0,"ha. a. kr.",0,null,0,"tim. a. kr.",0]
[{"$f":"CheckOne($I$131,G1260)","v":false},null,null,null,null,null,19,null,null,null,null,47,0,null,null,0,"ha. a. kr.",0,null,0,"tim. a. kr.",0]
[{"$f":"CheckOne($I$132,G1260)","v":false},null,null,null,null,null,19,null,null,null,null,48,0,null,null,0,"ha. a. kr.",0,null,0,"tim. a. kr.",0]
[{"$f":"CheckOne($I$133,G1260)","v":false},null,null,null,null,null,19,null,null,null,null,49,0,null,null,0,"ha. a. kr.",0,null,0,"tim. a. kr.",0]
[{"$f":"CheckOne($I$134,G1260)","v":false},null,null,null,null,null,19,null,null,null,null,50,0,null,null,0,"ha. a. kr.",0,null,0,"tim. a. kr.",0]
[{"$f":"OR(T1315<>0)","v":false},null,null,null,null,null,null,null,null,null,null,null,"Ufordelte omkostninger",null,null,null,null,null,null,0,"tim. a. kr.",0]
[{"$f":"A1259","v":false},null,null,null,null,null,null,null,null,null,null,"I alt",null,null,null,null,null,null,null,{"$f":"SUMIF(A1265:A1314,TRUE,T1265:T1314)","v":0},"timer"]
[{"$f":"A1316","v":false}]
[{"$f":"OR(L1318<>0,P1319<>0,T1322<>0,R1321<>0)","v":false},null,null,null,null,"nr.","id",null,null,null,null,{"$f":"VLOOKUP(F1319,$L$31:$AE$80,2,FALSE)","v":0},null,null,null,null,null,null,"i alt",null,null,"pr. time."]
[{"$f":"A1318","v":false},null,null,null,null,{"$f":"F1260+1","v":21},{"$f":"VLOOKUP(F1319,$F$31:$J$80,5,FALSE)","v":20},null,null,null,null,"Værdi primo:",null,null,null,{"$f":"VLOOKUP(F1319,$L$31:$AE$80,6,FALSE)","v":0},"Brændst.",{"$f":"VLOOKUP(F1319,$L$31:$AE$80,15,FALSE)","v":0},"GKO",{"$f":"VLOOKUP(F1319,$L$31:$AE$80,10,FALSE)","v":0},"GKE",{"$f":"IFERROR(+T1319/R1321,\"\")","v":""}]
[{"$f":"A1319","v":false},null,null,null,null,null,{"$f":"G1319","v":20},null,null,null,null,"Levetid:",null,null,null,{"$f":"VLOOKUP(F1319,$L$31:$AE$80,7,FALSE)","v":0},"Vedl.",{"$f":"VLOOKUP(F1319,$L$31:$AE$80,14,FALSE)","v":0},"KKO",{"$f":"VLOOKUP(F1319,$L$31:$AE$80,13,FALSE)","v":0},"KKE",{"$f":"IFERROR(+T1320/R1321,\"\")","v":""}]
[false,null,null,null,null,null,{"$f":"G1320","v":20},null,null,null,null,"Afskrivningspct:",null,null,null,{"$f":"VLOOKUP(F1319,$L$31:$AE$80,8,FALSE)","v":0},"Anvendt",{"$f":"VLOOKUP(F1319,$L$31:$AE$80,18,FALSE)","v":0},"VO",{"$f":"+R1321*V1321","v":0},"VE",{"$f":"VLOOKUP(F1319,$L$31:$AE$80,17,FALSE)","v":0}]
[false,null,null,null,null,null,20,null,null,null,null,"Scrapværdi:",null,null,null,{"$f":"VLOOKUP(F1319,$L$31:$AE$80,9,FALSE)","v":0},null,null,"TO",{"$f":"+T1319+T1320+T1321","v":0},"TE",{"$f":"IFERROR(+V1319+V1320+V1321,\"\")","v":""}]
[false,null,null,null,null,null,20,null,null,null,null,"Opgaver:"]
[{"$f":"CheckOne($I$85,G1319)","v":false},null,null,null,null,null,20,null,null,null,null,{"$f":"L1265:L1314","v":1},{"$f":"M1265:M1315","v":0},null,null,{"$f":"$Z$85:$Z$134","v":0},{"$f":"$AA$85:$AA$134&\" a. kr.\"","v":"ha. a. kr."},{"$f":"$AG$85:$AG$134","v":0},null,{"$f":"$AB$85:$AB$135","v":0},"tim. a. kr.",{"$f":"_xlfn.ANCHORARRAY($AF$85)","v":0}]
[{"$f":"CheckOne($I$86,G1319)","v":false},null,null,null,null,null,20,null,null,null,null,2,0,null,null,0,"ha. a. kr.",0,null,0,"tim. a. kr.",0]
[{"$f":"CheckOne($I$87,G1319)","v":false},null,null,null,null,null,20,null,null,null,null,3,0,null,null,0,"ha. a. kr.",0,null,0,"tim. a. kr.",0]
[{"$f":"CheckOne($I$88,G1319)","v":false},null,null,null,null,null,20,null,null,null,null,4,0,null,null,0,"ha. a. kr.",0,null,0,"tim. a. kr.",0]
[{"$f":"CheckOne($I$89,G1319)","v":false},null,null,null,null,null,20,null,null,null,null,5,0,null,null,0,"ha. a. kr.",0,null,0,"tim. a. kr.",0]
[{"$f":"CheckOne($I$90,G1319)","v":false},null,null,null,null,null,20,null,null,null,null,6,0,null,null,0,"ha. a. kr.",0,null,0,"tim. a. kr.",0]
[{"$f":"CheckOne($I$91,G1319)","v":false},null,null,null,null,null,20,null,null,null,null,7,0,null,null,0,"ha. a. kr.",0,null,0,"tim. a. kr.",0]
[{"$f":"CheckOne($I$92,G1319)","v":false},null,null,null,null,null,20,null,null,null,null,8,0,null,null,0,"ha. a. kr.",0,null,0,"tim. a. kr.",0]
[{"$f":"CheckOne($I$93,G1319)","v":false},null,null,null,null,null,20,null,null,null,null,9,0,null,null,0,"ha. a. kr.",0,null,0,"tim. a. kr.",0]
[{"$f":"CheckOne($I$94,G1319)","v":false},null,null,null,null,null,20,null,null,null,null,10,0,null,null,0,"ha. a. kr.",0,null,0,"tim. a. kr.",0]
[{"$f":"CheckOne($I$95,G1319)","v":false},null,null,null,null,null,20,null,null,null,null,11,0,null,null,0,"ha. a. kr.",0,null,0,"tim. a. kr.",0]
[{"$f":"CheckOne($I$96,G1319)","v":false},null,null,null,null,null,20,null,null,null,null,12,0,null,null,0,"ha. a. kr.",0,null,0,"tim. a. kr.",0]
[{"$f":"CheckOne($I$97,G1319)","v":false},null,null,null,null,null,20,null,null,null,null,13,0,null,null,0,"ha. a. kr.",0,null,0,"tim. a. kr.",0]
[{"$f":"CheckOne($I$98,G1319)","v":false},null,null,null,null,null,20,null,null,null,null,14,0,null,null,0,"ha. a. kr.",0,null,0,"tim. a. kr.",0]
[{"$f":"CheckOne($I$99,G1319)","v":false},null,null,null,null,null,20,null,null,null,null,15,0,null,null,0,"ha. a. kr.",0,null,0,"tim. a. kr.",0]
[{"$f":"CheckOne($I$100,G1319)","v":false},null,null,null,null,null,20,null,null,null,null,16,0,null,null,0,"ha. a. kr.",0,null,0,"tim. a. kr.",0]
[{"$f":"CheckOne($I$101,G1319)","v":false},null,null,null,null,null,20,null,null,null,null,17,0,null,null,0,"ha. a. kr.",0,null,0,"tim. a. kr.",0]
[{"$f":"CheckOne($I$102,G1319)","v":false},null,null,null,null,null,20,null,null,null,null,18,0,null,null,0,"ha. a. kr.",0,null,0,"tim. a. kr.",0]
[{"$f":"CheckOne($I$103,G1319)","v":false},null,null,null,null,null,20,null,null,null,null,19,0,null,null,0,"ha. a. kr.",0,null,0,"tim. a. kr.",0]
[{"$f":"CheckOne($I$104,G1319)","v":false},null,null,null,null,null,20,null,null,null,null,20,0,null,null,0,"ha. a. kr.",0,null,0,"tim. a. kr.",0]
[{"$f":"CheckOne($I$105,G1319)","v":false},null,null,null,null,null,20,null,null,null,null,21,0,null,null,0,"ha. a. kr.",0,null,0,"tim. a. kr.",0]
[{"$f":"CheckOne($I$106,G1319)","v":false},null,null,null,null,null,20,null,null,null,null,22,0,null,null,0,"ha. a. kr.",0,null,0,"tim. a. kr.",0]
[{"$f":"CheckOne($I$107,G1319)","v":false},null,null,null,null,null,20,null,null,null,null,23,0,null,null,0,"ha. a. kr.",0,null,0,"tim. a. kr.",0]
[{"$f":"CheckOne($I$108,G1319)","v":false},null,null,null,null,null,20,null,null,null,null,24,0,null,null,0,"ha. a. kr.",0,null,0,"tim. a. kr.",0]
[{"$f":"CheckOne($I$109,G1319)","v":false},null,null,null,null,null,20,null,null,null,null,25,0,null,null,0,"ha. a. kr.",0,null,0,"tim. a. kr.",0]
[{"$f":"CheckOne($I$110,G1319)","v":false},null,null,null,null,null,20,null,null,null,null,26,0,null,null,0,"ha. a. kr.",0,null,0,"tim. a. kr.",0]
[{"$f":"CheckOne($I$111,G1319)","v":false},null,null,null,null,null,20,null,null,null,null,27,0,null,null,0,"ha. a. kr.",0,null,0,"tim. a. kr.",0]
[{"$f":"CheckOne($I$112,G1319)","v":false},null,null,null,null,null,20,null,null,null,null,28,0,null,null,0,"ha. a. kr.",0,null,0,"tim. a. kr.",0]
[{"$f":"CheckOne($I$113,G1319)","v":false},null,null,null,null,null,20,null,null,null,null,29,0,null,null,0,"ha. a. kr.",0,null,0,"tim. a. kr.",0]
[{"$f":"CheckOne($I$114,G1319)","v":false},null,null,null,null,null,20,null,null,null,null,30,0,null,null,0,"ha. a. kr.",0,null,0,"tim. a. kr.",0]
[{"$f":"CheckOne($I$115,G1319)","v":false},null,null,null,null,null,20,null,null,null,null,31,0,null,null,0,"ha. a. kr.",0,null,0,"tim. a. kr.",0]
[{"$f":"CheckOne($I$116,G1319)","v":false},null,null,null,null,null,20,null,null,null,null,32,0,null,null,0,"ha. a. kr.",0,null,0,"tim. a. kr.",0]
[{"$f":"CheckOne($I$117,G1319)","v":false},null,null,null,null,null,20,null,null,null,null,33,0,null,null,0,"ha. a. kr.",0,null,0,"tim. a. kr.",0]
[{"$f":"CheckOne($I$118,G1319)","v":false},null,null,null,null,null,20,null,null,null,null,34,0,null,null,0,"ha. a. kr.",0,null,0,"tim. a. kr.",0]
[{"$f":"CheckOne($I$119,G1319)","v":false},null,null,null,null,null,20,null,null,null,null,35,0,null,null,0,"ha. a. kr.",0,null,0,"tim. a. kr.",0]
[{"$f":"CheckOne($I$120,G1319)","v":false},null,null,null,null,null,20,null,null,null,null,36,0,null,null,0,"ha. a. kr.",0,null,0,"tim. a. kr.",0]
[{"$f":"CheckOne($I$121,G1319)","v":false},null,null,null,null,null,20,null,null,null,null,37,0,null,null,0,"ha. a. kr.",0,null,0,"tim. a. kr.",0]
[{"$f":"CheckOne($I$122,G1319)","v":false},null,null,null,null,null,20,null,null,null,null,38,0,null,null,0,"ha. a. kr.",0,null,0,"tim. a. kr.",0]
[{"$f":"CheckOne($I$123,G1319)","v":false},null,null,null,null,null,20,null,null,null,null,39,0,null,null,0,"ha. a. kr.",0,null,0,"tim. a. kr.",0]
[{"$f":"CheckOne($I$124,G1319)","v":false},null,null,null,null,null,20,null,null,null,null,40,0,null,null,0,"ha. a. kr.",0,null,0,"tim. a. kr.",0]
[{"$f":"CheckOne($I$125,G1319)","v":false},null,null,null,null,null,20,null,null,null,null,41,0,null,null,0,"ha. a. kr.",0,null,0,"tim. a. kr.",0]
[{"$f":"CheckOne($I$126,G1319)","v":false},null,null,null,null,null,20,null,null,null,null,42,0,null,null,0,"ha. a. kr.",0,null,0,"tim. a. kr.",0]
[{"$f":"CheckOne($I$127,G1319)","v":false},null,null,null,null,null,20,null,null,null,null,43,0,null,null,0,"ha. a. kr.",0,null,0,"tim. a. kr.",0]
[{"$f":"CheckOne($I$128,G1319)","v":false},null,null,null,null,null,20,null,null,null,null,44,0,null,null,0,"ha. a. kr.",0,null,0,"tim. a. kr.",0]
[{"$f":"CheckOne($I$129,G1319)","v":false},null,null,null,null,null,20,null,null,null,null,45,0,null,null,0,"ha. a. kr.",0,null,0,"tim. a. kr.",0]
[{"$f":"CheckOne($I$130,G1319)","v":false},null,null,null,null,null,20,null,null,null,null,46,0,null,null,0,"ha. a. kr.",0,null,0,"tim. a. kr.",0]
[{"$f":"CheckOne($I$131,G1319)","v":false},null,null,null,null,null,20,null,null,null,null,47,0,null,null,0,"ha. a. kr.",0,null,0,"tim. a. kr.",0]
[{"$f":"CheckOne($I$132,G1319)","v":false},null,null,null,null,null,20,null,null,null,null,48,0,null,null,0,"ha. a. kr.",0,null,0,"tim. a. kr.",0]
[{"$f":"CheckOne($I$133,G1319)","v":false},null,null,null,null,null,20,null,null,null,null,49,0,null,null,0,"ha. a. kr.",0,null,0,"tim. a. kr.",0]
[{"$f":"CheckOne($I$134,G1319)","v":false},null,null,null,null,null,20,null,null,null,null,50,0,null,null,0,"ha. a. kr.",0,null,0,"tim. a. kr.",0]
[{"$f":"OR(T1374<>0)","v":false},null,null,null,null,null,null,null,null,null,null,null,"Ufordelte omkostninger",null,null,null,null,null,null,0,"tim. a. kr.",0]
[{"$f":"A1318","v":false},null,null,null,null,null,null,null,null,null,null,"I alt",null,null,null,null,null,null,null,{"$f":"SUMIF(A1324:A1373,TRUE,T1324:T1373)","v":0},"timer"]
[{"$f":"A1375","v":false}]
[{"$f":"OR(L1377<>0,P1378<>0,T1381<>0,R1380<>0)","v":false},null,null,null,null,"nr.","id",null,null,null,null,{"$f":"VLOOKUP(F1378,$L$31:$AE$80,2,FALSE)","v":0},null,null,null,null,null,null,"i alt",null,null,"pr. time."]
[{"$f":"A1377","v":false},null,null,null,null,{"$f":"F1319+1","v":22},{"$f":"VLOOKUP(F1378,$F$31:$J$80,5,FALSE)","v":21},null,null,null,null,"Værdi primo:",null,null,null,{"$f":"VLOOKUP(F1378,$L$31:$AE$80,6,FALSE)","v":0},"Brændst.",{"$f":"VLOOKUP(F1378,$L$31:$AE$80,15,FALSE)","v":0},"GKO",{"$f":"VLOOKUP(F1378,$L$31:$AE$80,10,FALSE)","v":0},"GKE",{"$f":"IFERROR(+T1378/R1380,\"\")","v":""}]
[{"$f":"A1378","v":false},null,null,null,null,null,{"$f":"G1378","v":21},null,null,null,null,"Levetid:",null,null,null,{"$f":"VLOOKUP(F1378,$L$31:$AE$80,7,FALSE)","v":0},"Vedl.",{"$f":"VLOOKUP(F1378,$L$31:$AE$80,14,FALSE)","v":0},"KKO",{"$f":"VLOOKUP(F1378,$L$31:$AE$80,13,FALSE)","v":0},"KKE",{"$f":"IFERROR(+T1379/R1380,\"\")","v":""}]
[false,null,null,null,null,null,{"$f":"G1379","v":21},null,null,null,null,"Afskrivningspct:",null,null,null,{"$f":"VLOOKUP(F1378,$L$31:$AE$80,8,FALSE)","v":0},"Anvendt",{"$f":"VLOOKUP(F1378,$L$31:$AE$80,18,FALSE)","v":0},"VO",{"$f":"+R1380*V1380","v":0},"VE",{"$f":"VLOOKUP(F1378,$L$31:$AE$80,17,FALSE)","v":0}]
[false,null,null,null,null,null,21,null,null,null,null,"Scrapværdi:",null,null,null,{"$f":"VLOOKUP(F1378,$L$31:$AE$80,9,FALSE)","v":0},null,null,"TO",{"$f":"+T1378+T1379+T1380","v":0},"TE",{"$f":"IFERROR(+V1378+V1379+V1380,\"\")","v":""}]
[false,null,null,null,null,null,21,null,null,null,null,"Opgaver:"]
[{"$f":"CheckOne($I$85,G1378)","v":false},null,null,null,null,null,21,null,null,null,null,{"$f":"L1324:L1373","v":1},{"$f":"M1324:M1374","v":0},null,null,{"$f":"$Z$85:$Z$134","v":0},{"$f":"$AA$85:$AA$134&\" a. kr.\"","v":"ha. a. kr."},{"$f":"$AG$85:$AG$134","v":0},null,{"$f":"$AB$85:$AB$135","v":0},"tim. a. kr.",{"$f":"_xlfn.ANCHORARRAY($AF$85)","v":0}]
[{"$f":"CheckOne($I$86,G1378)","v":false},null,null,null,null,null,21,null,null,null,null,2,0,null,null,0,"ha. a. kr.",0,null,0,"tim. a. kr.",0]
[{"$f":"CheckOne($I$87,G1378)","v":false},null,null,null,null,null,21,null,null,null,null,3,0,null,null,0,"ha. a. kr.",0,null,0,"tim. a. kr.",0]
[{"$f":"CheckOne($I$88,G1378)","v":false},null,null,null,null,null,21,null,null,null,null,4,0,null,null,0,"ha. a. kr.",0,null,0,"tim. a. kr.",0]
[{"$f":"CheckOne($I$89,G1378)","v":false},null,null,null,null,null,21,null,null,null,null,5,0,null,null,0,"ha. a. kr.",0,null,0,"tim. a. kr.",0]
[{"$f":"CheckOne($I$90,G1378)","v":false},null,null,null,null,null,21,null,null,null,null,6,0,null,null,0,"ha. a. kr.",0,null,0,"tim. a. kr.",0]
[{"$f":"CheckOne($I$91,G1378)","v":false},null,null,null,null,null,21,null,null,null,null,7,0,null,null,0,"ha. a. kr.",0,null,0,"tim. a. kr.",0]
[{"$f":"CheckOne($I$92,G1378)","v":false},null,null,null,null,null,21,null,null,null,null,8,0,null,null,0,"ha. a. kr.",0,null,0,"tim. a. kr.",0]
[{"$f":"CheckOne($I$93,G1378)","v":false},null,null,null,null,null,21,null,null,null,null,9,0,null,null,0,"ha. a. kr.",0,null,0,"tim. a. kr.",0]
[{"$f":"CheckOne($I$94,G1378)","v":false},null,null,null,null,null,21,null,null,null,null,10,0,null,null,0,"ha. a. kr.",0,null,0,"tim. a. kr.",0]
[{"$f":"CheckOne($I$95,G1378)","v":false},null,null,null,null,null,21,null,null,null,null,11,0,null,null,0,"ha. a. kr.",0,null,0,"tim. a. kr.",0]
[{"$f":"CheckOne($I$96,G1378)","v":false},null,null,null,null,null,21,null,null,null,null,12,0,null,null,0,"ha. a. kr.",0,null,0,"tim. a. kr.",0]
[{"$f":"CheckOne($I$97,G1378)","v":false},null,null,null,null,null,21,null,null,null,null,13,0,null,null,0,"ha. a. kr.",0,null,0,"tim. a. kr.",0]
[{"$f":"CheckOne($I$98,G1378)","v":false},null,null,null,null,null,21,null,null,null,null,14,0,null,null,0,"ha. a. kr.",0,null,0,"tim. a. kr.",0]
[{"$f":"CheckOne($I$99,G1378)","v":false},null,null,null,null,null,21,null,null,null,null,15,0,null,null,0,"ha. a. kr.",0,null,0,"tim. a. kr.",0]
[{"$f":"CheckOne($I$100,G1378)","v":false},null,null,null,null,null,21,null,null,null,null,16,0,null,null,0,"ha. a. kr.",0,null,0,"tim. a. kr.",0]
[{"$f":"CheckOne($I$101,G1378)","v":false},null,null,null,null,null,21,null,null,null,null,17,0,null,null,0,"ha. a. kr.",0,null,0,"tim. a. kr.",0]
[{"$f":"CheckOne($I$102,G1378)","v":false},null,null,null,null,null,21,null,null,null,null,18,0,null,null,0,"ha. a. kr.",0,null,0,"tim. a. kr.",0]
[{"$f":"CheckOne($I$103,G1378)","v":false},null,null,null,null,null,21,null,null,null,null,19,0,null,null,0,"ha. a. kr.",0,null,0,"tim. a. kr.",0]
[{"$f":"CheckOne($I$104,G1378)","v":false},null,null,null,null,null,21,null,null,null,null,20,0,null,null,0,"ha. a. kr.",0,null,0,"tim. a. kr.",0]
[{"$f":"CheckOne($I$105,G1378)","v":false},null,null,null,null,null,21,null,null,null,null,21,0,null,null,0,"ha. a. kr.",0,null,0,"tim. a. kr.",0]
[{"$f":"CheckOne($I$106,G1378)","v":false},null,null,null,null,null,21,null,null,null,null,22,0,null,null,0,"ha. a. kr.",0,null,0,"tim. a. kr.",0]
[{"$f":"CheckOne($I$107,G1378)","v":false},null,null,null,null,null,21,null,null,null,null,23,0,null,null,0,"ha. a. kr.",0,null,0,"tim. a. kr.",0]
[{"$f":"CheckOne($I$108,G1378)","v":false},null,null,null,null,null,21,null,null,null,null,24,0,null,null,0,"ha. a. kr.",0,null,0,"tim. a. kr.",0]
[{"$f":"CheckOne($I$109,G1378)","v":false},null,null,null,null,null,21,null,null,null,null,25,0,null,null,0,"ha. a. kr.",0,null,0,"tim. a. kr.",0]
[{"$f":"CheckOne($I$110,G1378)","v":false},null,null,null,null,null,21,null,null,null,null,26,0,null,null,0,"ha. a. kr.",0,null,0,"tim. a. kr.",0]
[{"$f":"CheckOne($I$111,G1378)","v":false},null,null,null,null,null,21,null,null,null,null,27,0,null,null,0,"ha. a. kr.",0,null,0,"tim. a. kr.",0]
[{"$f":"CheckOne($I$112,G1378)","v":false},null,null,null,null,null,21,null,null,null,null,28,0,null,null,0,"ha. a. kr.",0,null,0,"tim. a. kr.",0]
[{"$f":"CheckOne($I$113,G1378)","v":false},null,null,null,null,null,21,null,null,null,null,29,0,null,null,0,"ha. a. kr.",0,null,0,"tim. a. kr.",0]
[{"$f":"CheckOne($I$114,G1378)","v":false},null,null,null,null,null,21,null,null,null,null,30,0,null,null,0,"ha. a. kr.",0,null,0,"tim. a. kr.",0]
[{"$f":"CheckOne($I$115,G1378)","v":false},null,null,null,null,null,21,null,null,null,null,31,0,null,null,0,"ha. a. kr.",0,null,0,"tim. a. kr.",0]
[{"$f":"CheckOne($I$116,G1378)","v":false},null,null,null,null,null,21,null,null,null,null,32,0,null,null,0,"ha. a. kr.",0,null,0,"tim. a. kr.",0]
[{"$f":"CheckOne($I$117,G1378)","v":false},null,null,null,null,null,21,null,null,null,null,33,0,null,null,0,"ha. a. kr.",0,null,0,"tim. a. kr.",0]
[{"$f":"CheckOne($I$118,G1378)","v":false},null,null,null,null,null,21,null,null,null,null,34,0,null,null,0,"ha. a. kr.",0,null,0,"tim. a. kr.",0]
[{"$f":"CheckOne($I$119,G1378)","v":false},null,null,null,null,null,21,null,null,null,null,35,0,null,null,0,"ha. a. kr.",0,null,0,"tim. a. kr.",0]
[{"$f":"CheckOne($I$120,G1378)","v":false},null,null,null,null,null,21,null,null,null,null,36,0,null,null,0,"ha. a. kr.",0,null,0,"tim. a. kr.",0]
[{"$f":"CheckOne($I$121,G1378)","v":false},null,null,null,null,null,21,null,null,null,null,37,0,null,null,0,"ha. a. kr.",0,null,0,"tim. a. kr.",0]
[{"$f":"CheckOne($I$122,G1378)","v":false},null,null,null,null,null,21,null,null,null,null,38,0,null,null,0,"ha. a. kr.",0,null,0,"tim. a. kr.",0]
[{"$f":"CheckOne($I$123,G1378)","v":false},null,null,null,null,null,21,null,null,null,null,39,0,null,null,0,"ha. a. kr.",0,null,0,"tim. a. kr.",0]
[{"$f":"CheckOne($I$124,G1378)","v":false},null,null,null,null,null,21,null,null,null,null,40,0,null,null,0,"ha. a. kr.",0,null,0,"tim. a. kr.",0]
[{"$f":"CheckOne($I$125,G1378)","v":false},null,null,null,null,null,21,null,null,null,null,41,0,null,null,0,"ha. a. kr.",0,null,0,"tim. a. kr.",0]
[{"$f":"CheckOne($I$126,G1378)","v":false},null,null,null,null,null,21,null,null,null,null,42,0,null,null,0,"ha. a. kr.",0,null,0,"tim. a. kr.",0]
[{"$f":"CheckOne($I$127,G1378)","v":false},null,null,null,null,null,21,null,null,null,null,43,0,null,null,0,"ha. a. kr.",0,null,0,"tim. a. kr.",0]
[{"$f":"CheckOne($I$128,G1378)","v":false},null,null,null,null,null,21,null,null,null,null,44,0,null,null,0,"ha. a. kr.",0,null,0,"tim. a. kr.",0]
[{"$f":"CheckOne($I$129,G1378)","v":false},null,null,null,null,null,21,null,null,null,null,45,0,null,null,0,"ha. a. kr.",0,null,0,"tim. a. kr.",0]
[{"$f":"CheckOne($I$130,G1378)","v":false},null,null,null,null,null,21,null,null,null,null,46,0,null,null,0,"ha. a. kr.",0,null,0,"tim. a. kr.",0]
[{"$f":"CheckOne($I$131,G1378)","v":false},null,null,null,null,null,21,null,null,null,null,47,0,null,null,0,"ha. a. kr.",0,null,0,"tim. a. kr.",0]
[{"$f":"CheckOne($I$132,G1378)","v":false},null,null,null,null,null,21,null,null,null,null,48,0,null,null,0,"ha. a. kr.",0,null,0,"tim. a. kr.",0]
[{"$f":"CheckOne($I$133,G1378)","v":false},null,null,null,null,null,21,null,null,null,null,49,0,null,null,0,"ha. a. kr.",0,null,0,"tim. a. kr.",0]
[{"$f":"CheckOne($I$134,G1378)","v":false},null,null,null,null,null,21,null,null,null,null,50,0,null,null,0,"ha. a. kr.",0,null,0,"tim. a. kr.",0]
[{"$f":"OR(T1433<>0)","v":false},null,null,null,null,null,null,null,null,null,null,null,"Ufordelte omkostninger",null,null,null,null,null,null,0,"tim. a. kr.",0]
[{"$f":"A1377","v":false},null,null,null,null,null,null,null,null,null,null,"I alt",null,null,null,null,null,null,null,{"$f":"SUMIF(A1383:A1432,TRUE,T1383:T1432)","v":0},"timer"]
[{"$f":"A1434","v":false}]
[{"$f":"OR(L1436<>0,P1437<>0,T1440<>0,R1439<>0)","v":false},null,null,null,null,"nr.","id",null,null,null,null,{"$f":"VLOOKUP(F1437,$L$31:$AE$80,2,FALSE)","v":0},null,null,null,null,null,null,"i alt",null,null,"pr. time."]
[{"$f":"A1436","v":false},null,null,null,null,{"$f":"F1378+1","v":23},{"$f":"VLOOKUP(F1437,$F$31:$J$80,5,FALSE)","v":22},null,null,null,null,"Værdi primo:",null,null,null,{"$f":"VLOOKUP(F1437,$L$31:$AE$80,6,FALSE)","v":0},"Brændst.",{"$f":"VLOOKUP(F1437,$L$31:$AE$80,15,FALSE)","v":0},"GKO",{"$f":"VLOOKUP(F1437,$L$31:$AE$80,10,FALSE)","v":0},"GKE",{"$f":"IFERROR(+T1437/R1439,\"\")","v":""}]
[{"$f":"A1437","v":false},null,null,null,null,null,{"$f":"G1437","v":22},null,null,null,null,"Levetid:",null,null,null,{"$f":"VLOOKUP(F1437,$L$31:$AE$80,7,FALSE)","v":0},"Vedl.",{"$f":"VLOOKUP(F1437,$L$31:$AE$80,14,FALSE)","v":0},"KKO",{"$f":"VLOOKUP(F1437,$L$31:$AE$80,13,FALSE)","v":0},"KKE",{"$f":"IFERROR(+T1438/R1439,\"\")","v":""}]
[false,null,null,null,null,null,{"$f":"G1438","v":22},null,null,null,null,"Afskrivningspct:",null,null,null,{"$f":"VLOOKUP(F1437,$L$31:$AE$80,8,FALSE)","v":0},"Anvendt",{"$f":"VLOOKUP(F1437,$L$31:$AE$80,18,FALSE)","v":0},"VO",{"$f":"+R1439*V1439","v":0},"VE",{"$f":"VLOOKUP(F1437,$L$31:$AE$80,17,FALSE)","v":0}]
[false,null,null,null,null,null,22,null,null,null,null,"Scrapværdi:",null,null,null,{"$f":"VLOOKUP(F1437,$L$31:$AE$80,9,FALSE)","v":0},null,null,"TO",{"$f":"+T1437+T1438+T1439","v":0},"TE",{"$f":"IFERROR(+V1437+V1438+V1439,\"\")","v":""}]
[false,null,null,null,null,null,22,null,null,null,null,"Opgaver:"]
[{"$f":"CheckOne($I$85,G1437)","v":false},null,null,null,null,null,22,null,null,null,null,{"$f":"L1383:L1432","v":1},{"$f":"M1383:M1433","v":0},null,null,{"$f":"$Z$85:$Z$134","v":0},{"$f":"$AA$85:$AA$134&\" a. kr.\"","v":"ha. a. kr."},{"$f":"$AG$85:$AG$134","v":0},null,{"$f":"$AB$85:$AB$135","v":0},"tim. a. kr.",{"$f":"_xlfn.ANCHORARRAY($AF$85)","v":0}]
[{"$f":"CheckOne($I$86,G1437)","v":false},null,null,null,null,null,22,null,null,null,null,2,0,null,null,0,"ha. a. kr.",0,null,0,"tim. a. kr.",0]
[{"$f":"CheckOne($I$87,G1437)","v":false},null,null,null,null,null,22,null,null,null,null,3,0,null,null,0,"ha. a. kr.",0,null,0,"tim. a. kr.",0]
[{"$f":"CheckOne($I$88,G1437)","v":false},null,null,null,null,null,22,null,null,null,null,4,0,null,null,0,"ha. a. kr.",0,null,0,"tim. a. kr.",0]
[{"$f":"CheckOne($I$89,G1437)","v":false},null,null,null,null,null,22,null,null,null,null,5,0,null,null,0,"ha. a. kr.",0,null,0,"tim. a. kr.",0]
[{"$f":"CheckOne($I$90,G1437)","v":false},null,null,null,null,null,22,null,null,null,null,6,0,null,null,0,"ha. a. kr.",0,null,0,"tim. a. kr.",0]
[{"$f":"CheckOne($I$91,G1437)","v":false},null,null,null,null,null,22,null,null,null,null,7,0,null,null,0,"ha. a. kr.",0,null,0,"tim. a. kr.",0]
[{"$f":"CheckOne($I$92,G1437)","v":false},null,null,null,null,null,22,null,null,null,null,8,0,null,null,0,"ha. a. kr.",0,null,0,"tim. a. kr.",0]
[{"$f":"CheckOne($I$93,G1437)","v":false},null,null,null,null,null,22,null,null,null,null,9,0,null,null,0,"ha. a. kr.",0,null,0,"tim. a. kr.",0]
[{"$f":"CheckOne($I$94,G1437)","v":false},null,null,null,null,null,22,null,null,null,null,10,0,null,null,0,"ha. a. kr.",0,null,0,"tim. a. kr.",0]
[{"$f":"CheckOne($I$95,G1437)","v":false},null,null,null,null,null,22,null,null,null,null,11,0,null,null,0,"ha. a. kr.",0,null,0,"tim. a. kr.",0]
[{"$f":"CheckOne($I$96,G1437)","v":false},null,null,null,null,null,22,null,null,null,null,12,0,null,null,0,"ha. a. kr.",0,null,0,"tim. a. kr.",0]
[{"$f":"CheckOne($I$97,G1437)","v":false},null,null,null,null,null,22,null,null,null,null,13,0,null,null,0,"ha. a. kr.",0,null,0,"tim. a. kr.",0]
[{"$f":"CheckOne($I$98,G1437)","v":false},null,null,null,null,null,22,null,null,null,null,14,0,null,null,0,"ha. a. kr.",0,null,0,"tim. a. kr.",0]
[{"$f":"CheckOne($I$99,G1437)","v":false},null,null,null,null,null,22,null,null,null,null,15,0,null,null,0,"ha. a. kr.",0,null,0,"tim. a. kr.",0]
[{"$f":"CheckOne($I$100,G1437)","v":false},null,null,null,null,null,22,null,null,null,null,16,0,null,null,0,"ha. a. kr.",0,null,0,"tim. a. kr.",0]
[{"$f":"CheckOne($I$101,G1437)","v":false},null,null,null,null,null,22,null,null,null,null,17,0,null,null,0,"ha. a. kr.",0,null,0,"tim. a. kr.",0]
[{"$f":"CheckOne($I$102,G1437)","v":false},null,null,null,null,null,22,null,null,null,null,18,0,null,null,0,"ha. a. kr.",0,null,0,"tim. a. kr.",0]
[{"$f":"CheckOne($I$103,G1437)","v":false},null,null,null,null,null,22,null,null,null,null,19,0,null,null,0,"ha. a. kr.",0,null,0,"tim. a. kr.",0]
[{"$f":"CheckOne($I$104,G1437)","v":false},null,null,null,null,null,22,null,null,null,null,20,0,null,null,0,"ha. a. kr.",0,null,0,"tim. a. kr.",0]
[{"$f":"CheckOne($I$105,G1437)","v":false},null,null,null,null,null,22,null,null,null,null,21,0,null,null,0,"ha. a. kr.",0,null,0,"tim. a. kr.",0]
[{"$f":"CheckOne($I$106,G1437)","v":false},null,null,null,null,null,22,null,null,null,null,22,0,null,null,0,"ha. a. kr.",0,null,0,"tim. a. kr.",0]
[{"$f":"CheckOne($I$107,G1437)","v":false},null,null,null,null,null,22,null,null,null,null,23,0,null,null,0,"ha. a. kr.",0,null,0,"tim. a. kr.",0]
[{"$f":"CheckOne($I$108,G1437)","v":false},null,null,null,null,null,22,null,null,null,null,24,0,null,null,0,"ha. a. kr.",0,null,0,"tim. a. kr.",0]
[{"$f":"CheckOne($I$109,G1437)","v":false},null,null,null,null,null,22,null,null,null,null,25,0,null,null,0,"ha. a. kr.",0,null,0,"tim. a. kr.",0]
[{"$f":"CheckOne($I$110,G1437)","v":false},null,null,null,null,null,22,null,null,null,null,26,0,null,null,0,"ha. a. kr.",0,null,0,"tim. a. kr.",0]
[{"$f":"CheckOne($I$111,G1437)","v":false},null,null,null,null,null,22,null,null,null,null,27,0,null,null,0,"ha. a. kr.",0,null,0,"tim. a. kr.",0]
[{"$f":"CheckOne($I$112,G1437)","v":false},null,null,null,null,null,22,null,null,null,null,28,0,null,null,0,"ha. a. kr.",0,null,0,"tim. a. kr.",0]
[{"$f":"CheckOne($I$113,G1437)","v":false},null,null,null,null,null,22,null,null,null,null,29,0,null,null,0,"ha. a. kr.",0,null,0,"tim. a. kr.",0]
[{"$f":"CheckOne($I$114,G1437)","v":false},null,null,null,null,null,22,null,null,null,null,30,0,null,null,0,"ha. a. kr.",0,null,0,"tim. a. kr.",0]
[{"$f":"CheckOne($I$115,G1437)","v":false},null,null,null,null,null,22,null,null,null,null,31,0,null,null,0,"ha. a. kr.",0,null,0,"tim. a. kr.",0]
[{"$f":"CheckOne($I$116,G1437)","v":false},null,null,null,null,null,22,null,null,null,null,32,0,null,null,0,"ha. a. kr.",0,null,0,"tim. a. kr.",0]
[{"$f":"CheckOne($I$117,G1437)","v":false},null,null,null,null,null,22,null,null,null,null,33,0,null,null,0,"ha. a. kr.",0,null,0,"tim. a. kr.",0]
[{"$f":"CheckOne($I$118,G1437)","v":false},null,null,null,null,null,22,null,null,null,null,34,0,null,null,0,"ha. a. kr.",0,null,0,"tim. a. kr.",0]
[{"$f":"CheckOne($I$119,G1437)","v":false},null,null,null,null,null,22,null,null,null,null,35,0,null,null,0,"ha. a. kr.",0,null,0,"tim. a. kr.",0]
[{"$f":"CheckOne($I$120,G1437)","v":false},null,null,null,null,null,22,null,null,null,null,36,0,null,null,0,"ha. a. kr.",0,null,0,"tim. a. kr.",0]
[{"$f":"CheckOne($I$121,G1437)","v":false},null,null,null,null,null,22,null,null,null,null,37,0,null,null,0,"ha. a. kr.",0,null,0,"tim. a. kr.",0]
[{"$f":"CheckOne($I$122,G1437)","v":false},null,null,null,null,null,22,null,null,null,null,38,0,null,null,0,"ha. a. kr.",0,null,0,"tim. a. kr.",0]
[{"$f":"CheckOne($I$123,G1437)","v":false},null,null,null,null,null,22,null,null,null,null,39,0,null,null,0,"ha. a. kr.",0,null,0,"tim. a. kr.",0]
[{"$f":"CheckOne($I$124,G1437)","v":false},null,null,null,null,null,22,null,null,null,null,40,0,null,null,0,"ha. a. kr.",0,null,0,"tim. a. kr.",0]
[{"$f":"CheckOne($I$125,G1437)","v":false},null,null,null,null,null,22,null,null,null,null,41,0,null,null,0,"ha. a. kr.",0,null,0,"tim. a. kr.",0]
[{"$f":"CheckOne($I$126,G1437)","v":false},null,null,null,null,null,22,null,null,null,null,42,0,null,null,0,"ha. a. kr.",0,null,0,"tim. a. kr.",0]
[{"$f":"CheckOne($I$127,G1437)","v":false},null,null,null,null,null,22,null,null,null,null,43,0,null,null,0,"ha. a. kr.",0,null,0,"tim. a. kr.",0]
[{"$f":"CheckOne($I$128,G1437)","v":false},null,null,null,null,null,22,null,null,null,null,44,0,null,null,0,"ha. a. kr.",0,null,0,"tim. a. kr.",0]
[{"$f":"CheckOne($I$129,G1437)","v":false},null,null,null,null,null,22,null,null,null,null,45,0,null,null,0,"ha. a. kr.",0,null,0,"tim. a. kr.",0]
[{"$f":"CheckOne($I$130,G1437)","v":false},null,null,null,null,null,22,null,null,null,null,46,0,null,null,0,"ha. a. kr.",0,null,0,"tim. a. kr.",0]
[{"$f":"CheckOne($I$131,G1437)","v":false},null,null,null,null,null,22,null,null,null,null,47,0,null,null,0,"ha. a. kr.",0,null,0,"tim. a. kr.",0]
[{"$f":"CheckOne($I$132,G1437)","v":false},null,null,null,null,null,22,null,null,null,null,48,0,null,null,0,"ha. a. kr.",0,null,0,"tim. a. kr.",0]
[{"$f":"CheckOne($I$133,G1437)","v":false},null,null,null,null,null,22,null,null,null,null,49,0,null,null,0,"ha. a. kr.",0,null,0,"tim. a. kr.",0]
[{"$f":"CheckOne($I$134,G1437)","v":false},null,null,null,null,null,22,null,null,null,null,50,0,null,null,0,"ha. a. kr.",0,null,0,"tim. a. kr.",0]
[{"$f":"OR(T1492<>0)","v":false},null,null,null,null,null,null,null,null,null,null,null,"Ufordelte omkostninger",null,null,null,null,null,null,0,"tim. a. kr.",0]
[{"$f":"A1436","v":false},null,null,null,null,null,null,null,null,null,null,"I alt",null,null,null,null,null,null,null,{"$f":"SUMIF(A1442:A1491,TRUE,T1442:T1491)","v":0},"timer"]
[{"$f":"A1493","v":false}]
[{"$f":"OR(L1495<>0,P1496<>0,T1499<>0,R1498<>0)","v":false},null,null,null,null,"nr.","id",null,null,null,null,{"$f":"VLOOKUP(F1496,$L$31:$AE$80,2,FALSE)","v":0},null,null,null,null,null,null,"i alt",null,null,"pr. time."]
[{"$f":"A1495","v":false},null,null,null,null,{"$f":"F1437+1","v":24},{"$f":"VLOOKUP(F1496,$F$31:$J$80,5,FALSE)","v":23},null,null,null,null,"Værdi primo:",null,null,null,{"$f":"VLOOKUP(F1496,$L$31:$AE$80,6,FALSE)","v":0},"Brændst.",{"$f":"VLOOKUP(F1496,$L$31:$AE$80,15,FALSE)","v":0},"GKO",{"$f":"VLOOKUP(F1496,$L$31:$AE$80,10,FALSE)","v":0},"GKE",{"$f":"IFERROR(+T1496/R1498,\"\")","v":""}]
[{"$f":"A1496","v":false},null,null,null,null,null,{"$f":"G1496","v":23},null,null,null,null,"Levetid:",null,null,null,{"$f":"VLOOKUP(F1496,$L$31:$AE$80,7,FALSE)","v":0},"Vedl.",{"$f":"VLOOKUP(F1496,$L$31:$AE$80,14,FALSE)","v":0},"KKO",{"$f":"VLOOKUP(F1496,$L$31:$AE$80,13,FALSE)","v":0},"KKE",{"$f":"IFERROR(+T1497/R1498,\"\")","v":""}]
[false,null,null,null,null,null,{"$f":"G1497","v":23},null,null,null,null,"Afskrivningspct:",null,null,null,{"$f":"VLOOKUP(F1496,$L$31:$AE$80,8,FALSE)","v":0},"Anvendt",{"$f":"VLOOKUP(F1496,$L$31:$AE$80,18,FALSE)","v":0},"VO",{"$f":"+R1498*V1498","v":0},"VE",{"$f":"VLOOKUP(F1496,$L$31:$AE$80,17,FALSE)","v":0}]
[false,null,null,null,null,null,23,null,null,null,null,"Scrapværdi:",null,null,null,{"$f":"VLOOKUP(F1496,$L$31:$AE$80,9,FALSE)","v":0},null,null,"TO",{"$f":"+T1496+T1497+T1498","v":0},"TE",{"$f":"IFERROR(+V1496+V1497+V1498,\"\")","v":""}]
[false,null,null,null,null,null,23,null,null,null,null,"Opgaver:"]
[{"$f":"CheckOne($I$85,G1496)","v":false},null,null,null,null,null,23,null,null,null,null,{"$f":"L1442:L1491","v":1},{"$f":"M1442:M1492","v":0},null,null,{"$f":"$Z$85:$Z$134","v":0},{"$f":"$AA$85:$AA$134&\" a. kr.\"","v":"ha. a. kr."},{"$f":"$AG$85:$AG$134","v":0},null,{"$f":"$AB$85:$AB$135","v":0},"tim. a. kr.",{"$f":"_xlfn.ANCHORARRAY($AF$85)","v":0}]
[{"$f":"CheckOne($I$86,G1496)","v":false},null,null,null,null,null,23,null,null,null,null,2,0,null,null,0,"ha. a. kr.",0,null,0,"tim. a. kr.",0]
[{"$f":"CheckOne($I$87,G1496)","v":false},null,null,null,null,null,23,null,null,null,null,3,0,null,null,0,"ha. a. kr.",0,null,0,"tim. a. kr.",0]
[{"$f":"CheckOne($I$88,G1496)","v":false},null,null,null,null,null,23,null,null,null,null,4,0,null,null,0,"ha. a. kr.",0,null,0,"tim. a. kr.",0]
[{"$f":"CheckOne($I$89,G1496)","v":false},null,null,null,null,null,23,null,null,null,null,5,0,null,null,0,"ha. a. kr.",0,null,0,"tim. a. kr.",0]
[{"$f":"CheckOne($I$90,G1496)","v":false},null,null,null,null,null,23,null,null,null,null,6,0,null,null,0,"ha. a. kr.",0,null,0,"tim. a. kr.",0]
[{"$f":"CheckOne($I$91,G1496)","v":false},null,null,null,null,null,23,null,null,null,null,7,0,null,null,0,"ha. a. kr.",0,null,0,"tim. a. kr.",0]
[{"$f":"CheckOne($I$92,G1496)","v":false},null,null,null,null,null,23,null,null,null,null,8,0,null,null,0,"ha. a. kr.",0,null,0,"tim. a. kr.",0]
[{"$f":"CheckOne($I$93,G1496)","v":false},null,null,null,null,null,23,null,null,null,null,9,0,null,null,0,"ha. a. kr.",0,null,0,"tim. a. kr.",0]
[{"$f":"CheckOne($I$94,G1496)","v":false},null,null,null,null,null,23,null,null,null,null,10,0,null,null,0,"ha. a. kr.",0,null,0,"tim. a. kr.",0]
[{"$f":"CheckOne($I$95,G1496)","v":false},null,null,null,null,null,23,null,null,null,null,11,0,null,null,0,"ha. a. kr.",0,null,0,"tim. a. kr.",0]
[{"$f":"CheckOne($I$96,G1496)","v":false},null,null,null,null,null,23,null,null,null,null,12,0,null,null,0,"ha. a. kr.",0,null,0,"tim. a. kr.",0]
[{"$f":"CheckOne($I$97,G1496)","v":false},null,null,null,null,null,23,null,null,null,null,13,0,null,null,0,"ha. a. kr.",0,null,0,"tim. a. kr.",0]
[{"$f":"CheckOne($I$98,G1496)","v":false},null,null,null,null,null,23,null,null,null,null,14,0,null,null,0,"ha. a. kr.",0,null,0,"tim. a. kr.",0]
[{"$f":"CheckOne($I$99,G1496)","v":false},null,null,null,null,null,23,null,null,null,null,15,0,null,null,0,"ha. a. kr.",0,null,0,"tim. a. kr.",0]
[{"$f":"CheckOne($I$100,G1496)","v":false},null,null,null,null,null,23,null,null,null,null,16,0,null,null,0,"ha. a. kr.",0,null,0,"tim. a. kr.",0]
[{"$f":"CheckOne($I$101,G1496)","v":false},null,null,null,null,null,23,null,null,null,null,17,0,null,null,0,"ha. a. kr.",0,null,0,"tim. a. kr.",0]
[{"$f":"CheckOne($I$102,G1496)","v":false},null,null,null,null,null,23,null,null,null,null,18,0,null,null,0,"ha. a. kr.",0,null,0,"tim. a. kr.",0]
[{"$f":"CheckOne($I$103,G1496)","v":false},null,null,null,null,null,23,null,null,null,null,19,0,null,null,0,"ha. a. kr.",0,null,0,"tim. a. kr.",0]
[{"$f":"CheckOne($I$104,G1496)","v":false},null,null,null,null,null,23,null,null,null,null,20,0,null,null,0,"ha. a. kr.",0,null,0,"tim. a. kr.",0]
[{"$f":"CheckOne($I$105,G1496)","v":false},null,null,null,null,null,23,null,null,null,null,21,0,null,null,0,"ha. a. kr.",0,null,0,"tim. a. kr.",0]
[{"$f":"CheckOne($I$106,G1496)","v":false},null,null,null,null,null,23,null,null,null,null,22,0,null,null,0,"ha. a. kr.",0,null,0,"tim. a. kr.",0]
[{"$f":"CheckOne($I$107,G1496)","v":false},null,null,null,null,null,23,null,null,null,null,23,0,null,null,0,"ha. a. kr.",0,null,0,"tim. a. kr.",0]
[{"$f":"CheckOne($I$108,G1496)","v":false},null,null,null,null,null,23,null,null,null,null,24,0,null,null,0,"ha. a. kr.",0,null,0,"tim. a. kr.",0]
[{"$f":"CheckOne($I$109,G1496)","v":false},null,null,null,null,null,23,null,null,null,null,25,0,null,null,0,"ha. a. kr.",0,null,0,"tim. a. kr.",0]
[{"$f":"CheckOne($I$110,G1496)","v":false},null,null,null,null,null,23,null,null,null,null,26,0,null,null,0,"ha. a. kr.",0,null,0,"tim. a. kr.",0]
[{"$f":"CheckOne($I$111,G1496)","v":false},null,null,null,null,null,23,null,null,null,null,27,0,null,null,0,"ha. a. kr.",0,null,0,"tim. a. kr.",0]
[{"$f":"CheckOne($I$112,G1496)","v":false},null,null,null,null,null,23,null,null,null,null,28,0,null,null,0,"ha. a. kr.",0,null,0,"tim. a. kr.",0]
[{"$f":"CheckOne($I$113,G1496)","v":false},null,null,null,null,null,23,null,null,null,null,29,0,null,null,0,"ha. a. kr.",0,null,0,"tim. a. kr.",0]
[{"$f":"CheckOne($I$114,G1496)","v":false},null,null,null,null,null,23,null,null,null,null,30,0,null,null,0,"ha. a. kr.",0,null,0,"tim. a. kr.",0]
[{"$f":"CheckOne($I$115,G1496)","v":false},null,null,null,null,null,23,null,null,null,null,31,0,null,null,0,"ha. a. kr.",0,null,0,"tim. a. kr.",0]
[{"$f":"CheckOne($I$116,G1496)","v":false},null,null,null,null,null,23,null,null,null,null,32,0,null,null,0,"ha. a. kr.",0,null,0,"tim. a. kr.",0]
[{"$f":"CheckOne($I$117,G1496)","v":false},null,null,null,null,null,23,null,null,null,null,33,0,null,null,0,"ha. a. kr.",0,null,0,"tim. a. kr.",0]
[{"$f":"CheckOne($I$118,G1496)","v":false},null,null,null,null,null,23,null,null,null,null,34,0,null,null,0,"ha. a. kr.",0,null,0,"tim. a. kr.",0]
[{"$f":"CheckOne($I$119,G1496)","v":false},null,null,null,null,null,23,null,null,null,null,35,0,null,null,0,"ha. a. kr.",0,null,0,"tim. a. kr.",0]
[{"$f":"CheckOne($I$120,G1496)","v":false},null,null,null,null,null,23,null,null,null,null,36,0,null,null,0,"ha. a. kr.",0,null,0,"tim. a. kr.",0]
[{"$f":"CheckOne($I$121,G1496)","v":false},null,null,null,null,null,23,null,null,null,null,37,0,null,null,0,"ha. a. kr.",0,null,0,"tim. a. kr.",0]
[{"$f":"CheckOne($I$122,G1496)","v":false},null,null,null,null,null,23,null,null,null,null,38,0,null,null,0,"ha. a. kr.",0,null,0,"tim. a. kr.",0]
[{"$f":"CheckOne($I$123,G1496)","v":false},null,null,null,null,null,23,null,null,null,null,39,0,null,null,0,"ha. a. kr.",0,null,0,"tim. a. kr.",0]
[{"$f":"CheckOne($I$124,G1496)","v":false},null,null,null,null,null,23,null,null,null,null,40,0,null,null,0,"ha. a. kr.",0,null,0,"tim. a. kr.",0]
[{"$f":"CheckOne($I$125,G1496)","v":false},null,null,null,null,null,23,null,null,null,null,41,0,null,null,0,"ha. a. kr.",0,null,0,"tim. a. kr.",0]
[{"$f":"CheckOne($I$126,G1496)","v":false},null,null,null,null,null,23,null,null,null,null,42,0,null,null,0,"ha. a. kr.",0,null,0,"tim. a. kr.",0]
[{"$f":"CheckOne($I$127,G1496)","v":false},null,null,null,null,null,23,null,null,null,null,43,0,null,null,0,"ha. a. kr.",0,null,0,"tim. a. kr.",0]
[{"$f":"CheckOne($I$128,G1496)","v":false},null,null,null,null,null,23,null,null,null,null,44,0,null,null,0,"ha. a. kr.",0,null,0,"tim. a. kr.",0]
[{"$f":"CheckOne($I$129,G1496)","v":false},null,null,null,null,null,23,null,null,null,null,45,0,null,null,0,"ha. a. kr.",0,null,0,"tim. a. kr.",0]
[{"$f":"CheckOne($I$130,G1496)","v":false},null,null,null,null,null,23,null,null,null,null,46,0,null,null,0,"ha. a. kr.",0,null,0,"tim. a. kr.",0]
[{"$f":"CheckOne($I$131,G1496)","v":false},null,null,null,null,null,23,null,null,null,null,47,0,null,null,0,"ha. a. kr.",0,null,0,"tim. a. kr.",0]
[{"$f":"CheckOne($I$132,G1496)","v":false},null,null,null,null,null,23,null,null,null,null,48,0,null,null,0,"ha. a. kr.",0,null,0,"tim. a. kr.",0]
[{"$f":"CheckOne($I$133,G1496)","v":false},null,null,null,null,null,23,null,null,null,null,49,0,null,null,0,"ha. a. kr.",0,null,0,"tim. a. kr.",0]
[{"$f":"CheckOne($I$134,G1496)","v":false},null,null,null,null,null,23,null,null,null,null,50,0,null,null,0,"ha. a. kr.",0,null,0,"tim. a. kr.",0]
[{"$f":"OR(T1551<>0)","v":false},null,null,null,null,null,null,null,null,null,null,null,"Ufordelte omkostninger",null,null,null,null,null,null,0,"tim. a. kr.",0]
[{"$f":"A1495","v":false},null,null,null,null,null,null,null,null,null,null,"I alt",null,null,null,null,null,null,null,{"$f":"SUMIF(A1501:A1550,TRUE,T1501:T1550)","v":0},"timer"]
[{"$f":"A1552","v":false}]
[{"$f":"OR(L1554<>0,P1555<>0,T1558<>0,R1557<>0)","v":false},null,null,null,null,"nr.","id",null,null,null,null,{"$f":"VLOOKUP(F1555,$L$31:$AE$80,2,FALSE)","v":0},null,null,null,null,null,null,"i alt",null,null,"pr. time."]
[{"$f":"A1554","v":false},null,null,null,null,{"$f":"F1496+1","v":25},{"$f":"VLOOKUP(F1555,$F$31:$J$80,5,FALSE)","v":24},null,null,null,null,"Værdi primo:",null,null,null,{"$f":"VLOOKUP(F1555,$L$31:$AE$80,6,FALSE)","v":0},"Brændst.",{"$f":"VLOOKUP(F1555,$L$31:$AE$80,15,FALSE)","v":0},"GKO",{"$f":"VLOOKUP(F1555,$L$31:$AE$80,10,FALSE)","v":0},"GKE",{"$f":"IFERROR(+T1555/R1557,\"\")","v":""}]
[{"$f":"A1555","v":false},null,null,null,null,null,{"$f":"G1555","v":24},null,null,null,null,"Levetid:",null,null,null,{"$f":"VLOOKUP(F1555,$L$31:$AE$80,7,FALSE)","v":0},"Vedl.",{"$f":"VLOOKUP(F1555,$L$31:$AE$80,14,FALSE)","v":0},"KKO",{"$f":"VLOOKUP(F1555,$L$31:$AE$80,13,FALSE)","v":0},"KKE",{"$f":"IFERROR(+T1556/R1557,\"\")","v":""}]
[false,null,null,null,null,null,{"$f":"G1556","v":24},null,null,null,null,"Afskrivningspct:",null,null,null,{"$f":"VLOOKUP(F1555,$L$31:$AE$80,8,FALSE)","v":0},"Anvendt",{"$f":"VLOOKUP(F1555,$L$31:$AE$80,18,FALSE)","v":0},"VO",{"$f":"+R1557*V1557","v":0},"VE",{"$f":"VLOOKUP(F1555,$L$31:$AE$80,17,FALSE)","v":0}]
[false,null,null,null,null,null,24,null,null,null,null,"Scrapværdi:",null,null,null,{"$f":"VLOOKUP(F1555,$L$31:$AE$80,9,FALSE)","v":0},null,null,"TO",{"$f":"+T1555+T1556+T1557","v":0},"TE",{"$f":"IFERROR(+V1555+V1556+V1557,\"\")","v":""}]
[false,null,null,null,null,null,24,null,null,null,null,"Opgaver:"]
[{"$f":"CheckOne($I$85,G1555)","v":false},null,null,null,null,null,24,null,null,null,null,{"$f":"L1501:L1550","v":1},{"$f":"M1501:M1551","v":0},null,null,{"$f":"$Z$85:$Z$134","v":0},{"$f":"$AA$85:$AA$134&\" a. kr.\"","v":"ha. a. kr."},{"$f":"$AG$85:$AG$134","v":0},null,{"$f":"$AB$85:$AB$135","v":0},"tim. a. kr.",{"$f":"_xlfn.ANCHORARRAY($AF$85)","v":0}]
[{"$f":"CheckOne($I$86,G1555)","v":false},null,null,null,null,null,24,null,null,null,null,2,0,null,null,0,"ha. a. kr.",0,null,0,"tim. a. kr.",0]
[{"$f":"CheckOne($I$87,G1555)","v":false},null,null,null,null,null,24,null,null,null,null,3,0,null,null,0,"ha. a. kr.",0,null,0,"tim. a. kr.",0]
[{"$f":"CheckOne($I$88,G1555)","v":false},null,null,null,null,null,24,null,null,null,null,4,0,null,null,0,"ha. a. kr.",0,null,0,"tim. a. kr.",0]
[{"$f":"CheckOne($I$89,G1555)","v":false},null,null,null,null,null,24,null,null,null,null,5,0,null,null,0,"ha. a. kr.",0,null,0,"tim. a. kr.",0]
[{"$f":"CheckOne($I$90,G1555)","v":false},null,null,null,null,null,24,null,null,null,null,6,0,null,null,0,"ha. a. kr.",0,null,0,"tim. a. kr.",0]
[{"$f":"CheckOne($I$91,G1555)","v":false},null,null,null,null,null,24,null,null,null,null,7,0,null,null,0,"ha. a. kr.",0,null,0,"tim. a. kr.",0]
[{"$f":"CheckOne($I$92,G1555)","v":false},null,null,null,null,null,24,null,null,null,null,8,0,null,null,0,"ha. a. kr.",0,null,0,"tim. a. kr.",0]
[{"$f":"CheckOne($I$93,G1555)","v":false},null,null,null,null,null,24,null,null,null,null,9,0,null,null,0,"ha. a. kr.",0,null,0,"tim. a. kr.",0]
[{"$f":"CheckOne($I$94,G1555)","v":false},null,null,null,null,null,24,null,null,null,null,10,0,null,null,0,"ha. a. kr.",0,null,0,"tim. a. kr.",0]
[{"$f":"CheckOne($I$95,G1555)","v":false},null,null,null,null,null,24,null,null,null,null,11,0,null,null,0,"ha. a. kr.",0,null,0,"tim. a. kr.",0]
[{"$f":"CheckOne($I$96,G1555)","v":false},null,null,null,null,null,24,null,null,null,null,12,0,null,null,0,"ha. a. kr.",0,null,0,"tim. a. kr.",0]
[{"$f":"CheckOne($I$97,G1555)","v":false},null,null,null,null,null,24,null,null,null,null,13,0,null,null,0,"ha. a. kr.",0,null,0,"tim. a. kr.",0]
[{"$f":"CheckOne($I$98,G1555)","v":false},null,null,null,null,null,24,null,null,null,null,14,0,null,null,0,"ha. a. kr.",0,null,0,"tim. a. kr.",0]
[{"$f":"CheckOne($I$99,G1555)","v":false},null,null,null,null,null,24,null,null,null,null,15,0,null,null,0,"ha. a. kr.",0,null,0,"tim. a. kr.",0]
[{"$f":"CheckOne($I$100,G1555)","v":false},null,null,null,null,null,24,null,null,null,null,16,0,null,null,0,"ha. a. kr.",0,null,0,"tim. a. kr.",0]
[{"$f":"CheckOne($I$101,G1555)","v":false},null,null,null,null,null,24,null,null,null,null,17,0,null,null,0,"ha. a. kr.",0,null,0,"tim. a. kr.",0]
[{"$f":"CheckOne($I$102,G1555)","v":false},null,null,null,null,null,24,null,null,null,null,18,0,null,null,0,"ha. a. kr.",0,null,0,"tim. a. kr.",0]
[{"$f":"CheckOne($I$103,G1555)","v":false},null,null,null,null,null,24,null,null,null,null,19,0,null,null,0,"ha. a. kr.",0,null,0,"tim. a. kr.",0]
[{"$f":"CheckOne($I$104,G1555)","v":false},null,null,null,null,null,24,null,null,null,null,20,0,null,null,0,"ha. a. kr.",0,null,0,"tim. a. kr.",0]
[{"$f":"CheckOne($I$105,G1555)","v":false},null,null,null,null,null,24,null,null,null,null,21,0,null,null,0,"ha. a. kr.",0,null,0,"tim. a. kr.",0]
[{"$f":"CheckOne($I$106,G1555)","v":false},null,null,null,null,null,24,null,null,null,null,22,0,null,null,0,"ha. a. kr.",0,null,0,"tim. a. kr.",0]
[{"$f":"CheckOne($I$107,G1555)","v":false},null,null,null,null,null,24,null,null,null,null,23,0,null,null,0,"ha. a. kr.",0,null,0,"tim. a. kr.",0]
[{"$f":"CheckOne($I$108,G1555)","v":false},null,null,null,null,null,24,null,null,null,null,24,0,null,null,0,"ha. a. kr.",0,null,0,"tim. a. kr.",0]
[{"$f":"CheckOne($I$109,G1555)","v":false},null,null,null,null,null,24,null,null,null,null,25,0,null,null,0,"ha. a. kr.",0,null,0,"tim. a. kr.",0]
[{"$f":"CheckOne($I$110,G1555)","v":false},null,null,null,null,null,24,null,null,null,null,26,0,null,null,0,"ha. a. kr.",0,null,0,"tim. a. kr.",0]
[{"$f":"CheckOne($I$111,G1555)","v":false},null,null,null,null,null,24,null,null,null,null,27,0,null,null,0,"ha. a. kr.",0,null,0,"tim. a. kr.",0]
[{"$f":"CheckOne($I$112,G1555)","v":false},null,null,null,null,null,24,null,null,null,null,28,0,null,null,0,"ha. a. kr.",0,null,0,"tim. a. kr.",0]
[{"$f":"CheckOne($I$113,G1555)","v":false},null,null,null,null,null,24,null,null,null,null,29,0,null,null,0,"ha. a. kr.",0,null,0,"tim. a. kr.",0]
[{"$f":"CheckOne($I$114,G1555)","v":false},null,null,null,null,null,24,null,null,null,null,30,0,null,null,0,"ha. a. kr.",0,null,0,"tim. a. kr.",0]
[{"$f":"CheckOne($I$115,G1555)","v":false},null,null,null,null,null,24,null,null,null,null,31,0,null,null,0,"ha. a. kr.",0,null,0,"tim. a. kr.",0]
[{"$f":"CheckOne($I$116,G1555)","v":false},null,null,null,null,null,24,null,null,null,null,32,0,null,null,0,"ha. a. kr.",0,null,0,"tim. a. kr.",0]
[{"$f":"CheckOne($I$117,G1555)","v":false},null,null,null,null,null,24,null,null,null,null,33,0,null,null,0,"ha. a. kr.",0,null,0,"tim. a. kr.",0]
[{"$f":"CheckOne($I$118,G1555)","v":false},null,null,null,null,null,24,null,null,null,null,34,0,null,null,0,"ha. a. kr.",0,null,0,"tim. a. kr.",0]
[{"$f":"CheckOne($I$119,G1555)","v":false},null,null,null,null,null,24,null,null,null,null,35,0,null,null,0,"ha. a. kr.",0,null,0,"tim. a. kr.",0]
[{"$f":"CheckOne($I$120,G1555)","v":false},null,null,null,null,null,24,null,null,null,null,36,0,null,null,0,"ha. a. kr.",0,null,0,"tim. a. kr.",0]
[{"$f":"CheckOne($I$121,G1555)","v":false},null,null,null,null,null,24,null,null,null,null,37,0,null,null,0,"ha. a. kr.",0,null,0,"tim. a. kr.",0]
[{"$f":"CheckOne($I$122,G1555)","v":false},null,null,null,null,null,24,null,null,null,null,38,0,null,null,0,"ha. a. kr.",0,null,0,"tim. a. kr.",0]
[{"$f":"CheckOne($I$123,G1555)","v":false},null,null,null,null,null,24,null,null,null,null,39,0,null,null,0,"ha. a. kr.",0,null,0,"tim. a. kr.",0]
[{"$f":"CheckOne($I$124,G1555)","v":false},null,null,null,null,null,24,null,null,null,null,40,0,null,null,0,"ha. a. kr.",0,null,0,"tim. a. kr.",0]
[{"$f":"CheckOne($I$125,G1555)","v":false},null,null,null,null,null,24,null,null,null,null,41,0,null,null,0,"ha. a. kr.",0,null,0,"tim. a. kr.",0]
[{"$f":"CheckOne($I$126,G1555)","v":false},null,null,null,null,null,24,null,null,null,null,42,0,null,null,0,"ha. a. kr.",0,null,0,"tim. a. kr.",0]
[{"$f":"CheckOne($I$127,G1555)","v":false},null,null,null,null,null,24,null,null,null,null,43,0,null,null,0,"ha. a. kr.",0,null,0,"tim. a. kr.",0]
[{"$f":"CheckOne($I$128,G1555)","v":false},null,null,null,null,null,24,null,null,null,null,44,0,null,null,0,"ha. a. kr.",0,null,0,"tim. a. kr.",0]
[{"$f":"CheckOne($I$129,G1555)","v":false},null,null,null,null,null,24,null,null,null,null,45,0,null,null,0,"ha. a. kr.",0,null,0,"tim. a. kr.",0]
[{"$f":"CheckOne($I$130,G1555)","v":false},null,null,null,null,null,24,null,null,null,null,46,0,null,null,0,"ha. a. kr.",0,null,0,"tim. a. kr.",0]
[{"$f":"CheckOne($I$131,G1555)","v":false},null,null,null,null,null,24,null,null,null,null,47,0,null,null,0,"ha. a. kr.",0,null,0,"tim. a. kr.",0]
[{"$f":"CheckOne($I$132,G1555)","v":false},null,null,null,null,null,24,null,null,null,null,48,0,null,null,0,"ha. a. kr.",0,null,0,"tim. a. kr.",0]
[{"$f":"CheckOne($I$133,G1555)","v":false},null,null,null,null,null,24,null,null,null,null,49,0,null,null,0,"ha. a. kr.",0,null,0,"tim. a. kr.",0]
[{"$f":"CheckOne($I$134,G1555)","v":false},null,null,null,null,null,24,null,null,null,null,50,0,null,null,0,"ha. a. kr.",0,null,0,"tim. a. kr.",0]
[{"$f":"OR(T1610<>0)","v":false},null,null,null,null,null,null,null,null,null,null,null,"Ufordelte omkostninger",null,null,null,null,null,null,0,"tim. a. kr.",0]
[{"$f":"A1554","v":false},null,null,null,null,null,null,null,null,null,null,"I alt",null,null,null,null,null,null,null,{"$f":"SUMIF(A1560:A1609,TRUE,T1560:T1609)","v":0},"timer"]
[{"$f":"A1611","v":false}]
[{"$f":"OR(L1613<>0,P1614<>0,T1617<>0,R1616<>0)","v":false},null,null,null,null,"nr.","id",null,null,null,null,{"$f":"VLOOKUP(F1614,$L$31:$AE$80,2,FALSE)","v":0},null,null,null,null,null,null,"i alt",null,null,"pr. time."]
[{"$f":"A1613","v":false},null,null,null,null,{"$f":"F1555+1","v":26},{"$f":"VLOOKUP(F1614,$F$31:$J$80,5,FALSE)","v":25},null,null,null,null,"Værdi primo:",null,null,null,{"$f":"VLOOKUP(F1614,$L$31:$AE$80,6,FALSE)","v":0},"Brændst.",{"$f":"VLOOKUP(F1614,$L$31:$AE$80,15,FALSE)","v":0},"GKO",{"$f":"VLOOKUP(F1614,$L$31:$AE$80,10,FALSE)","v":0},"GKE",{"$f":"IFERROR(+T1614/R1616,\"\")","v":""}]
[{"$f":"A1614","v":false},null,null,null,null,null,{"$f":"G1614","v":25},null,null,null,null,"Levetid:",null,null,null,{"$f":"VLOOKUP(F1614,$L$31:$AE$80,7,FALSE)","v":0},"Vedl.",{"$f":"VLOOKUP(F1614,$L$31:$AE$80,14,FALSE)","v":0},"KKO",{"$f":"VLOOKUP(F1614,$L$31:$AE$80,13,FALSE)","v":0},"KKE",{"$f":"IFERROR(+T1615/R1616,\"\")","v":""}]
[false,null,null,null,null,null,{"$f":"G1615","v":25},null,null,null,null,"Afskrivningspct:",null,null,null,{"$f":"VLOOKUP(F1614,$L$31:$AE$80,8,FALSE)","v":0},"Anvendt",{"$f":"VLOOKUP(F1614,$L$31:$AE$80,18,FALSE)","v":0},"VO",{"$f":"+R1616*V1616","v":0},"VE",{"$f":"VLOOKUP(F1614,$L$31:$AE$80,17,FALSE)","v":0}]
[false,null,null,null,null,null,25,null,null,null,null,"Scrapværdi:",null,null,null,{"$f":"VLOOKUP(F1614,$L$31:$AE$80,9,FALSE)","v":0},null,null,"TO",{"$f":"+T1614+T1615+T1616","v":0},"TE",{"$f":"IFERROR(+V1614+V1615+V1616,\"\")","v":""}]
[false,null,null,null,null,null,25,null,null,null,null,"Opgaver:"]
[{"$f":"CheckOne($I$85,G1614)","v":false},null,null,null,null,null,25,null,null,null,null,{"$f":"L1560:L1609","v":1},{"$f":"M1560:M1610","v":0},null,null,{"$f":"$Z$85:$Z$134","v":0},{"$f":"$AA$85:$AA$134&\" a. kr.\"","v":"ha. a. kr."},{"$f":"$AG$85:$AG$134","v":0},null,{"$f":"$AB$85:$AB$135","v":0},"tim. a. kr.",{"$f":"_xlfn.ANCHORARRAY($AF$85)","v":0}]
[{"$f":"CheckOne($I$86,G1614)","v":false},null,null,null,null,null,25,null,null,null,null,2,0,null,null,0,"ha. a. kr.",0,null,0,"tim. a. kr.",0]
[{"$f":"CheckOne($I$87,G1614)","v":false},null,null,null,null,null,25,null,null,null,null,3,0,null,null,0,"ha. a. kr.",0,null,0,"tim. a. kr.",0]
[{"$f":"CheckOne($I$88,G1614)","v":false},null,null,null,null,null,25,null,null,null,null,4,0,null,null,0,"ha. a. kr.",0,null,0,"tim. a. kr.",0]
[{"$f":"CheckOne($I$89,G1614)","v":false},null,null,null,null,null,25,null,null,null,null,5,0,null,null,0,"ha. a. kr.",0,null,0,"tim. a. kr.",0]
[{"$f":"CheckOne($I$90,G1614)","v":false},null,null,null,null,null,25,null,null,null,null,6,0,null,null,0,"ha. a. kr.",0,null,0,"tim. a. kr.",0]
[{"$f":"CheckOne($I$91,G1614)","v":false},null,null,null,null,null,25,null,null,null,null,7,0,null,null,0,"ha. a. kr.",0,null,0,"tim. a. kr.",0]
[{"$f":"CheckOne($I$92,G1614)","v":false},null,null,null,null,null,25,null,null,null,null,8,0,null,null,0,"ha. a. kr.",0,null,0,"tim. a. kr.",0]
[{"$f":"CheckOne($I$93,G1614)","v":false},null,null,null,null,null,25,null,null,null,null,9,0,null,null,0,"ha. a. kr.",0,null,0,"tim. a. kr.",0]
[{"$f":"CheckOne($I$94,G1614)","v":false},null,null,null,null,null,25,null,null,null,null,10,0,null,null,0,"ha. a. kr.",0,null,0,"tim. a. kr.",0]
[{"$f":"CheckOne($I$95,G1614)","v":false},null,null,null,null,null,25,null,null,null,null,11,0,null,null,0,"ha. a. kr.",0,null,0,"tim. a. kr.",0]
[{"$f":"CheckOne($I$96,G1614)","v":false},null,null,null,null,null,25,null,null,null,null,12,0,null,null,0,"ha. a. kr.",0,null,0,"tim. a. kr.",0]
[{"$f":"CheckOne($I$97,G1614)","v":false},null,null,null,null,null,25,null,null,null,null,13,0,null,null,0,"ha. a. kr.",0,null,0,"tim. a. kr.",0]
[{"$f":"CheckOne($I$98,G1614)","v":false},null,null,null,null,null,25,null,null,null,null,14,0,null,null,0,"ha. a. kr.",0,null,0,"tim. a. kr.",0]
[{"$f":"CheckOne($I$99,G1614)","v":false},null,null,null,null,null,25,null,null,null,null,15,0,null,null,0,"ha. a. kr.",0,null,0,"tim. a. kr.",0]
[{"$f":"CheckOne($I$100,G1614)","v":false},null,null,null,null,null,25,null,null,null,null,16,0,null,null,0,"ha. a. kr.",0,null,0,"tim. a. kr.",0]
[{"$f":"CheckOne($I$101,G1614)","v":false},null,null,null,null,null,25,null,null,null,null,17,0,null,null,0,"ha. a. kr.",0,null,0,"tim. a. kr.",0]
[{"$f":"CheckOne($I$102,G1614)","v":false},null,null,null,null,null,25,null,null,null,null,18,0,null,null,0,"ha. a. kr.",0,null,0,"tim. a. kr.",0]
[{"$f":"CheckOne($I$103,G1614)","v":false},null,null,null,null,null,25,null,null,null,null,19,0,null,null,0,"ha. a. kr.",0,null,0,"tim. a. kr.",0]
[{"$f":"CheckOne($I$104,G1614)","v":false},null,null,null,null,null,25,null,null,null,null,20,0,null,null,0,"ha. a. kr.",0,null,0,"tim. a. kr.",0]
[{"$f":"CheckOne($I$105,G1614)","v":false},null,null,null,null,null,25,null,null,null,null,21,0,null,null,0,"ha. a. kr.",0,null,0,"tim. a. kr.",0]
[{"$f":"CheckOne($I$106,G1614)","v":false},null,null,null,null,null,25,null,null,null,null,22,0,null,null,0,"ha. a. kr.",0,null,0,"tim. a. kr.",0]
[{"$f":"CheckOne($I$107,G1614)","v":false},null,null,null,null,null,25,null,null,null,null,23,0,null,null,0,"ha. a. kr.",0,null,0,"tim. a. kr.",0]
[{"$f":"CheckOne($I$108,G1614)","v":false},null,null,null,null,null,25,null,null,null,null,24,0,null,null,0,"ha. a. kr.",0,null,0,"tim. a. kr.",0]
[{"$f":"CheckOne($I$109,G1614)","v":false},null,null,null,null,null,25,null,null,null,null,25,0,null,null,0,"ha. a. kr.",0,null,0,"tim. a. kr.",0]
[{"$f":"CheckOne($I$110,G1614)","v":false},null,null,null,null,null,25,null,null,null,null,26,0,null,null,0,"ha. a. kr.",0,null,0,"tim. a. kr.",0]
[{"$f":"CheckOne($I$111,G1614)","v":false},null,null,null,null,null,25,null,null,null,null,27,0,null,null,0,"ha. a. kr.",0,null,0,"tim. a. kr.",0]
[{"$f":"CheckOne($I$112,G1614)","v":false},null,null,null,null,null,25,null,null,null,null,28,0,null,null,0,"ha. a. kr.",0,null,0,"tim. a. kr.",0]
[{"$f":"CheckOne($I$113,G1614)","v":false},null,null,null,null,null,25,null,null,null,null,29,0,null,null,0,"ha. a. kr.",0,null,0,"tim. a. kr.",0]
[{"$f":"CheckOne($I$114,G1614)","v":false},null,null,null,null,null,25,null,null,null,null,30,0,null,null,0,"ha. a. kr.",0,null,0,"tim. a. kr.",0]
[{"$f":"CheckOne($I$115,G1614)","v":false},null,null,null,null,null,25,null,null,null,null,31,0,null,null,0,"ha. a. kr.",0,null,0,"tim. a. kr.",0]
[{"$f":"CheckOne($I$116,G1614)","v":false},null,null,null,null,null,25,null,null,null,null,32,0,null,null,0,"ha. a. kr.",0,null,0,"tim. a. kr.",0]
[{"$f":"CheckOne($I$117,G1614)","v":false},null,null,null,null,null,25,null,null,null,null,33,0,null,null,0,"ha. a. kr.",0,null,0,"tim. a. kr.",0]
[{"$f":"CheckOne($I$118,G1614)","v":false},null,null,null,null,null,25,null,null,null,null,34,0,null,null,0,"ha. a. kr.",0,null,0,"tim. a. kr.",0]
[{"$f":"CheckOne($I$119,G1614)","v":false},null,null,null,null,null,25,null,null,null,null,35,0,null,null,0,"ha. a. kr.",0,null,0,"tim. a. kr.",0]
[{"$f":"CheckOne($I$120,G1614)","v":false},null,null,null,null,null,25,null,null,null,null,36,0,null,null,0,"ha. a. kr.",0,null,0,"tim. a. kr.",0]
[{"$f":"CheckOne($I$121,G1614)","v":false},null,null,null,null,null,25,null,null,null,null,37,0,null,null,0,"ha. a. kr.",0,null,0,"tim. a. kr.",0]
[{"$f":"CheckOne($I$122,G1614)","v":false},null,null,null,null,null,25,null,null,null,null,38,0,null,null,0,"ha. a. kr.",0,null,0,"tim. a. kr.",0]
[{"$f":"CheckOne($I$123,G1614)","v":false},null,null,null,null,null,25,null,null,null,null,39,0,null,null,0,"ha. a. kr.",0,null,0,"tim. a. kr.",0]
[{"$f":"CheckOne($I$124,G1614)","v":false},null,null,null,null,null,25,null,null,null,null,40,0,null,null,0,"ha. a. kr.",0,null,0,"tim. a. kr.",0]
[{"$f":"CheckOne($I$125,G1614)","v":false},null,null,null,null,null,25,null,null,null,null,41,0,null,null,0,"ha. a. kr.",0,null,0,"tim. a. kr.",0]
[{"$f":"CheckOne($I$126,G1614)","v":false},null,null,null,null,null,25,null,null,null,null,42,0,null,null,0,"ha. a. kr.",0,null,0,"tim. a. kr.",0]
[{"$f":"CheckOne($I$127,G1614)","v":false},null,null,null,null,null,25,null,null,null,null,43,0,null,null,0,"ha. a. kr.",0,null,0,"tim. a. kr.",0]
[{"$f":"CheckOne($I$128,G1614)","v":false},null,null,null,null,null,25,null,null,null,null,44,0,null,null,0,"ha. a. kr.",0,null,0,"tim. a. kr.",0]
[{"$f":"CheckOne($I$129,G1614)","v":false},null,null,null,null,null,25,null,null,null,null,45,0,null,null,0,"ha. a. kr.",0,null,0,"tim. a. kr.",0]
[{"$f":"CheckOne($I$130,G1614)","v":false},null,null,null,null,null,25,null,null,null,null,46,0,null,null,0,"ha. a. kr.",0,null,0,"tim. a. kr.",0]
[{"$f":"CheckOne($I$131,G1614)","v":false},null,null,null,null,null,25,null,null,null,null,47,0,null,null,0,"ha. a. kr.",0,null,0,"tim. a. kr.",0]
[{"$f":"CheckOne($I$132,G1614)","v":false},null,null,null,null,null,25,null,null,null,null,48,0,null,null,0,"ha. a. kr.",0,null,0,"tim. a. kr.",0]
[{"$f":"CheckOne($I$133,G1614)","v":false},null,null,null,null,null,25,null,null,null,null,49,0,null,null,0,"ha. a. kr.",0,null,0,"tim. a. kr.",0]
[{"$f":"CheckOne($I$134,G1614)","v":false},null,null,null,null,null,25,null,null,null,null,50,0,null,null,0,"ha. a. kr.",0,null,0,"tim. a. kr.",0]
[{"$f":"OR(T1669<>0)","v":false},null,null,null,null,null,null,null,null,null,null,null,"Ufordelte omkostninger",null,null,null,null,null,null,0,"tim. a. kr.",0]
[{"$f":"A1613","v":false},null,null,null,null,null,null,null,null,null,null,"I alt",null,null,null,null,null,null,null,{"$f":"SUMIF(A1619:A1668,TRUE,T1619:T1668)","v":0},"timer"]
[{"$f":"A1670","v":false}]
[{"$f":"OR(L1672<>0,P1673<>0,T1676<>0,R1675<>0)","v":false},null,null,null,null,"nr.","id",null,null,null,null,{"$f":"VLOOKUP(F1673,$L$31:$AE$80,2,FALSE)","v":0},null,null,null,null,null,null,"i alt",null,null,"pr. time."]
[{"$f":"A1672","v":false},null,null,null,null,{"$f":"F1614+1","v":27},{"$f":"VLOOKUP(F1673,$F$31:$J$80,5,FALSE)","v":26},null,null,null,null,"Værdi primo:",null,null,null,{"$f":"VLOOKUP(F1673,$L$31:$AE$80,6,FALSE)","v":0},"Brændst.",{"$f":"VLOOKUP(F1673,$L$31:$AE$80,15,FALSE)","v":0},"GKO",{"$f":"VLOOKUP(F1673,$L$31:$AE$80,10,FALSE)","v":0},"GKE",{"$f":"IFERROR(+T1673/R1675,\"\")","v":""}]
[{"$f":"A1673","v":false},null,null,null,null,null,{"$f":"G1673","v":26},null,null,null,null,"Levetid:",null,null,null,{"$f":"VLOOKUP(F1673,$L$31:$AE$80,7,FALSE)","v":0},"Vedl.",{"$f":"VLOOKUP(F1673,$L$31:$AE$80,14,FALSE)","v":0},"KKO",{"$f":"VLOOKUP(F1673,$L$31:$AE$80,13,FALSE)","v":0},"KKE",{"$f":"IFERROR(+T1674/R1675,\"\")","v":""}]
[false,null,null,null,null,null,{"$f":"G1674","v":26},null,null,null,null,"Afskrivningspct:",null,null,null,{"$f":"VLOOKUP(F1673,$L$31:$AE$80,8,FALSE)","v":0},"Anvendt",{"$f":"VLOOKUP(F1673,$L$31:$AE$80,18,FALSE)","v":0},"VO",{"$f":"+R1675*V1675","v":0},"VE",{"$f":"VLOOKUP(F1673,$L$31:$AE$80,17,FALSE)","v":0}]
[false,null,null,null,null,null,26,null,null,null,null,"Scrapværdi:",null,null,null,{"$f":"VLOOKUP(F1673,$L$31:$AE$80,9,FALSE)","v":0},null,null,"TO",{"$f":"+T1673+T1674+T1675","v":0},"TE",{"$f":"IFERROR(+V1673+V1674+V1675,\"\")","v":""}]
[false,null,null,null,null,null,26,null,null,null,null,"Opgaver:"]
[{"$f":"CheckOne($I$85,G1673)","v":false},null,null,null,null,null,26,null,null,null,null,{"$f":"L1619:L1668","v":1},{"$f":"M1619:M1669","v":0},null,null,{"$f":"$Z$85:$Z$134","v":0},{"$f":"$AA$85:$AA$134&\" a. kr.\"","v":"ha. a. kr."},{"$f":"$AG$85:$AG$134","v":0},null,{"$f":"$AB$85:$AB$135","v":0},"tim. a. kr.",{"$f":"_xlfn.ANCHORARRAY($AF$85)","v":0}]
[{"$f":"CheckOne($I$86,G1673)","v":false},null,null,null,null,null,26,null,null,null,null,2,0,null,null,0,"ha. a. kr.",0,null,0,"tim. a. kr.",0]
[{"$f":"CheckOne($I$87,G1673)","v":false},null,null,null,null,null,26,null,null,null,null,3,0,null,null,0,"ha. a. kr.",0,null,0,"tim. a. kr.",0]
[{"$f":"CheckOne($I$88,G1673)","v":false},null,null,null,null,null,26,null,null,null,null,4,0,null,null,0,"ha. a. kr.",0,null,0,"tim. a. kr.",0]
[{"$f":"CheckOne($I$89,G1673)","v":false},null,null,null,null,null,26,null,null,null,null,5,0,null,null,0,"ha. a. kr.",0,null,0,"tim. a. kr.",0]
[{"$f":"CheckOne($I$90,G1673)","v":false},null,null,null,null,null,26,null,null,null,null,6,0,null,null,0,"ha. a. kr.",0,null,0,"tim. a. kr.",0]
[{"$f":"CheckOne($I$91,G1673)","v":false},null,null,null,null,null,26,null,null,null,null,7,0,null,null,0,"ha. a. kr.",0,null,0,"tim. a. kr.",0]
[{"$f":"CheckOne($I$92,G1673)","v":false},null,null,null,null,null,26,null,null,null,null,8,0,null,null,0,"ha. a. kr.",0,null,0,"tim. a. kr.",0]
[{"$f":"CheckOne($I$93,G1673)","v":false},null,null,null,null,null,26,null,null,null,null,9,0,null,null,0,"ha. a. kr.",0,null,0,"tim. a. kr.",0]
[{"$f":"CheckOne($I$94,G1673)","v":false},null,null,null,null,null,26,null,null,null,null,10,0,null,null,0,"ha. a. kr.",0,null,0,"tim. a. kr.",0]
[{"$f":"CheckOne($I$95,G1673)","v":false},null,null,null,null,null,26,null,null,null,null,11,0,null,null,0,"ha. a. kr.",0,null,0,"tim. a. kr.",0]
[{"$f":"CheckOne($I$96,G1673)","v":false},null,null,null,null,null,26,null,null,null,null,12,0,null,null,0,"ha. a. kr.",0,null,0,"tim. a. kr.",0]
[{"$f":"CheckOne($I$97,G1673)","v":false},null,null,null,null,null,26,null,null,null,null,13,0,null,null,0,"ha. a. kr.",0,null,0,"tim. a. kr.",0]
[{"$f":"CheckOne($I$98,G1673)","v":false},null,null,null,null,null,26,null,null,null,null,14,0,null,null,0,"ha. a. kr.",0,null,0,"tim. a. kr.",0]
[{"$f":"CheckOne($I$99,G1673)","v":false},null,null,null,null,null,26,null,null,null,null,15,0,null,null,0,"ha. a. kr.",0,null,0,"tim. a. kr.",0]
[{"$f":"CheckOne($I$100,G1673)","v":false},null,null,null,null,null,26,null,null,null,null,16,0,null,null,0,"ha. a. kr.",0,null,0,"tim. a. kr.",0]
[{"$f":"CheckOne($I$101,G1673)","v":false},null,null,null,null,null,26,null,null,null,null,17,0,null,null,0,"ha. a. kr.",0,null,0,"tim. a. kr.",0]
[{"$f":"CheckOne($I$102,G1673)","v":false},null,null,null,null,null,26,null,null,null,null,18,0,null,null,0,"ha. a. kr.",0,null,0,"tim. a. kr.",0]
[{"$f":"CheckOne($I$103,G1673)","v":false},null,null,null,null,null,26,null,null,null,null,19,0,null,null,0,"ha. a. kr.",0,null,0,"tim. a. kr.",0]
[{"$f":"CheckOne($I$104,G1673)","v":false},null,null,null,null,null,26,null,null,null,null,20,0,null,null,0,"ha. a. kr.",0,null,0,"tim. a. kr.",0]
[{"$f":"CheckOne($I$105,G1673)","v":false},null,null,null,null,null,26,null,null,null,null,21,0,null,null,0,"ha. a. kr.",0,null,0,"tim. a. kr.",0]
[{"$f":"CheckOne($I$106,G1673)","v":false},null,null,null,null,null,26,null,null,null,null,22,0,null,null,0,"ha. a. kr.",0,null,0,"tim. a. kr.",0]
[{"$f":"CheckOne($I$107,G1673)","v":false},null,null,null,null,null,26,null,null,null,null,23,0,null,null,0,"ha. a. kr.",0,null,0,"tim. a. kr.",0]
[{"$f":"CheckOne($I$108,G1673)","v":false},null,null,null,null,null,26,null,null,null,null,24,0,null,null,0,"ha. a. kr.",0,null,0,"tim. a. kr.",0]
[{"$f":"CheckOne($I$109,G1673)","v":false},null,null,null,null,null,26,null,null,null,null,25,0,null,null,0,"ha. a. kr.",0,null,0,"tim. a. kr.",0]
[{"$f":"CheckOne($I$110,G1673)","v":false},null,null,null,null,null,26,null,null,null,null,26,0,null,null,0,"ha. a. kr.",0,null,0,"tim. a. kr.",0]
[{"$f":"CheckOne($I$111,G1673)","v":false},null,null,null,null,null,26,null,null,null,null,27,0,null,null,0,"ha. a. kr.",0,null,0,"tim. a. kr.",0]
[{"$f":"CheckOne($I$112,G1673)","v":false},null,null,null,null,null,26,null,null,null,null,28,0,null,null,0,"ha. a. kr.",0,null,0,"tim. a. kr.",0]
[{"$f":"CheckOne($I$113,G1673)","v":false},null,null,null,null,null,26,null,null,null,null,29,0,null,null,0,"ha. a. kr.",0,null,0,"tim. a. kr.",0]
[{"$f":"CheckOne($I$114,G1673)","v":false},null,null,null,null,null,26,null,null,null,null,30,0,null,null,0,"ha. a. kr.",0,null,0,"tim. a. kr.",0]
[{"$f":"CheckOne($I$115,G1673)","v":false},null,null,null,null,null,26,null,null,null,null,31,0,null,null,0,"ha. a. kr.",0,null,0,"tim. a. kr.",0]
[{"$f":"CheckOne($I$116,G1673)","v":false},null,null,null,null,null,26,null,null,null,null,32,0,null,null,0,"ha. a. kr.",0,null,0,"tim. a. kr.",0]
[{"$f":"CheckOne($I$117,G1673)","v":false},null,null,null,null,null,26,null,null,null,null,33,0,null,null,0,"ha. a. kr.",0,null,0,"tim. a. kr.",0]
[{"$f":"CheckOne($I$118,G1673)","v":false},null,null,null,null,null,26,null,null,null,null,34,0,null,null,0,"ha. a. kr.",0,null,0,"tim. a. kr.",0]
[{"$f":"CheckOne($I$119,G1673)","v":false},null,null,null,null,null,26,null,null,null,null,35,0,null,null,0,"ha. a. kr.",0,null,0,"tim. a. kr.",0]
[{"$f":"CheckOne($I$120,G1673)","v":false},null,null,null,null,null,26,null,null,null,null,36,0,null,null,0,"ha. a. kr.",0,null,0,"tim. a. kr.",0]
[{"$f":"CheckOne($I$121,G1673)","v":false},null,null,null,null,null,26,null,null,null,null,37,0,null,null,0,"ha. a. kr.",0,null,0,"tim. a. kr.",0]
[{"$f":"CheckOne($I$122,G1673)","v":false},null,null,null,null,null,26,null,null,null,null,38,0,null,null,0,"ha. a. kr.",0,null,0,"tim. a. kr.",0]
[{"$f":"CheckOne($I$123,G1673)","v":false},null,null,null,null,null,26,null,null,null,null,39,0,null,null,0,"ha. a. kr.",0,null,0,"tim. a. kr.",0]
[{"$f":"CheckOne($I$124,G1673)","v":false},null,null,null,null,null,26,null,null,null,null,40,0,null,null,0,"ha. a. kr.",0,null,0,"tim. a. kr.",0]
[{"$f":"CheckOne($I$125,G1673)","v":false},null,null,null,null,null,26,null,null,null,null,41,0,null,null,0,"ha. a. kr.",0,null,0,"tim. a. kr.",0]
[{"$f":"CheckOne($I$126,G1673)","v":false},null,null,null,null,null,26,null,null,null,null,42,0,null,null,0,"ha. a. kr.",0,null,0,"tim. a. kr.",0]
[{"$f":"CheckOne($I$127,G1673)","v":false},null,null,null,null,null,26,null,null,null,null,43,0,null,null,0,"ha. a. kr.",0,null,0,"tim. a. kr.",0]
[{"$f":"CheckOne($I$128,G1673)","v":false},null,null,null,null,null,26,null,null,null,null,44,0,null,null,0,"ha. a. kr.",0,null,0,"tim. a. kr.",0]
[{"$f":"CheckOne($I$129,G1673)","v":false},null,null,null,null,null,26,null,null,null,null,45,0,null,null,0,"ha. a. kr.",0,null,0,"tim. a. kr.",0]
[{"$f":"CheckOne($I$130,G1673)","v":false},null,null,null,null,null,26,null,null,null,null,46,0,null,null,0,"ha. a. kr.",0,null,0,"tim. a. kr.",0]
[{"$f":"CheckOne($I$131,G1673)","v":false},null,null,null,null,null,26,null,null,null,null,47,0,null,null,0,"ha. a. kr.",0,null,0,"tim. a. kr.",0]
[{"$f":"CheckOne($I$132,G1673)","v":false},null,null,null,null,null,26,null,null,null,null,48,0,null,null,0,"ha. a. kr.",0,null,0,"tim. a. kr.",0]
[{"$f":"CheckOne($I$133,G1673)","v":false},null,null,null,null,null,26,null,null,null,null,49,0,null,null,0,"ha. a. kr.",0,null,0,"tim. a. kr.",0]
[{"$f":"CheckOne($I$134,G1673)","v":false},null,null,null,null,null,26,null,null,null,null,50,0,null,null,0,"ha. a. kr.",0,null,0,"tim. a. kr.",0]
[{"$f":"OR(T1728<>0)","v":false},null,null,null,null,null,null,null,null,null,null,null,"Ufordelte omkostninger",null,null,null,null,null,null,0,"tim. a. kr.",0]
[{"$f":"A1672","v":false},null,null,null,null,null,null,null,null,null,null,"I alt",null,null,null,null,null,null,null,{"$f":"SUMIF(A1678:A1727,TRUE,T1678:T1727)","v":0},"timer"]
[{"$f":"A1729","v":false}]
[{"$f":"OR(L1731<>0,P1732<>0,T1735<>0,R1734<>0)","v":false},null,null,null,null,"nr.","id",null,null,null,null,{"$f":"VLOOKUP(F1732,$L$31:$AE$80,2,FALSE)","v":0},null,null,null,null,null,null,"i alt",null,null,"pr. time."]
[{"$f":"A1731","v":false},null,null,null,null,{"$f":"F1673+1","v":28},{"$f":"VLOOKUP(F1732,$F$31:$J$80,5,FALSE)","v":27},null,null,null,null,"Værdi primo:",null,null,null,{"$f":"VLOOKUP(F1732,$L$31:$AE$80,6,FALSE)","v":0},"Brændst.",{"$f":"VLOOKUP(F1732,$L$31:$AE$80,15,FALSE)","v":0},"GKO",{"$f":"VLOOKUP(F1732,$L$31:$AE$80,10,FALSE)","v":0},"GKE",{"$f":"IFERROR(+T1732/R1734,\"\")","v":""}]
[{"$f":"A1732","v":false},null,null,null,null,null,{"$f":"G1732","v":27},null,null,null,null,"Levetid:",null,null,null,{"$f":"VLOOKUP(F1732,$L$31:$AE$80,7,FALSE)","v":0},"Vedl.",{"$f":"VLOOKUP(F1732,$L$31:$AE$80,14,FALSE)","v":0},"KKO",{"$f":"VLOOKUP(F1732,$L$31:$AE$80,13,FALSE)","v":0},"KKE",{"$f":"IFERROR(+T1733/R1734,\"\")","v":""}]
[false,null,null,null,null,null,{"$f":"G1733","v":27},null,null,null,null,"Afskrivningspct:",null,null,null,{"$f":"VLOOKUP(F1732,$L$31:$AE$80,8,FALSE)","v":0},"Anvendt",{"$f":"VLOOKUP(F1732,$L$31:$AE$80,18,FALSE)","v":0},"VO",{"$f":"+R1734*V1734","v":0},"VE",{"$f":"VLOOKUP(F1732,$L$31:$AE$80,17,FALSE)","v":0}]
[false,null,null,null,null,null,27,null,null,null,null,"Scrapværdi:",null,null,null,{"$f":"VLOOKUP(F1732,$L$31:$AE$80,9,FALSE)","v":0},null,null,"TO",{"$f":"+T1732+T1733+T1734","v":0},"TE",{"$f":"IFERROR(+V1732+V1733+V1734,\"\")","v":""}]
[false,null,null,null,null,null,27,null,null,null,null,"Opgaver:"]
[{"$f":"CheckOne($I$85,G1732)","v":false},null,null,null,null,null,27,null,null,null,null,{"$f":"L1678:L1727","v":1},{"$f":"M1678:M1728","v":0},null,null,{"$f":"$Z$85:$Z$134","v":0},{"$f":"$AA$85:$AA$134&\" a. kr.\"","v":"ha. a. kr."},{"$f":"$AG$85:$AG$134","v":0},null,{"$f":"$AB$85:$AB$135","v":0},"tim. a. kr.",{"$f":"_xlfn.ANCHORARRAY($AF$85)","v":0}]
[{"$f":"CheckOne($I$86,G1732)","v":false},null,null,null,null,null,27,null,null,null,null,2,0,null,null,0,"ha. a. kr.",0,null,0,"tim. a. kr.",0]
[{"$f":"CheckOne($I$87,G1732)","v":false},null,null,null,null,null,27,null,null,null,null,3,0,null,null,0,"ha. a. kr.",0,null,0,"tim. a. kr.",0]
[{"$f":"CheckOne($I$88,G1732)","v":false},null,null,null,null,null,27,null,null,null,null,4,0,null,null,0,"ha. a. kr.",0,null,0,"tim. a. kr.",0]
[{"$f":"CheckOne($I$89,G1732)","v":false},null,null,null,null,null,27,null,null,null,null,5,0,null,null,0,"ha. a. kr.",0,null,0,"tim. a. kr.",0]
[{"$f":"CheckOne($I$90,G1732)","v":false},null,null,null,null,null,27,null,null,null,null,6,0,null,null,0,"ha. a. kr.",0,null,0,"tim. a. kr.",0]
[{"$f":"CheckOne($I$91,G1732)","v":false},null,null,null,null,null,27,null,null,null,null,7,0,null,null,0,"ha. a. kr.",0,null,0,"tim. a. kr.",0]
[{"$f":"CheckOne($I$92,G1732)","v":false},null,null,null,null,null,27,null,null,null,null,8,0,null,null,0,"ha. a. kr.",0,null,0,"tim. a. kr.",0]
[{"$f":"CheckOne($I$93,G1732)","v":false},null,null,null,null,null,27,null,null,null,null,9,0,null,null,0,"ha. a. kr.",0,null,0,"tim. a. kr.",0]
[{"$f":"CheckOne($I$94,G1732)","v":false},null,null,null,null,null,27,null,null,null,null,10,0,null,null,0,"ha. a. kr.",0,null,0,"tim. a. kr.",0]
[{"$f":"CheckOne($I$95,G1732)","v":false},null,null,null,null,null,27,null,null,null,null,11,0,null,null,0,"ha. a. kr.",0,null,0,"tim. a. kr.",0]
[{"$f":"CheckOne($I$96,G1732)","v":false},null,null,null,null,null,27,null,null,null,null,12,0,null,null,0,"ha. a. kr.",0,null,0,"tim. a. kr.",0]
[{"$f":"CheckOne($I$97,G1732)","v":false},null,null,null,null,null,27,null,null,null,null,13,0,null,null,0,"ha. a. kr.",0,null,0,"tim. a. kr.",0]
[{"$f":"CheckOne($I$98,G1732)","v":false},null,null,null,null,null,27,null,null,null,null,14,0,null,null,0,"ha. a. kr.",0,null,0,"tim. a. kr.",0]
[{"$f":"CheckOne($I$99,G1732)","v":false},null,null,null,null,null,27,null,null,null,null,15,0,null,null,0,"ha. a. kr.",0,null,0,"tim. a. kr.",0]
[{"$f":"CheckOne($I$100,G1732)","v":false},null,null,null,null,null,27,null,null,null,null,16,0,null,null,0,"ha. a. kr.",0,null,0,"tim. a. kr.",0]
[{"$f":"CheckOne($I$101,G1732)","v":false},null,null,null,null,null,27,null,null,null,null,17,0,null,null,0,"ha. a. kr.",0,null,0,"tim. a. kr.",0]
[{"$f":"CheckOne($I$102,G1732)","v":false},null,null,null,null,null,27,null,null,null,null,18,0,null,null,0,"ha. a. kr.",0,null,0,"tim. a. kr.",0]
[{"$f":"CheckOne($I$103,G1732)","v":false},null,null,null,null,null,27,null,null,null,null,19,0,null,null,0,"ha. a. kr.",0,null,0,"tim. a. kr.",0]
[{"$f":"CheckOne($I$104,G1732)","v":false},null,null,null,null,null,27,null,null,null,null,20,0,null,null,0,"ha. a. kr.",0,null,0,"tim. a. kr.",0]
[{"$f":"CheckOne($I$105,G1732)","v":false},null,null,null,null,null,27,null,null,null,null,21,0,null,null,0,"ha. a. kr.",0,null,0,"tim. a. kr.",0]
[{"$f":"CheckOne($I$106,G1732)","v":false},null,null,null,null,null,27,null,null,null,null,22,0,null,null,0,"ha. a. kr.",0,null,0,"tim. a. kr.",0]
[{"$f":"CheckOne($I$107,G1732)","v":false},null,null,null,null,null,27,null,null,null,null,23,0,null,null,0,"ha. a. kr.",0,null,0,"tim. a. kr.",0]
[{"$f":"CheckOne($I$108,G1732)","v":false},null,null,null,null,null,27,null,null,null,null,24,0,null,null,0,"ha. a. kr.",0,null,0,"tim. a. kr.",0]
[{"$f":"CheckOne($I$109,G1732)","v":false},null,null,null,null,null,27,null,null,null,null,25,0,null,null,0,"ha. a. kr.",0,null,0,"tim. a. kr.",0]
[{"$f":"CheckOne($I$110,G1732)","v":false},null,null,null,null,null,27,null,null,null,null,26,0,null,null,0,"ha. a. kr.",0,null,0,"tim. a. kr.",0]
[{"$f":"CheckOne($I$111,G1732)","v":false},null,null,null,null,null,27,null,null,null,null,27,0,null,null,0,"ha. a. kr.",0,null,0,"tim. a. kr.",0]
[{"$f":"CheckOne($I$112,G1732)","v":false},null,null,null,null,null,27,null,null,null,null,28,0,null,null,0,"ha. a. kr.",0,null,0,"tim. a. kr.",0]
[{"$f":"CheckOne($I$113,G1732)","v":false},null,null,null,null,null,27,null,null,null,null,29,0,null,null,0,"ha. a. kr.",0,null,0,"tim. a. kr.",0]
[{"$f":"CheckOne($I$114,G1732)","v":false},null,null,null,null,null,27,null,null,null,null,30,0,null,null,0,"ha. a. kr.",0,null,0,"tim. a. kr.",0]
[{"$f":"CheckOne($I$115,G1732)","v":false},null,null,null,null,null,27,null,null,null,null,31,0,null,null,0,"ha. a. kr.",0,null,0,"tim. a. kr.",0]
[{"$f":"CheckOne($I$116,G1732)","v":false},null,null,null,null,null,27,null,null,null,null,32,0,null,null,0,"ha. a. kr.",0,null,0,"tim. a. kr.",0]
[{"$f":"CheckOne($I$117,G1732)","v":false},null,null,null,null,null,27,null,null,null,null,33,0,null,null,0,"ha. a. kr.",0,null,0,"tim. a. kr.",0]
[{"$f":"CheckOne($I$118,G1732)","v":false},null,null,null,null,null,27,null,null,null,null,34,0,null,null,0,"ha. a. kr.",0,null,0,"tim. a. kr.",0]
[{"$f":"CheckOne($I$119,G1732)","v":false},null,null,null,null,null,27,null,null,null,null,35,0,null,null,0,"ha. a. kr.",0,null,0,"tim. a. kr.",0]
[{"$f":"CheckOne($I$120,G1732)","v":false},null,null,null,null,null,27,null,null,null,null,36,0,null,null,0,"ha. a. kr.",0,null,0,"tim. a. kr.",0]
[{"$f":"CheckOne($I$121,G1732)","v":false},null,null,null,null,null,27,null,null,null,null,37,0,null,null,0,"ha. a. kr.",0,null,0,"tim. a. kr.",0]
[{"$f":"CheckOne($I$122,G1732)","v":false},null,null,null,null,null,27,null,null,null,null,38,0,null,null,0,"ha. a. kr.",0,null,0,"tim. a. kr.",0]
[{"$f":"CheckOne($I$123,G1732)","v":false},null,null,null,null,null,27,null,null,null,null,39,0,null,null,0,"ha. a. kr.",0,null,0,"tim. a. kr.",0]
[{"$f":"CheckOne($I$124,G1732)","v":false},null,null,null,null,null,27,null,null,null,null,40,0,null,null,0,"ha. a. kr.",0,null,0,"tim. a. kr.",0]
[{"$f":"CheckOne($I$125,G1732)","v":false},null,null,null,null,null,27,null,null,null,null,41,0,null,null,0,"ha. a. kr.",0,null,0,"tim. a. kr.",0]
[{"$f":"CheckOne($I$126,G1732)","v":false},null,null,null,null,null,27,null,null,null,null,42,0,null,null,0,"ha. a. kr.",0,null,0,"tim. a. kr.",0]
[{"$f":"CheckOne($I$127,G1732)","v":false},null,null,null,null,null,27,null,null,null,null,43,0,null,null,0,"ha. a. kr.",0,null,0,"tim. a. kr.",0]
[{"$f":"CheckOne($I$128,G1732)","v":false},null,null,null,null,null,27,null,null,null,null,44,0,null,null,0,"ha. a. kr.",0,null,0,"tim. a. kr.",0]
[{"$f":"CheckOne($I$129,G1732)","v":false},null,null,null,null,null,27,null,null,null,null,45,0,null,null,0,"ha. a. kr.",0,null,0,"tim. a. kr.",0]
[{"$f":"CheckOne($I$130,G1732)","v":false},null,null,null,null,null,27,null,null,null,null,46,0,null,null,0,"ha. a. kr.",0,null,0,"tim. a. kr.",0]
[{"$f":"CheckOne($I$131,G1732)","v":false},null,null,null,null,null,27,null,null,null,null,47,0,null,null,0,"ha. a. kr.",0,null,0,"tim. a. kr.",0]
[{"$f":"CheckOne($I$132,G1732)","v":false},null,null,null,null,null,27,null,null,null,null,48,0,null,null,0,"ha. a. kr.",0,null,0,"tim. a. kr.",0]
[{"$f":"CheckOne($I$133,G1732)","v":false},null,null,null,null,null,27,null,null,null,null,49,0,null,null,0,"ha. a. kr.",0,null,0,"tim. a. kr.",0]
[{"$f":"CheckOne($I$134,G1732)","v":false},null,null,null,null,null,27,null,null,null,null,50,0,null,null,0,"ha. a. kr.",0,null,0,"tim. a. kr.",0]
[{"$f":"OR(T1787<>0)","v":false},null,null,null,null,null,null,null,null,null,null,null,"Ufordelte omkostninger",null,null,null,null,null,null,0,"tim. a. kr.",0]
[{"$f":"A1731","v":false},null,null,null,null,null,null,null,null,null,null,"I alt",null,null,null,null,null,null,null,{"$f":"SUMIF(A1737:A1786,TRUE,T1737:T1786)","v":0},"timer"]
[{"$f":"A1788","v":false}]
[{"$f":"OR(L1790<>0,P1791<>0,T1794<>0,R1793<>0)","v":false},null,null,null,null,"nr.","id",null,null,null,null,{"$f":"VLOOKUP(F1791,$L$31:$AE$80,2,FALSE)","v":0},null,null,null,null,null,null,"i alt",null,null,"pr. time."]
[{"$f":"A1790","v":false},null,null,null,null,{"$f":"F1732+1","v":29},{"$f":"VLOOKUP(F1791,$F$31:$J$80,5,FALSE)","v":28},null,null,null,null,"Værdi primo:",null,null,null,{"$f":"VLOOKUP(F1791,$L$31:$AE$80,6,FALSE)","v":0},"Brændst.",{"$f":"VLOOKUP(F1791,$L$31:$AE$80,15,FALSE)","v":0},"GKO",{"$f":"VLOOKUP(F1791,$L$31:$AE$80,10,FALSE)","v":0},"GKE",{"$f":"IFERROR(+T1791/R1793,\"\")","v":""}]
[{"$f":"A1791","v":false},null,null,null,null,null,{"$f":"G1791","v":28},null,null,null,null,"Levetid:",null,null,null,{"$f":"VLOOKUP(F1791,$L$31:$AE$80,7,FALSE)","v":0},"Vedl.",{"$f":"VLOOKUP(F1791,$L$31:$AE$80,14,FALSE)","v":0},"KKO",{"$f":"VLOOKUP(F1791,$L$31:$AE$80,13,FALSE)","v":0},"KKE",{"$f":"IFERROR(+T1792/R1793,\"\")","v":""}]
[false,null,null,null,null,null,{"$f":"G1792","v":28},null,null,null,null,"Afskrivningspct:",null,null,null,{"$f":"VLOOKUP(F1791,$L$31:$AE$80,8,FALSE)","v":0},"Anvendt",{"$f":"VLOOKUP(F1791,$L$31:$AE$80,18,FALSE)","v":0},"VO",{"$f":"+R1793*V1793","v":0},"VE",{"$f":"VLOOKUP(F1791,$L$31:$AE$80,17,FALSE)","v":0}]
[false,null,null,null,null,null,28,null,null,null,null,"Scrapværdi:",null,null,null,{"$f":"VLOOKUP(F1791,$L$31:$AE$80,9,FALSE)","v":0},null,null,"TO",{"$f":"+T1791+T1792+T1793","v":0},"TE",{"$f":"IFERROR(+V1791+V1792+V1793,\"\")","v":""}]
[false,null,null,null,null,null,28,null,null,null,null,"Opgaver:"]
[{"$f":"CheckOne($I$85,G1791)","v":false},null,null,null,null,null,28,null,null,null,null,{"$f":"L1737:L1786","v":1},{"$f":"M1737:M1787","v":0},null,null,{"$f":"$Z$85:$Z$134","v":0},{"$f":"$AA$85:$AA$134&\" a. kr.\"","v":"ha. a. kr."},{"$f":"$AG$85:$AG$134","v":0},null,{"$f":"$AB$85:$AB$135","v":0},"tim. a. kr.",{"$f":"_xlfn.ANCHORARRAY($AF$85)","v":0}]
[{"$f":"CheckOne($I$86,G1791)","v":false},null,null,null,null,null,28,null,null,null,null,2,0,null,null,0,"ha. a. kr.",0,null,0,"tim. a. kr.",0]
[{"$f":"CheckOne($I$87,G1791)","v":false},null,null,null,null,null,28,null,null,null,null,3,0,null,null,0,"ha. a. kr.",0,null,0,"tim. a. kr.",0]
[{"$f":"CheckOne($I$88,G1791)","v":false},null,null,null,null,null,28,null,null,null,null,4,0,null,null,0,"ha. a. kr.",0,null,0,"tim. a. kr.",0]
[{"$f":"CheckOne($I$89,G1791)","v":false},null,null,null,null,null,28,null,null,null,null,5,0,null,null,0,"ha. a. kr.",0,null,0,"tim. a. kr.",0]
[{"$f":"CheckOne($I$90,G1791)","v":false},null,null,null,null,null,28,null,null,null,null,6,0,null,null,0,"ha. a. kr.",0,null,0,"tim. a. kr.",0]
[{"$f":"CheckOne($I$91,G1791)","v":false},null,null,null,null,null,28,null,null,null,null,7,0,null,null,0,"ha. a. kr.",0,null,0,"tim. a. kr.",0]
[{"$f":"CheckOne($I$92,G1791)","v":false},null,null,null,null,null,28,null,null,null,null,8,0,null,null,0,"ha. a. kr.",0,null,0,"tim. a. kr.",0]
[{"$f":"CheckOne($I$93,G1791)","v":false},null,null,null,null,null,28,null,null,null,null,9,0,null,null,0,"ha. a. kr.",0,null,0,"tim. a. kr.",0]
[{"$f":"CheckOne($I$94,G1791)","v":false},null,null,null,null,null,28,null,null,null,null,10,0,null,null,0,"ha. a. kr.",0,null,0,"tim. a. kr.",0]
[{"$f":"CheckOne($I$95,G1791)","v":false},null,null,null,null,null,28,null,null,null,null,11,0,null,null,0,"ha. a. kr.",0,null,0,"tim. a. kr.",0]
[{"$f":"CheckOne($I$96,G1791)","v":false},null,null,null,null,null,28,null,null,null,null,12,0,null,null,0,"ha. a. kr.",0,null,0,"tim. a. kr.",0]
[{"$f":"CheckOne($I$97,G1791)","v":false},null,null,null,null,null,28,null,null,null,null,13,0,null,null,0,"ha. a. kr.",0,null,0,"tim. a. kr.",0]
[{"$f":"CheckOne($I$98,G1791)","v":false},null,null,null,null,null,28,null,null,null,null,14,0,null,null,0,"ha. a. kr.",0,null,0,"tim. a. kr.",0]
[{"$f":"CheckOne($I$99,G1791)","v":false},null,null,null,null,null,28,null,null,null,null,15,0,null,null,0,"ha. a. kr.",0,null,0,"tim. a. kr.",0]
[{"$f":"CheckOne($I$100,G1791)","v":false},null,null,null,null,null,28,null,null,null,null,16,0,null,null,0,"ha. a. kr.",0,null,0,"tim. a. kr.",0]
[{"$f":"CheckOne($I$101,G1791)","v":false},null,null,null,null,null,28,null,null,null,null,17,0,null,null,0,"ha. a. kr.",0,null,0,"tim. a. kr.",0]
[{"$f":"CheckOne($I$102,G1791)","v":false},null,null,null,null,null,28,null,null,null,null,18,0,null,null,0,"ha. a. kr.",0,null,0,"tim. a. kr.",0]
[{"$f":"CheckOne($I$103,G1791)","v":false},null,null,null,null,null,28,null,null,null,null,19,0,null,null,0,"ha. a. kr.",0,null,0,"tim. a. kr.",0]
[{"$f":"CheckOne($I$104,G1791)","v":false},null,null,null,null,null,28,null,null,null,null,20,0,null,null,0,"ha. a. kr.",0,null,0,"tim. a. kr.",0]
[{"$f":"CheckOne($I$105,G1791)","v":false},null,null,null,null,null,28,null,null,null,null,21,0,null,null,0,"ha. a. kr.",0,null,0,"tim. a. kr.",0]
[{"$f":"CheckOne($I$106,G1791)","v":false},null,null,null,null,null,28,null,null,null,null,22,0,null,null,0,"ha. a. kr.",0,null,0,"tim. a. kr.",0]
[{"$f":"CheckOne($I$107,G1791)","v":false},null,null,null,null,null,28,null,null,null,null,23,0,null,null,0,"ha. a. kr.",0,null,0,"tim. a. kr.",0]
[{"$f":"CheckOne($I$108,G1791)","v":false},null,null,null,null,null,28,null,null,null,null,24,0,null,null,0,"ha. a. kr.",0,null,0,"tim. a. kr.",0]
[{"$f":"CheckOne($I$109,G1791)","v":false},null,null,null,null,null,28,null,null,null,null,25,0,null,null,0,"ha. a. kr.",0,null,0,"tim. a. kr.",0]
[{"$f":"CheckOne($I$110,G1791)","v":false},null,null,null,null,null,28,null,null,null,null,26,0,null,null,0,"ha. a. kr.",0,null,0,"tim. a. kr.",0]
[{"$f":"CheckOne($I$111,G1791)","v":false},null,null,null,null,null,28,null,null,null,null,27,0,null,null,0,"ha. a. kr.",0,null,0,"tim. a. kr.",0]
[{"$f":"CheckOne($I$112,G1791)","v":false},null,null,null,null,null,28,null,null,null,null,28,0,null,null,0,"ha. a. kr.",0,null,0,"tim. a. kr.",0]
[{"$f":"CheckOne($I$113,G1791)","v":false},null,null,null,null,null,28,null,null,null,null,29,0,null,null,0,"ha. a. kr.",0,null,0,"tim. a. kr.",0]
[{"$f":"CheckOne($I$114,G1791)","v":false},null,null,null,null,null,28,null,null,null,null,30,0,null,null,0,"ha. a. kr.",0,null,0,"tim. a. kr.",0]
[{"$f":"CheckOne($I$115,G1791)","v":false},null,null,null,null,null,28,null,null,null,null,31,0,null,null,0,"ha. a. kr.",0,null,0,"tim. a. kr.",0]
[{"$f":"CheckOne($I$116,G1791)","v":false},null,null,null,null,null,28,null,null,null,null,32,0,null,null,0,"ha. a. kr.",0,null,0,"tim. a. kr.",0]
[{"$f":"CheckOne($I$117,G1791)","v":false},null,null,null,null,null,28,null,null,null,null,33,0,null,null,0,"ha. a. kr.",0,null,0,"tim. a. kr.",0]
[{"$f":"CheckOne($I$118,G1791)","v":false},null,null,null,null,null,28,null,null,null,null,34,0,null,null,0,"ha. a. kr.",0,null,0,"tim. a. kr.",0]
[{"$f":"CheckOne($I$119,G1791)","v":false},null,null,null,null,null,28,null,null,null,null,35,0,null,null,0,"ha. a. kr.",0,null,0,"tim. a. kr.",0]
[{"$f":"CheckOne($I$120,G1791)","v":false},null,null,null,null,null,28,null,null,null,null,36,0,null,null,0,"ha. a. kr.",0,null,0,"tim. a. kr.",0]
[{"$f":"CheckOne($I$121,G1791)","v":false},null,null,null,null,null,28,null,null,null,null,37,0,null,null,0,"ha. a. kr.",0,null,0,"tim. a. kr.",0]
[{"$f":"CheckOne($I$122,G1791)","v":false},null,null,null,null,null,28,null,null,null,null,38,0,null,null,0,"ha. a. kr.",0,null,0,"tim. a. kr.",0]
[{"$f":"CheckOne($I$123,G1791)","v":false},null,null,null,null,null,28,null,null,null,null,39,0,null,null,0,"ha. a. kr.",0,null,0,"tim. a. kr.",0]
[{"$f":"CheckOne($I$124,G1791)","v":false},null,null,null,null,null,28,null,null,null,null,40,0,null,null,0,"ha. a. kr.",0,null,0,"tim. a. kr.",0]
[{"$f":"CheckOne($I$125,G1791)","v":false},null,null,null,null,null,28,null,null,null,null,41,0,null,null,0,"ha. a. kr.",0,null,0,"tim. a. kr.",0]
[{"$f":"CheckOne($I$126,G1791)","v":false},null,null,null,null,null,28,null,null,null,null,42,0,null,null,0,"ha. a. kr.",0,null,0,"tim. a. kr.",0]
[{"$f":"CheckOne($I$127,G1791)","v":false},null,null,null,null,null,28,null,null,null,null,43,0,null,null,0,"ha. a. kr.",0,null,0,"tim. a. kr.",0]
[{"$f":"CheckOne($I$128,G1791)","v":false},null,null,null,null,null,28,null,null,null,null,44,0,null,null,0,"ha. a. kr.",0,null,0,"tim. a. kr.",0]
[{"$f":"CheckOne($I$129,G1791)","v":false},null,null,null,null,null,28,null,null,null,null,45,0,null,null,0,"ha. a. kr.",0,null,0,"tim. a. kr.",0]
[{"$f":"CheckOne($I$130,G1791)","v":false},null,null,null,null,null,28,null,null,null,null,46,0,null,null,0,"ha. a. kr.",0,null,0,"tim. a. kr.",0]
[{"$f":"CheckOne($I$131,G1791)","v":false},null,null,null,null,null,28,null,null,null,null,47,0,null,null,0,"ha. a. kr.",0,null,0,"tim. a. kr.",0]
[{"$f":"CheckOne($I$132,G1791)","v":false},null,null,null,null,null,28,null,null,null,null,48,0,null,null,0,"ha. a. kr.",0,null,0,"tim. a. kr.",0]
[{"$f":"CheckOne($I$133,G1791)","v":false},null,null,null,null,null,28,null,null,null,null,49,0,null,null,0,"ha. a. kr.",0,null,0,"tim. a. kr.",0]
[{"$f":"CheckOne($I$134,G1791)","v":false},null,null,null,null,null,28,null,null,null,null,50,0,null,null,0,"ha. a. kr.",0,null,0,"tim. a. kr.",0]
[{"$f":"OR(T1846<>0)","v":false},null,null,null,null,null,null,null,null,null,null,null,"Ufordelte omkostninger",null,null,null,null,null,null,0,"tim. a. kr.",0]
[{"$f":"A1790","v":false},null,null,null,null,null,null,null,null,null,null,"I alt",null,null,null,null,null,null,null,{"$f":"SUMIF(A1796:A1845,TRUE,T1796:T1845)","v":0},"timer"]
[{"$f":"A1847","v":false}]
[{"$f":"OR(L1849<>0,P1850<>0,T1853<>0,R1852<>0)","v":false},null,null,null,null,"nr.","id",null,null,null,null,{"$f":"VLOOKUP(F1850,$L$31:$AE$80,2,FALSE)","v":0},null,null,null,null,null,null,"i alt",null,null,"pr. time."]
[{"$f":"A1849","v":false},null,null,null,null,{"$f":"F1791+1","v":30},{"$f":"VLOOKUP(F1850,$F$31:$J$80,5,FALSE)","v":29},null,null,null,null,"Værdi primo:",null,null,null,{"$f":"VLOOKUP(F1850,$L$31:$AE$80,6,FALSE)","v":0},"Brændst.",{"$f":"VLOOKUP(F1850,$L$31:$AE$80,15,FALSE)","v":0},"GKO",{"$f":"VLOOKUP(F1850,$L$31:$AE$80,10,FALSE)","v":0},"GKE",{"$f":"IFERROR(+T1850/R1852,\"\")","v":""}]
[{"$f":"A1850","v":false},null,null,null,null,null,{"$f":"G1850","v":29},null,null,null,null,"Levetid:",null,null,null,{"$f":"VLOOKUP(F1850,$L$31:$AE$80,7,FALSE)","v":0},"Vedl.",{"$f":"VLOOKUP(F1850,$L$31:$AE$80,14,FALSE)","v":0},"KKO",{"$f":"VLOOKUP(F1850,$L$31:$AE$80,13,FALSE)","v":0},"KKE",{"$f":"IFERROR(+T1851/R1852,\"\")","v":""}]
[false,null,null,null,null,null,{"$f":"G1851","v":29},null,null,null,null,"Afskrivningspct:",null,null,null,{"$f":"VLOOKUP(F1850,$L$31:$AE$80,8,FALSE)","v":0},"Anvendt",{"$f":"VLOOKUP(F1850,$L$31:$AE$80,18,FALSE)","v":0},"VO",{"$f":"+R1852*V1852","v":0},"VE",{"$f":"VLOOKUP(F1850,$L$31:$AE$80,17,FALSE)","v":0}]
[false,null,null,null,null,null,29,null,null,null,null,"Scrapværdi:",null,null,null,{"$f":"VLOOKUP(F1850,$L$31:$AE$80,9,FALSE)","v":0},null,null,"TO",{"$f":"+T1850+T1851+T1852","v":0},"TE",{"$f":"IFERROR(+V1850+V1851+V1852,\"\")","v":""}]
[false,null,null,null,null,null,29,null,null,null,null,"Opgaver:"]
[{"$f":"CheckOne($I$85,G1850)","v":false},null,null,null,null,null,29,null,null,null,null,{"$f":"L1796:L1845","v":1},{"$f":"M1796:M1846","v":0},null,null,{"$f":"$Z$85:$Z$134","v":0},{"$f":"$AA$85:$AA$134&\" a. kr.\"","v":"ha. a. kr."},{"$f":"$AG$85:$AG$134","v":0},null,{"$f":"$AB$85:$AB$135","v":0},"tim. a. kr.",{"$f":"_xlfn.ANCHORARRAY($AF$85)","v":0}]
[{"$f":"CheckOne($I$86,G1850)","v":false},null,null,null,null,null,29,null,null,null,null,2,0,null,null,0,"ha. a. kr.",0,null,0,"tim. a. kr.",0]
[{"$f":"CheckOne($I$87,G1850)","v":false},null,null,null,null,null,29,null,null,null,null,3,0,null,null,0,"ha. a. kr.",0,null,0,"tim. a. kr.",0]
[{"$f":"CheckOne($I$88,G1850)","v":false},null,null,null,null,null,29,null,null,null,null,4,0,null,null,0,"ha. a. kr.",0,null,0,"tim. a. kr.",0]
[{"$f":"CheckOne($I$89,G1850)","v":false},null,null,null,null,null,29,null,null,null,null,5,0,null,null,0,"ha. a. kr.",0,null,0,"tim. a. kr.",0]
[{"$f":"CheckOne($I$90,G1850)","v":false},null,null,null,null,null,29,null,null,null,null,6,0,null,null,0,"ha. a. kr.",0,null,0,"tim. a. kr.",0]
[{"$f":"CheckOne($I$91,G1850)","v":false},null,null,null,null,null,29,null,null,null,null,7,0,null,null,0,"ha. a. kr.",0,null,0,"tim. a. kr.",0]
[{"$f":"CheckOne($I$92,G1850)","v":false},null,null,null,null,null,29,null,null,null,null,8,0,null,null,0,"ha. a. kr.",0,null,0,"tim. a. kr.",0]
[{"$f":"CheckOne($I$93,G1850)","v":false},null,null,null,null,null,29,null,null,null,null,9,0,null,null,0,"ha. a. kr.",0,null,0,"tim. a. kr.",0]
[{"$f":"CheckOne($I$94,G1850)","v":false},null,null,null,null,null,29,null,null,null,null,10,0,null,null,0,"ha. a. kr.",0,null,0,"tim. a. kr.",0]
[{"$f":"CheckOne($I$95,G1850)","v":false},null,null,null,null,null,29,null,null,null,null,11,0,null,null,0,"ha. a. kr.",0,null,0,"tim. a. kr.",0]
[{"$f":"CheckOne($I$96,G1850)","v":false},null,null,null,null,null,29,null,null,null,null,12,0,null,null,0,"ha. a. kr.",0,null,0,"tim. a. kr.",0]
[{"$f":"CheckOne($I$97,G1850)","v":false},null,null,null,null,null,29,null,null,null,null,13,0,null,null,0,"ha. a. kr.",0,null,0,"tim. a. kr.",0]
[{"$f":"CheckOne($I$98,G1850)","v":false},null,null,null,null,null,29,null,null,null,null,14,0,null,null,0,"ha. a. kr.",0,null,0,"tim. a. kr.",0]
[{"$f":"CheckOne($I$99,G1850)","v":false},null,null,null,null,null,29,null,null,null,null,15,0,null,null,0,"ha. a. kr.",0,null,0,"tim. a. kr.",0]
[{"$f":"CheckOne($I$100,G1850)","v":false},null,null,null,null,null,29,null,null,null,null,16,0,null,null,0,"ha. a. kr.",0,null,0,"tim. a. kr.",0]
[{"$f":"CheckOne($I$101,G1850)","v":false},null,null,null,null,null,29,null,null,null,null,17,0,null,null,0,"ha. a. kr.",0,null,0,"tim. a. kr.",0]
[{"$f":"CheckOne($I$102,G1850)","v":false},null,null,null,null,null,29,null,null,null,null,18,0,null,null,0,"ha. a. kr.",0,null,0,"tim. a. kr.",0]
[{"$f":"CheckOne($I$103,G1850)","v":false},null,null,null,null,null,29,null,null,null,null,19,0,null,null,0,"ha. a. kr.",0,null,0,"tim. a. kr.",0]
[{"$f":"CheckOne($I$104,G1850)","v":false},null,null,null,null,null,29,null,null,null,null,20,0,null,null,0,"ha. a. kr.",0,null,0,"tim. a. kr.",0]
[{"$f":"CheckOne($I$105,G1850)","v":false},null,null,null,null,null,29,null,null,null,null,21,0,null,null,0,"ha. a. kr.",0,null,0,"tim. a. kr.",0]
[{"$f":"CheckOne($I$106,G1850)","v":false},null,null,null,null,null,29,null,null,null,null,22,0,null,null,0,"ha. a. kr.",0,null,0,"tim. a. kr.",0]
[{"$f":"CheckOne($I$107,G1850)","v":false},null,null,null,null,null,29,null,null,null,null,23,0,null,null,0,"ha. a. kr.",0,null,0,"tim. a. kr.",0]
[{"$f":"CheckOne($I$108,G1850)","v":false},null,null,null,null,null,29,null,null,null,null,24,0,null,null,0,"ha. a. kr.",0,null,0,"tim. a. kr.",0]
[{"$f":"CheckOne($I$109,G1850)","v":false},null,null,null,null,null,29,null,null,null,null,25,0,null,null,0,"ha. a. kr.",0,null,0,"tim. a. kr.",0]
[{"$f":"CheckOne($I$110,G1850)","v":false},null,null,null,null,null,29,null,null,null,null,26,0,null,null,0,"ha. a. kr.",0,null,0,"tim. a. kr.",0]
[{"$f":"CheckOne($I$111,G1850)","v":false},null,null,null,null,null,29,null,null,null,null,27,0,null,null,0,"ha. a. kr.",0,null,0,"tim. a. kr.",0]
[{"$f":"CheckOne($I$112,G1850)","v":false},null,null,null,null,null,29,null,null,null,null,28,0,null,null,0,"ha. a. kr.",0,null,0,"tim. a. kr.",0]
[{"$f":"CheckOne($I$113,G1850)","v":false},null,null,null,null,null,29,null,null,null,null,29,0,null,null,0,"ha. a. kr.",0,null,0,"tim. a. kr.",0]
[{"$f":"CheckOne($I$114,G1850)","v":false},null,null,null,null,null,29,null,null,null,null,30,0,null,null,0,"ha. a. kr.",0,null,0,"tim. a. kr.",0]
[{"$f":"CheckOne($I$115,G1850)","v":false},null,null,null,null,null,29,null,null,null,null,31,0,null,null,0,"ha. a. kr.",0,null,0,"tim. a. kr.",0]
[{"$f":"CheckOne($I$116,G1850)","v":false},null,null,null,null,null,29,null,null,null,null,32,0,null,null,0,"ha. a. kr.",0,null,0,"tim. a. kr.",0]
[{"$f":"CheckOne($I$117,G1850)","v":false},null,null,null,null,null,29,null,null,null,null,33,0,null,null,0,"ha. a. kr.",0,null,0,"tim. a. kr.",0]
[{"$f":"CheckOne($I$118,G1850)","v":false},null,null,null,null,null,29,null,null,null,null,34,0,null,null,0,"ha. a. kr.",0,null,0,"tim. a. kr.",0]
[{"$f":"CheckOne($I$119,G1850)","v":false},null,null,null,null,null,29,null,null,null,null,35,0,null,null,0,"ha. a. kr.",0,null,0,"tim. a. kr.",0]
[{"$f":"CheckOne($I$120,G1850)","v":false},null,null,null,null,null,29,null,null,null,null,36,0,null,null,0,"ha. a. kr.",0,null,0,"tim. a. kr.",0]
[{"$f":"CheckOne($I$121,G1850)","v":false},null,null,null,null,null,29,null,null,null,null,37,0,null,null,0,"ha. a. kr.",0,null,0,"tim. a. kr.",0]
[{"$f":"CheckOne($I$122,G1850)","v":false},null,null,null,null,null,29,null,null,null,null,38,0,null,null,0,"ha. a. kr.",0,null,0,"tim. a. kr.",0]
[{"$f":"CheckOne($I$123,G1850)","v":false},null,null,null,null,null,29,null,null,null,null,39,0,null,null,0,"ha. a. kr.",0,null,0,"tim. a. kr.",0]
[{"$f":"CheckOne($I$124,G1850)","v":false},null,null,null,null,null,29,null,null,null,null,40,0,null,null,0,"ha. a. kr.",0,null,0,"tim. a. kr.",0]
[{"$f":"CheckOne($I$125,G1850)","v":false},null,null,null,null,null,29,null,null,null,null,41,0,null,null,0,"ha. a. kr.",0,null,0,"tim. a. kr.",0]
[{"$f":"CheckOne($I$126,G1850)","v":false},null,null,null,null,null,29,null,null,null,null,42,0,null,null,0,"ha. a. kr.",0,null,0,"tim. a. kr.",0]
[{"$f":"CheckOne($I$127,G1850)","v":false},null,null,null,null,null,29,null,null,null,null,43,0,null,null,0,"ha. a. kr.",0,null,0,"tim. a. kr.",0]
[{"$f":"CheckOne($I$128,G1850)","v":false},null,null,null,null,null,29,null,null,null,null,44,0,null,null,0,"ha. a. kr.",0,null,0,"tim. a. kr.",0]
[{"$f":"CheckOne($I$129,G1850)","v":false},null,null,null,null,null,29,null,null,null,null,45,0,null,null,0,"ha. a. kr.",0,null,0,"tim. a. kr.",0]
[{"$f":"CheckOne($I$130,G1850)","v":false},null,null,null,null,null,29,null,null,null,null,46,0,null,null,0,"ha. a. kr.",0,null,0,"tim. a. kr.",0]
[{"$f":"CheckOne($I$131,G1850)","v":false},null,null,null,null,null,29,null,null,null,null,47,0,null,null,0,"ha. a. kr.",0,null,0,"tim. a. kr.",0]
[{"$f":"CheckOne($I$132,G1850)","v":false},null,null,null,null,null,29,null,null,null,null,48,0,null,null,0,"ha. a. kr.",0,null,0,"tim. a. kr.",0]
[{"$f":"CheckOne($I$133,G1850)","v":false},null,null,null,null,null,29,null,null,null,null,49,0,null,null,0,"ha. a. kr.",0,null,0,"tim. a. kr.",0]
[{"$f":"CheckOne($I$134,G1850)","v":false},null,null,null,null,null,29,null,null,null,null,50,0,null,null,0,"ha. a. kr.",0,null,0,"tim. a. kr.",0]
[{"$f":"OR(T1905<>0)","v":false},null,null,null,null,null,null,null,null,null,null,null,"Ufordelte omkostninger",null,null,null,null,null,null,0,"tim. a. kr.",0]
[{"$f":"A1849","v":false},null,null,null,null,null,null,null,null,null,null,"I alt",null,null,null,null,null,null,null,{"$f":"SUMIF(A1855:A1904,TRUE,T1855:T1904)","v":0},"timer"]
[{"$f":"A1906","v":false}]
[{"$f":"OR(L1908<>0,P1909<>0,T1912<>0,R1911<>0)","v":false},null,null,null,null,"nr.","id",null,null,null,null,{"$f":"VLOOKUP(F1909,$L$31:$AE$80,2,FALSE)","v":0},null,null,null,null,null,null,"i alt",null,null,"pr. time."]
[{"$f":"A1908","v":false},null,null,null,null,{"$f":"F1850+1","v":31},{"$f":"VLOOKUP(F1909,$F$31:$J$80,5,FALSE)","v":30},null,null,null,null,"Værdi primo:",null,null,null,{"$f":"VLOOKUP(F1909,$L$31:$AE$80,6,FALSE)","v":0},"Brændst.",{"$f":"VLOOKUP(F1909,$L$31:$AE$80,15,FALSE)","v":0},"GKO",{"$f":"VLOOKUP(F1909,$L$31:$AE$80,10,FALSE)","v":0},"GKE",{"$f":"IFERROR(+T1909/R1911,\"\")","v":""}]
[{"$f":"A1909","v":false},null,null,null,null,null,{"$f":"G1909","v":30},null,null,null,null,"Levetid:",null,null,null,{"$f":"VLOOKUP(F1909,$L$31:$AE$80,7,FALSE)","v":0},"Vedl.",{"$f":"VLOOKUP(F1909,$L$31:$AE$80,14,FALSE)","v":0},"KKO",{"$f":"VLOOKUP(F1909,$L$31:$AE$80,13,FALSE)","v":0},"KKE",{"$f":"IFERROR(+T1910/R1911,\"\")","v":""}]
[false,null,null,null,null,null,{"$f":"G1910","v":30},null,null,null,null,"Afskrivningspct:",null,null,null,{"$f":"VLOOKUP(F1909,$L$31:$AE$80,8,FALSE)","v":0},"Anvendt",{"$f":"VLOOKUP(F1909,$L$31:$AE$80,18,FALSE)","v":0},"VO",{"$f":"+R1911*V1911","v":0},"VE",{"$f":"VLOOKUP(F1909,$L$31:$AE$80,17,FALSE)","v":0}]
[false,null,null,null,null,null,30,null,null,null,null,"Scrapværdi:",null,null,null,{"$f":"VLOOKUP(F1909,$L$31:$AE$80,9,FALSE)","v":0},null,null,"TO",{"$f":"+T1909+T1910+T1911","v":0},"TE",{"$f":"IFERROR(+V1909+V1910+V1911,\"\")","v":""}]
[false,null,null,null,null,null,30,null,null,null,null,"Opgaver:"]
[{"$f":"CheckOne($I$85,G1909)","v":false},null,null,null,null,null,30,null,null,null,null,{"$f":"L1855:L1904","v":1},{"$f":"M1855:M1905","v":0},null,null,{"$f":"$Z$85:$Z$134","v":0},{"$f":"$AA$85:$AA$134&\" a. kr.\"","v":"ha. a. kr."},{"$f":"$AG$85:$AG$134","v":0},null,{"$f":"$AB$85:$AB$135","v":0},"tim. a. kr.",{"$f":"_xlfn.ANCHORARRAY($AF$85)","v":0}]
[{"$f":"CheckOne($I$86,G1909)","v":false},null,null,null,null,null,30,null,null,null,null,2,0,null,null,0,"ha. a. kr.",0,null,0,"tim. a. kr.",0]
[{"$f":"CheckOne($I$87,G1909)","v":false},null,null,null,null,null,30,null,null,null,null,3,0,null,null,0,"ha. a. kr.",0,null,0,"tim. a. kr.",0]
[{"$f":"CheckOne($I$88,G1909)","v":false},null,null,null,null,null,30,null,null,null,null,4,0,null,null,0,"ha. a. kr.",0,null,0,"tim. a. kr.",0]
[{"$f":"CheckOne($I$89,G1909)","v":false},null,null,null,null,null,30,null,null,null,null,5,0,null,null,0,"ha. a. kr.",0,null,0,"tim. a. kr.",0]
[{"$f":"CheckOne($I$90,G1909)","v":false},null,null,null,null,null,30,null,null,null,null,6,0,null,null,0,"ha. a. kr.",0,null,0,"tim. a. kr.",0]
[{"$f":"CheckOne($I$91,G1909)","v":false},null,null,null,null,null,30,null,null,null,null,7,0,null,null,0,"ha. a. kr.",0,null,0,"tim. a. kr.",0]
[{"$f":"CheckOne($I$92,G1909)","v":false},null,null,null,null,null,30,null,null,null,null,8,0,null,null,0,"ha. a. kr.",0,null,0,"tim. a. kr.",0]
[{"$f":"CheckOne($I$93,G1909)","v":false},null,null,null,null,null,30,null,null,null,null,9,0,null,null,0,"ha. a. kr.",0,null,0,"tim. a. kr.",0]
[{"$f":"CheckOne($I$94,G1909)","v":false},null,null,null,null,null,30,null,null,null,null,10,0,null,null,0,"ha. a. kr.",0,null,0,"tim. a. kr.",0]
[{"$f":"CheckOne($I$95,G1909)","v":false},null,null,null,null,null,30,null,null,null,null,11,0,null,null,0,"ha. a. kr.",0,null,0,"tim. a. kr.",0]
[{"$f":"CheckOne($I$96,G1909)","v":false},null,null,null,null,null,30,null,null,null,null,12,0,null,null,0,"ha. a. kr.",0,null,0,"tim. a. kr.",0]
[{"$f":"CheckOne($I$97,G1909)","v":false},null,null,null,null,null,30,null,null,null,null,13,0,null,null,0,"ha. a. kr.",0,null,0,"tim. a. kr.",0]
[{"$f":"CheckOne($I$98,G1909)","v":false},null,null,null,null,null,30,null,null,null,null,14,0,null,null,0,"ha. a. kr.",0,null,0,"tim. a. kr.",0]
[{"$f":"CheckOne($I$99,G1909)","v":false},null,null,null,null,null,30,null,null,null,null,15,0,null,null,0,"ha. a. kr.",0,null,0,"tim. a. kr.",0]
[{"$f":"CheckOne($I$100,G1909)","v":false},null,null,null,null,null,30,null,null,null,null,16,0,null,null,0,"ha. a. kr.",0,null,0,"tim. a. kr.",0]
[{"$f":"CheckOne($I$101,G1909)","v":false},null,null,null,null,null,30,null,null,null,null,17,0,null,null,0,"ha. a. kr.",0,null,0,"tim. a. kr.",0]
[{"$f":"CheckOne($I$102,G1909)","v":false},null,null,null,null,null,30,null,null,null,null,18,0,null,null,0,"ha. a. kr.",0,null,0,"tim. a. kr.",0]
[{"$f":"CheckOne($I$103,G1909)","v":false},null,null,null,null,null,30,null,null,null,null,19,0,null,null,0,"ha. a. kr.",0,null,0,"tim. a. kr.",0]
[{"$f":"CheckOne($I$104,G1909)","v":false},null,null,null,null,null,30,null,null,null,null,20,0,null,null,0,"ha. a. kr.",0,null,0,"tim. a. kr.",0]
[{"$f":"CheckOne($I$105,G1909)","v":false},null,null,null,null,null,30,null,null,null,null,21,0,null,null,0,"ha. a. kr.",0,null,0,"tim. a. kr.",0]
[{"$f":"CheckOne($I$106,G1909)","v":false},null,null,null,null,null,30,null,null,null,null,22,0,null,null,0,"ha. a. kr.",0,null,0,"tim. a. kr.",0]
[{"$f":"CheckOne($I$107,G1909)","v":false},null,null,null,null,null,30,null,null,null,null,23,0,null,null,0,"ha. a. kr.",0,null,0,"tim. a. kr.",0]
[{"$f":"CheckOne($I$108,G1909)","v":false},null,null,null,null,null,30,null,null,null,null,24,0,null,null,0,"ha. a. kr.",0,null,0,"tim. a. kr.",0]
[{"$f":"CheckOne($I$109,G1909)","v":false},null,null,null,null,null,30,null,null,null,null,25,0,null,null,0,"ha. a. kr.",0,null,0,"tim. a. kr.",0]
[{"$f":"CheckOne($I$110,G1909)","v":false},null,null,null,null,null,30,null,null,null,null,26,0,null,null,0,"ha. a. kr.",0,null,0,"tim. a. kr.",0]
[{"$f":"CheckOne($I$111,G1909)","v":false},null,null,null,null,null,30,null,null,null,null,27,0,null,null,0,"ha. a. kr.",0,null,0,"tim. a. kr.",0]
[{"$f":"CheckOne($I$112,G1909)","v":false},null,null,null,null,null,30,null,null,null,null,28,0,null,null,0,"ha. a. kr.",0,null,0,"tim. a. kr.",0]
[{"$f":"CheckOne($I$113,G1909)","v":false},null,null,null,null,null,30,null,null,null,null,29,0,null,null,0,"ha. a. kr.",0,null,0,"tim. a. kr.",0]
[{"$f":"CheckOne($I$114,G1909)","v":false},null,null,null,null,null,30,null,null,null,null,30,0,null,null,0,"ha. a. kr.",0,null,0,"tim. a. kr.",0]
[{"$f":"CheckOne($I$115,G1909)","v":false},null,null,null,null,null,30,null,null,null,null,31,0,null,null,0,"ha. a. kr.",0,null,0,"tim. a. kr.",0]
[{"$f":"CheckOne($I$116,G1909)","v":false},null,null,null,null,null,30,null,null,null,null,32,0,null,null,0,"ha. a. kr.",0,null,0,"tim. a. kr.",0]
[{"$f":"CheckOne($I$117,G1909)","v":false},null,null,null,null,null,30,null,null,null,null,33,0,null,null,0,"ha. a. kr.",0,null,0,"tim. a. kr.",0]
[{"$f":"CheckOne($I$118,G1909)","v":false},null,null,null,null,null,30,null,null,null,null,34,0,null,null,0,"ha. a. kr.",0,null,0,"tim. a. kr.",0]
[{"$f":"CheckOne($I$119,G1909)","v":false},null,null,null,null,null,30,null,null,null,null,35,0,null,null,0,"ha. a. kr.",0,null,0,"tim. a. kr.",0]
[{"$f":"CheckOne($I$120,G1909)","v":false},null,null,null,null,null,30,null,null,null,null,36,0,null,null,0,"ha. a. kr.",0,null,0,"tim. a. kr.",0]
[{"$f":"CheckOne($I$121,G1909)","v":false},null,null,null,null,null,30,null,null,null,null,37,0,null,null,0,"ha. a. kr.",0,null,0,"tim. a. kr.",0]
[{"$f":"CheckOne($I$122,G1909)","v":false},null,null,null,null,null,30,null,null,null,null,38,0,null,null,0,"ha. a. kr.",0,null,0,"tim. a. kr.",0]
[{"$f":"CheckOne($I$123,G1909)","v":false},null,null,null,null,null,30,null,null,null,null,39,0,null,null,0,"ha. a. kr.",0,null,0,"tim. a. kr.",0]
[{"$f":"CheckOne($I$124,G1909)","v":false},null,null,null,null,null,30,null,null,null,null,40,0,null,null,0,"ha. a. kr.",0,null,0,"tim. a. kr.",0]
[{"$f":"CheckOne($I$125,G1909)","v":false},null,null,null,null,null,30,null,null,null,null,41,0,null,null,0,"ha. a. kr.",0,null,0,"tim. a. kr.",0]
[{"$f":"CheckOne($I$126,G1909)","v":false},null,null,null,null,null,30,null,null,null,null,42,0,null,null,0,"ha. a. kr.",0,null,0,"tim. a. kr.",0]
[{"$f":"CheckOne($I$127,G1909)","v":false},null,null,null,null,null,30,null,null,null,null,43,0,null,null,0,"ha. a. kr.",0,null,0,"tim. a. kr.",0]
[{"$f":"CheckOne($I$128,G1909)","v":false},null,null,null,null,null,30,null,null,null,null,44,0,null,null,0,"ha. a. kr.",0,null,0,"tim. a. kr.",0]
[{"$f":"CheckOne($I$129,G1909)","v":false},null,null,null,null,null,30,null,null,null,null,45,0,null,null,0,"ha. a. kr.",0,null,0,"tim. a. kr.",0]
[{"$f":"CheckOne($I$130,G1909)","v":false},null,null,null,null,null,30,null,null,null,null,46,0,null,null,0,"ha. a. kr.",0,null,0,"tim. a. kr.",0]
[{"$f":"CheckOne($I$131,G1909)","v":false},null,null,null,null,null,30,null,null,null,null,47,0,null,null,0,"ha. a. kr.",0,null,0,"tim. a. kr.",0]
[{"$f":"CheckOne($I$132,G1909)","v":false},null,null,null,null,null,30,null,null,null,null,48,0,null,null,0,"ha. a. kr.",0,null,0,"tim. a. kr.",0]
[{"$f":"CheckOne($I$133,G1909)","v":false},null,null,null,null,null,30,null,null,null,null,49,0,null,null,0,"ha. a. kr.",0,null,0,"tim. a. kr.",0]
[{"$f":"CheckOne($I$134,G1909)","v":false},null,null,null,null,null,30,null,null,null,null,50,0,null,null,0,"ha. a. kr.",0,null,0,"tim. a. kr.",0]
[{"$f":"OR(T1964<>0)","v":false},null,null,null,null,null,null,null,null,null,null,null,"Ufordelte omkostninger",null,null,null,null,null,null,0,"tim. a. kr.",0]
[{"$f":"A1908","v":false},null,null,null,null,null,null,null,null,null,null,"I alt",null,null,null,null,null,null,null,{"$f":"SUMIF(A1914:A1963,TRUE,T1914:T1963)","v":0},"timer"]
[{"$f":"A1965","v":false}]
[{"$f":"OR(L1967<>0,P1968<>0,T1971<>0,R1970<>0)","v":false},null,null,null,null,"nr.","id",null,null,null,null,{"$f":"VLOOKUP(F1968,$L$31:$AE$80,2,FALSE)","v":0},null,null,null,null,null,null,"i alt",null,null,"pr. time."]
[{"$f":"A1967","v":false},null,null,null,null,{"$f":"F1909+1","v":32},{"$f":"VLOOKUP(F1968,$F$31:$J$80,5,FALSE)","v":31},null,null,null,null,"Værdi primo:",null,null,null,{"$f":"VLOOKUP(F1968,$L$31:$AE$80,6,FALSE)","v":0},"Brændst.",{"$f":"VLOOKUP(F1968,$L$31:$AE$80,15,FALSE)","v":0},"GKO",{"$f":"VLOOKUP(F1968,$L$31:$AE$80,10,FALSE)","v":0},"GKE",{"$f":"IFERROR(+T1968/R1970,\"\")","v":""}]
[{"$f":"A1968","v":false},null,null,null,null,null,{"$f":"G1968","v":31},null,null,null,null,"Levetid:",null,null,null,{"$f":"VLOOKUP(F1968,$L$31:$AE$80,7,FALSE)","v":0},"Vedl.",{"$f":"VLOOKUP(F1968,$L$31:$AE$80,14,FALSE)","v":0},"KKO",{"$f":"VLOOKUP(F1968,$L$31:$AE$80,13,FALSE)","v":0},"KKE",{"$f":"IFERROR(+T1969/R1970,\"\")","v":""}]
[false,null,null,null,null,null,{"$f":"G1969","v":31},null,null,null,null,"Afskrivningspct:",null,null,null,{"$f":"VLOOKUP(F1968,$L$31:$AE$80,8,FALSE)","v":0},"Anvendt",{"$f":"VLOOKUP(F1968,$L$31:$AE$80,18,FALSE)","v":0},"VO",{"$f":"+R1970*V1970","v":0},"VE",{"$f":"VLOOKUP(F1968,$L$31:$AE$80,17,FALSE)","v":0}]
[false,null,null,null,null,null,31,null,null,null,null,"Scrapværdi:",null,null,null,{"$f":"VLOOKUP(F1968,$L$31:$AE$80,9,FALSE)","v":0},null,null,"TO",{"$f":"+T1968+T1969+T1970","v":0},"TE",{"$f":"IFERROR(+V1968+V1969+V1970,\"\")","v":""}]
[false,null,null,null,null,null,31,null,null,null,null,"Opgaver:"]
[{"$f":"CheckOne($I$85,G1968)","v":false},null,null,null,null,null,31,null,null,null,null,{"$f":"L1914:L1963","v":1},{"$f":"M1914:M1964","v":0},null,null,{"$f":"$Z$85:$Z$134","v":0},{"$f":"$AA$85:$AA$134&\" a. kr.\"","v":"ha. a. kr."},{"$f":"$AG$85:$AG$134","v":0},null,{"$f":"$AB$85:$AB$135","v":0},"tim. a. kr.",{"$f":"_xlfn.ANCHORARRAY($AF$85)","v":0}]
[{"$f":"CheckOne($I$86,G1968)","v":false},null,null,null,null,null,31,null,null,null,null,2,0,null,null,0,"ha. a. kr.",0,null,0,"tim. a. kr.",0]
[{"$f":"CheckOne($I$87,G1968)","v":false},null,null,null,null,null,31,null,null,null,null,3,0,null,null,0,"ha. a. kr.",0,null,0,"tim. a. kr.",0]
[{"$f":"CheckOne($I$88,G1968)","v":false},null,null,null,null,null,31,null,null,null,null,4,0,null,null,0,"ha. a. kr.",0,null,0,"tim. a. kr.",0]
[{"$f":"CheckOne($I$89,G1968)","v":false},null,null,null,null,null,31,null,null,null,null,5,0,null,null,0,"ha. a. kr.",0,null,0,"tim. a. kr.",0]
[{"$f":"CheckOne($I$90,G1968)","v":false},null,null,null,null,null,31,null,null,null,null,6,0,null,null,0,"ha. a. kr.",0,null,0,"tim. a. kr.",0]
[{"$f":"CheckOne($I$91,G1968)","v":false},null,null,null,null,null,31,null,null,null,null,7,0,null,null,0,"ha. a. kr.",0,null,0,"tim. a. kr.",0]
[{"$f":"CheckOne($I$92,G1968)","v":false},null,null,null,null,null,31,null,null,null,null,8,0,null,null,0,"ha. a. kr.",0,null,0,"tim. a. kr.",0]
[{"$f":"CheckOne($I$93,G1968)","v":false},null,null,null,null,null,31,null,null,null,null,9,0,null,null,0,"ha. a. kr.",0,null,0,"tim. a. kr.",0]
[{"$f":"CheckOne($I$94,G1968)","v":false},null,null,null,null,null,31,null,null,null,null,10,0,null,null,0,"ha. a. kr.",0,null,0,"tim. a. kr.",0]
[{"$f":"CheckOne($I$95,G1968)","v":false},null,null,null,null,null,31,null,null,null,null,11,0,null,null,0,"ha. a. kr.",0,null,0,"tim. a. kr.",0]
[{"$f":"CheckOne($I$96,G1968)","v":false},null,null,null,null,null,31,null,null,null,null,12,0,null,null,0,"ha. a. kr.",0,null,0,"tim. a. kr.",0]
[{"$f":"CheckOne($I$97,G1968)","v":false},null,null,null,null,null,31,null,null,null,null,13,0,null,null,0,"ha. a. kr.",0,null,0,"tim. a. kr.",0]
[{"$f":"CheckOne($I$98,G1968)","v":false},null,null,null,null,null,31,null,null,null,null,14,0,null,null,0,"ha. a. kr.",0,null,0,"tim. a. kr.",0]
[{"$f":"CheckOne($I$99,G1968)","v":false},null,null,null,null,null,31,null,null,null,null,15,0,null,null,0,"ha. a. kr.",0,null,0,"tim. a. kr.",0]
[{"$f":"CheckOne($I$100,G1968)","v":false},null,null,null,null,null,31,null,null,null,null,16,0,null,null,0,"ha. a. kr.",0,null,0,"tim. a. kr.",0]
[{"$f":"CheckOne($I$101,G1968)","v":false},null,null,null,null,null,31,null,null,null,null,17,0,null,null,0,"ha. a. kr.",0,null,0,"tim. a. kr.",0]
[{"$f":"CheckOne($I$102,G1968)","v":false},null,null,null,null,null,31,null,null,null,null,18,0,null,null,0,"ha. a. kr.",0,null,0,"tim. a. kr.",0]
[{"$f":"CheckOne($I$103,G1968)","v":false},null,null,null,null,null,31,null,null,null,null,19,0,null,null,0,"ha. a. kr.",0,null,0,"tim. a. kr.",0]
[{"$f":"CheckOne($I$104,G1968)","v":false},null,null,null,null,null,31,null,null,null,null,20,0,null,null,0,"ha. a. kr.",0,null,0,"tim. a. kr.",0]
[{"$f":"CheckOne($I$105,G1968)","v":false},null,null,null,null,null,31,null,null,null,null,21,0,null,null,0,"ha. a. kr.",0,null,0,"tim. a. kr.",0]
[{"$f":"CheckOne($I$106,G1968)","v":false},null,null,null,null,null,31,null,null,null,null,22,0,null,null,0,"ha. a. kr.",0,null,0,"tim. a. kr.",0]
[{"$f":"CheckOne($I$107,G1968)","v":false},null,null,null,null,null,31,null,null,null,null,23,0,null,null,0,"ha. a. kr.",0,null,0,"tim. a. kr.",0]
[{"$f":"CheckOne($I$108,G1968)","v":false},null,null,null,null,null,31,null,null,null,null,24,0,null,null,0,"ha. a. kr.",0,null,0,"tim. a. kr.",0]
[{"$f":"CheckOne($I$109,G1968)","v":false},null,null,null,null,null,31,null,null,null,null,25,0,null,null,0,"ha. a. kr.",0,null,0,"tim. a. kr.",0]
[{"$f":"CheckOne($I$110,G1968)","v":false},null,null,null,null,null,31,null,null,null,null,26,0,null,null,0,"ha. a. kr.",0,null,0,"tim. a. kr.",0]
[{"$f":"CheckOne($I$111,G1968)","v":false},null,null,null,null,null,31,null,null,null,null,27,0,null,null,0,"ha. a. kr.",0,null,0,"tim. a. kr.",0]
[{"$f":"CheckOne($I$112,G1968)","v":false},null,null,null,null,null,31,null,null,null,null,28,0,null,null,0,"ha. a. kr.",0,null,0,"tim. a. kr.",0]
[{"$f":"CheckOne($I$113,G1968)","v":false},null,null,null,null,null,31,null,null,null,null,29,0,null,null,0,"ha. a. kr.",0,null,0,"tim. a. kr.",0]
[{"$f":"CheckOne($I$114,G1968)","v":false},null,null,null,null,null,31,null,null,null,null,30,0,null,null,0,"ha. a. kr.",0,null,0,"tim. a. kr.",0]
[{"$f":"CheckOne($I$117,G1968)","v":false},null,null,null,null,null,31,null,null,null,null,33,0,null,null,0,"ha. a. kr.",0,null,0,"tim. a. kr.",0]
[{"$f":"CheckOne($I$118,G1968)","v":false},null,null,null,null,null,31,null,null,null,null,34,0,null,null,0,"ha. a. kr.",0,null,0,"tim. a. kr.",0]
[{"$f":"CheckOne($I$120,G1968)","v":false},null,null,null,null,null,31,null,null,null,null,36,0,null,null,0,"ha. a. kr.",0,null,0,"tim. a. kr.",0]
[{"$f":"CheckOne($I$121,G1968)","v":false},null,null,null,null,null,31,null,null,null,null,37,0,null,null,0,"ha. a. kr.",0,null,0,"tim. a. kr.",0]
[{"$f":"CheckOne($I$124,G1968)","v":false},null,null,null,null,null,31,null,null,null,null,40,0,null,null,0,"ha. a. kr.",0,null,0,"tim. a. kr.",0]
[{"$f":"CheckOne($I$125,G1968)","v":false},null,null,null,null,null,31,null,null,null,null,41,0,null,null,0,"ha. a. kr.",0,null,0,"tim. a. kr.",0]
[{"$f":"CheckOne($I$127,G1968)","v":false},null,null,null,null,null,31,null,null,null,null,43,0,null,null,0,"ha. a. kr.",0,null,0,"tim. a. kr.",0]
[{"$f":"CheckOne($I$128,G1968)","v":false},null,null,null,null,null,31,null,null,null,null,44,0,null,null,0,"ha. a. kr.",0,null,0,"tim. a. kr.",0]
[{"$f":"CheckOne($I$131,G1968)","v":false},null,null,null,null,null,31,null,null,null,null,47,0,null,null,0,"ha. a. kr.",0,null,0,"tim. a. kr.",0]
[{"$f":"CheckOne($I$132,G1968)","v":false},null,null,null,null,null,31,null,null,null,null,48,0,null,null,0,"ha. a. kr.",0,null,0,"tim. a. kr.",0]
[{"$f":"CheckOne($I$134,G1968)","v":false},null,null,null,null,null,31,null,null,null,null,50,0,null,null,0,"ha. a. kr.",0,null,0,"tim. a. kr.",0]
[{"$f":"OR(T2023<>0)","v":false},null,null,null,null,null,null,null,null,null,null,null,"Ufordelte omkostninger",null,null,null,null,null,null,0,"tim. a. kr.",0]
[{"$f":"OR(L2026<>0,P2027<>0,T2030<>0,R2029<>0)","v":false},null,null,null,null,"nr.","id",null,null,null,null,{"$f":"VLOOKUP(F2027,$L$31:$AE$80,2,FALSE)","v":0},null,null,null,null,null,null,"i alt",null,null,"pr. time."]
[{"$f":"A2026","v":false},null,null,null,null,{"$f":"F1968+1","v":33},{"$f":"VLOOKUP(F2027,$F$31:$J$80,5,FALSE)","v":32},null,null,null,null,"Værdi primo:",null,null,null,{"$f":"VLOOKUP(F2027,$L$31:$AE$80,6,FALSE)","v":0},"Brændst.",{"$f":"VLOOKUP(F2027,$L$31:$AE$80,15,FALSE)","v":0},"GKO",{"$f":"VLOOKUP(F2027,$L$31:$AE$80,10,FALSE)","v":0},"GKE",{"$f":"IFERROR(+T2027/R2029,\"\")","v":""}]
[false,null,null,null,null,null,{"$f":"G2028","v":32},null,null,null,null,"Afskrivningspct:",null,null,null,{"$f":"VLOOKUP(F2027,$L$31:$AE$80,8,FALSE)","v":0},"Anvendt",{"$f":"VLOOKUP(F2027,$L$31:$AE$80,18,FALSE)","v":0},"VO",{"$f":"+R2029*V2029","v":0},"VE",{"$f":"VLOOKUP(F2027,$L$31:$AE$80,17,FALSE)","v":0}]
[false,null,null,null,null,null,32,null,null,null,null,"Scrapværdi:",null,null,null,{"$f":"VLOOKUP(F2027,$L$31:$AE$80,9,FALSE)","v":0},null,null,"TO",{"$f":"+T2027+T2028+T2029","v":0},"TE",{"$f":"IFERROR(+V2027+V2028+V2029,\"\")","v":""}]
[{"$f":"CheckOne($I$86,G2027)","v":false},null,null,null,null,null,32,null,null,null,null,2,0,null,null,0,"ha. a. kr.",0,null,0,"tim. a. kr.",0]
[{"$f":"CheckOne($I$87,G2027)","v":false},null,null,null,null,null,32,null,null,null,null,3,0,null,null,0,"ha. a. kr.",0,null,0,"tim. a. kr.",0]
[{"$f":"CheckOne($I$89,G2027)","v":false},null,null,null,null,null,32,null,null,null,null,5,0,null,null,0,"ha. a. kr.",0,null,0,"tim. a. kr.",0]
[{"$f":"CheckOne($I$90,G2027)","v":false},null,null,null,null,null,32,null,null,null,null,6,0,null,null,0,"ha. a. kr.",0,null,0,"tim. a. kr.",0]
[{"$f":"CheckOne($I$93,G2027)","v":false},null,null,null,null,null,32,null,null,null,null,9,0,null,null,0,"ha. a. kr.",0,null,0,"tim. a. kr.",0]
[{"$f":"CheckOne($I$94,G2027)","v":false},null,null,null,null,null,32,null,null,null,null,10,0,null,null,0,"ha. a. kr.",0,null,0,"tim. a. kr.",0]
[{"$f":"CheckOne($I$96,G2027)","v":false},null,null,null,null,null,32,null,null,null,null,12,0,null,null,0,"ha. a. kr.",0,null,0,"tim. a. kr.",0]
[{"$f":"CheckOne($I$97,G2027)","v":false},null,null,null,null,null,32,null,null,null,null,13,0,null,null,0,"ha. a. kr.",0,null,0,"tim. a. kr.",0]
[{"$f":"CheckOne($I$100,G2027)","v":false},null,null,null,null,null,32,null,null,null,null,16,0,null,null,0,"ha. a. kr.",0,null,0,"tim. a. kr.",0]
[{"$f":"CheckOne($I$101,G2027)","v":false},null,null,null,null,null,32,null,null,null,null,17,0,null,null,0,"ha. a. kr.",0,null,0,"tim. a. kr.",0]
[{"$f":"CheckOne($I$103,G2027)","v":false},null,null,null,null,null,32,null,null,null,null,19,0,null,null,0,"ha. a. kr.",0,null,0,"tim. a. kr.",0]
[{"$f":"CheckOne($I$104,G2027)","v":false},null,null,null,null,null,32,null,null,null,null,20,0,null,null,0,"ha. a. kr.",0,null,0,"tim. a. kr.",0]
[{"$f":"CheckOne($I$107,G2027)","v":false},null,null,null,null,null,32,null,null,null,null,23,0,null,null,0,"ha. a. kr.",0,null,0,"tim. a. kr.",0]
[{"$f":"CheckOne($I$108,G2027)","v":false},null,null,null,null,null,32,null,null,null,null,24,0,null,null,0,"ha. a. kr.",0,null,0,"tim. a. kr.",0]
[{"$f":"CheckOne($I$110,G2027)","v":false},null,null,null,null,null,32,null,null,null,null,26,0,null,null,0,"ha. a. kr.",0,null,0,"tim. a. kr.",0]
[{"$f":"CheckOne($I$111,G2027)","v":false},null,null,null,null,null,32,null,null,null,null,27,0,null,null,0,"ha. a. kr.",0,null,0,"tim. a. kr.",0]
[{"$f":"CheckOne($I$114,G2027)","v":false},null,null,null,null,null,32,null,null,null,null,30,0,null,null,0,"ha. a. kr.",0,null,0,"tim. a. kr.",0]
[{"$f":"CheckOne($I$115,G2027)","v":false},null,null,null,null,null,32,null,null,null,null,31,0,null,null,0,"ha. a. kr.",0,null,0,"tim. a. kr.",0]
[{"$f":"CheckOne($I$117,G2027)","v":false},null,null,null,null,null,32,null,null,null,null,33,0,null,null,0,"ha. a. kr.",0,null,0,"tim. a. kr.",0]
[{"$f":"CheckOne($I$118,G2027)","v":false},null,null,null,null,null,32,null,null,null,null,34,0,null,null,0,"ha. a. kr.",0,null,0,"tim. a. kr.",0]
[{"$f":"CheckOne($I$121,G2027)","v":false},null,null,null,null,null,32,null,null,null,null,37,0,null,null,0,"ha. a. kr.",0,null,0,"tim. a. kr.",0]
[{"$f":"CheckOne($I$122,G2027)","v":false},null,null,null,null,null,32,null,null,null,null,38,0,null,null,0,"ha. a. kr.",0,null,0,"tim. a. kr.",0]
[{"$f":"CheckOne($I$124,G2027)","v":false},null,null,null,null,null,32,null,null,null,null,40,0,null,null,0,"ha. a. kr.",0,null,0,"tim. a. kr.",0]
[{"$f":"CheckOne($I$125,G2027)","v":false},null,null,null,null,null,32,null,null,null,null,41,0,null,null,0,"ha. a. kr.",0,null,0,"tim. a. kr.",0]
[{"$f":"CheckOne($I$128,G2027)","v":false},null,null,null,null,null,32,null,null,null,null,44,0,null,null,0,"ha. a. kr.",0,null,0,"tim. a. kr.",0]
[{"$f":"CheckOne($I$129,G2027)","v":false},null,null,null,null,null,32,null,null,null,null,45,0,null,null,0,"ha. a. kr.",0,null,0,"tim. a. kr.",0]
[{"$f":"CheckOne($I$131,G2027)","v":false},null,null,null,null,null,32,null,null,null,null,47,0,null,null,0,"ha. a. kr.",0,null,0,"tim. a. kr.",0]
[{"$f":"CheckOne($I$132,G2027)","v":false},null,null,null,null,null,32,null,null,null,null,48,0,null,null,0,"ha. a. kr.",0,null,0,"tim. a. kr.",0]
[{"$f":"OR(T2082<>0)","v":false},null,null,null,null,null,null,null,null,null,null,null,"Ufordelte omkostninger",null,null,null,null,null,null,0,"tim. a. kr.",0]
[{"$f":"A2026","v":false},null,null,null,null,null,null,null,null,null,null,"I alt",null,null,null,null,null,null,null,{"$f":"SUMIF(A2032:A2081,TRUE,T2032:T2081)","v":0},"timer"]
[{"$f":"OR(L2085<>0,P2086<>0,T2089<>0,R2088<>0)","v":false},null,null,null,null,"nr.","id",null,null,null,null,{"$f":"VLOOKUP(F2086,$L$31:$AE$80,2,FALSE)","v":0},null,null,null,null,null,null,"i alt",null,null,"pr. time."]
[{"$f":"A2085","v":false},null,null,null,null,{"$f":"F2027+1","v":34},{"$f":"VLOOKUP(F2086,$F$31:$J$80,5,FALSE)","v":33},null,null,null,null,"Værdi primo:",null,null,null,{"$f":"VLOOKUP(F2086,$L$31:$AE$80,6,FALSE)","v":0},"Brændst.",{"$f":"VLOOKUP(F2086,$L$31:$AE$80,15,FALSE)","v":0},"GKO",{"$f":"VLOOKUP(F2086,$L$31:$AE$80,10,FALSE)","v":0},"GKE",{"$f":"IFERROR(+T2086/R2088,\"\")","v":""}]
[false,null,null,null,null,null,33,null,null,null,null,"Scrapværdi:",null,null,null,{"$f":"VLOOKUP(F2086,$L$31:$AE$80,9,FALSE)","v":0},null,null,"TO",{"$f":"+T2086+T2087+T2088","v":0},"TE",{"$f":"IFERROR(+V2086+V2087+V2088,\"\")","v":""}]
[false,null,null,null,null,null,33,null,null,null,null,"Opgaver:"]
[{"$f":"CheckOne($I$86,G2086)","v":false},null,null,null,null,null,33,null,null,null,null,2,0,null,null,0,"ha. a. kr.",0,null,0,"tim. a. kr.",0]
[{"$f":"CheckOne($I$87,G2086)","v":false},null,null,null,null,null,33,null,null,null,null,3,0,null,null,0,"ha. a. kr.",0,null,0,"tim. a. kr.",0]
[{"$f":"CheckOne($I$90,G2086)","v":false},null,null,null,null,null,33,null,null,null,null,6,0,null,null,0,"ha. a. kr.",0,null,0,"tim. a. kr.",0]
[{"$f":"CheckOne($I$91,G2086)","v":false},null,null,null,null,null,33,null,null,null,null,7,0,null,null,0,"ha. a. kr.",0,null,0,"tim. a. kr.",0]
[{"$f":"CheckOne($I$93,G2086)","v":false},null,null,null,null,null,33,null,null,null,null,9,0,null,null,0,"ha. a. kr.",0,null,0,"tim. a. kr.",0]
[{"$f":"CheckOne($I$94,G2086)","v":false},null,null,null,null,null,33,null,null,null,null,10,0,null,null,0,"ha. a. kr.",0,null,0,"tim. a. kr.",0]
[{"$f":"CheckOne($I$96,G2086)","v":false},null,null,null,null,null,33,null,null,null,null,12,0,null,null,0,"ha. a. kr.",0,null,0,"tim. a. kr.",0]
[{"$f":"CheckOne($I$97,G2086)","v":false},null,null,null,null,null,33,null,null,null,null,13,0,null,null,0,"ha. a. kr.",0,null,0,"tim. a. kr.",0]
[{"$f":"CheckOne($I$100,G2086)","v":false},null,null,null,null,null,33,null,null,null,null,16,0,null,null,0,"ha. a. kr.",0,null,0,"tim. a. kr.",0]
[{"$f":"CheckOne($I$101,G2086)","v":false},null,null,null,null,null,33,null,null,null,null,17,0,null,null,0,"ha. a. kr.",0,null,0,"tim. a. kr.",0]
[{"$f":"CheckOne($I$103,G2086)","v":false},null,null,null,null,null,33,null,null,null,null,19,0,null,null,0,"ha. a. kr.",0,null,0,"tim. a. kr.",0]
[{"$f":"CheckOne($I$104,G2086)","v":false},null,null,null,null,null,33,null,null,null,null,20,0,null,null,0,"ha. a. kr.",0,null,0,"tim. a. kr.",0]
[{"$f":"CheckOne($I$107,G2086)","v":false},null,null,null,null,null,33,null,null,null,null,23,0,null,null,0,"ha. a. kr.",0,null,0,"tim. a. kr.",0]
[{"$f":"CheckOne($I$108,G2086)","v":false},null,null,null,null,null,33,null,null,null,null,24,0,null,null,0,"ha. a. kr.",0,null,0,"tim. a. kr.",0]
[{"$f":"CheckOne($I$110,G2086)","v":false},null,null,null,null,null,33,null,null,null,null,26,0,null,null,0,"ha. a. kr.",0,null,0,"tim. a. kr.",0]
[{"$f":"CheckOne($I$111,G2086)","v":false},null,null,null,null,null,33,null,null,null,null,27,0,null,null,0,"ha. a. kr.",0,null,0,"tim. a. kr.",0]
[{"$f":"CheckOne($I$114,G2086)","v":false},null,null,null,null,null,33,null,null,null,null,30,0,null,null,0,"ha. a. kr.",0,null,0,"tim. a. kr.",0]
[{"$f":"CheckOne($I$115,G2086)","v":false},null,null,null,null,null,33,null,null,null,null,31,0,null,null,0,"ha. a. kr.",0,null,0,"tim. a. kr.",0]
[{"$f":"CheckOne($I$117,G2086)","v":false},null,null,null,null,null,33,null,null,null,null,33,0,null,null,0,"ha. a. kr.",0,null,0,"tim. a. kr.",0]
[{"$f":"CheckOne($I$118,G2086)","v":false},null,null,null,null,null,33,null,null,null,null,34,0,null,null,0,"ha. a. kr.",0,null,0,"tim. a. kr.",0]
[{"$f":"CheckOne($I$121,G2086)","v":false},null,null,null,null,null,33,null,null,null,null,37,0,null,null,0,"ha. a. kr.",0,null,0,"tim. a. kr.",0]
[{"$f":"CheckOne($I$122,G2086)","v":false},null,null,null,null,null,33,null,null,null,null,38,0,null,null,0,"ha. a. kr.",0,null,0,"tim. a. kr.",0]
[{"$f":"CheckOne($I$124,G2086)","v":false},null,null,null,null,null,33,null,null,null,null,40,0,null,null,0,"ha. a. kr.",0,null,0,"tim. a. kr.",0]
[{"$f":"CheckOne($I$125,G2086)","v":false},null,null,null,null,null,33,null,null,null,null,41,0,null,null,0,"ha. a. kr.",0,null,0,"tim. a. kr.",0]
[{"$f":"CheckOne($I$128,G2086)","v":false},null,null,null,null,null,33,null,null,null,null,44,0,null,null,0,"ha. a. kr.",0,null,0,"tim. a. kr.",0]
[{"$f":"CheckOne($I$129,G2086)","v":false},null,null,null,null,null,33,null,null,null,null,45,0,null,null,0,"ha. a. kr.",0,null,0,"tim. a. kr.",0]
[{"$f":"CheckOne($I$131,G2086)","v":false},null,null,null,null,null,33,null,null,null,null,47,0,null,null,0,"ha. a. kr.",0,null,0,"tim. a. kr.",0]
[{"$f":"CheckOne($I$132,G2086)","v":false},null,null,null,null,null,33,null,null,null,null,48,0,null,null,0,"ha. a. kr.",0,null,0,"tim. a. kr.",0]
[{"$f":"OR(T2141<>0)","v":false},null,null,null,null,null,null,null,null,null,null,null,"Ufordelte omkostninger",null,null,null,null,null,null,0,"tim. a. kr.",0]
[{"$f":"A2085","v":false},null,null,null,null,null,null,null,null,null,null,"I alt",null,null,null,null,null,null,null,{"$f":"SUMIF(A2091:A2140,TRUE,T2091:T2140)","v":0},"timer"]
[{"$f":"OR(L2144<>0,P2145<>0,T2148<>0,R2147<>0)","v":false},null,null,null,null,"nr.","id",null,null,null,null,{"$f":"VLOOKUP(F2145,$L$31:$AE$80,2,FALSE)","v":0},null,null,null,null,null,null,"i alt",null,null,"pr. time."]
[{"$f":"A2144","v":false},null,null,null,null,{"$f":"F2086+1","v":35},{"$f":"VLOOKUP(F2145,$F$31:$J$80,5,FALSE)","v":34},null,null,null,null,"Værdi primo:",null,null,null,{"$f":"VLOOKUP(F2145,$L$31:$AE$80,6,FALSE)","v":0},"Brændst.",{"$f":"VLOOKUP(F2145,$L$31:$AE$80,15,FALSE)","v":0},"GKO",{"$f":"VLOOKUP(F2145,$L$31:$AE$80,10,FALSE)","v":0},"GKE",{"$f":"IFERROR(+T2145/R2147,\"\")","v":""}]
[false,null,null,null,null,null,34,null,null,null,null,"Scrapværdi:",null,null,null,{"$f":"VLOOKUP(F2145,$L$31:$AE$80,9,FALSE)","v":0},null,null,"TO",{"$f":"+T2145+T2146+T2147","v":0},"TE",{"$f":"IFERROR(+V2145+V2146+V2147,\"\")","v":""}]
[false,null,null,null,null,null,34,null,null,null,null,"Opgaver:"]
[{"$f":"CheckOne($I$86,G2145)","v":false},null,null,null,null,null,34,null,null,null,null,2,0,null,null,0,"ha. a. kr.",0,null,0,"tim. a. kr.",0]
[{"$f":"CheckOne($I$87,G2145)","v":false},null,null,null,null,null,34,null,null,null,null,3,0,null,null,0,"ha. a. kr.",0,null,0,"tim. a. kr.",0]
[{"$f":"CheckOne($I$90,G2145)","v":false},null,null,null,null,null,34,null,null,null,null,6,0,null,null,0,"ha. a. kr.",0,null,0,"tim. a. kr.",0]
[{"$f":"CheckOne($I$91,G2145)","v":false},null,null,null,null,null,34,null,null,null,null,7,0,null,null,0,"ha. a. kr.",0,null,0,"tim. a. kr.",0]
[{"$f":"CheckOne($I$93,G2145)","v":false},null,null,null,null,null,34,null,null,null,null,9,0,null,null,0,"ha. a. kr.",0,null,0,"tim. a. kr.",0]
[{"$f":"CheckOne($I$94,G2145)","v":false},null,null,null,null,null,34,null,null,null,null,10,0,null,null,0,"ha. a. kr.",0,null,0,"tim. a. kr.",0]
[{"$f":"CheckOne($I$97,G2145)","v":false},null,null,null,null,null,34,null,null,null,null,13,0,null,null,0,"ha. a. kr.",0,null,0,"tim. a. kr.",0]
[{"$f":"CheckOne($I$98,G2145)","v":false},null,null,null,null,null,34,null,null,null,null,14,0,null,null,0,"ha. a. kr.",0,null,0,"tim. a. kr.",0]
[{"$f":"CheckOne($I$100,G2145)","v":false},null,null,null,null,null,34,null,null,null,null,16,0,null,null,0,"ha. a. kr.",0,null,0,"tim. a. kr.",0]
[{"$f":"CheckOne($I$101,G2145)","v":false},null,null,null,null,null,34,null,null,null,null,17,0,null,null,0,"ha. a. kr.",0,null,0,"tim. a. kr.",0]
[{"$f":"CheckOne($I$104,G2145)","v":false},null,null,null,null,null,34,null,null,null,null,20,0,null,null,0,"ha. a. kr.",0,null,0,"tim. a. kr.",0]
[{"$f":"CheckOne($I$105,G2145)","v":false},null,null,null,null,null,34,null,null,null,null,21,0,null,null,0,"ha. a. kr.",0,null,0,"tim. a. kr.",0]
[{"$f":"CheckOne($I$107,G2145)","v":false},null,null,null,null,null,34,null,null,null,null,23,0,null,null,0,"ha. a. kr.",0,null,0,"tim. a. kr.",0]
[{"$f":"CheckOne($I$108,G2145)","v":false},null,null,null,null,null,34,null,null,null,null,24,0,null,null,0,"ha. a. kr.",0,null,0,"tim. a. kr.",0]
[{"$f":"CheckOne($I$111,G2145)","v":false},null,null,null,null,null,34,null,null,null,null,27,0,null,null,0,"ha. a. kr.",0,null,0,"tim. a. kr.",0]
[{"$f":"CheckOne($I$112,G2145)","v":false},null,null,null,null,null,34,null,null,null,null,28,0,null,null,0,"ha. a. kr.",0,null,0,"tim. a. kr.",0]
[{"$f":"CheckOne($I$114,G2145)","v":false},null,null,null,null,null,34,null,null,null,null,30,0,null,null,0,"ha. a. kr.",0,null,0,"tim. a. kr.",0]
[{"$f":"CheckOne($I$115,G2145)","v":false},null,null,null,null,null,34,null,null,null,null,31,0,null,null,0,"ha. a. kr.",0,null,0,"tim. a. kr.",0]
[{"$f":"CheckOne($I$118,G2145)","v":false},null,null,null,null,null,34,null,null,null,null,34,0,null,null,0,"ha. a. kr.",0,null,0,"tim. a. kr.",0]
[{"$f":"CheckOne($I$119,G2145)","v":false},null,null,null,null,null,34,null,null,null,null,35,0,null,null,0,"ha. a. kr.",0,null,0,"tim. a. kr.",0]
[{"$f":"CheckOne($I$121,G2145)","v":false},null,null,null,null,null,34,null,null,null,null,37,0,null,null,0,"ha. a. kr.",0,null,0,"tim. a. kr.",0]
[{"$f":"CheckOne($I$122,G2145)","v":false},null,null,null,null,null,34,null,null,null,null,38,0,null,null,0,"ha. a. kr.",0,null,0,"tim. a. kr.",0]
[{"$f":"CheckOne($I$125,G2145)","v":false},null,null,null,null,null,34,null,null,null,null,41,0,null,null,0,"ha. a. kr.",0,null,0,"tim. a. kr.",0]
[{"$f":"CheckOne($I$126,G2145)","v":false},null,null,null,null,null,34,null,null,null,null,42,0,null,null,0,"ha. a. kr.",0,null,0,"tim. a. kr.",0]
[{"$f":"CheckOne($I$128,G2145)","v":false},null,null,null,null,null,34,null,null,null,null,44,0,null,null,0,"ha. a. kr.",0,null,0,"tim. a. kr.",0]
[{"$f":"CheckOne($I$129,G2145)","v":false},null,null,null,null,null,34,null,null,null,null,45,0,null,null,0,"ha. a. kr.",0,null,0,"tim. a. kr.",0]
[{"$f":"CheckOne($I$132,G2145)","v":false},null,null,null,null,null,34,null,null,null,null,48,0,null,null,0,"ha. a. kr.",0,null,0,"tim. a. kr.",0]
[{"$f":"CheckOne($I$133,G2145)","v":false},null,null,null,null,null,34,null,null,null,null,49,0,null,null,0,"ha. a. kr.",0,null,0,"tim. a. kr.",0]
[{"$f":"OR(T2200<>0)","v":false},null,null,null,null,null,null,null,null,null,null,null,"Ufordelte omkostninger",null,null,null,null,null,null,0,"tim. a. kr.",0]
[{"$f":"A2144","v":false},null,null,null,null,null,null,null,null,null,null,"I alt",null,null,null,null,null,null,null,{"$f":"SUMIF(A2150:A2199,TRUE,T2150:T2199)","v":0},"timer"]
[{"$f":"A2203","v":false},null,null,null,null,{"$f":"F2145+1","v":36},{"$f":"VLOOKUP(F2204,$F$31:$J$80,5,FALSE)","v":35},null,null,null,null,"Værdi primo:",null,null,null,{"$f":"VLOOKUP(F2204,$L$31:$AE$80,6,FALSE)","v":0},"Brændst.",{"$f":"VLOOKUP(F2204,$L$31:$AE$80,15,FALSE)","v":0},"GKO",{"$f":"VLOOKUP(F2204,$L$31:$AE$80,10,FALSE)","v":0},"GKE",{"$f":"IFERROR(+T2204/R2206,\"\")","v":""}]
[{"$f":"A2204","v":false},null,null,null,null,null,{"$f":"G2204","v":35},null,null,null,null,"Levetid:",null,null,null,{"$f":"VLOOKUP(F2204,$L$31:$AE$80,7,FALSE)","v":0},"Vedl.",{"$f":"VLOOKUP(F2204,$L$31:$AE$80,14,FALSE)","v":0},"KKO",{"$f":"VLOOKUP(F2204,$L$31:$AE$80,13,FALSE)","v":0},"KKE",{"$f":"IFERROR(+T2205/R2206,\"\")","v":""}]
[false,null,null,null,null,null,35,null,null,null,null,"Scrapværdi:",null,null,null,{"$f":"VLOOKUP(F2204,$L$31:$AE$80,9,FALSE)","v":0},null,null,"TO",{"$f":"+T2204+T2205+T2206","v":0},"TE",{"$f":"IFERROR(+V2204+V2205+V2206,\"\")","v":""}]
[false,null,null,null,null,null,35,null,null,null,null,"Opgaver:"]
[{"$f":"CheckOne($I$87,G2204)","v":false},null,null,null,null,null,35,null,null,null,null,3,0,null,null,0,"ha. a. kr.",0,null,0,"tim. a. kr.",0]
[{"$f":"CheckOne($I$88,G2204)","v":false},null,null,null,null,null,35,null,null,null,null,4,0,null,null,0,"ha. a. kr.",0,null,0,"tim. a. kr.",0]
[{"$f":"CheckOne($I$90,G2204)","v":false},null,null,null,null,null,35,null,null,null,null,6,0,null,null,0,"ha. a. kr.",0,null,0,"tim. a. kr.",0]
[{"$f":"CheckOne($I$91,G2204)","v":false},null,null,null,null,null,35,null,null,null,null,7,0,null,null,0,"ha. a. kr.",0,null,0,"tim. a. kr.",0]
[{"$f":"CheckOne($I$94,G2204)","v":false},null,null,null,null,null,35,null,null,null,null,10,0,null,null,0,"ha. a. kr.",0,null,0,"tim. a. kr.",0]
[{"$f":"CheckOne($I$95,G2204)","v":false},null,null,null,null,null,35,null,null,null,null,11,0,null,null,0,"ha. a. kr.",0,null,0,"tim. a. kr.",0]
[{"$f":"CheckOne($I$97,G2204)","v":false},null,null,null,null,null,35,null,null,null,null,13,0,null,null,0,"ha. a. kr.",0,null,0,"tim. a. kr.",0]
[{"$f":"CheckOne($I$98,G2204)","v":false},null,null,null,null,null,35,null,null,null,null,14,0,null,null,0,"ha. a. kr.",0,null,0,"tim. a. kr.",0]
[{"$f":"CheckOne($I$101,G2204)","v":false},null,null,null,null,null,35,null,null,null,null,17,0,null,null,0,"ha. a. kr.",0,null,0,"tim. a. kr.",0]
[{"$f":"CheckOne($I$102,G2204)","v":false},null,null,null,null,null,35,null,null,null,null,18,0,null,null,0,"ha. a. kr.",0,null,0,"tim. a. kr.",0]
[{"$f":"CheckOne($I$104,G2204)","v":false},null,null,null,null,null,35,null,null,null,null,20,0,null,null,0,"ha. a. kr.",0,null,0,"tim. a. kr.",0]
[{"$f":"CheckOne($I$105,G2204)","v":false},null,null,null,null,null,35,null,null,null,null,21,0,null,null,0,"ha. a. kr.",0,null,0,"tim. a. kr.",0]
[{"$f":"CheckOne($I$108,G2204)","v":false},null,null,null,null,null,35,null,null,null,null,24,0,null,null,0,"ha. a. kr.",0,null,0,"tim. a. kr.",0]
[{"$f":"CheckOne($I$109,G2204)","v":false},null,null,null,null,null,35,null,null,null,null,25,0,null,null,0,"ha. a. kr.",0,null,0,"tim. a. kr.",0]
[{"$f":"CheckOne($I$111,G2204)","v":false},null,null,null,null,null,35,null,null,null,null,27,0,null,null,0,"ha. a. kr.",0,null,0,"tim. a. kr.",0]
[{"$f":"CheckOne($I$112,G2204)","v":false},null,null,null,null,null,35,null,null,null,null,28,0,null,null,0,"ha. a. kr.",0,null,0,"tim. a. kr.",0]
[{"$f":"CheckOne($I$115,G2204)","v":false},null,null,null,null,null,35,null,null,null,null,31,0,null,null,0,"ha. a. kr.",0,null,0,"tim. a. kr.",0]
[{"$f":"CheckOne($I$116,G2204)","v":false},null,null,null,null,null,35,null,null,null,null,32,0,null,null,0,"ha. a. kr.",0,null,0,"tim. a. kr.",0]
[{"$f":"CheckOne($I$118,G2204)","v":false},null,null,null,null,null,35,null,null,null,null,34,0,null,null,0,"ha. a. kr.",0,null,0,"tim. a. kr.",0]
[{"$f":"CheckOne($I$119,G2204)","v":false},null,null,null,null,null,35,null,null,null,null,35,0,null,null,0,"ha. a. kr.",0,null,0,"tim. a. kr.",0]
[{"$f":"CheckOne($I$122,G2204)","v":false},null,null,null,null,null,35,null,null,null,null,38,0,null,null,0,"ha. a. kr.",0,null,0,"tim. a. kr.",0]
[{"$f":"CheckOne($I$123,G2204)","v":false},null,null,null,null,null,35,null,null,null,null,39,0,null,null,0,"ha. a. kr.",0,null,0,"tim. a. kr.",0]
[{"$f":"CheckOne($I$125,G2204)","v":false},null,null,null,null,null,35,null,null,null,null,41,0,null,null,0,"ha. a. kr.",0,null,0,"tim. a. kr.",0]
[{"$f":"CheckOne($I$126,G2204)","v":false},null,null,null,null,null,35,null,null,null,null,42,0,null,null,0,"ha. a. kr.",0,null,0,"tim. a. kr.",0]
[{"$f":"CheckOne($I$129,G2204)","v":false},null,null,null,null,null,35,null,null,null,null,45,0,null,null,0,"ha. a. kr.",0,null,0,"tim. a. kr.",0]
[{"$f":"CheckOne($I$130,G2204)","v":false},null,null,null,null,null,35,null,null,null,null,46,0,null,null,0,"ha. a. kr.",0,null,0,"tim. a. kr.",0]
[{"$f":"CheckOne($I$132,G2204)","v":false},null,null,null,null,null,35,null,null,null,null,48,0,null,null,0,"ha. a. kr.",0,null,0,"tim. a. kr.",0]
[{"$f":"CheckOne($I$133,G2204)","v":false},null,null,null,null,null,35,null,null,null,null,49,0,null,null,0,"ha. a. kr.",0,null,0,"tim. a. kr.",0]
[{"$f":"A2203","v":false},null,null,null,null,null,null,null,null,null,null,"I alt",null,null,null,null,null,null,null,{"$f":"SUMIF(A2209:A2258,TRUE,T2209:T2258)","v":0},"timer"]
[{"$f":"A2260","v":false}]
[{"$f":"A2262","v":false},null,null,null,null,{"$f":"F2204+1","v":37},{"$f":"VLOOKUP(F2263,$F$31:$J$80,5,FALSE)","v":36},null,null,null,null,"Værdi primo:",null,null,null,{"$f":"VLOOKUP(F2263,$L$31:$AE$80,6,FALSE)","v":0},"Brændst.",{"$f":"VLOOKUP(F2263,$L$31:$AE$80,15,FALSE)","v":0},"GKO",{"$f":"VLOOKUP(F2263,$L$31:$AE$80,10,FALSE)","v":0},"GKE",{"$f":"IFERROR(+T2263/R2265,\"\")","v":""}]
[{"$f":"A2263","v":false},null,null,null,null,null,{"$f":"G2263","v":36},null,null,null,null,"Levetid:",null,null,null,{"$f":"VLOOKUP(F2263,$L$31:$AE$80,7,FALSE)","v":0},"Vedl.",{"$f":"VLOOKUP(F2263,$L$31:$AE$80,14,FALSE)","v":0},"KKO",{"$f":"VLOOKUP(F2263,$L$31:$AE$80,13,FALSE)","v":0},"KKE",{"$f":"IFERROR(+T2264/R2265,\"\")","v":""}]
[false,null,null,null,null,null,36,null,null,null,null,"Opgaver:"]
[{"$f":"CheckOne($I$85,G2263)","v":false},null,null,null,null,null,36,null,null,null,null,{"$f":"L2209:L2258","v":1},{"$f":"M2209:M2259","v":0},null,null,{"$f":"$Z$85:$Z$134","v":0},{"$f":"$AA$85:$AA$134&\" a. kr.\"","v":"ha. a. kr."},{"$f":"$AG$85:$AG$134","v":0},null,{"$f":"$AB$85:$AB$135","v":0},"tim. a. kr.",{"$f":"_xlfn.ANCHORARRAY($AF$85)","v":0}]
[{"$f":"CheckOne($I$87,G2263)","v":false},null,null,null,null,null,36,null,null,null,null,3,0,null,null,0,"ha. a. kr.",0,null,0,"tim. a. kr.",0]
[{"$f":"CheckOne($I$88,G2263)","v":false},null,null,null,null,null,36,null,null,null,null,4,0,null,null,0,"ha. a. kr.",0,null,0,"tim. a. kr.",0]
[{"$f":"CheckOne($I$91,G2263)","v":false},null,null,null,null,null,36,null,null,null,null,7,0,null,null,0,"ha. a. kr.",0,null,0,"tim. a. kr.",0]
[{"$f":"CheckOne($I$92,G2263)","v":false},null,null,null,null,null,36,null,null,null,null,8,0,null,null,0,"ha. a. kr.",0,null,0,"tim. a. kr.",0]
[{"$f":"CheckOne($I$94,G2263)","v":false},null,null,null,null,null,36,null,null,null,null,10,0,null,null,0,"ha. a. kr.",0,null,0,"tim. a. kr.",0]
[{"$f":"CheckOne($I$95,G2263)","v":false},null,null,null,null,null,36,null,null,null,null,11,0,null,null,0,"ha. a. kr.",0,null,0,"tim. a. kr.",0]
[{"$f":"CheckOne($I$98,G2263)","v":false},null,null,null,null,null,36,null,null,null,null,14,0,null,null,0,"ha. a. kr.",0,null,0,"tim. a. kr.",0]
[{"$f":"CheckOne($I$99,G2263)","v":false},null,null,null,null,null,36,null,null,null,null,15,0,null,null,0,"ha. a. kr.",0,null,0,"tim. a. kr.",0]
[{"$f":"CheckOne($I$101,G2263)","v":false},null,null,null,null,null,36,null,null,null,null,17,0,null,null,0,"ha. a. kr.",0,null,0,"tim. a. kr.",0]
[{"$f":"CheckOne($I$102,G2263)","v":false},null,null,null,null,null,36,null,null,null,null,18,0,null,null,0,"ha. a. kr.",0,null,0,"tim. a. kr.",0]
[{"$f":"CheckOne($I$105,G2263)","v":false},null,null,null,null,null,36,null,null,null,null,21,0,null,null,0,"ha. a. kr.",0,null,0,"tim. a. kr.",0]
[{"$f":"CheckOne($I$106,G2263)","v":false},null,null,null,null,null,36,null,null,null,null,22,0,null,null,0,"ha. a. kr.",0,null,0,"tim. a. kr.",0]
[{"$f":"CheckOne($I$108,G2263)","v":false},null,null,null,null,null,36,null,null,null,null,24,0,null,null,0,"ha. a. kr.",0,null,0,"tim. a. kr.",0]
[{"$f":"CheckOne($I$109,G2263)","v":false},null,null,null,null,null,36,null,null,null,null,25,0,null,null,0,"ha. a. kr.",0,null,0,"tim. a. kr.",0]
[{"$f":"CheckOne($I$111,G2263)","v":false},null,null,null,null,null,36,null,null,null,null,27,0,null,null,0,"ha. a. kr.",0,null,0,"tim. a. kr.",0]
[{"$f":"CheckOne($I$112,G2263)","v":false},null,null,null,null,null,36,null,null,null,null,28,0,null,null,0,"ha. a. kr.",0,null,0,"tim. a. kr.",0]
[{"$f":"CheckOne($I$115,G2263)","v":false},null,null,null,null,null,36,null,null,null,null,31,0,null,null,0,"ha. a. kr.",0,null,0,"tim. a. kr.",0]
[{"$f":"CheckOne($I$116,G2263)","v":false},null,null,null,null,null,36,null,null,null,null,32,0,null,null,0,"ha. a. kr.",0,null,0,"tim. a. kr.",0]
[{"$f":"CheckOne($I$118,G2263)","v":false},null,null,null,null,null,36,null,null,null,null,34,0,null,null,0,"ha. a. kr.",0,null,0,"tim. a. kr.",0]
[{"$f":"CheckOne($I$119,G2263)","v":false},null,null,null,null,null,36,null,null,null,null,35,0,null,null,0,"ha. a. kr.",0,null,0,"tim. a. kr.",0]
[{"$f":"CheckOne($I$122,G2263)","v":false},null,null,null,null,null,36,null,null,null,null,38,0,null,null,0,"ha. a. kr.",0,null,0,"tim. a. kr.",0]
[{"$f":"CheckOne($I$123,G2263)","v":false},null,null,null,null,null,36,null,null,null,null,39,0,null,null,0,"ha. a. kr.",0,null,0,"tim. a. kr.",0]
[{"$f":"CheckOne($I$125,G2263)","v":false},null,null,null,null,null,36,null,null,null,null,41,0,null,null,0,"ha. a. kr.",0,null,0,"tim. a. kr.",0]
[{"$f":"CheckOne($I$126,G2263)","v":false},null,null,null,null,null,36,null,null,null,null,42,0,null,null,0,"ha. a. kr.",0,null,0,"tim. a. kr.",0]
[{"$f":"CheckOne($I$129,G2263)","v":false},null,null,null,null,null,36,null,null,null,null,45,0,null,null,0,"ha. a. kr.",0,null,0,"tim. a. kr.",0]
[{"$f":"CheckOne($I$130,G2263)","v":false},null,null,null,null,null,36,null,null,null,null,46,0,null,null,0,"ha. a. kr.",0,null,0,"tim. a. kr.",0]
[{"$f":"CheckOne($I$132,G2263)","v":false},null,null,null,null,null,36,null,null,null,null,48,0,null,null,0,"ha. a. kr.",0,null,0,"tim. a. kr.",0]
[{"$f":"CheckOne($I$133,G2263)","v":false},null,null,null,null,null,36,null,null,null,null,49,0,null,null,0,"ha. a. kr.",0,null,0,"tim. a. kr.",0]
[{"$f":"A2262","v":false},null,null,null,null,null,null,null,null,null,null,"I alt",null,null,null,null,null,null,null,{"$f":"SUMIF(A2268:A2317,TRUE,T2268:T2317)","v":0},"timer"]
[{"$f":"A2319","v":false}]
[{"$f":"A2321","v":false},null,null,null,null,{"$f":"F2263+1","v":38},{"$f":"VLOOKUP(F2322,$F$31:$J$80,5,FALSE)","v":37},null,null,null,null,"Værdi primo:",null,null,null,{"$f":"VLOOKUP(F2322,$L$31:$AE$80,6,FALSE)","v":0},"Brændst.",{"$f":"VLOOKUP(F2322,$L$31:$AE$80,15,FALSE)","v":0},"GKO",{"$f":"VLOOKUP(F2322,$L$31:$AE$80,10,FALSE)","v":0},"GKE",{"$f":"IFERROR(+T2322/R2324,\"\")","v":""}]
[{"$f":"A2322","v":false},null,null,null,null,null,{"$f":"G2322","v":37},null,null,null,null,"Levetid:",null,null,null,{"$f":"VLOOKUP(F2322,$L$31:$AE$80,7,FALSE)","v":0},"Vedl.",{"$f":"VLOOKUP(F2322,$L$31:$AE$80,14,FALSE)","v":0},"KKO",{"$f":"VLOOKUP(F2322,$L$31:$AE$80,13,FALSE)","v":0},"KKE",{"$f":"IFERROR(+T2323/R2324,\"\")","v":""}]
[false,null,null,null,null,null,37,null,null,null,null,"Opgaver:"]
[{"$f":"CheckOne($I$85,G2322)","v":false},null,null,null,null,null,37,null,null,null,null,{"$f":"L2268:L2317","v":1},{"$f":"M2268:M2318","v":0},null,null,{"$f":"$Z$85:$Z$134","v":0},{"$f":"$AA$85:$AA$134&\" a. kr.\"","v":"ha. a. kr."},{"$f":"$AG$85:$AG$134","v":0},null,{"$f":"$AB$85:$AB$135","v":0},"tim. a. kr.",{"$f":"_xlfn.ANCHORARRAY($AF$85)","v":0}]
[{"$f":"CheckOne($I$87,G2322)","v":false},null,null,null,null,null,37,null,null,null,null,3,0,null,null,0,"ha. a. kr.",0,null,0,"tim. a. kr.",0]
[{"$f":"CheckOne($I$88,G2322)","v":false},null,null,null,null,null,37,null,null,null,null,4,0,null,null,0,"ha. a. kr.",0,null,0,"tim. a. kr.",0]
[{"$f":"CheckOne($I$91,G2322)","v":false},null,null,null,null,null,37,null,null,null,null,7,0,null,null,0,"ha. a. kr.",0,null,0,"tim. a. kr.",0]
[{"$f":"CheckOne($I$92,G2322)","v":false},null,null,null,null,null,37,null,null,null,null,8,0,null,null,0,"ha. a. kr.",0,null,0,"tim. a. kr.",0]
[{"$f":"CheckOne($I$94,G2322)","v":false},null,null,null,null,null,37,null,null,null,null,10,0,null,null,0,"ha. a. kr.",0,null,0,"tim. a. kr.",0]
[{"$f":"CheckOne($I$95,G2322)","v":false},null,null,null,null,null,37,null,null,null,null,11,0,null,null,0,"ha. a. kr.",0,null,0,"tim. a. kr.",0]
[{"$f":"CheckOne($I$98,G2322)","v":false},null,null,null,null,null,37,null,null,null,null,14,0,null,null,0,"ha. a. kr.",0,null,0,"tim. a. kr.",0]
[{"$f":"CheckOne($I$99,G2322)","v":false},null,null,null,null,null,37,null,null,null,null,15,0,null,null,0,"ha. a. kr.",0,null,0,"tim. a. kr.",0]
[{"$f":"CheckOne($I$101,G2322)","v":false},null,null,null,null,null,37,null,null,null,null,17,0,null,null,0,"ha. a. kr.",0,null,0,"tim. a. kr.",0]
[{"$f":"CheckOne($I$102,G2322)","v":false},null,null,null,null,null,37,null,null,null,null,18,0,null,null,0,"ha. a. kr.",0,null,0,"tim. a. kr.",0]
[{"$f":"CheckOne($I$105,G2322)","v":false},null,null,null,null,null,37,null,null,null,null,21,0,null,null,0,"ha. a. kr.",0,null,0,"tim. a. kr.",0]
[{"$f":"CheckOne($I$106,G2322)","v":false},null,null,null,null,null,37,null,null,null,null,22,0,null,null,0,"ha. a. kr.",0,null,0,"tim. a. kr.",0]
[{"$f":"CheckOne($I$108,G2322)","v":false},null,null,null,null,null,37,null,null,null,null,24,0,null,null,0,"ha. a. kr.",0,null,0,"tim. a. kr.",0]
[{"$f":"CheckOne($I$109,G2322)","v":false},null,null,null,null,null,37,null,null,null,null,25,0,null,null,0,"ha. a. kr.",0,null,0,"tim. a. kr.",0]
[{"$f":"CheckOne($I$112,G2322)","v":false},null,null,null,null,null,37,null,null,null,null,28,0,null,null,0,"ha. a. kr.",0,null,0,"tim. a. kr.",0]
[{"$f":"CheckOne($I$113,G2322)","v":false},null,null,null,null,null,37,null,null,null,null,29,0,null,null,0,"ha. a. kr.",0,null,0,"tim. a. kr.",0]
[{"$f":"CheckOne($I$115,G2322)","v":false},null,null,null,null,null,37,null,null,null,null,31,0,null,null,0,"ha. a. kr.",0,null,0,"tim. a. kr.",0]
[{"$f":"CheckOne($I$116,G2322)","v":false},null,null,null,null,null,37,null,null,null,null,32,0,null,null,0,"ha. a. kr.",0,null,0,"tim. a. kr.",0]
[{"$f":"CheckOne($I$119,G2322)","v":false},null,null,null,null,null,37,null,null,null,null,35,0,null,null,0,"ha. a. kr.",0,null,0,"tim. a. kr.",0]
[{"$f":"CheckOne($I$120,G2322)","v":false},null,null,null,null,null,37,null,null,null,null,36,0,null,null,0,"ha. a. kr.",0,null,0,"tim. a. kr.",0]
[{"$f":"CheckOne($I$122,G2322)","v":false},null,null,null,null,null,37,null,null,null,null,38,0,null,null,0,"ha. a. kr.",0,null,0,"tim. a. kr.",0]
[{"$f":"CheckOne($I$123,G2322)","v":false},null,null,null,null,null,37,null,null,null,null,39,0,null,null,0,"ha. a. kr.",0,null,0,"tim. a. kr.",0]
[{"$f":"CheckOne($I$126,G2322)","v":false},null,null,null,null,null,37,null,null,null,null,42,0,null,null,0,"ha. a. kr.",0,null,0,"tim. a. kr.",0]
[{"$f":"CheckOne($I$127,G2322)","v":false},null,null,null,null,null,37,null,null,null,null,43,0,null,null,0,"ha. a. kr.",0,null,0,"tim. a. kr.",0]
[{"$f":"CheckOne($I$129,G2322)","v":false},null,null,null,null,null,37,null,null,null,null,45,0,null,null,0,"ha. a. kr.",0,null,0,"tim. a. kr.",0]
[{"$f":"CheckOne($I$130,G2322)","v":false},null,null,null,null,null,37,null,null,null,null,46,0,null,null,0,"ha. a. kr.",0,null,0,"tim. a. kr.",0]
[{"$f":"CheckOne($I$133,G2322)","v":false},null,null,null,null,null,37,null,null,null,null,49,0,null,null,0,"ha. a. kr.",0,null,0,"tim. a. kr.",0]
[{"$f":"CheckOne($I$134,G2322)","v":false},null,null,null,null,null,37,null,null,null,null,50,0,null,null,0,"ha. a. kr.",0,null,0,"tim. a. kr.",0]
[{"$f":"A2321","v":false},null,null,null,null,null,null,null,null,null,null,"I alt",null,null,null,null,null,null,null,{"$f":"SUMIF(A2327:A2376,TRUE,T2327:T2376)","v":0},"timer"]
[{"$f":"A2378","v":false}]
[{"$f":"A2381","v":false},null,null,null,null,null,{"$f":"G2381","v":38},null,null,null,null,"Levetid:",null,null,null,{"$f":"VLOOKUP(F2381,$L$31:$AE$80,7,FALSE)","v":0},"Vedl.",{"$f":"VLOOKUP(F2381,$L$31:$AE$80,14,FALSE)","v":0},"KKO",{"$f":"VLOOKUP(F2381,$L$31:$AE$80,13,FALSE)","v":0},"KKE",{"$f":"IFERROR(+T2382/R2383,\"\")","v":""}]
[false,null,null,null,null,null,{"$f":"G2382","v":38},null,null,null,null,"Afskrivningspct:",null,null,null,{"$f":"VLOOKUP(F2381,$L$31:$AE$80,8,FALSE)","v":0},"Anvendt",{"$f":"VLOOKUP(F2381,$L$31:$AE$80,18,FALSE)","v":0},"VO",{"$f":"+R2383*V2383","v":0},"VE",{"$f":"VLOOKUP(F2381,$L$31:$AE$80,17,FALSE)","v":0}]
[false,null,null,null,null,null,38,null,null,null,null,"Opgaver:"]
[{"$f":"CheckOne($I$85,G2381)","v":false},null,null,null,null,null,38,null,null,null,null,{"$f":"L2327:L2376","v":1},{"$f":"M2327:M2377","v":0},null,null,{"$f":"$Z$85:$Z$134","v":0},{"$f":"$AA$85:$AA$134&\" a. kr.\"","v":"ha. a. kr."},{"$f":"$AG$85:$AG$134","v":0},null,{"$f":"$AB$85:$AB$135","v":0},"tim. a. kr.",{"$f":"_xlfn.ANCHORARRAY($AF$85)","v":0}]
[{"$f":"CheckOne($I$88,G2381)","v":false},null,null,null,null,null,38,null,null,null,null,4,0,null,null,0,"ha. a. kr.",0,null,0,"tim. a. kr.",0]
[{"$f":"CheckOne($I$89,G2381)","v":false},null,null,null,null,null,38,null,null,null,null,5,0,null,null,0,"ha. a. kr.",0,null,0,"tim. a. kr.",0]
[{"$f":"CheckOne($I$91,G2381)","v":false},null,null,null,null,null,38,null,null,null,null,7,0,null,null,0,"ha. a. kr.",0,null,0,"tim. a. kr.",0]
[{"$f":"CheckOne($I$92,G2381)","v":false},null,null,null,null,null,38,null,null,null,null,8,0,null,null,0,"ha. a. kr.",0,null,0,"tim. a. kr.",0]
[{"$f":"CheckOne($I$95,G2381)","v":false},null,null,null,null,null,38,null,null,null,null,11,0,null,null,0,"ha. a. kr.",0,null,0,"tim. a. kr.",0]
[{"$f":"CheckOne($I$96,G2381)","v":false},null,null,null,null,null,38,null,null,null,null,12,0,null,null,0,"ha. a. kr.",0,null,0,"tim. a. kr.",0]
[{"$f":"CheckOne($I$98,G2381)","v":false},null,null,null,null,null,38,null,null,null,null,14,0,null,null,0,"ha. a. kr.",0,null,0,"tim. a. kr.",0]
[{"$f":"CheckOne($I$99,G2381)","v":false},null,null,null,null,null,38,null,null,null,null,15,0,null,null,0,"ha. a. kr.",0,null,0,"tim. a. kr.",0]
[{"$f":"CheckOne($I$102,G2381)","v":false},null,null,null,null,null,38,null,null,null,null,18,0,null,null,0,"ha. a. kr.",0,null,0,"tim. a. kr.",0]
[{"$f":"CheckOne($I$103,G2381)","v":false},null,null,null,null,null,38,null,null,null,null,19,0,null,null,0,"ha. a. kr.",0,null,0,"tim. a. kr.",0]
[{"$f":"CheckOne($I$105,G2381)","v":false},null,null,null,null,null,38,null,null,null,null,21,0,null,null,0,"ha. a. kr.",0,null,0,"tim. a. kr.",0]
[{"$f":"CheckOne($I$106,G2381)","v":false},null,null,null,null,null,38,null,null,null,null,22,0,null,null,0,"ha. a. kr.",0,null,0,"tim. a. kr.",0]
[{"$f":"CheckOne($I$109,G2381)","v":false},null,null,null,null,null,38,null,null,null,null,25,0,null,null,0,"ha. a. kr.",0,null,0,"tim. a. kr.",0]
[{"$f":"CheckOne($I$110,G2381)","v":false},null,null,null,null,null,38,null,null,null,null,26,0,null,null,0,"ha. a. kr.",0,null,0,"tim. a. kr.",0]
[{"$f":"CheckOne($I$112,G2381)","v":false},null,null,null,null,null,38,null,null,null,null,28,0,null,null,0,"ha. a. kr.",0,null,0,"tim. a. kr.",0]
[{"$f":"CheckOne($I$113,G2381)","v":false},null,null,null,null,null,38,null,null,null,null,29,0,null,null,0,"ha. a. kr.",0,null,0,"tim. a. kr.",0]
[{"$f":"CheckOne($I$116,G2381)","v":false},null,null,null,null,null,38,null,null,null,null,32,0,null,null,0,"ha. a. kr.",0,null,0,"tim. a. kr.",0]
[{"$f":"CheckOne($I$117,G2381)","v":false},null,null,null,null,null,38,null,null,null,null,33,0,null,null,0,"ha. a. kr.",0,null,0,"tim. a. kr.",0]
[{"$f":"CheckOne($I$119,G2381)","v":false},null,null,null,null,null,38,null,null,null,null,35,0,null,null,0,"ha. a. kr.",0,null,0,"tim. a. kr.",0]
[{"$f":"CheckOne($I$120,G2381)","v":false},null,null,null,null,null,38,null,null,null,null,36,0,null,null,0,"ha. a. kr.",0,null,0,"tim. a. kr.",0]
[{"$f":"CheckOne($I$123,G2381)","v":false},null,null,null,null,null,38,null,null,null,null,39,0,null,null,0,"ha. a. kr.",0,null,0,"tim. a. kr.",0]
[{"$f":"CheckOne($I$124,G2381)","v":false},null,null,null,null,null,38,null,null,null,null,40,0,null,null,0,"ha. a. kr.",0,null,0,"tim. a. kr.",0]
[{"$f":"CheckOne($I$126,G2381)","v":false},null,null,null,null,null,38,null,null,null,null,42,0,null,null,0,"ha. a. kr.",0,null,0,"tim. a. kr.",0]
[{"$f":"CheckOne($I$127,G2381)","v":false},null,null,null,null,null,38,null,null,null,null,43,0,null,null,0,"ha. a. kr.",0,null,0,"tim. a. kr.",0]
[{"$f":"CheckOne($I$130,G2381)","v":false},null,null,null,null,null,38,null,null,null,null,46,0,null,null,0,"ha. a. kr.",0,null,0,"tim. a. kr.",0]
[{"$f":"CheckOne($I$131,G2381)","v":false},null,null,null,null,null,38,null,null,null,null,47,0,null,null,0,"ha. a. kr.",0,null,0,"tim. a. kr.",0]
[{"$f":"CheckOne($I$133,G2381)","v":false},null,null,null,null,null,38,null,null,null,null,49,0,null,null,0,"ha. a. kr.",0,null,0,"tim. a. kr.",0]
[{"$f":"CheckOne($I$134,G2381)","v":false},null,null,null,null,null,38,null,null,null,null,50,0,null,null,0,"ha. a. kr.",0,null,0,"tim. a. kr.",0]
[{"$f":"A2437","v":false}]
[{"$f":"OR(L2439<>0,P2440<>0,T2443<>0,R2442<>0)","v":false},null,null,null,null,"nr.","id",null,null,null,null,{"$f":"VLOOKUP(F2440,$L$31:$AE$80,2,FALSE)","v":0},null,null,null,null,null,null,"i alt",null,null,"pr. time."]
[{"$f":"A2440","v":false},null,null,null,null,null,{"$f":"G2440","v":39},null,null,null,null,"Levetid:",null,null,null,{"$f":"VLOOKUP(F2440,$L$31:$AE$80,7,FALSE)","v":0},"Vedl.",{"$f":"VLOOKUP(F2440,$L$31:$AE$80,14,FALSE)","v":0},"KKO",{"$f":"VLOOKUP(F2440,$L$31:$AE$80,13,FALSE)","v":0},"KKE",{"$f":"IFERROR(+T2441/R2442,\"\")","v":""}]
[false,null,null,null,null,null,{"$f":"G2441","v":39},null,null,null,null,"Afskrivningspct:",null,null,null,{"$f":"VLOOKUP(F2440,$L$31:$AE$80,8,FALSE)","v":0},"Anvendt",{"$f":"VLOOKUP(F2440,$L$31:$AE$80,18,FALSE)","v":0},"VO",{"$f":"+R2442*V2442","v":0},"VE",{"$f":"VLOOKUP(F2440,$L$31:$AE$80,17,FALSE)","v":0}]
[{"$f":"CheckOne($I$85,G2440)","v":false},null,null,null,null,null,39,null,null,null,null,{"$f":"L2386:L2435","v":1},{"$f":"M2386:M2436","v":0},null,null,{"$f":"$Z$85:$Z$134","v":0},{"$f":"$AA$85:$AA$134&\" a. kr.\"","v":"ha. a. kr."},{"$f":"$AG$85:$AG$134","v":0},null,{"$f":"$AB$85:$AB$135","v":0},"tim. a. kr.",{"$f":"_xlfn.ANCHORARRAY($AF$85)","v":0}]
[{"$f":"CheckOne($I$86,G2440)","v":false},null,null,null,null,null,39,null,null,null,null,2,0,null,null,0,"ha. a. kr.",0,null,0,"tim. a. kr.",0]
[{"$f":"CheckOne($I$88,G2440)","v":false},null,null,null,null,null,39,null,null,null,null,4,0,null,null,0,"ha. a. kr.",0,null,0,"tim. a. kr.",0]
[{"$f":"CheckOne($I$89,G2440)","v":false},null,null,null,null,null,39,null,null,null,null,5,0,null,null,0,"ha. a. kr.",0,null,0,"tim. a. kr.",0]
[{"$f":"CheckOne($I$92,G2440)","v":false},null,null,null,null,null,39,null,null,null,null,8,0,null,null,0,"ha. a. kr.",0,null,0,"tim. a. kr.",0]
[{"$f":"CheckOne($I$93,G2440)","v":false},null,null,null,null,null,39,null,null,null,null,9,0,null,null,0,"ha. a. kr.",0,null,0,"tim. a. kr.",0]
[{"$f":"CheckOne($I$95,G2440)","v":false},null,null,null,null,null,39,null,null,null,null,11,0,null,null,0,"ha. a. kr.",0,null,0,"tim. a. kr.",0]
[{"$f":"CheckOne($I$96,G2440)","v":false},null,null,null,null,null,39,null,null,null,null,12,0,null,null,0,"ha. a. kr.",0,null,0,"tim. a. kr.",0]
[{"$f":"CheckOne($I$99,G2440)","v":false},null,null,null,null,null,39,null,null,null,null,15,0,null,null,0,"ha. a. kr.",0,null,0,"tim. a. kr.",0]
[{"$f":"CheckOne($I$100,G2440)","v":false},null,null,null,null,null,39,null,null,null,null,16,0,null,null,0,"ha. a. kr.",0,null,0,"tim. a. kr.",0]
[{"$f":"CheckOne($I$102,G2440)","v":false},null,null,null,null,null,39,null,null,null,null,18,0,null,null,0,"ha. a. kr.",0,null,0,"tim. a. kr.",0]
[{"$f":"CheckOne($I$103,G2440)","v":false},null,null,null,null,null,39,null,null,null,null,19,0,null,null,0,"ha. a. kr.",0,null,0,"tim. a. kr.",0]
[{"$f":"CheckOne($I$106,G2440)","v":false},null,null,null,null,null,39,null,null,null,null,22,0,null,null,0,"ha. a. kr.",0,null,0,"tim. a. kr.",0]
[{"$f":"CheckOne($I$107,G2440)","v":false},null,null,null,null,null,39,null,null,null,null,23,0,null,null,0,"ha. a. kr.",0,null,0,"tim. a. kr.",0]
[{"$f":"CheckOne($I$109,G2440)","v":false},null,null,null,null,null,39,null,null,null,null,25,0,null,null,0,"ha. a. kr.",0,null,0,"tim. a. kr.",0]
[{"$f":"CheckOne($I$110,G2440)","v":false},null,null,null,null,null,39,null,null,null,null,26,0,null,null,0,"ha. a. kr.",0,null,0,"tim. a. kr.",0]
[{"$f":"CheckOne($I$113,G2440)","v":false},null,null,null,null,null,39,null,null,null,null,29,0,null,null,0,"ha. a. kr.",0,null,0,"tim. a. kr.",0]
[{"$f":"CheckOne($I$114,G2440)","v":false},null,null,null,null,null,39,null,null,null,null,30,0,null,null,0,"ha. a. kr.",0,null,0,"tim. a. kr.",0]
[{"$f":"CheckOne($I$116,G2440)","v":false},null,null,null,null,null,39,null,null,null,null,32,0,null,null,0,"ha. a. kr.",0,null,0,"tim. a. kr.",0]
[{"$f":"CheckOne($I$117,G2440)","v":false},null,null,null,null,null,39,null,null,null,null,33,0,null,null,0,"ha. a. kr.",0,null,0,"tim. a. kr.",0]
[{"$f":"CheckOne($I$120,G2440)","v":false},null,null,null,null,null,39,null,null,null,null,36,0,null,null,0,"ha. a. kr.",0,null,0,"tim. a. kr.",0]
[{"$f":"CheckOne($I$121,G2440)","v":false},null,null,null,null,null,39,null,null,null,null,37,0,null,null,0,"ha. a. kr.",0,null,0,"tim. a. kr.",0]
[{"$f":"CheckOne($I$123,G2440)","v":false},null,null,null,null,null,39,null,null,null,null,39,0,null,null,0,"ha. a. kr.",0,null,0,"tim. a. kr.",0]
[{"$f":"CheckOne($I$124,G2440)","v":false},null,null,null,null,null,39,null,null,null,null,40,0,null,null,0,"ha. a. kr.",0,null,0,"tim. a. kr.",0]
[{"$f":"CheckOne($I$126,G2440)","v":false},null,null,null,null,null,39,null,null,null,null,42,0,null,null,0,"ha. a. kr.",0,null,0,"tim. a. kr.",0]
[{"$f":"CheckOne($I$127,G2440)","v":false},null,null,null,null,null,39,null,null,null,null,43,0,null,null,0,"ha. a. kr.",0,null,0,"tim. a. kr.",0]
[{"$f":"CheckOne($I$130,G2440)","v":false},null,null,null,null,null,39,null,null,null,null,46,0,null,null,0,"ha. a. kr.",0,null,0,"tim. a. kr.",0]
[{"$f":"CheckOne($I$131,G2440)","v":false},null,null,null,null,null,39,null,null,null,null,47,0,null,null,0,"ha. a. kr.",0,null,0,"tim. a. kr.",0]
[{"$f":"CheckOne($I$133,G2440)","v":false},null,null,null,null,null,39,null,null,null,null,49,0,null,null,0,"ha. a. kr.",0,null,0,"tim. a. kr.",0]
[{"$f":"CheckOne($I$134,G2440)","v":false},null,null,null,null,null,39,null,null,null,null,50,0,null,null,0,"ha. a. kr.",0,null,0,"tim. a. kr.",0]
[{"$f":"A2496","v":false}]
[{"$f":"OR(L2498<>0,P2499<>0,T2502<>0,R2501<>0)","v":false},null,null,null,null,"nr.","id",null,null,null,null,{"$f":"VLOOKUP(F2499,$L$31:$AE$80,2,FALSE)","v":0},null,null,null,null,null,null,"i alt",null,null,"pr. time."]
[{"$f":"A2499","v":false},null,null,null,null,null,{"$f":"G2499","v":40},null,null,null,null,"Levetid:",null,null,null,{"$f":"VLOOKUP(F2499,$L$31:$AE$80,7,FALSE)","v":0},"Vedl.",{"$f":"VLOOKUP(F2499,$L$31:$AE$80,14,FALSE)","v":0},"KKO",{"$f":"VLOOKUP(F2499,$L$31:$AE$80,13,FALSE)","v":0},"KKE",{"$f":"IFERROR(+T2500/R2501,\"\")","v":""}]
[false,null,null,null,null,null,{"$f":"G2500","v":40},null,null,null,null,"Afskrivningspct:",null,null,null,{"$f":"VLOOKUP(F2499,$L$31:$AE$80,8,FALSE)","v":0},"Anvendt",{"$f":"VLOOKUP(F2499,$L$31:$AE$80,18,FALSE)","v":0},"VO",{"$f":"+R2501*V2501","v":0},"VE",{"$f":"VLOOKUP(F2499,$L$31:$AE$80,17,FALSE)","v":0}]
[{"$f":"CheckOne($I$85,G2499)","v":false},null,null,null,null,null,40,null,null,null,null,{"$f":"L2445:L2494","v":1},{"$f":"M2445:M2495","v":0},null,null,{"$f":"$Z$85:$Z$134","v":0},{"$f":"$AA$85:$AA$134&\" a. kr.\"","v":"ha. a. kr."},{"$f":"$AG$85:$AG$134","v":0},null,{"$f":"$AB$85:$AB$135","v":0},"tim. a. kr.",{"$f":"_xlfn.ANCHORARRAY($AF$85)","v":0}]
[{"$f":"CheckOne($I$86,G2499)","v":false},null,null,null,null,null,40,null,null,null,null,2,0,null,null,0,"ha. a. kr.",0,null,0,"tim. a. kr.",0]
[{"$f":"CheckOne($I$88,G2499)","v":false},null,null,null,null,null,40,null,null,null,null,4,0,null,null,0,"ha. a. kr.",0,null,0,"tim. a. kr.",0]
[{"$f":"CheckOne($I$89,G2499)","v":false},null,null,null,null,null,40,null,null,null,null,5,0,null,null,0,"ha. a. kr.",0,null,0,"tim. a. kr.",0]
[{"$f":"CheckOne($I$92,G2499)","v":false},null,null,null,null,null,40,null,null,null,null,8,0,null,null,0,"ha. a. kr.",0,null,0,"tim. a. kr.",0]
[{"$f":"CheckOne($I$93,G2499)","v":false},null,null,null,null,null,40,null,null,null,null,9,0,null,null,0,"ha. a. kr.",0,null,0,"tim. a. kr.",0]
[{"$f":"CheckOne($I$95,G2499)","v":false},null,null,null,null,null,40,null,null,null,null,11,0,null,null,0,"ha. a. kr.",0,null,0,"tim. a. kr.",0]
[{"$f":"CheckOne($I$96,G2499)","v":false},null,null,null,null,null,40,null,null,null,null,12,0,null,null,0,"ha. a. kr.",0,null,0,"tim. a. kr.",0]
[{"$f":"CheckOne($I$99,G2499)","v":false},null,null,null,null,null,40,null,null,null,null,15,0,null,null,0,"ha. a. kr.",0,null,0,"tim. a. kr.",0]
[{"$f":"CheckOne($I$100,G2499)","v":false},null,null,null,null,null,40,null,null,null,null,16,0,null,null,0,"ha. a. kr.",0,null,0,"tim. a. kr.",0]
[{"$f":"CheckOne($I$102,G2499)","v":false},null,null,null,null,null,40,null,null,null,null,18,0,null,null,0,"ha. a. kr.",0,null,0,"tim. a. kr.",0]
[{"$f":"CheckOne($I$103,G2499)","v":false},null,null,null,null,null,40,null,null,null,null,19,0,null,null,0,"ha. a. kr.",0,null,0,"tim. a. kr.",0]
[{"$f":"CheckOne($I$106,G2499)","v":false},null,null,null,null,null,40,null,null,null,null,22,0,null,null,0,"ha. a. kr.",0,null,0,"tim. a. kr.",0]
[{"$f":"CheckOne($I$107,G2499)","v":false},null,null,null,null,null,40,null,null,null,null,23,0,null,null,0,"ha. a. kr.",0,null,0,"tim. a. kr.",0]
[{"$f":"CheckOne($I$109,G2499)","v":false},null,null,null,null,null,40,null,null,null,null,25,0,null,null,0,"ha. a. kr.",0,null,0,"tim. a. kr.",0]
[{"$f":"CheckOne($I$110,G2499)","v":false},null,null,null,null,null,40,null,null,null,null,26,0,null,null,0,"ha. a. kr.",0,null,0,"tim. a. kr.",0]
[{"$f":"CheckOne($I$113,G2499)","v":false},null,null,null,null,null,40,null,null,null,null,29,0,null,null,0,"ha. a. kr.",0,null,0,"tim. a. kr.",0]
[{"$f":"CheckOne($I$114,G2499)","v":false},null,null,null,null,null,40,null,null,null,null,30,0,null,null,0,"ha. a. kr.",0,null,0,"tim. a. kr.",0]
[{"$f":"CheckOne($I$116,G2499)","v":false},null,null,null,null,null,40,null,null,null,null,32,0,null,null,0,"ha. a. kr.",0,null,0,"tim. a. kr.",0]
[{"$f":"CheckOne($I$117,G2499)","v":false},null,null,null,null,null,40,null,null,null,null,33,0,null,null,0,"ha. a. kr.",0,null,0,"tim. a. kr.",0]
[{"$f":"CheckOne($I$120,G2499)","v":false},null,null,null,null,null,40,null,null,null,null,36,0,null,null,0,"ha. a. kr.",0,null,0,"tim. a. kr.",0]
[{"$f":"CheckOne($I$121,G2499)","v":false},null,null,null,null,null,40,null,null,null,null,37,0,null,null,0,"ha. a. kr.",0,null,0,"tim. a. kr.",0]
[{"$f":"CheckOne($I$123,G2499)","v":false},null,null,null,null,null,40,null,null,null,null,39,0,null,null,0,"ha. a. kr.",0,null,0,"tim. a. kr.",0]
[{"$f":"CheckOne($I$124,G2499)","v":false},null,null,null,null,null,40,null,null,null,null,40,0,null,null,0,"ha. a. kr.",0,null,0,"tim. a. kr.",0]
[{"$f":"CheckOne($I$127,G2499)","v":false},null,null,null,null,null,40,null,null,null,null,43,0,null,null,0,"ha. a. kr.",0,null,0,"tim. a. kr.",0]
[{"$f":"CheckOne($I$128,G2499)","v":false},null,null,null,null,null,40,null,null,null,null,44,0,null,null,0,"ha. a. kr.",0,null,0,"tim. a. kr.",0]
[{"$f":"CheckOne($I$130,G2499)","v":false},null,null,null,null,null,40,null,null,null,null,46,0,null,null,0,"ha. a. kr.",0,null,0,"tim. a. kr.",0]
[{"$f":"CheckOne($I$131,G2499)","v":false},null,null,null,null,null,40,null,null,null,null,47,0,null,null,0,"ha. a. kr.",0,null,0,"tim. a. kr.",0]
[{"$f":"CheckOne($I$134,G2499)","v":false},null,null,null,null,null,40,null,null,null,null,50,0,null,null,0,"ha. a. kr.",0,null,0,"tim. a. kr.",0]
[{"$f":"OR(T2554<>0)","v":false},null,null,null,null,null,null,null,null,null,null,null,"Ufordelte omkostninger",null,null,null,null,null,null,0,"tim. a. kr.",0]
[{"$f":"A2555","v":false}]
[{"$f":"OR(L2557<>0,P2558<>0,T2561<>0,R2560<>0)","v":false},null,null,null,null,"nr.","id",null,null,null,null,{"$f":"VLOOKUP(F2558,$L$31:$AE$80,2,FALSE)","v":0},null,null,null,null,null,null,"i alt",null,null,"pr. time."]
[false,null,null,null,null,null,{"$f":"G2559","v":41},null,null,null,null,"Afskrivningspct:",null,null,null,{"$f":"VLOOKUP(F2558,$L$31:$AE$80,8,FALSE)","v":0},"Anvendt",{"$f":"VLOOKUP(F2558,$L$31:$AE$80,18,FALSE)","v":0},"VO",{"$f":"+R2560*V2560","v":0},"VE",{"$f":"VLOOKUP(F2558,$L$31:$AE$80,17,FALSE)","v":0}]
[false,null,null,null,null,null,41,null,null,null,null,"Scrapværdi:",null,null,null,{"$f":"VLOOKUP(F2558,$L$31:$AE$80,9,FALSE)","v":0},null,null,"TO",{"$f":"+T2558+T2559+T2560","v":0},"TE",{"$f":"IFERROR(+V2558+V2559+V2560,\"\")","v":""}]
[{"$f":"CheckOne($I$85,G2558)","v":false},null,null,null,null,null,41,null,null,null,null,{"$f":"L2504:L2553","v":1},{"$f":"M2504:M2554","v":0},null,null,{"$f":"$Z$85:$Z$134","v":0},{"$f":"$AA$85:$AA$134&\" a. kr.\"","v":"ha. a. kr."},{"$f":"$AG$85:$AG$134","v":0},null,{"$f":"$AB$85:$AB$135","v":0},"tim. a. kr.",{"$f":"_xlfn.ANCHORARRAY($AF$85)","v":0}]
[{"$f":"CheckOne($I$86,G2558)","v":false},null,null,null,null,null,41,null,null,null,null,2,0,null,null,0,"ha. a. kr.",0,null,0,"tim. a. kr.",0]
[{"$f":"CheckOne($I$89,G2558)","v":false},null,null,null,null,null,41,null,null,null,null,5,0,null,null,0,"ha. a. kr.",0,null,0,"tim. a. kr.",0]
[{"$f":"CheckOne($I$90,G2558)","v":false},null,null,null,null,null,41,null,null,null,null,6,0,null,null,0,"ha. a. kr.",0,null,0,"tim. a. kr.",0]
[{"$f":"CheckOne($I$92,G2558)","v":false},null,null,null,null,null,41,null,null,null,null,8,0,null,null,0,"ha. a. kr.",0,null,0,"tim. a. kr.",0]
[{"$f":"CheckOne($I$93,G2558)","v":false},null,null,null,null,null,41,null,null,null,null,9,0,null,null,0,"ha. a. kr.",0,null,0,"tim. a. kr.",0]
[{"$f":"CheckOne($I$96,G2558)","v":false},null,null,null,null,null,41,null,null,null,null,12,0,null,null,0,"ha. a. kr.",0,null,0,"tim. a. kr.",0]
[{"$f":"CheckOne($I$97,G2558)","v":false},null,null,null,null,null,41,null,null,null,null,13,0,null,null,0,"ha. a. kr.",0,null,0,"tim. a. kr.",0]
[{"$f":"CheckOne($I$99,G2558)","v":false},null,null,null,null,null,41,null,null,null,null,15,0,null,null,0,"ha. a. kr.",0,null,0,"tim. a. kr.",0]
[{"$f":"CheckOne($I$100,G2558)","v":false},null,null,null,null,null,41,null,null,null,null,16,0,null,null,0,"ha. a. kr.",0,null,0,"tim. a. kr.",0]
[{"$f":"CheckOne($I$103,G2558)","v":false},null,null,null,null,null,41,null,null,null,null,19,0,null,null,0,"ha. a. kr.",0,null,0,"tim. a. kr.",0]
[{"$f":"CheckOne($I$104,G2558)","v":false},null,null,null,null,null,41,null,null,null,null,20,0,null,null,0,"ha. a. kr.",0,null,0,"tim. a. kr.",0]
[{"$f":"CheckOne($I$106,G2558)","v":false},null,null,null,null,null,41,null,null,null,null,22,0,null,null,0,"ha. a. kr.",0,null,0,"tim. a. kr.",0]
[{"$f":"CheckOne($I$107,G2558)","v":false},null,null,null,null,null,41,null,null,null,null,23,0,null,null,0,"ha. a. kr.",0,null,0,"tim. a. kr.",0]
[{"$f":"CheckOne($I$110,G2558)","v":false},null,null,null,null,null,41,null,null,null,null,26,0,null,null,0,"ha. a. kr.",0,null,0,"tim. a. kr.",0]
[{"$f":"CheckOne($I$111,G2558)","v":false},null,null,null,null,null,41,null,null,null,null,27,0,null,null,0,"ha. a. kr.",0,null,0,"tim. a. kr.",0]
[{"$f":"CheckOne($I$113,G2558)","v":false},null,null,null,null,null,41,null,null,null,null,29,0,null,null,0,"ha. a. kr.",0,null,0,"tim. a. kr.",0]
[{"$f":"CheckOne($I$114,G2558)","v":false},null,null,null,null,null,41,null,null,null,null,30,0,null,null,0,"ha. a. kr.",0,null,0,"tim. a. kr.",0]
[{"$f":"CheckOne($I$117,G2558)","v":false},null,null,null,null,null,41,null,null,null,null,33,0,null,null,0,"ha. a. kr.",0,null,0,"tim. a. kr.",0]
[{"$f":"CheckOne($I$118,G2558)","v":false},null,null,null,null,null,41,null,null,null,null,34,0,null,null,0,"ha. a. kr.",0,null,0,"tim. a. kr.",0]
[{"$f":"CheckOne($I$120,G2558)","v":false},null,null,null,null,null,41,null,null,null,null,36,0,null,null,0,"ha. a. kr.",0,null,0,"tim. a. kr.",0]
[{"$f":"CheckOne($I$121,G2558)","v":false},null,null,null,null,null,41,null,null,null,null,37,0,null,null,0,"ha. a. kr.",0,null,0,"tim. a. kr.",0]
[{"$f":"CheckOne($I$124,G2558)","v":false},null,null,null,null,null,41,null,null,null,null,40,0,null,null,0,"ha. a. kr.",0,null,0,"tim. a. kr.",0]
[{"$f":"CheckOne($I$125,G2558)","v":false},null,null,null,null,null,41,null,null,null,null,41,0,null,null,0,"ha. a. kr.",0,null,0,"tim. a. kr.",0]
[{"$f":"CheckOne($I$127,G2558)","v":false},null,null,null,null,null,41,null,null,null,null,43,0,null,null,0,"ha. a. kr.",0,null,0,"tim. a. kr.",0]
[{"$f":"CheckOne($I$128,G2558)","v":false},null,null,null,null,null,41,null,null,null,null,44,0,null,null,0,"ha. a. kr.",0,null,0,"tim. a. kr.",0]
[{"$f":"CheckOne($I$131,G2558)","v":false},null,null,null,null,null,41,null,null,null,null,47,0,null,null,0,"ha. a. kr.",0,null,0,"tim. a. kr.",0]
[{"$f":"CheckOne($I$132,G2558)","v":false},null,null,null,null,null,41,null,null,null,null,48,0,null,null,0,"ha. a. kr.",0,null,0,"tim. a. kr.",0]
[{"$f":"CheckOne($I$134,G2558)","v":false},null,null,null,null,null,41,null,null,null,null,50,0,null,null,0,"ha. a. kr.",0,null,0,"tim. a. kr.",0]
[{"$f":"OR(T2613<>0)","v":false},null,null,null,null,null,null,null,null,null,null,null,"Ufordelte omkostninger",null,null,null,null,null,null,0,"tim. a. kr.",0]
[{"$f":"OR(L2616<>0,P2617<>0,T2620<>0,R2619<>0)","v":false},null,null,null,null,"nr.","id",null,null,null,null,{"$f":"VLOOKUP(F2617,$L$31:$AE$80,2,FALSE)","v":0},null,null,null,null,null,null,"i alt",null,null,"pr. time."]
[{"$f":"A2616","v":false},null,null,null,null,{"$f":"F2558+1","v":43},{"$f":"VLOOKUP(F2617,$F$31:$J$80,5,FALSE)","v":42},null,null,null,null,"Værdi primo:",null,null,null,{"$f":"VLOOKUP(F2617,$L$31:$AE$80,6,FALSE)","v":0},"Brændst.",{"$f":"VLOOKUP(F2617,$L$31:$AE$80,15,FALSE)","v":0},"GKO",{"$f":"VLOOKUP(F2617,$L$31:$AE$80,10,FALSE)","v":0},"GKE",{"$f":"IFERROR(+T2617/R2619,\"\")","v":""}]
[false,null,null,null,null,null,{"$f":"G2618","v":42},null,null,null,null,"Afskrivningspct:",null,null,null,{"$f":"VLOOKUP(F2617,$L$31:$AE$80,8,FALSE)","v":0},"Anvendt",{"$f":"VLOOKUP(F2617,$L$31:$AE$80,18,FALSE)","v":0},"VO",{"$f":"+R2619*V2619","v":0},"VE",{"$f":"VLOOKUP(F2617,$L$31:$AE$80,17,FALSE)","v":0}]
[false,null,null,null,null,null,42,null,null,null,null,"Scrapværdi:",null,null,null,{"$f":"VLOOKUP(F2617,$L$31:$AE$80,9,FALSE)","v":0},null,null,"TO",{"$f":"+T2617+T2618+T2619","v":0},"TE",{"$f":"IFERROR(+V2617+V2618+V2619,\"\")","v":""}]
[{"$f":"CheckOne($I$86,G2617)","v":false},null,null,null,null,null,42,null,null,null,null,2,0,null,null,0,"ha. a. kr.",0,null,0,"tim. a. kr.",0]
[{"$f":"CheckOne($I$87,G2617)","v":false},null,null,null,null,null,42,null,null,null,null,3,0,null,null,0,"ha. a. kr.",0,null,0,"tim. a. kr.",0]
[{"$f":"CheckOne($I$89,G2617)","v":false},null,null,null,null,null,42,null,null,null,null,5,0,null,null,0,"ha. a. kr.",0,null,0,"tim. a. kr.",0]
[{"$f":"CheckOne($I$90,G2617)","v":false},null,null,null,null,null,42,null,null,null,null,6,0,null,null,0,"ha. a. kr.",0,null,0,"tim. a. kr.",0]
[{"$f":"CheckOne($I$93,G2617)","v":false},null,null,null,null,null,42,null,null,null,null,9,0,null,null,0,"ha. a. kr.",0,null,0,"tim. a. kr.",0]
[{"$f":"CheckOne($I$94,G2617)","v":false},null,null,null,null,null,42,null,null,null,null,10,0,null,null,0,"ha. a. kr.",0,null,0,"tim. a. kr.",0]
[{"$f":"CheckOne($I$96,G2617)","v":false},null,null,null,null,null,42,null,null,null,null,12,0,null,null,0,"ha. a. kr.",0,null,0,"tim. a. kr.",0]
[{"$f":"CheckOne($I$97,G2617)","v":false},null,null,null,null,null,42,null,null,null,null,13,0,null,null,0,"ha. a. kr.",0,null,0,"tim. a. kr.",0]
[{"$f":"CheckOne($I$100,G2617)","v":false},null,null,null,null,null,42,null,null,null,null,16,0,null,null,0,"ha. a. kr.",0,null,0,"tim. a. kr.",0]
[{"$f":"CheckOne($I$101,G2617)","v":false},null,null,null,null,null,42,null,null,null,null,17,0,null,null,0,"ha. a. kr.",0,null,0,"tim. a. kr.",0]
[{"$f":"CheckOne($I$103,G2617)","v":false},null,null,null,null,null,42,null,null,null,null,19,0,null,null,0,"ha. a. kr.",0,null,0,"tim. a. kr.",0]
[{"$f":"CheckOne($I$104,G2617)","v":false},null,null,null,null,null,42,null,null,null,null,20,0,null,null,0,"ha. a. kr.",0,null,0,"tim. a. kr.",0]
[{"$f":"CheckOne($I$107,G2617)","v":false},null,null,null,null,null,42,null,null,null,null,23,0,null,null,0,"ha. a. kr.",0,null,0,"tim. a. kr.",0]
[{"$f":"CheckOne($I$108,G2617)","v":false},null,null,null,null,null,42,null,null,null,null,24,0,null,null,0,"ha. a. kr.",0,null,0,"tim. a. kr.",0]
[{"$f":"CheckOne($I$110,G2617)","v":false},null,null,null,null,null,42,null,null,null,null,26,0,null,null,0,"ha. a. kr.",0,null,0,"tim. a. kr.",0]
[{"$f":"CheckOne($I$111,G2617)","v":false},null,null,null,null,null,42,null,null,null,null,27,0,null,null,0,"ha. a. kr.",0,null,0,"tim. a. kr.",0]
[{"$f":"CheckOne($I$114,G2617)","v":false},null,null,null,null,null,42,null,null,null,null,30,0,null,null,0,"ha. a. kr.",0,null,0,"tim. a. kr.",0]
[{"$f":"CheckOne($I$115,G2617)","v":false},null,null,null,null,null,42,null,null,null,null,31,0,null,null,0,"ha. a. kr.",0,null,0,"tim. a. kr.",0]
[{"$f":"CheckOne($I$117,G2617)","v":false},null,null,null,null,null,42,null,null,null,null,33,0,null,null,0,"ha. a. kr.",0,null,0,"tim. a. kr.",0]
[{"$f":"CheckOne($I$118,G2617)","v":false},null,null,null,null,null,42,null,null,null,null,34,0,null,null,0,"ha. a. kr.",0,null,0,"tim. a. kr.",0]
[{"$f":"CheckOne($I$121,G2617)","v":false},null,null,null,null,null,42,null,null,null,null,37,0,null,null,0,"ha. a. kr.",0,null,0,"tim. a. kr.",0]
[{"$f":"CheckOne($I$122,G2617)","v":false},null,null,null,null,null,42,null,null,null,null,38,0,null,null,0,"ha. a. kr.",0,null,0,"tim. a. kr.",0]
[{"$f":"CheckOne($I$124,G2617)","v":false},null,null,null,null,null,42,null,null,null,null,40,0,null,null,0,"ha. a. kr.",0,null,0,"tim. a. kr.",0]
[{"$f":"CheckOne($I$125,G2617)","v":false},null,null,null,null,null,42,null,null,null,null,41,0,null,null,0,"ha. a. kr.",0,null,0,"tim. a. kr.",0]
[{"$f":"CheckOne($I$128,G2617)","v":false},null,null,null,null,null,42,null,null,null,null,44,0,null,null,0,"ha. a. kr.",0,null,0,"tim. a. kr.",0]
[{"$f":"CheckOne($I$129,G2617)","v":false},null,null,null,null,null,42,null,null,null,null,45,0,null,null,0,"ha. a. kr.",0,null,0,"tim. a. kr.",0]
[{"$f":"CheckOne($I$131,G2617)","v":false},null,null,null,null,null,42,null,null,null,null,47,0,null,null,0,"ha. a. kr.",0,null,0,"tim. a. kr.",0]
[{"$f":"CheckOne($I$132,G2617)","v":false},null,null,null,null,null,42,null,null,null,null,48,0,null,null,0,"ha. a. kr.",0,null,0,"tim. a. kr.",0]
[{"$f":"OR(T2672<>0)","v":false},null,null,null,null,null,null,null,null,null,null,null,"Ufordelte omkostninger",null,null,null,null,null,null,0,"tim. a. kr.",0]
[{"$f":"A2616","v":false},null,null,null,null,null,null,null,null,null,null,"I alt",null,null,null,null,null,null,null,{"$f":"SUMIF(A2622:A2671,TRUE,T2622:T2671)","v":0},"timer"]
[{"$f":"OR(L2675<>0,P2676<>0,T2679<>0,R2678<>0)","v":false},null,null,null,null,"nr.","id",null,null,null,null,{"$f":"VLOOKUP(F2676,$L$31:$AE$80,2,FALSE)","v":0},null,null,null,null,null,null,"i alt",null,null,"pr. time."]
[{"$f":"A2675","v":false},null,null,null,null,{"$f":"F2617+1","v":44},{"$f":"VLOOKUP(F2676,$F$31:$J$80,5,FALSE)","v":43},null,null,null,null,"Værdi primo:",null,null,null,{"$f":"VLOOKUP(F2676,$L$31:$AE$80,6,FALSE)","v":0},"Brændst.",{"$f":"VLOOKUP(F2676,$L$31:$AE$80,15,FALSE)","v":0},"GKO",{"$f":"VLOOKUP(F2676,$L$31:$AE$80,10,FALSE)","v":0},"GKE",{"$f":"IFERROR(+T2676/R2678,\"\")","v":""}]
[false,null,null,null,null,null,{"$f":"G2677","v":43},null,null,null,null,"Afskrivningspct:",null,null,null,{"$f":"VLOOKUP(F2676,$L$31:$AE$80,8,FALSE)","v":0},"Anvendt",{"$f":"VLOOKUP(F2676,$L$31:$AE$80,18,FALSE)","v":0},"VO",{"$f":"+R2678*V2678","v":0},"VE",{"$f":"VLOOKUP(F2676,$L$31:$AE$80,17,FALSE)","v":0}]
[false,null,null,null,null,null,43,null,null,null,null,"Scrapværdi:",null,null,null,{"$f":"VLOOKUP(F2676,$L$31:$AE$80,9,FALSE)","v":0},null,null,"TO",{"$f":"+T2676+T2677+T2678","v":0},"TE",{"$f":"IFERROR(+V2676+V2677+V2678,\"\")","v":""}]
[{"$f":"CheckOne($I$86,G2676)","v":false},null,null,null,null,null,43,null,null,null,null,2,0,null,null,0,"ha. a. kr.",0,null,0,"tim. a. kr.",0]
[{"$f":"CheckOne($I$87,G2676)","v":false},null,null,null,null,null,43,null,null,null,null,3,0,null,null,0,"ha. a. kr.",0,null,0,"tim. a. kr.",0]
[{"$f":"CheckOne($I$89,G2676)","v":false},null,null,null,null,null,43,null,null,null,null,5,0,null,null,0,"ha. a. kr.",0,null,0,"tim. a. kr.",0]
[{"$f":"CheckOne($I$90,G2676)","v":false},null,null,null,null,null,43,null,null,null,null,6,0,null,null,0,"ha. a. kr.",0,null,0,"tim. a. kr.",0]
[{"$f":"CheckOne($I$93,G2676)","v":false},null,null,null,null,null,43,null,null,null,null,9,0,null,null,0,"ha. a. kr.",0,null,0,"tim. a. kr.",0]
[{"$f":"CheckOne($I$94,G2676)","v":false},null,null,null,null,null,43,null,null,null,null,10,0,null,null,0,"ha. a. kr.",0,null,0,"tim. a. kr.",0]
[{"$f":"CheckOne($I$96,G2676)","v":false},null,null,null,null,null,43,null,null,null,null,12,0,null,null,0,"ha. a. kr.",0,null,0,"tim. a. kr.",0]
[{"$f":"CheckOne($I$97,G2676)","v":false},null,null,null,null,null,43,null,null,null,null,13,0,null,null,0,"ha. a. kr.",0,null,0,"tim. a. kr.",0]
[{"$f":"CheckOne($I$100,G2676)","v":false},null,null,null,null,null,43,null,null,null,null,16,0,null,null,0,"ha. a. kr.",0,null,0,"tim. a. kr.",0]
[{"$f":"CheckOne($I$101,G2676)","v":false},null,null,null,null,null,43,null,null,null,null,17,0,null,null,0,"ha. a. kr.",0,null,0,"tim. a. kr.",0]
[{"$f":"CheckOne($I$103,G2676)","v":false},null,null,null,null,null,43,null,null,null,null,19,0,null,null,0,"ha. a. kr.",0,null,0,"tim. a. kr.",0]
[{"$f":"CheckOne($I$104,G2676)","v":false},null,null,null,null,null,43,null,null,null,null,20,0,null,null,0,"ha. a. kr.",0,null,0,"tim. a. kr.",0]
[{"$f":"CheckOne($I$107,G2676)","v":false},null,null,null,null,null,43,null,null,null,null,23,0,null,null,0,"ha. a. kr.",0,null,0,"tim. a. kr.",0]
[{"$f":"CheckOne($I$108,G2676)","v":false},null,null,null,null,null,43,null,null,null,null,24,0,null,null,0,"ha. a. kr.",0,null,0,"tim. a. kr.",0]
[{"$f":"CheckOne($I$110,G2676)","v":false},null,null,null,null,null,43,null,null,null,null,26,0,null,null,0,"ha. a. kr.",0,null,0,"tim. a. kr.",0]
[{"$f":"CheckOne($I$111,G2676)","v":false},null,null,null,null,null,43,null,null,null,null,27,0,null,null,0,"ha. a. kr.",0,null,0,"tim. a. kr.",0]
[{"$f":"CheckOne($I$114,G2676)","v":false},null,null,null,null,null,43,null,null,null,null,30,0,null,null,0,"ha. a. kr.",0,null,0,"tim. a. kr.",0]
[{"$f":"CheckOne($I$115,G2676)","v":false},null,null,null,null,null,43,null,null,null,null,31,0,null,null,0,"ha. a. kr.",0,null,0,"tim. a. kr.",0]
[{"$f":"CheckOne($I$117,G2676)","v":false},null,null,null,null,null,43,null,null,null,null,33,0,null,null,0,"ha. a. kr.",0,null,0,"tim. a. kr.",0]
[{"$f":"CheckOne($I$118,G2676)","v":false},null,null,null,null,null,43,null,null,null,null,34,0,null,null,0,"ha. a. kr.",0,null,0,"tim. a. kr.",0]
[{"$f":"CheckOne($I$121,G2676)","v":false},null,null,null,null,null,43,null,null,null,null,37,0,null,null,0,"ha. a. kr.",0,null,0,"tim. a. kr.",0]
[{"$f":"CheckOne($I$122,G2676)","v":false},null,null,null,null,null,43,null,null,null,null,38,0,null,null,0,"ha. a. kr.",0,null,0,"tim. a. kr.",0]
[{"$f":"CheckOne($I$124,G2676)","v":false},null,null,null,null,null,43,null,null,null,null,40,0,null,null,0,"ha. a. kr.",0,null,0,"tim. a. kr.",0]
[{"$f":"CheckOne($I$125,G2676)","v":false},null,null,null,null,null,43,null,null,null,null,41,0,null,null,0,"ha. a. kr.",0,null,0,"tim. a. kr.",0]
[{"$f":"CheckOne($I$128,G2676)","v":false},null,null,null,null,null,43,null,null,null,null,44,0,null,null,0,"ha. a. kr.",0,null,0,"tim. a. kr.",0]
[{"$f":"CheckOne($I$129,G2676)","v":false},null,null,null,null,null,43,null,null,null,null,45,0,null,null,0,"ha. a. kr.",0,null,0,"tim. a. kr.",0]
[{"$f":"CheckOne($I$131,G2676)","v":false},null,null,null,null,null,43,null,null,null,null,47,0,null,null,0,"ha. a. kr.",0,null,0,"tim. a. kr.",0]
[{"$f":"CheckOne($I$132,G2676)","v":false},null,null,null,null,null,43,null,null,null,null,48,0,null,null,0,"ha. a. kr.",0,null,0,"tim. a. kr.",0]
[{"$f":"OR(T2731<>0)","v":false},null,null,null,null,null,null,null,null,null,null,null,"Ufordelte omkostninger",null,null,null,null,null,null,0,"tim. a. kr.",0]
[{"$f":"A2675","v":false},null,null,null,null,null,null,null,null,null,null,"I alt",null,null,null,null,null,null,null,{"$f":"SUMIF(A2681:A2730,TRUE,T2681:T2730)","v":0},"timer"]
[{"$f":"OR(L2734<>0,P2735<>0,T2738<>0,R2737<>0)","v":false},null,null,null,null,"nr.","id",null,null,null,null,{"$f":"VLOOKUP(F2735,$L$31:$AE$80,2,FALSE)","v":0},null,null,null,null,null,null,"i alt",null,null,"pr. time."]
[{"$f":"A2734","v":false},null,null,null,null,{"$f":"F2676+1","v":45},{"$f":"VLOOKUP(F2735,$F$31:$J$80,5,FALSE)","v":44},null,null,null,null,"Værdi primo:",null,null,null,{"$f":"VLOOKUP(F2735,$L$31:$AE$80,6,FALSE)","v":0},"Brændst.",{"$f":"VLOOKUP(F2735,$L$31:$AE$80,15,FALSE)","v":0},"GKO",{"$f":"VLOOKUP(F2735,$L$31:$AE$80,10,FALSE)","v":0},"GKE",{"$f":"IFERROR(+T2735/R2737,\"\")","v":""}]
[false,null,null,null,null,null,44,null,null,null,null,"Scrapværdi:",null,null,null,{"$f":"VLOOKUP(F2735,$L$31:$AE$80,9,FALSE)","v":0},null,null,"TO",{"$f":"+T2735+T2736+T2737","v":0},"TE",{"$f":"IFERROR(+V2735+V2736+V2737,\"\")","v":""}]
[false,null,null,null,null,null,44,null,null,null,null,"Opgaver:"]
[{"$f":"CheckOne($I$86,G2735)","v":false},null,null,null,null,null,44,null,null,null,null,2,0,null,null,0,"ha. a. kr.",0,null,0,"tim. a. kr.",0]
[{"$f":"CheckOne($I$87,G2735)","v":false},null,null,null,null,null,44,null,null,null,null,3,0,null,null,0,"ha. a. kr.",0,null,0,"tim. a. kr.",0]
[{"$f":"CheckOne($I$90,G2735)","v":false},null,null,null,null,null,44,null,null,null,null,6,0,null,null,0,"ha. a. kr.",0,null,0,"tim. a. kr.",0]
[{"$f":"CheckOne($I$91,G2735)","v":false},null,null,null,null,null,44,null,null,null,null,7,0,null,null,0,"ha. a. kr.",0,null,0,"tim. a. kr.",0]
[{"$f":"CheckOne($I$93,G2735)","v":false},null,null,null,null,null,44,null,null,null,null,9,0,null,null,0,"ha. a. kr.",0,null,0,"tim. a. kr.",0]
[{"$f":"CheckOne($I$94,G2735)","v":false},null,null,null,null,null,44,null,null,null,null,10,0,null,null,0,"ha. a. kr.",0,null,0,"tim. a. kr.",0]
[{"$f":"CheckOne($I$97,G2735)","v":false},null,null,null,null,null,44,null,null,null,null,13,0,null,null,0,"ha. a. kr.",0,null,0,"tim. a. kr.",0]
[{"$f":"CheckOne($I$98,G2735)","v":false},null,null,null,null,null,44,null,null,null,null,14,0,null,null,0,"ha. a. kr.",0,null,0,"tim. a. kr.",0]
[{"$f":"CheckOne($I$100,G2735)","v":false},null,null,null,null,null,44,null,null,null,null,16,0,null,null,0,"ha. a. kr.",0,null,0,"tim. a. kr.",0]
[{"$f":"CheckOne($I$101,G2735)","v":false},null,null,null,null,null,44,null,null,null,null,17,0,null,null,0,"ha. a. kr.",0,null,0,"tim. a. kr.",0]
[{"$f":"CheckOne($I$104,G2735)","v":false},null,null,null,null,null,44,null,null,null,null,20,0,null,null,0,"ha. a. kr.",0,null,0,"tim. a. kr.",0]
[{"$f":"CheckOne($I$105,G2735)","v":false},null,null,null,null,null,44,null,null,null,null,21,0,null,null,0,"ha. a. kr.",0,null,0,"tim. a. kr.",0]
[{"$f":"CheckOne($I$107,G2735)","v":false},null,null,null,null,null,44,null,null,null,null,23,0,null,null,0,"ha. a. kr.",0,null,0,"tim. a. kr.",0]
[{"$f":"CheckOne($I$108,G2735)","v":false},null,null,null,null,null,44,null,null,null,null,24,0,null,null,0,"ha. a. kr.",0,null,0,"tim. a. kr.",0]
[{"$f":"CheckOne($I$111,G2735)","v":false},null,null,null,null,null,44,null,null,null,null,27,0,null,null,0,"ha. a. kr.",0,null,0,"tim. a. kr.",0]
[{"$f":"CheckOne($I$112,G2735)","v":false},null,null,null,null,null,44,null,null,null,null,28,0,null,null,0,"ha. a. kr.",0,null,0,"tim. a. kr.",0]
[{"$f":"CheckOne($I$114,G2735)","v":false},null,null,null,null,null,44,null,null,null,null,30,0,null,null,0,"ha. a. kr.",0,null,0,"tim. a. kr.",0]
[{"$f":"CheckOne($I$115,G2735)","v":false},null,null,null,null,null,44,null,null,null,null,31,0,null,null,0,"ha. a. kr.",0,null,0,"tim. a. kr.",0]
[{"$f":"CheckOne($I$118,G2735)","v":false},null,null,null,null,null,44,null,null,null,null,34,0,null,null,0,"ha. a. kr.",0,null,0,"tim. a. kr.",0]
[{"$f":"CheckOne($I$119,G2735)","v":false},null,null,null,null,null,44,null,null,null,null,35,0,null,null,0,"ha. a. kr.",0,null,0,"tim. a. kr.",0]
[{"$f":"CheckOne($I$121,G2735)","v":false},null,null,null,null,null,44,null,null,null,null,37,0,null,null,0,"ha. a. kr.",0,null,0,"tim. a. kr.",0]
[{"$f":"CheckOne($I$122,G2735)","v":false},null,null,null,null,null,44,null,null,null,null,38,0,null,null,0,"ha. a. kr.",0,null,0,"tim. a. kr.",0]
[{"$f":"CheckOne($I$125,G2735)","v":false},null,null,null,null,null,44,null,null,null,null,41,0,null,null,0,"ha. a. kr.",0,null,0,"tim. a. kr.",0]
[{"$f":"CheckOne($I$126,G2735)","v":false},null,null,null,null,null,44,null,null,null,null,42,0,null,null,0,"ha. a. kr.",0,null,0,"tim. a. kr.",0]
[{"$f":"CheckOne($I$128,G2735)","v":false},null,null,null,null,null,44,null,null,null,null,44,0,null,null,0,"ha. a. kr.",0,null,0,"tim. a. kr.",0]
[{"$f":"CheckOne($I$129,G2735)","v":false},null,null,null,null,null,44,null,null,null,null,45,0,null,null,0,"ha. a. kr.",0,null,0,"tim. a. kr.",0]
[{"$f":"CheckOne($I$132,G2735)","v":false},null,null,null,null,null,44,null,null,null,null,48,0,null,null,0,"ha. a. kr.",0,null,0,"tim. a. kr.",0]
[{"$f":"CheckOne($I$133,G2735)","v":false},null,null,null,null,null,44,null,null,null,null,49,0,null,null,0,"ha. a. kr.",0,null,0,"tim. a. kr.",0]
[{"$f":"OR(T2790<>0)","v":false},null,null,null,null,null,null,null,null,null,null,null,"Ufordelte omkostninger",null,null,null,null,null,null,0,"tim. a. kr.",0]
[{"$f":"A2734","v":false},null,null,null,null,null,null,null,null,null,null,"I alt",null,null,null,null,null,null,null,{"$f":"SUMIF(A2740:A2789,TRUE,T2740:T2789)","v":0},"timer"]
[{"$f":"A2793","v":false},null,null,null,null,{"$f":"F2735+1","v":46},{"$f":"VLOOKUP(F2794,$F$31:$J$80,5,FALSE)","v":45},null,null,null,null,"Værdi primo:",null,null,null,{"$f":"VLOOKUP(F2794,$L$31:$AE$80,6,FALSE)","v":0},"Brændst.",{"$f":"VLOOKUP(F2794,$L$31:$AE$80,15,FALSE)","v":0},"GKO",{"$f":"VLOOKUP(F2794,$L$31:$AE$80,10,FALSE)","v":0},"GKE",{"$f":"IFERROR(+T2794/R2796,\"\")","v":""}]
[{"$f":"A2794","v":false},null,null,null,null,null,{"$f":"G2794","v":45},null,null,null,null,"Levetid:",null,null,null,{"$f":"VLOOKUP(F2794,$L$31:$AE$80,7,FALSE)","v":0},"Vedl.",{"$f":"VLOOKUP(F2794,$L$31:$AE$80,14,FALSE)","v":0},"KKO",{"$f":"VLOOKUP(F2794,$L$31:$AE$80,13,FALSE)","v":0},"KKE",{"$f":"IFERROR(+T2795/R2796,\"\")","v":""}]
[false,null,null,null,null,null,45,null,null,null,null,"Scrapværdi:",null,null,null,{"$f":"VLOOKUP(F2794,$L$31:$AE$80,9,FALSE)","v":0},null,null,"TO",{"$f":"+T2794+T2795+T2796","v":0},"TE",{"$f":"IFERROR(+V2794+V2795+V2796,\"\")","v":""}]
[false,null,null,null,null,null,45,null,null,null,null,"Opgaver:"]
[{"$f":"CheckOne($I$87,G2794)","v":false},null,null,null,null,null,45,null,null,null,null,3,0,null,null,0,"ha. a. kr.",0,null,0,"tim. a. kr.",0]
[{"$f":"CheckOne($I$88,G2794)","v":false},null,null,null,null,null,45,null,null,null,null,4,0,null,null,0,"ha. a. kr.",0,null,0,"tim. a. kr.",0]
[{"$f":"CheckOne($I$90,G2794)","v":false},null,null,null,null,null,45,null,null,null,null,6,0,null,null,0,"ha. a. kr.",0,null,0,"tim. a. kr.",0]
[{"$f":"CheckOne($I$91,G2794)","v":false},null,null,null,null,null,45,null,null,null,null,7,0,null,null,0,"ha. a. kr.",0,null,0,"tim. a. kr.",0]
[{"$f":"CheckOne($I$94,G2794)","v":false},null,null,null,null,null,45,null,null,null,null,10,0,null,null,0,"ha. a. kr.",0,null,0,"tim. a. kr.",0]
[{"$f":"CheckOne($I$95,G2794)","v":false},null,null,null,null,null,45,null,null,null,null,11,0,null,null,0,"ha. a. kr.",0,null,0,"tim. a. kr.",0]
[{"$f":"CheckOne($I$97,G2794)","v":false},null,null,null,null,null,45,null,null,null,null,13,0,null,null,0,"ha. a. kr.",0,null,0,"tim. a. kr.",0]
[{"$f":"CheckOne($I$98,G2794)","v":false},null,null,null,null,null,45,null,null,null,null,14,0,null,null,0,"ha. a. kr.",0,null,0,"tim. a. kr.",0]
[{"$f":"CheckOne($I$101,G2794)","v":false},null,null,null,null,null,45,null,null,null,null,17,0,null,null,0,"ha. a. kr.",0,null,0,"tim. a. kr.",0]
[{"$f":"CheckOne($I$102,G2794)","v":false},null,null,null,null,null,45,null,null,null,null,18,0,null,null,0,"ha. a. kr.",0,null,0,"tim. a. kr.",0]
[{"$f":"CheckOne($I$104,G2794)","v":false},null,null,null,null,null,45,null,null,null,null,20,0,null,null,0,"ha. a. kr.",0,null,0,"tim. a. kr.",0]
[{"$f":"CheckOne($I$105,G2794)","v":false},null,null,null,null,null,45,null,null,null,null,21,0,null,null,0,"ha. a. kr.",0,null,0,"tim. a. kr.",0]
[{"$f":"CheckOne($I$108,G2794)","v":false},null,null,null,null,null,45,null,null,null,null,24,0,null,null,0,"ha. a. kr.",0,null,0,"tim. a. kr.",0]
[{"$f":"CheckOne($I$109,G2794)","v":false},null,null,null,null,null,45,null,null,null,null,25,0,null,null,0,"ha. a. kr.",0,null,0,"tim. a. kr.",0]
[{"$f":"CheckOne($I$111,G2794)","v":false},null,null,null,null,null,45,null,null,null,null,27,0,null,null,0,"ha. a. kr.",0,null,0,"tim. a. kr.",0]
[{"$f":"CheckOne($I$112,G2794)","v":false},null,null,null,null,null,45,null,null,null,null,28,0,null,null,0,"ha. a. kr.",0,null,0,"tim. a. kr.",0]
[{"$f":"CheckOne($I$115,G2794)","v":false},null,null,null,null,null,45,null,null,null,null,31,0,null,null,0,"ha. a. kr.",0,null,0,"tim. a. kr.",0]
[{"$f":"CheckOne($I$116,G2794)","v":false},null,null,null,null,null,45,null,null,null,null,32,0,null,null,0,"ha. a. kr.",0,null,0,"tim. a. kr.",0]
[{"$f":"CheckOne($I$118,G2794)","v":false},null,null,null,null,null,45,null,null,null,null,34,0,null,null,0,"ha. a. kr.",0,null,0,"tim. a. kr.",0]
[{"$f":"CheckOne($I$119,G2794)","v":false},null,null,null,null,null,45,null,null,null,null,35,0,null,null,0,"ha. a. kr.",0,null,0,"tim. a. kr.",0]
[{"$f":"CheckOne($I$122,G2794)","v":false},null,null,null,null,null,45,null,null,null,null,38,0,null,null,0,"ha. a. kr.",0,null,0,"tim. a. kr.",0]
[{"$f":"CheckOne($I$123,G2794)","v":false},null,null,null,null,null,45,null,null,null,null,39,0,null,null,0,"ha. a. kr.",0,null,0,"tim. a. kr.",0]
[{"$f":"CheckOne($I$125,G2794)","v":false},null,null,null,null,null,45,null,null,null,null,41,0,null,null,0,"ha. a. kr.",0,null,0,"tim. a. kr.",0]
[{"$f":"CheckOne($I$126,G2794)","v":false},null,null,null,null,null,45,null,null,null,null,42,0,null,null,0,"ha. a. kr.",0,null,0,"tim. a. kr.",0]
[{"$f":"CheckOne($I$129,G2794)","v":false},null,null,null,null,null,45,null,null,null,null,45,0,null,null,0,"ha. a. kr.",0,null,0,"tim. a. kr.",0]
[{"$f":"CheckOne($I$130,G2794)","v":false},null,null,null,null,null,45,null,null,null,null,46,0,null,null,0,"ha. a. kr.",0,null,0,"tim. a. kr.",0]
[{"$f":"CheckOne($I$132,G2794)","v":false},null,null,null,null,null,45,null,null,null,null,48,0,null,null,0,"ha. a. kr.",0,null,0,"tim. a. kr.",0]
[{"$f":"CheckOne($I$133,G2794)","v":false},null,null,null,null,null,45,null,null,null,null,49,0,null,null,0,"ha. a. kr.",0,null,0,"tim. a. kr.",0]
[{"$f":"A2793","v":false},null,null,null,null,null,null,null,null,null,null,"I alt",null,null,null,null,null,null,null,{"$f":"SUMIF(A2799:A2848,TRUE,T2799:T2848)","v":0},"timer"]
[{"$f":"A2850","v":false}]
[{"$f":"A2852","v":false},null,null,null,null,{"$f":"F2794+1","v":47},{"$f":"VLOOKUP(F2853,$F$31:$J$80,5,FALSE)","v":46},null,null,null,null,"Værdi primo:",null,null,null,{"$f":"VLOOKUP(F2853,$L$31:$AE$80,6,FALSE)","v":0},"Brændst.",{"$f":"VLOOKUP(F2853,$L$31:$AE$80,15,FALSE)","v":0},"GKO",{"$f":"VLOOKUP(F2853,$L$31:$AE$80,10,FALSE)","v":0},"GKE",{"$f":"IFERROR(+T2853/R2855,\"\")","v":""}]
[{"$f":"A2853","v":false},null,null,null,null,null,{"$f":"G2853","v":46},null,null,null,null,"Levetid:",null,null,null,{"$f":"VLOOKUP(F2853,$L$31:$AE$80,7,FALSE)","v":0},"Vedl.",{"$f":"VLOOKUP(F2853,$L$31:$AE$80,14,FALSE)","v":0},"KKO",{"$f":"VLOOKUP(F2853,$L$31:$AE$80,13,FALSE)","v":0},"KKE",{"$f":"IFERROR(+T2854/R2855,\"\")","v":""}]
[false,null,null,null,null,null,46,null,null,null,null,"Opgaver:"]
[{"$f":"CheckOne($I$85,G2853)","v":false},null,null,null,null,null,46,null,null,null,null,{"$f":"L2799:L2848","v":1},{"$f":"M2799:M2849","v":0},null,null,{"$f":"$Z$85:$Z$134","v":0},{"$f":"$AA$85:$AA$134&\" a. kr.\"","v":"ha. a. kr."},{"$f":"$AG$85:$AG$134","v":0},null,{"$f":"$AB$85:$AB$135","v":0},"tim. a. kr.",{"$f":"_xlfn.ANCHORARRAY($AF$85)","v":0}]
[{"$f":"CheckOne($I$87,G2853)","v":false},null,null,null,null,null,46,null,null,null,null,3,0,null,null,0,"ha. a. kr.",0,null,0,"tim. a. kr.",0]
[{"$f":"CheckOne($I$88,G2853)","v":false},null,null,null,null,null,46,null,null,null,null,4,0,null,null,0,"ha. a. kr.",0,null,0,"tim. a. kr.",0]
[{"$f":"CheckOne($I$91,G2853)","v":false},null,null,null,null,null,46,null,null,null,null,7,0,null,null,0,"ha. a. kr.",0,null,0,"tim. a. kr.",0]
[{"$f":"CheckOne($I$92,G2853)","v":false},null,null,null,null,null,46,null,null,null,null,8,0,null,null,0,"ha. a. kr.",0,null,0,"tim. a. kr.",0]
[{"$f":"CheckOne($I$94,G2853)","v":false},null,null,null,null,null,46,null,null,null,null,10,0,null,null,0,"ha. a. kr.",0,null,0,"tim. a. kr.",0]
[{"$f":"CheckOne($I$95,G2853)","v":false},null,null,null,null,null,46,null,null,null,null,11,0,null,null,0,"ha. a. kr.",0,null,0,"tim. a. kr.",0]
[{"$f":"CheckOne($I$98,G2853)","v":false},null,null,null,null,null,46,null,null,null,null,14,0,null,null,0,"ha. a. kr.",0,null,0,"tim. a. kr.",0]
[{"$f":"CheckOne($I$99,G2853)","v":false},null,null,null,null,null,46,null,null,null,null,15,0,null,null,0,"ha. a. kr.",0,null,0,"tim. a. kr.",0]
[{"$f":"CheckOne($I$101,G2853)","v":false},null,null,null,null,null,46,null,null,null,null,17,0,null,null,0,"ha. a. kr.",0,null,0,"tim. a. kr.",0]
[{"$f":"CheckOne($I$102,G2853)","v":false},null,null,null,null,null,46,null,null,null,null,18,0,null,null,0,"ha. a. kr.",0,null,0,"tim. a. kr.",0]
[{"$f":"CheckOne($I$104,G2853)","v":false},null,null,null,null,null,46,null,null,null,null,20,0,null,null,0,"ha. a. kr.",0,null,0,"tim. a. kr.",0]
[{"$f":"CheckOne($I$105,G2853)","v":false},null,null,null,null,null,46,null,null,null,null,21,0,null,null,0,"ha. a. kr.",0,null,0,"tim. a. kr.",0]
[{"$f":"CheckOne($I$108,G2853)","v":false},null,null,null,null,null,46,null,null,null,null,24,0,null,null,0,"ha. a. kr.",0,null,0,"tim. a. kr.",0]
[{"$f":"CheckOne($I$109,G2853)","v":false},null,null,null,null,null,46,null,null,null,null,25,0,null,null,0,"ha. a. kr.",0,null,0,"tim. a. kr.",0]
[{"$f":"CheckOne($I$111,G2853)","v":false},null,null,null,null,null,46,null,null,null,null,27,0,null,null,0,"ha. a. kr.",0,null,0,"tim. a. kr.",0]
[{"$f":"CheckOne($I$112,G2853)","v":false},null,null,null,null,null,46,null,null,null,null,28,0,null,null,0,"ha. a. kr.",0,null,0,"tim. a. kr.",0]
[{"$f":"CheckOne($I$115,G2853)","v":false},null,null,null,null,null,46,null,null,null,null,31,0,null,null,0,"ha. a. kr.",0,null,0,"tim. a. kr.",0]
[{"$f":"CheckOne($I$116,G2853)","v":false},null,null,null,null,null,46,null,null,null,null,32,0,null,null,0,"ha. a. kr.",0,null,0,"tim. a. kr.",0]
[{"$f":"CheckOne($I$118,G2853)","v":false},null,null,null,null,null,46,null,null,null,null,34,0,null,null,0,"ha. a. kr.",0,null,0,"tim. a. kr.",0]
[{"$f":"CheckOne($I$119,G2853)","v":false},null,null,null,null,null,46,null,null,null,null,35,0,null,null,0,"ha. a. kr.",0,null,0,"tim. a. kr.",0]
[{"$f":"CheckOne($I$122,G2853)","v":false},null,null,null,null,null,46,null,null,null,null,38,0,null,null,0,"ha. a. kr.",0,null,0,"tim. a. kr.",0]
[{"$f":"CheckOne($I$123,G2853)","v":false},null,null,null,null,null,46,null,null,null,null,39,0,null,null,0,"ha. a. kr.",0,null,0,"tim. a. kr.",0]
[{"$f":"CheckOne($I$125,G2853)","v":false},null,null,null,null,null,46,null,null,null,null,41,0,null,null,0,"ha. a. kr.",0,null,0,"tim. a. kr.",0]
[{"$f":"CheckOne($I$126,G2853)","v":false},null,null,null,null,null,46,null,null,null,null,42,0,null,null,0,"ha. a. kr.",0,null,0,"tim. a. kr.",0]
[{"$f":"CheckOne($I$129,G2853)","v":false},null,null,null,null,null,46,null,null,null,null,45,0,null,null,0,"ha. a. kr.",0,null,0,"tim. a. kr.",0]
[{"$f":"CheckOne($I$130,G2853)","v":false},null,null,null,null,null,46,null,null,null,null,46,0,null,null,0,"ha. a. kr.",0,null,0,"tim. a. kr.",0]
[{"$f":"CheckOne($I$132,G2853)","v":false},null,null,null,null,null,46,null,null,null,null,48,0,null,null,0,"ha. a. kr.",0,null,0,"tim. a. kr.",0]
[{"$f":"CheckOne($I$133,G2853)","v":false},null,null,null,null,null,46,null,null,null,null,49,0,null,null,0,"ha. a. kr.",0,null,0,"tim. a. kr.",0]
[{"$f":"A2852","v":false},null,null,null,null,null,null,null,null,null,null,"I alt",null,null,null,null,null,null,null,{"$f":"SUMIF(A2858:A2907,TRUE,T2858:T2907)","v":0},"timer"]
[{"$f":"A2909","v":false}]
[{"$f":"A2911","v":false},null,null,null,null,{"$f":"F2853+1","v":48},{"$f":"VLOOKUP(F2912,$F$31:$J$80,5,FALSE)","v":47},null,null,null,null,"Værdi primo:",null,null,null,{"$f":"VLOOKUP(F2912,$L$31:$AE$80,6,FALSE)","v":0},"Brændst.",{"$f":"VLOOKUP(F2912,$L$31:$AE$80,15,FALSE)","v":0},"GKO",{"$f":"VLOOKUP(F2912,$L$31:$AE$80,10,FALSE)","v":0},"GKE",{"$f":"IFERROR(+T2912/R2914,\"\")","v":""}]
[{"$f":"A2912","v":false},null,null,null,null,null,{"$f":"G2912","v":47},null,null,null,null,"Levetid:",null,null,null,{"$f":"VLOOKUP(F2912,$L$31:$AE$80,7,FALSE)","v":0},"Vedl.",{"$f":"VLOOKUP(F2912,$L$31:$AE$80,14,FALSE)","v":0},"KKO",{"$f":"VLOOKUP(F2912,$L$31:$AE$80,13,FALSE)","v":0},"KKE",{"$f":"IFERROR(+T2913/R2914,\"\")","v":""}]
[false,null,null,null,null,null,47,null,null,null,null,"Opgaver:"]
[{"$f":"CheckOne($I$85,G2912)","v":false},null,null,null,null,null,47,null,null,null,null,{"$f":"L2858:L2907","v":1},{"$f":"M2858:M2908","v":0},null,null,{"$f":"$Z$85:$Z$134","v":0},{"$f":"$AA$85:$AA$134&\" a. kr.\"","v":"ha. a. kr."},{"$f":"$AG$85:$AG$134","v":0},null,{"$f":"$AB$85:$AB$135","v":0},"tim. a. kr.",{"$f":"_xlfn.ANCHORARRAY($AF$85)","v":0}]
[{"$f":"CheckOne($I$87,G2912)","v":false},null,null,null,null,null,47,null,null,null,null,3,0,null,null,0,"ha. a. kr.",0,null,0,"tim. a. kr.",0]
[{"$f":"CheckOne($I$88,G2912)","v":false},null,null,null,null,null,47,null,null,null,null,4,0,null,null,0,"ha. a. kr.",0,null,0,"tim. a. kr.",0]
[{"$f":"CheckOne($I$91,G2912)","v":false},null,null,null,null,null,47,null,null,null,null,7,0,null,null,0,"ha. a. kr.",0,null,0,"tim. a. kr.",0]
[{"$f":"CheckOne($I$92,G2912)","v":false},null,null,null,null,null,47,null,null,null,null,8,0,null,null,0,"ha. a. kr.",0,null,0,"tim. a. kr.",0]
[{"$f":"CheckOne($I$94,G2912)","v":false},null,null,null,null,null,47,null,null,null,null,10,0,null,null,0,"ha. a. kr.",0,null,0,"tim. a. kr.",0]
[{"$f":"CheckOne($I$95,G2912)","v":false},null,null,null,null,null,47,null,null,null,null,11,0,null,null,0,"ha. a. kr.",0,null,0,"tim. a. kr.",0]
[{"$f":"CheckOne($I$98,G2912)","v":false},null,null,null,null,null,47,null,null,null,null,14,0,null,null,0,"ha. a. kr.",0,null,0,"tim. a. kr.",0]
[{"$f":"CheckOne($I$99,G2912)","v":false},null,null,null,null,null,47,null,null,null,null,15,0,null,null,0,"ha. a. kr.",0,null,0,"tim. a. kr.",0]
[{"$f":"CheckOne($I$101,G2912)","v":false},null,null,null,null,null,47,null,null,null,null,17,0,null,null,0,"ha. a. kr.",0,null,0,"tim. a. kr.",0]
[{"$f":"CheckOne($I$102,G2912)","v":false},null,null,null,null,null,47,null,null,null,null,18,0,null,null,0,"ha. a. kr.",0,null,0,"tim. a. kr.",0]
[{"$f":"CheckOne($I$105,G2912)","v":false},null,null,null,null,null,47,null,null,null,null,21,0,null,null,0,"ha. a. kr.",0,null,0,"tim. a. kr.",0]
[{"$f":"CheckOne($I$106,G2912)","v":false},null,null,null,null,null,47,null,null,null,null,22,0,null,null,0,"ha. a. kr.",0,null,0,"tim. a. kr.",0]
[{"$f":"CheckOne($I$108,G2912)","v":false},null,null,null,null,null,47,null,null,null,null,24,0,null,null,0,"ha. a. kr.",0,null,0,"tim. a. kr.",0]
[{"$f":"CheckOne($I$109,G2912)","v":false},null,null,null,null,null,47,null,null,null,null,25,0,null,null,0,"ha. a. kr.",0,null,0,"tim. a. kr.",0]
[{"$f":"CheckOne($I$112,G2912)","v":false},null,null,null,null,null,47,null,null,null,null,28,0,null,null,0,"ha. a. kr.",0,null,0,"tim. a. kr.",0]
[{"$f":"CheckOne($I$113,G2912)","v":false},null,null,null,null,null,47,null,null,null,null,29,0,null,null,0,"ha. a. kr.",0,null,0,"tim. a. kr.",0]
[{"$f":"CheckOne($I$115,G2912)","v":false},null,null,null,null,null,47,null,null,null,null,31,0,null,null,0,"ha. a. kr.",0,null,0,"tim. a. kr.",0]
[{"$f":"CheckOne($I$116,G2912)","v":false},null,null,null,null,null,47,null,null,null,null,32,0,null,null,0,"ha. a. kr.",0,null,0,"tim. a. kr.",0]
[{"$f":"CheckOne($I$119,G2912)","v":false},null,null,null,null,null,47,null,null,null,null,35,0,null,null,0,"ha. a. kr.",0,null,0,"tim. a. kr.",0]
[{"$f":"CheckOne($I$120,G2912)","v":false},null,null,null,null,null,47,null,null,null,null,36,0,null,null,0,"ha. a. kr.",0,null,0,"tim. a. kr.",0]
[{"$f":"CheckOne($I$122,G2912)","v":false},null,null,null,null,null,47,null,null,null,null,38,0,null,null,0,"ha. a. kr.",0,null,0,"tim. a. kr.",0]
[{"$f":"CheckOne($I$123,G2912)","v":false},null,null,null,null,null,47,null,null,null,null,39,0,null,null,0,"ha. a. kr.",0,null,0,"tim. a. kr.",0]
[{"$f":"CheckOne($I$126,G2912)","v":false},null,null,null,null,null,47,null,null,null,null,42,0,null,null,0,"ha. a. kr.",0,null,0,"tim. a. kr.",0]
[{"$f":"CheckOne($I$127,G2912)","v":false},null,null,null,null,null,47,null,null,null,null,43,0,null,null,0,"ha. a. kr.",0,null,0,"tim. a. kr.",0]
[{"$f":"CheckOne($I$129,G2912)","v":false},null,null,null,null,null,47,null,null,null,null,45,0,null,null,0,"ha. a. kr.",0,null,0,"tim. a. kr.",0]
[{"$f":"CheckOne($I$130,G2912)","v":false},null,null,null,null,null,47,null,null,null,null,46,0,null,null,0,"ha. a. kr.",0,null,0,"tim. a. kr.",0]
[{"$f":"CheckOne($I$133,G2912)","v":false},null,null,null,null,null,47,null,null,null,null,49,0,null,null,0,"ha. a. kr.",0,null,0,"tim. a. kr.",0]
[{"$f":"CheckOne($I$134,G2912)","v":false},null,null,null,null,null,47,null,null,null,null,50,0,null,null,0,"ha. a. kr.",0,null,0,"tim. a. kr.",0]
[{"$f":"A2911","v":false},null,null,null,null,null,null,null,null,null,null,"I alt",null,null,null,null,null,null,null,{"$f":"SUMIF(A2917:A2966,TRUE,T2917:T2966)","v":0},"timer"]
[{"$f":"A2968","v":false}]
[{"$f":"A2971","v":false},null,null,null,null,null,{"$f":"G2971","v":48},null,null,null,null,"Levetid:",null,null,null,{"$f":"VLOOKUP(F2971,$L$31:$AE$80,7,FALSE)","v":0},"Vedl.",{"$f":"VLOOKUP(F2971,$L$31:$AE$80,14,FALSE)","v":0},"KKO",{"$f":"VLOOKUP(F2971,$L$31:$AE$80,13,FALSE)","v":0},"KKE",{"$f":"IFERROR(+T2972/R2973,\"\")","v":""}]
[false,null,null,null,null,null,{"$f":"G2972","v":48},null,null,null,null,"Afskrivningspct:",null,null,null,{"$f":"VLOOKUP(F2971,$L$31:$AE$80,8,FALSE)","v":0},"Anvendt",{"$f":"VLOOKUP(F2971,$L$31:$AE$80,18,FALSE)","v":0},"VO",{"$f":"+R2973*V2973","v":0},"VE",{"$f":"VLOOKUP(F2971,$L$31:$AE$80,17,FALSE)","v":0}]
[false,null,null,null,null,null,48,null,null,null,null,"Opgaver:"]
[{"$f":"CheckOne($I$85,G2971)","v":false},null,null,null,null,null,48,null,null,null,null,{"$f":"L2917:L2966","v":1},{"$f":"M2917:M2967","v":0},null,null,{"$f":"$Z$85:$Z$134","v":0},{"$f":"$AA$85:$AA$134&\" a. kr.\"","v":"ha. a. kr."},{"$f":"$AG$85:$AG$134","v":0},null,{"$f":"$AB$85:$AB$135","v":0},"tim. a. kr.",{"$f":"_xlfn.ANCHORARRAY($AF$85)","v":0}]
[{"$f":"CheckOne($I$88,G2971)","v":false},null,null,null,null,null,48,null,null,null,null,4,0,null,null,0,"ha. a. kr.",0,null,0,"tim. a. kr.",0]
[{"$f":"CheckOne($I$89,G2971)","v":false},null,null,null,null,null,48,null,null,null,null,5,0,null,null,0,"ha. a. kr.",0,null,0,"tim. a. kr.",0]
[{"$f":"CheckOne($I$91,G2971)","v":false},null,null,null,null,null,48,null,null,null,null,7,0,null,null,0,"ha. a. kr.",0,null,0,"tim. a. kr.",0]
[{"$f":"CheckOne($I$92,G2971)","v":false},null,null,null,null,null,48,null,null,null,null,8,0,null,null,0,"ha. a. kr.",0,null,0,"tim. a. kr.",0]
[{"$f":"CheckOne($I$95,G2971)","v":false},null,null,null,null,null,48,null,null,null,null,11,0,null,null,0,"ha. a. kr.",0,null,0,"tim. a. kr.",0]
[{"$f":"CheckOne($I$96,G2971)","v":false},null,null,null,null,null,48,null,null,null,null,12,0,null,null,0,"ha. a. kr.",0,null,0,"tim. a. kr.",0]
[{"$f":"CheckOne($I$98,G2971)","v":false},null,null,null,null,null,48,null,null,null,null,14,0,null,null,0,"ha. a. kr.",0,null,0,"tim. a. kr.",0]
[{"$f":"CheckOne($I$99,G2971)","v":false},null,null,null,null,null,48,null,null,null,null,15,0,null,null,0,"ha. a. kr.",0,null,0,"tim. a. kr.",0]
[{"$f":"CheckOne($I$102,G2971)","v":false},null,null,null,null,null,48,null,null,null,null,18,0,null,null,0,"ha. a. kr.",0,null,0,"tim. a. kr.",0]
[{"$f":"CheckOne($I$103,G2971)","v":false},null,null,null,null,null,48,null,null,null,null,19,0,null,null,0,"ha. a. kr.",0,null,0,"tim. a. kr.",0]
[{"$f":"CheckOne($I$105,G2971)","v":false},null,null,null,null,null,48,null,null,null,null,21,0,null,null,0,"ha. a. kr.",0,null,0,"tim. a. kr.",0]
[{"$f":"CheckOne($I$106,G2971)","v":false},null,null,null,null,null,48,null,null,null,null,22,0,null,null,0,"ha. a. kr.",0,null,0,"tim. a. kr.",0]
[{"$f":"CheckOne($I$109,G2971)","v":false},null,null,null,null,null,48,null,null,null,null,25,0,null,null,0,"ha. a. kr.",0,null,0,"tim. a. kr.",0]
[{"$f":"CheckOne($I$110,G2971)","v":false},null,null,null,null,null,48,null,null,null,null,26,0,null,null,0,"ha. a. kr.",0,null,0,"tim. a. kr.",0]
[{"$f":"CheckOne($I$112,G2971)","v":false},null,null,null,null,null,48,null,null,null,null,28,0,null,null,0,"ha. a. kr.",0,null,0,"tim. a. kr.",0]
[{"$f":"CheckOne($I$113,G2971)","v":false},null,null,null,null,null,48,null,null,null,null,29,0,null,null,0,"ha. a. kr.",0,null,0,"tim. a. kr.",0]
[{"$f":"CheckOne($I$116,G2971)","v":false},null,null,null,null,null,48,null,null,null,null,32,0,null,null,0,"ha. a. kr.",0,null,0,"tim. a. kr.",0]
[{"$f":"CheckOne($I$117,G2971)","v":false},null,null,null,null,null,48,null,null,null,null,33,0,null,null,0,"ha. a. kr.",0,null,0,"tim. a. kr.",0]
[{"$f":"CheckOne($I$119,G2971)","v":false},null,null,null,null,null,48,null,null,null,null,35,0,null,null,0,"ha. a. kr.",0,null,0,"tim. a. kr.",0]
[{"$f":"CheckOne($I$120,G2971)","v":false},null,null,null,null,null,48,null,null,null,null,36,0,null,null,0,"ha. a. kr.",0,null,0,"tim. a. kr.",0]
[{"$f":"CheckOne($I$123,G2971)","v":false},null,null,null,null,null,48,null,null,null,null,39,0,null,null,0,"ha. a. kr.",0,null,0,"tim. a. kr.",0]
[{"$f":"CheckOne($I$124,G2971)","v":false},null,null,null,null,null,48,null,null,null,null,40,0,null,null,0,"ha. a. kr.",0,null,0,"tim. a. kr.",0]
[{"$f":"CheckOne($I$126,G2971)","v":false},null,null,null,null,null,48,null,null,null,null,42,0,null,null,0,"ha. a. kr.",0,null,0,"tim. a. kr.",0]
[{"$f":"CheckOne($I$127,G2971)","v":false},null,null,null,null,null,48,null,null,null,null,43,0,null,null,0,"ha. a. kr.",0,null,0,"tim. a. kr.",0]
[{"$f":"CheckOne($I$130,G2971)","v":false},null,null,null,null,null,48,null,null,null,null,46,0,null,null,0,"ha. a. kr.",0,null,0,"tim. a. kr.",0]
[{"$f":"CheckOne($I$131,G2971)","v":false},null,null,null,null,null,48,null,null,null,null,47,0,null,null,0,"ha. a. kr.",0,null,0,"tim. a. kr.",0]
[{"$f":"CheckOne($I$133,G2971)","v":false},null,null,null,null,null,48,null,null,null,null,49,0,null,null,0,"ha. a. kr.",0,null,0,"tim. a. kr.",0]
[{"$f":"CheckOne($I$134,G2971)","v":false},null,null,null,null,null,48,null,null,null,null,50,0,null,null,0,"ha. a. kr.",0,null,0,"tim. a. kr.",0]
[{"$f":"A3027","v":false}]
[{"$f":"OR(L3029<>0,P3030<>0,T3033<>0,R3032<>0)","v":false},null,null,null,null,"nr.","id",null,null,null,null,{"$f":"VLOOKUP(F3030,$L$31:$AE$80,2,FALSE)","v":0},null,null,null,null,null,null,"i alt",null,null,"pr. time."]
[{"$f":"A3030","v":false},null,null,null,null,null,{"$f":"G3030","v":49},null,null,null,null,"Levetid:",null,null,null,{"$f":"VLOOKUP(F3030,$L$31:$AE$80,7,FALSE)","v":0},"Vedl.",{"$f":"VLOOKUP(F3030,$L$31:$AE$80,14,FALSE)","v":0},"KKO",{"$f":"VLOOKUP(F3030,$L$31:$AE$80,13,FALSE)","v":0},"KKE",{"$f":"IFERROR(+T3031/R3032,\"\")","v":""}]
[false,null,null,null,null,null,{"$f":"G3031","v":49},null,null,null,null,"Afskrivningspct:",null,null,null,{"$f":"VLOOKUP(F3030,$L$31:$AE$80,8,FALSE)","v":0},"Anvendt",{"$f":"VLOOKUP(F3030,$L$31:$AE$80,18,FALSE)","v":0},"VO",{"$f":"+R3032*V3032","v":0},"VE",{"$f":"VLOOKUP(F3030,$L$31:$AE$80,17,FALSE)","v":0}]
[{"$f":"CheckOne($I$85,G3030)","v":false},null,null,null,null,null,49,null,null,null,null,{"$f":"L2976:L3025","v":1},{"$f":"M2976:M3026","v":0},null,null,{"$f":"$Z$85:$Z$134","v":0},{"$f":"$AA$85:$AA$134&\" a. kr.\"","v":"ha. a. kr."},{"$f":"$AG$85:$AG$134","v":0},null,{"$f":"$AB$85:$AB$135","v":0},"tim. a. kr.",{"$f":"_xlfn.ANCHORARRAY($AF$85)","v":0}]
[{"$f":"CheckOne($I$86,G3030)","v":false},null,null,null,null,null,49,null,null,null,null,2,0,null,null,0,"ha. a. kr.",0,null,0,"tim. a. kr.",0]
[{"$f":"CheckOne($I$88,G3030)","v":false},null,null,null,null,null,49,null,null,null,null,4,0,null,null,0,"ha. a. kr.",0,null,0,"tim. a. kr.",0]
[{"$f":"CheckOne($I$89,G3030)","v":false},null,null,null,null,null,49,null,null,null,null,5,0,null,null,0,"ha. a. kr.",0,null,0,"tim. a. kr.",0]
[{"$f":"CheckOne($I$92,G3030)","v":false},null,null,null,null,null,49,null,null,null,null,8,0,null,null,0,"ha. a. kr.",0,null,0,"tim. a. kr.",0]
[{"$f":"CheckOne($I$93,G3030)","v":false},null,null,null,null,null,49,null,null,null,null,9,0,null,null,0,"ha. a. kr.",0,null,0,"tim. a. kr.",0]
[{"$f":"CheckOne($I$95,G3030)","v":false},null,null,null,null,null,49,null,null,null,null,11,0,null,null,0,"ha. a. kr.",0,null,0,"tim. a. kr.",0]
[{"$f":"CheckOne($I$96,G3030)","v":false},null,null,null,null,null,49,null,null,null,null,12,0,null,null,0,"ha. a. kr.",0,null,0,"tim. a. kr.",0]
[{"$f":"CheckOne($I$99,G3030)","v":false},null,null,null,null,null,49,null,null,null,null,15,0,null,null,0,"ha. a. kr.",0,null,0,"tim. a. kr.",0]
[{"$f":"CheckOne($I$100,G3030)","v":false},null,null,null,null,null,49,null,null,null,null,16,0,null,null,0,"ha. a. kr.",0,null,0,"tim. a. kr.",0]
[{"$f":"CheckOne($I$102,G3030)","v":false},null,null,null,null,null,49,null,null,null,null,18,0,null,null,0,"ha. a. kr.",0,null,0,"tim. a. kr.",0]
[{"$f":"CheckOne($I$103,G3030)","v":false},null,null,null,null,null,49,null,null,null,null,19,0,null,null,0,"ha. a. kr.",0,null,0,"tim. a. kr.",0]
[{"$f":"CheckOne($I$106,G3030)","v":false},null,null,null,null,null,49,null,null,null,null,22,0,null,null,0,"ha. a. kr.",0,null,0,"tim. a. kr.",0]
[{"$f":"CheckOne($I$107,G3030)","v":false},null,null,null,null,null,49,null,null,null,null,23,0,null,null,0,"ha. a. kr.",0,null,0,"tim. a. kr.",0]
[{"$f":"CheckOne($I$109,G3030)","v":false},null,null,null,null,null,49,null,null,null,null,25,0,null,null,0,"ha. a. kr.",0,null,0,"tim. a. kr.",0]
[{"$f":"CheckOne($I$110,G3030)","v":false},null,null,null,null,null,49,null,null,null,null,26,0,null,null,0,"ha. a. kr.",0,null,0,"tim. a. kr.",0]
[{"$f":"CheckOne($I$113,G3030)","v":false},null,null,null,null,null,49,null,null,null,null,29,0,null,null,0,"ha. a. kr.",0,null,0,"tim. a. kr.",0]
[{"$f":"CheckOne($I$114,G3030)","v":false},null,null,null,null,null,49,null,null,null,null,30,0,null,null,0,"ha. a. kr.",0,null,0,"tim. a. kr.",0]
[{"$f":"CheckOne($I$116,G3030)","v":false},null,null,null,null,null,49,null,null,null,null,32,0,null,null,0,"ha. a. kr.",0,null,0,"tim. a. kr.",0]
[{"$f":"CheckOne($I$117,G3030)","v":false},null,null,null,null,null,49,null,null,null,null,33,0,null,null,0,"ha. a. kr.",0,null,0,"tim. a. kr.",0]
[{"$f":"CheckOne($I$119,G3030)","v":false},null,null,null,null,null,49,null,null,null,null,35,0,null,null,0,"ha. a. kr.",0,null,0,"tim. a. kr.",0]
[{"$f":"CheckOne($I$120,G3030)","v":false},null,null,null,null,null,49,null,null,null,null,36,0,null,null,0,"ha. a. kr.",0,null,0,"tim. a. kr.",0]
[{"$f":"CheckOne($I$123,G3030)","v":false},null,null,null,null,null,49,null,null,null,null,39,0,null,null,0,"ha. a. kr.",0,null,0,"tim. a. kr.",0]
[{"$f":"CheckOne($I$124,G3030)","v":false},null,null,null,null,null,49,null,null,null,null,40,0,null,null,0,"ha. a. kr.",0,null,0,"tim. a. kr.",0]
[{"$f":"CheckOne($I$126,G3030)","v":false},null,null,null,null,null,49,null,null,null,null,42,0,null,null,0,"ha. a. kr.",0,null,0,"tim. a. kr.",0]
[{"$f":"CheckOne($I$127,G3030)","v":false},null,null,null,null,null,49,null,null,null,null,43,0,null,null,0,"ha. a. kr.",0,null,0,"tim. a. kr.",0]
[{"$f":"CheckOne($I$130,G3030)","v":false},null,null,null,null,null,49,null,null,null,null,46,0,null,null,0,"ha. a. kr.",0,null,0,"tim. a. kr.",0]
[{"$f":"CheckOne($I$131,G3030)","v":false},null,null,null,null,null,49,null,null,null,null,47,0,null,null,0,"ha. a. kr.",0,null,0,"tim. a. kr.",0]
[{"$f":"CheckOne($I$133,G3030)","v":false},null,null,null,null,null,49,null,null,null,null,49,0,null,null,0,"ha. a. kr.",0,null,0,"tim. a. kr.",0]
[{"$f":"CheckOne($I$134,G3030)","v":false},null,null,null,null,null,49,null,null,null,null,50,0,null,null,0,"ha. a. kr.",0,null,0,"tim. a. kr.",0]
[{"$f":"A3086","v":false}]
[true]
[true]
[true]
[{"$f":"A3093","v":false},null,null,null,null,null,null,null,null,null,null,"FO (faste omk.):",null,{"$f":"+S3094*S3093","v":0},"FE (faste enh. omk.):",null,{"$f":"IFERROR(N3094/Q3093,0)","v":0},{"$f":"\"kr./\"&R3093","v":"kr./ha."},{"$f":"SUMIF(A3098:A3148,TRUE,J3098:J3148)","v":0},"kr./tim."]
[false,null,null,null,null,null,null,null,null,null,null,"VO (var. omk.):",null,{"$f":"+S3093*S3095","v":0},"VE (var. enh. omk.):",null,{"$f":"IFERROR(N3095/Q3093,0)","v":0},{"$f":"+R3094","v":"kr./ha."},{"$f":"SUMIF(A3098:A3148,TRUE,I3098:I3148)","v":0},"kr./tim."]
[false,null,null,null,null,"id",null,null,"VE/tim","FE",null,null,null,null,"Maskinstationspris",null,{"$f":"VLOOKUP(F3093,$L$85:$AH$134,23,FALSE)","v":0},{"$f":"+R3096","v":"kr./ha."}]
[{"$f":"CheckOne(H3093,F3098)","v":false},null,null,null,null,{"$f":"_xlfn.ANCHORARRAY($J$31)","v":0},null,null,{"$f":"VLOOKUP(_xlfn.ANCHORARRAY(L3098),$L$31:$AE$80,17,FALSE)","v":0},{"$f":"VLOOKUP(_xlfn.ANCHORARRAY(L3098),$L$31:$AE$80,20,FALSE)-_xlfn.ANCHORARRAY(I3098)","v":0},null,{"$f":"$L$31:$L$80","v":1},{"$f":"$M$31:$M$80","v":0},null,null,null,{"$f":"_xlfn.ANCHORARRAY(S3098)/O3093","v":0},{"$f":"+R3096","v":"kr./ha."},{"$f":"$AE$31:$AE$80","v":0},"kr./tim."]
[{"$f":"CheckOne(H3093,F3101)","v":false},null,null,null,null,4,null,null,0,0,null,4,0,null,null,null,0,"kr./ha.",0,"kr./tim."]
[{"$f":"CheckOne(H3093,F3102)","v":false},null,null,null,null,1,null,null,0,0,null,5,0,null,null,null,0,"kr./ha.",0,"kr./tim."]
[{"$f":"CheckOne(H3093,F3104)","v":false},null,null,null,null,6,null,null,0,0,null,7,0,null,null,null,0,"kr./ha.",0,"kr./tim."]
[{"$f":"CheckOne(H3093,F3105)","v":false},null,null,null,null,7,null,null,0,0,null,8,0,null,null,null,0,"kr./ha.",0,"kr./tim."]
[{"$f":"CheckOne(H3093,F3108)","v":false},null,null,null,null,10,null,null,0,0,null,11,0,null,null,null,0,"kr./ha.",0,"kr./tim."]
[{"$f":"CheckOne(H3093,F3109)","v":false},null,null,null,null,11,null,null,0,0,null,12,0,null,null,null,0,"kr./ha.",0,"kr./tim."]
[{"$f":"CheckOne(H3093,F3111)","v":false},null,null,null,null,13,null,null,0,0,null,14,0,null,null,null,0,"kr./ha.",0,"kr./tim."]
[{"$f":"CheckOne(H3093,F3112)","v":false},null,null,null,null,14,null,null,0,0,null,15,0,null,null,null,0,"kr./ha.",0,"kr./tim."]
[{"$f":"CheckOne(H3093,F3115)","v":false},null,null,null,null,17,null,null,0,0,null,18,0,null,null,null,0,"kr./ha.",0,"kr./tim."]
[{"$f":"CheckOne(H3093,F3116)","v":false},null,null,null,null,18,null,null,0,0,null,19,0,null,null,null,0,"kr./ha.",0,"kr./tim."]
[{"$f":"CheckOne(H3093,F3118)","v":false},null,null,null,null,20,null,null,0,0,null,21,0,null,null,null,0,"kr./ha.",0,"kr./tim."]
[{"$f":"CheckOne(H3093,F3119)","v":false},null,null,null,null,21,null,null,0,0,null,22,0,null,null,null,0,"kr./ha.",0,"kr./tim."]
[{"$f":"CheckOne(H3093,F3122)","v":false},null,null,null,null,24,null,null,0,0,null,25,0,null,null,null,0,"kr./ha.",0,"kr./tim."]
[{"$f":"CheckOne(H3093,F3123)","v":false},null,null,null,null,25,null,null,0,0,null,26,0,null,null,null,0,"kr./ha.",0,"kr./tim."]
[{"$f":"CheckOne(H3093,F3125)","v":false},null,null,null,null,27,null,null,0,0,null,28,0,null,null,null,0,"kr./ha.",0,"kr./tim."]
[{"$f":"CheckOne(H3093,F3126)","v":false},null,null,null,null,28,null,null,0,0,null,29,0,null,null,null,0,"kr./ha.",0,"kr./tim."]
[{"$f":"CheckOne(H3093,F3129)","v":false},null,null,null,null,31,null,null,0,0,null,32,0,null,null,null,0,"kr./ha.",0,"kr./tim."]
[{"$f":"CheckOne(H3093,F3130)","v":false},null,null,null,null,32,null,null,0,0,null,33,0,null,null,null,0,"kr./ha.",0,"kr./tim."]
[{"$f":"CheckOne(H3093,F3132)","v":false},null,null,null,null,34,null,null,0,0,null,35,0,null,null,null,0,"kr./ha.",0,"kr./tim."]
[{"$f":"CheckOne(H3093,F3133)","v":false},null,null,null,null,35,null,null,0,0,null,36,0,null,null,null,0,"kr./ha.",0,"kr./tim."]
[{"$f":"CheckOne(H3093,F3136)","v":false},null,null,null,null,38,null,null,0,0,null,39,0,null,null,null,0,"kr./ha.",0,"kr./tim."]
[{"$f":"CheckOne(H3093,F3137)","v":false},null,null,null,null,39,null,null,0,0,null,40,0,null,null,null,0,"kr./ha.",0,"kr./tim."]
[{"$f":"CheckOne(H3093,F3139)","v":false},null,null,null,null,41,null,null,0,0,null,42,0,null,null,null,0,"kr./ha.",0,"kr./tim."]
[{"$f":"CheckOne(H3093,F3140)","v":false},null,null,null,null,42,null,null,0,0,null,43,0,null,null,null,0,"kr./ha.",0,"kr./tim."]
[{"$f":"CheckOne(H3093,F3143)","v":false},null,null,null,null,45,null,null,0,0,null,46,0,null,null,null,0,"kr./ha.",0,"kr./tim."]
[{"$f":"CheckOne(H3093,F3144)","v":false},null,null,null,null,46,null,null,0,0,null,47,0,null,null,null,0,"kr./ha.",0,"kr./tim."]
[{"$f":"CheckOne(H3093,F3146)","v":false},null,null,null,null,48,null,null,0,0,null,49,0,null,null,null,0,"kr./ha.",0,"kr./tim."]
[{"$f":"CheckOne(H3093,F3147)","v":false},null,null,null,null,49,null,null,0,0,null,50,0,null,null,null,0,"kr./ha.",0,"kr./tim."]
[{"$f":"IF(N3151=\"Maskinstation\",FALSE,OR(L3150<>0,N3154<>0,Q3151<>0,S3151<>0))","v":false},null,null,null,null,"nr.","id","Maskiner",null,null,null,{"$f":"VLOOKUP(F3151,$L$85:$AH$134,2,FALSE)","v":0}]
[{"$f":"A3150","v":false},null,null,null,null,{"$f":"1+F3093","v":2},{"$f":"VLOOKUP(F3151,$F$85:$J$134,5,FALSE)","v":1},{"$f":"VLOOKUP(F3151,$F$85:$I$134,4,FALSE)","v":""},null,null,null,"Type:",null,{"$f":"VLOOKUP(F3151,$L$85:$AH$134,5,FALSE)","v":"Intern"},{"$f":"VLOOKUP(F3151,$L$85:$AH$134,19,FALSE)","v":1},{"$f":"R3151&\"/time\"","v":"ha./time"},{"$f":"VLOOKUP(F3151,$L$85:$AH$134,15,FALSE)","v":0},{"$f":"VLOOKUP(F3151,$L$85:$AH$134,16,FALSE)","v":"ha."},{"$f":"VLOOKUP(F3151,$L$85:$AH$134,17,FALSE)","v":0},"timer"]
[false,null,null,null,null,null,null,null,null,null,null,"VO (var. omk.):",null,{"$f":"+S3151*S3153","v":0},"VE (var. enh. omk.):",null,{"$f":"IFERROR(N3153/Q3151,0)","v":0},{"$f":"+R3152","v":"kr./ha."},{"$f":"SUMIF(A3156:A3206,TRUE,I3156:I3206)","v":0},"kr./tim."]
[false,null,null,null,null,null,null,null,null,null,null,"TO (totae omk.):",null,{"$f":"+N3153+N3152","v":0},"TE (totale enh. omk.):",null,{"$f":"+Q3153+Q3152","v":0},{"$f":"+R3153","v":"kr./ha."},{"$f":"+S3153+S3152","v":0},"kr./tim."]
[{"$f":"CheckOne(H3151,F3157)","v":false},null,null,null,null,3,null,null,0,0,null,2,0,null,null,null,0,{"$f":"+R3156","v":"kr./ha."},0,"kr./tim."]
[{"$f":"CheckOne(H3151,F3158)","v":false},null,null,null,null,5,null,null,0,0,null,3,0,null,null,null,0,{"$f":"+R3157","v":"kr./ha."},0,"kr./tim."]
[{"$f":"CheckOne(H3151,F3160)","v":false},null,null,null,null,1,null,null,0,0,null,5,0,null,null,null,0,"kr./ha.",0,"kr./tim."]
[{"$f":"CheckOne(H3151,F3161)","v":false},null,null,null,null,2,null,null,0,0,null,6,0,null,null,null,0,"kr./ha.",0,"kr./tim."]
[{"$f":"CheckOne(H3151,F3164)","v":false},null,null,null,null,8,null,null,0,0,null,9,0,null,null,null,0,"kr./ha.",0,"kr./tim."]
[{"$f":"CheckOne(H3151,F3165)","v":false},null,null,null,null,9,null,null,0,0,null,10,0,null,null,null,0,"kr./ha.",0,"kr./tim."]
[{"$f":"CheckOne(H3151,F3167)","v":false},null,null,null,null,11,null,null,0,0,null,12,0,null,null,null,0,"kr./ha.",0,"kr./tim."]
[{"$f":"CheckOne(H3151,F3168)","v":false},null,null,null,null,12,null,null,0,0,null,13,0,null,null,null,0,"kr./ha.",0,"kr./tim."]
[{"$f":"CheckOne(H3151,F3171)","v":false},null,null,null,null,15,null,null,0,0,null,16,0,null,null,null,0,"kr./ha.",0,"kr./tim."]
[{"$f":"CheckOne(H3151,F3172)","v":false},null,null,null,null,16,null,null,0,0,null,17,0,null,null,null,0,"kr./ha.",0,"kr./tim."]
[{"$f":"CheckOne(H3151,F3174)","v":false},null,null,null,null,18,null,null,0,0,null,19,0,null,null,null,0,"kr./ha.",0,"kr./tim."]
[{"$f":"CheckOne(H3151,F3175)","v":false},null,null,null,null,19,null,null,0,0,null,20,0,null,null,null,0,"kr./ha.",0,"kr./tim."]
[{"$f":"CheckOne(H3151,F3178)","v":false},null,null,null,null,22,null,null,0,0,null,23,0,null,null,null,0,"kr./ha.",0,"kr./tim."]
[{"$f":"CheckOne(H3151,F3179)","v":false},null,null,null,null,23,null,null,0,0,null,24,0,null,null,null,0,"kr./ha.",0,"kr./tim."]
[{"$f":"CheckOne(H3151,F3181)","v":false},null,null,null,null,25,null,null,0,0,null,26,0,null,null,null,0,"kr./ha.",0,"kr./tim."]
[{"$f":"CheckOne(H3151,F3182)","v":false},null,null,null,null,26,null,null,0,0,null,27,0,null,null,null,0,"kr./ha.",0,"kr./tim."]
[{"$f":"CheckOne(H3151,F3185)","v":false},null,null,null,null,29,null,null,0,0,null,30,0,null,null,null,0,"kr./ha.",0,"kr./tim."]
[{"$f":"CheckOne(H3151,F3186)","v":false},null,null,null,null,30,null,null,0,0,null,31,0,null,null,null,0,"kr./ha.",0,"kr./tim."]
[{"$f":"CheckOne(H3151,F3188)","v":false},null,null,null,null,32,null,null,0,0,null,33,0,null,null,null,0,"kr./ha.",0,"kr./tim."]
[{"$f":"CheckOne(H3151,F3189)","v":false},null,null,null,null,33,null,null,0,0,null,34,0,null,null,null,0,"kr./ha.",0,"kr./tim."]
[{"$f":"CheckOne(H3151,F3192)","v":false},null,null,null,null,36,null,null,0,0,null,37,0,null,null,null,0,"kr./ha.",0,"kr./tim."]
[{"$f":"CheckOne(H3151,F3193)","v":false},null,null,null,null,37,null,null,0,0,null,38,0,null,null,null,0,"kr./ha.",0,"kr./tim."]
[{"$f":"CheckOne(H3151,F3195)","v":false},null,null,null,null,39,null,null,0,0,null,40,0,null,null,null,0,"kr./ha.",0,"kr./tim."]
[{"$f":"CheckOne(H3151,F3196)","v":false},null,null,null,null,40,null,null,0,0,null,41,0,null,null,null,0,"kr./ha.",0,"kr./tim."]
[{"$f":"CheckOne(H3151,F3199)","v":false},null,null,null,null,43,null,null,0,0,null,44,0,null,null,null,0,"kr./ha.",0,"kr./tim."]
[{"$f":"CheckOne(H3151,F3200)","v":false},null,null,null,null,44,null,null,0,0,null,45,0,null,null,null,0,"kr./ha.",0,"kr./tim."]
[{"$f":"CheckOne(H3151,F3202)","v":false},null,null,null,null,46,null,null,0,0,null,47,0,null,null,null,0,"kr./ha.",0,"kr./tim."]
[{"$f":"CheckOne(H3151,F3203)","v":false},null,null,null,null,47,null,null,0,0,null,48,0,null,null,null,0,"kr./ha.",0,"kr./tim."]
[{"$f":"OR(N3206>0)","v":false},null,null,null,null,null,null,null,{"$f":"+S3206","v":0},0,null,null,"Arbejdsløn:",{"$f":"VLOOKUP(F3151,$L$85:$AH$134,14,FALSE)","v":0},"medarbejder",null,{"$f":"+S3206/O3151","v":0},"kr./ha.",{"$f":"+Maskiner!$Z$17*N3206","v":0},"kr./tim."]
[{"$f":"IF(N3208=\"Maskinstation\",FALSE,OR(L3207<>0,N3211<>0,Q3208<>0,S3208<>0))","v":false}]
[{"$f":"A3208","v":false},null,null,null,null,{"$f":"1+F3151","v":3},{"$f":"VLOOKUP(F3209,$F$85:$J$134,5,FALSE)","v":2},{"$f":"VLOOKUP(F3209,$F$85:$I$134,4,FALSE)","v":""},null,null,null,"Type:",null,{"$f":"VLOOKUP(F3209,$L$85:$AH$134,5,FALSE)","v":"Intern"},{"$f":"VLOOKUP(F3209,$L$85:$AH$134,19,FALSE)","v":1},{"$f":"R3209&\"/time\"","v":"ha./time"},{"$f":"VLOOKUP(F3209,$L$85:$AH$134,15,FALSE)","v":0},{"$f":"VLOOKUP(F3209,$L$85:$AH$134,16,FALSE)","v":"ha."},{"$f":"VLOOKUP(F3209,$L$85:$AH$134,17,FALSE)","v":0},"timer"]
[{"$f":"A3209","v":false},null,null,null,null,null,null,null,null,null,null,"FO (faste omk.):",null,{"$f":"+S3210*S3209","v":0},"FE (faste enh. omk.):",null,{"$f":"IFERROR(N3210/Q3209,0)","v":0},{"$f":"\"kr./\"&R3209","v":"kr./ha."},{"$f":"SUMIF(A3214:A3264,TRUE,J3214:J3264)","v":0},"kr./tim."]
[false,null,null,null,null,"id",null,null,"VE/tim","FE",null,null,null,null,"Maskinstationspris",null,{"$f":"VLOOKUP(F3209,$L$85:$AH$134,23,FALSE)","v":0},{"$f":"+R3212","v":"kr./ha."}]
[{"$f":"CheckOne(H3209,F3214)","v":false},null,null,null,null,{"$f":"_xlfn.ANCHORARRAY($J$31)","v":0},null,null,{"$f":"VLOOKUP(_xlfn.ANCHORARRAY(L3214),$L$31:$AE$80,17,FALSE)","v":0},{"$f":"VLOOKUP(_xlfn.ANCHORARRAY(L3214),$L$31:$AE$80,20,FALSE)-_xlfn.ANCHORARRAY(I3214)","v":0},null,{"$f":"$L$31:$L$80","v":1},{"$f":"$M$31:$M$80","v":0},null,null,null,{"$f":"_xlfn.ANCHORARRAY(S3214)/O3209","v":0},{"$f":"+R3212","v":"kr./ha."},{"$f":"$AE$31:$AE$80","v":0},"kr./tim."]
[{"$f":"CheckOne(H3209,F3216)","v":false},null,null,null,null,5,null,null,0,0,null,3,0,null,null,null,0,{"$f":"+R3215","v":"kr./ha."},0,"kr./tim."]
[{"$f":"CheckOne(H3209,F3217)","v":false},null,null,null,null,4,null,null,0,0,null,4,0,null,null,null,0,"kr./ha.",0,"kr./tim."]
[{"$f":"CheckOne(H3209,F3220)","v":false},null,null,null,null,6,null,null,0,0,null,7,0,null,null,null,0,"kr./ha.",0,"kr./tim."]
[{"$f":"CheckOne(H3209,F3221)","v":false},null,null,null,null,7,null,null,0,0,null,8,0,null,null,null,0,"kr./ha.",0,"kr./tim."]
[{"$f":"CheckOne(H3209,F3223)","v":false},null,null,null,null,9,null,null,0,0,null,10,0,null,null,null,0,"kr./ha.",0,"kr./tim."]
[{"$f":"CheckOne(H3209,F3224)","v":false},null,null,null,null,10,null,null,0,0,null,11,0,null,null,null,0,"kr./ha.",0,"kr./tim."]
[{"$f":"CheckOne(H3209,F3227)","v":false},null,null,null,null,13,null,null,0,0,null,14,0,null,null,null,0,"kr./ha.",0,"kr./tim."]
[{"$f":"CheckOne(H3209,F3228)","v":false},null,null,null,null,14,null,null,0,0,null,15,0,null,null,null,0,"kr./ha.",0,"kr./tim."]
[{"$f":"CheckOne(H3209,F3230)","v":false},null,null,null,null,16,null,null,0,0,null,17,0,null,null,null,0,"kr./ha.",0,"kr./tim."]
[{"$f":"CheckOne(H3209,F3231)","v":false},null,null,null,null,17,null,null,0,0,null,18,0,null,null,null,0,"kr./ha.",0,"kr./tim."]
[{"$f":"CheckOne(H3209,F3234)","v":false},null,null,null,null,20,null,null,0,0,null,21,0,null,null,null,0,"kr./ha.",0,"kr./tim."]
[{"$f":"CheckOne(H3209,F3235)","v":false},null,null,null,null,21,null,null,0,0,null,22,0,null,null,null,0,"kr./ha.",0,"kr./tim."]
[{"$f":"CheckOne(H3209,F3237)","v":false},null,null,null,null,23,null,null,0,0,null,24,0,null,null,null,0,"kr./ha.",0,"kr./tim."]
[{"$f":"CheckOne(H3209,F3238)","v":false},null,null,null,null,24,null,null,0,0,null,25,0,null,null,null,0,"kr./ha.",0,"kr./tim."]
[{"$f":"CheckOne(H3209,F3241)","v":false},null,null,null,null,27,null,null,0,0,null,28,0,null,null,null,0,"kr./ha.",0,"kr./tim."]
[{"$f":"CheckOne(H3209,F3242)","v":false},null,null,null,null,28,null,null,0,0,null,29,0,null,null,null,0,"kr./ha.",0,"kr./tim."]
[{"$f":"CheckOne(H3209,F3244)","v":false},null,null,null,null,30,null,null,0,0,null,31,0,null,null,null,0,"kr./ha.",0,"kr./tim."]
[{"$f":"CheckOne(H3209,F3245)","v":false},null,null,null,null,31,null,null,0,0,null,32,0,null,null,null,0,"kr./ha.",0,"kr./tim."]
[{"$f":"CheckOne(H3209,F3248)","v":false},null,null,null,null,34,null,null,0,0,null,35,0,null,null,null,0,"kr./ha.",0,"kr./tim."]
[{"$f":"CheckOne(H3209,F3249)","v":false},null,null,null,null,35,null,null,0,0,null,36,0,null,null,null,0,"kr./ha.",0,"kr./tim."]
[{"$f":"CheckOne(H3209,F3251)","v":false},null,null,null,null,37,null,null,0,0,null,38,0,null,null,null,0,"kr./ha.",0,"kr./tim."]
[{"$f":"CheckOne(H3209,F3252)","v":false},null,null,null,null,38,null,null,0,0,null,39,0,null,null,null,0,"kr./ha.",0,"kr./tim."]
[{"$f":"CheckOne(H3209,F3255)","v":false},null,null,null,null,41,null,null,0,0,null,42,0,null,null,null,0,"kr./ha.",0,"kr./tim."]
[{"$f":"CheckOne(H3209,F3256)","v":false},null,null,null,null,42,null,null,0,0,null,43,0,null,null,null,0,"kr./ha.",0,"kr./tim."]
[{"$f":"CheckOne(H3209,F3258)","v":false},null,null,null,null,44,null,null,0,0,null,45,0,null,null,null,0,"kr./ha.",0,"kr./tim."]
[{"$f":"CheckOne(H3209,F3259)","v":false},null,null,null,null,45,null,null,0,0,null,46,0,null,null,null,0,"kr./ha.",0,"kr./tim."]
[{"$f":"CheckOne(H3209,F3261)","v":false},null,null,null,null,47,null,null,0,0,null,48,0,null,null,null,0,"kr./ha.",0,"kr./tim."]
[{"$f":"CheckOne(H3209,F3262)","v":false},null,null,null,null,48,null,null,0,0,null,49,0,null,null,null,0,"kr./ha.",0,"kr./tim."]
[{"$f":"IF(N3266=\"Maskinstation\",FALSE,OR(L3265<>0,N3269<>0,Q3266<>0,S3266<>0))","v":false}]
[{"$f":"IF(N3267=\"Maskinstation\",FALSE,OR(L3266<>0,N3270<>0,Q3267<>0,S3267<>0))","v":false},null,null,null,null,"nr.","id","Maskiner",null,null,null,{"$f":"VLOOKUP(F3267,$L$85:$AH$134,2,FALSE)","v":0}]
[{"$f":"A3267","v":false},null,null,null,null,null,null,null,null,null,null,"FO (faste omk.):",null,{"$f":"+S3268*S3267","v":0},"FE (faste enh. omk.):",null,{"$f":"IFERROR(N3268/Q3267,0)","v":0},{"$f":"\"kr./\"&R3267","v":"kr./ha."},{"$f":"SUMIF(A3272:A3322,TRUE,J3272:J3322)","v":0},"kr./tim."]
[false,null,null,null,null,null,null,null,null,null,null,"VO (var. omk.):",null,{"$f":"+S3267*S3269","v":0},"VE (var. enh. omk.):",null,{"$f":"IFERROR(N3269/Q3267,0)","v":0},{"$f":"+R3268","v":"kr./ha."},{"$f":"SUMIF(A3272:A3322,TRUE,I3272:I3322)","v":0},"kr./tim."]
[{"$f":"CheckOne(H3267,F3272)","v":false},null,null,null,null,{"$f":"_xlfn.ANCHORARRAY($J$31)","v":0},null,null,{"$f":"VLOOKUP(_xlfn.ANCHORARRAY(L3272),$L$31:$AE$80,17,FALSE)","v":0},{"$f":"VLOOKUP(_xlfn.ANCHORARRAY(L3272),$L$31:$AE$80,20,FALSE)-_xlfn.ANCHORARRAY(I3272)","v":0},null,{"$f":"$L$31:$L$80","v":1},{"$f":"$M$31:$M$80","v":0},null,null,null,{"$f":"_xlfn.ANCHORARRAY(S3272)/O3267","v":0},{"$f":"+R3270","v":"kr./ha."},{"$f":"$AE$31:$AE$80","v":0},"kr./tim."]
[{"$f":"CheckOne(H3267,F3273)","v":false},null,null,null,null,3,null,null,0,0,null,2,0,null,null,null,0,{"$f":"+R3272","v":"kr./ha."},0,"kr./tim."]
[{"$f":"CheckOne(H3267,F3275)","v":false},null,null,null,null,4,null,null,0,0,null,4,0,null,null,null,0,"kr./ha.",0,"kr./tim."]
[{"$f":"CheckOne(H3267,F3276)","v":false},null,null,null,null,1,null,null,0,0,null,5,0,null,null,null,0,"kr./ha.",0,"kr./tim."]
[{"$f":"CheckOne(H3267,F3279)","v":false},null,null,null,null,7,null,null,0,0,null,8,0,null,null,null,0,"kr./ha.",0,"kr./tim."]
[{"$f":"CheckOne(H3267,F3280)","v":false},null,null,null,null,8,null,null,0,0,null,9,0,null,null,null,0,"kr./ha.",0,"kr./tim."]
[{"$f":"CheckOne(H3267,F3282)","v":false},null,null,null,null,10,null,null,0,0,null,11,0,null,null,null,0,"kr./ha.",0,"kr./tim."]
[{"$f":"CheckOne(H3267,F3283)","v":false},null,null,null,null,11,null,null,0,0,null,12,0,null,null,null,0,"kr./ha.",0,"kr./tim."]
[{"$f":"CheckOne(H3267,F3286)","v":false},null,null,null,null,14,null,null,0,0,null,15,0,null,null,null,0,"kr./ha.",0,"kr./tim."]
[{"$f":"CheckOne(H3267,F3287)","v":false},null,null,null,null,15,null,null,0,0,null,16,0,null,null,null,0,"kr./ha.",0,"kr./tim."]
[{"$f":"CheckOne(H3267,F3289)","v":false},null,null,null,null,17,null,null,0,0,null,18,0,null,null,null,0,"kr./ha.",0,"kr./tim."]
[{"$f":"CheckOne(H3267,F3290)","v":false},null,null,null,null,18,null,null,0,0,null,19,0,null,null,null,0,"kr./ha.",0,"kr./tim."]
[{"$f":"CheckOne(H3267,F3293)","v":false},null,null,null,null,21,null,null,0,0,null,22,0,null,null,null,0,"kr./ha.",0,"kr./tim."]
[{"$f":"CheckOne(H3267,F3294)","v":false},null,null,null,null,22,null,null,0,0,null,23,0,null,null,null,0,"kr./ha.",0,"kr./tim."]
[{"$f":"CheckOne(H3267,F3296)","v":false},null,null,null,null,24,null,null,0,0,null,25,0,null,null,null,0,"kr./ha.",0,"kr./tim."]
[{"$f":"CheckOne(H3267,F3297)","v":false},null,null,null,null,25,null,null,0,0,null,26,0,null,null,null,0,"kr./ha.",0,"kr./tim."]
[{"$f":"CheckOne(H3267,F3300)","v":false},null,null,null,null,28,null,null,0,0,null,29,0,null,null,null,0,"kr./ha.",0,"kr./tim."]
[{"$f":"CheckOne(H3267,F3301)","v":false},null,null,null,null,29,null,null,0,0,null,30,0,null,null,null,0,"kr./ha.",0,"kr./tim."]
[{"$f":"CheckOne(H3267,F3303)","v":false},null,null,null,null,31,null,null,0,0,null,32,0,null,null,null,0,"kr./ha.",0,"kr./tim."]
[{"$f":"CheckOne(H3267,F3304)","v":false},null,null,null,null,32,null,null,0,0,null,33,0,null,null,null,0,"kr./ha.",0,"kr./tim."]
[{"$f":"CheckOne(H3267,F3307)","v":false},null,null,null,null,35,null,null,0,0,null,36,0,null,null,null,0,"kr./ha.",0,"kr./tim."]
[{"$f":"CheckOne(H3267,F3308)","v":false},null,null,null,null,36,null,null,0,0,null,37,0,null,null,null,0,"kr./ha.",0,"kr./tim."]
[{"$f":"CheckOne(H3267,F3310)","v":false},null,null,null,null,38,null,null,0,0,null,39,0,null,null,null,0,"kr./ha.",0,"kr./tim."]
[{"$f":"CheckOne(H3267,F3311)","v":false},null,null,null,null,39,null,null,0,0,null,40,0,null,null,null,0,"kr./ha.",0,"kr./tim."]
[{"$f":"CheckOne(H3267,F3314)","v":false},null,null,null,null,42,null,null,0,0,null,43,0,null,null,null,0,"kr./ha.",0,"kr./tim."]
[{"$f":"CheckOne(H3267,F3315)","v":false},null,null,null,null,43,null,null,0,0,null,44,0,null,null,null,0,"kr./ha.",0,"kr./tim."]
[{"$f":"CheckOne(H3267,F3317)","v":false},null,null,null,null,45,null,null,0,0,null,46,0,null,null,null,0,"kr./ha.",0,"kr./tim."]
[{"$f":"CheckOne(H3267,F3318)","v":false},null,null,null,null,46,null,null,0,0,null,47,0,null,null,null,0,"kr./ha.",0,"kr./tim."]
[{"$f":"CheckOne(H3267,F3321)","v":false},null,null,null,null,49,null,null,0,0,null,50,0,null,null,null,0,"kr./ha.",0,"kr./tim."]
[{"$f":"OR(N3322>0)","v":false},null,null,null,null,null,null,null,{"$f":"+S3322","v":0},0,null,null,"Arbejdsløn:",{"$f":"VLOOKUP(F3267,$L$85:$AH$134,14,FALSE)","v":0},"medarbejder",null,{"$f":"+S3322/O3267","v":0},"kr./ha.",{"$f":"+Maskiner!$Z$17*N3322","v":0},"kr./tim."]
[{"$f":"IF(N3325=\"Maskinstation\",FALSE,OR(L3324<>0,N3328<>0,Q3325<>0,S3325<>0))","v":false},null,null,null,null,"nr.","id","Maskiner",null,null,null,{"$f":"VLOOKUP(F3325,$L$85:$AH$134,2,FALSE)","v":0}]
[{"$f":"A3324","v":false},null,null,null,null,{"$f":"1+F3267","v":5},{"$f":"VLOOKUP(F3325,$F$85:$J$134,5,FALSE)","v":3},{"$f":"VLOOKUP(F3325,$F$85:$I$134,4,FALSE)","v":""},null,null,null,"Type:",null,{"$f":"VLOOKUP(F3325,$L$85:$AH$134,5,FALSE)","v":"Intern"},{"$f":"VLOOKUP(F3325,$L$85:$AH$134,19,FALSE)","v":1},{"$f":"R3325&\"/time\"","v":"ha./time"},{"$f":"VLOOKUP(F3325,$L$85:$AH$134,15,FALSE)","v":0},{"$f":"VLOOKUP(F3325,$L$85:$AH$134,16,FALSE)","v":"ha."},{"$f":"VLOOKUP(F3325,$L$85:$AH$134,17,FALSE)","v":0},"timer"]
[false,null,null,null,null,null,null,null,null,null,null,"TO (totae omk.):",null,{"$f":"+N3327+N3326","v":0},"TE (totale enh. omk.):",null,{"$f":"+Q3327+Q3326","v":0},{"$f":"+R3327","v":"kr./ha."},{"$f":"+S3327+S3326","v":0},"kr./tim."]
[false,null,null,null,null,"id",null,null,"VE/tim","FE",null,null,null,null,"Maskinstationspris",null,{"$f":"VLOOKUP(F3325,$L$85:$AH$134,23,FALSE)","v":0},{"$f":"+R3328","v":"kr./ha."}]
[{"$f":"CheckOne(H3325,F3331)","v":false},null,null,null,null,3,null,null,0,0,null,2,0,null,null,null,0,{"$f":"+R3330","v":"kr./ha."},0,"kr./tim."]
[{"$f":"CheckOne(H3325,F3332)","v":false},null,null,null,null,5,null,null,0,0,null,3,0,null,null,null,0,{"$f":"+R3331","v":"kr./ha."},0,"kr./tim."]
[{"$f":"CheckOne(H3325,F3335)","v":false},null,null,null,null,2,null,null,0,0,null,6,0,null,null,null,0,"kr./ha.",0,"kr./tim."]
[{"$f":"CheckOne(H3325,F3336)","v":false},null,null,null,null,6,null,null,0,0,null,7,0,null,null,null,0,"kr./ha.",0,"kr./tim."]
[{"$f":"CheckOne(H3325,F3338)","v":false},null,null,null,null,8,null,null,0,0,null,9,0,null,null,null,0,"kr./ha.",0,"kr./tim."]
[{"$f":"CheckOne(H3325,F3339)","v":false},null,null,null,null,9,null,null,0,0,null,10,0,null,null,null,0,"kr./ha.",0,"kr./tim."]
[{"$f":"CheckOne(H3325,F3342)","v":false},null,null,null,null,12,null,null,0,0,null,13,0,null,null,null,0,"kr./ha.",0,"kr./tim."]
[{"$f":"CheckOne(H3325,F3343)","v":false},null,null,null,null,13,null,null,0,0,null,14,0,null,null,null,0,"kr./ha.",0,"kr./tim."]
[{"$f":"CheckOne(H3325,F3345)","v":false},null,null,null,null,15,null,null,0,0,null,16,0,null,null,null,0,"kr./ha.",0,"kr./tim."]
[{"$f":"CheckOne(H3325,F3346)","v":false},null,null,null,null,16,null,null,0,0,null,17,0,null,null,null,0,"kr./ha.",0,"kr./tim."]
[{"$f":"CheckOne(H3325,F3349)","v":false},null,null,null,null,19,null,null,0,0,null,20,0,null,null,null,0,"kr./ha.",0,"kr./tim."]
[{"$f":"CheckOne(H3325,F3350)","v":false},null,null,null,null,20,null,null,0,0,null,21,0,null,null,null,0,"kr./ha.",0,"kr./tim."]
[{"$f":"CheckOne(H3325,F3352)","v":false},null,null,null,null,22,null,null,0,0,null,23,0,null,null,null,0,"kr./ha.",0,"kr./tim."]
[{"$f":"CheckOne(H3325,F3353)","v":false},null,null,null,null,23,null,null,0,0,null,24,0,null,null,null,0,"kr./ha.",0,"kr./tim."]
[{"$f":"CheckOne(H3325,F3356)","v":false},null,null,null,null,26,null,null,0,0,null,27,0,null,null,null,0,"kr./ha.",0,"kr./tim."]
[{"$f":"CheckOne(H3325,F3357)","v":false},null,null,null,null,27,null,null,0,0,null,28,0,null,null,null,0,"kr./ha.",0,"kr./tim."]
[{"$f":"CheckOne(H3325,F3359)","v":false},null,null,null,null,29,null,null,0,0,null,30,0,null,null,null,0,"kr./ha.",0,"kr./tim."]
[{"$f":"CheckOne(H3325,F3360)","v":false},null,null,null,null,30,null,null,0,0,null,31,0,null,null,null,0,"kr./ha.",0,"kr./tim."]
[{"$f":"CheckOne(H3325,F3363)","v":false},null,null,null,null,33,null,null,0,0,null,34,0,null,null,null,0,"kr./ha.",0,"kr./tim."]
[{"$f":"CheckOne(H3325,F3364)","v":false},null,null,null,null,34,null,null,0,0,null,35,0,null,null,null,0,"kr./ha.",0,"kr./tim."]
[{"$f":"CheckOne(H3325,F3366)","v":false},null,null,null,null,36,null,null,0,0,null,37,0,null,null,null,0,"kr./ha.",0,"kr./tim."]
[{"$f":"CheckOne(H3325,F3367)","v":false},null,null,null,null,37,null,null,0,0,null,38,0,null,null,null,0,"kr./ha.",0,"kr./tim."]
[{"$f":"CheckOne(H3325,F3370)","v":false},null,null,null,null,40,null,null,0,0,null,41,0,null,null,null,0,"kr./ha.",0,"kr./tim."]
[{"$f":"CheckOne(H3325,F3371)","v":false},null,null,null,null,41,null,null,0,0,null,42,0,null,null,null,0,"kr./ha.",0,"kr./tim."]
[{"$f":"CheckOne(H3325,F3373)","v":false},null,null,null,null,43,null,null,0,0,null,44,0,null,null,null,0,"kr./ha.",0,"kr./tim."]
[{"$f":"CheckOne(H3325,F3374)","v":false},null,null,null,null,44,null,null,0,0,null,45,0,null,null,null,0,"kr./ha.",0,"kr./tim."]
[{"$f":"CheckOne(H3325,F3377)","v":false},null,null,null,null,47,null,null,0,0,null,48,0,null,null,null,0,"kr./ha.",0,"kr./tim."]
[{"$f":"CheckOne(H3325,F3378)","v":false},null,null,null,null,48,null,null,0,0,null,49,0,null,null,null,0,"kr./ha.",0,"kr./tim."]
[{"$f":"OR(N3380>0)","v":false},null,null,null,null,null,null,null,{"$f":"+S3380","v":0},0,null,null,"Arbejdsløn:",{"$f":"VLOOKUP(F3325,$L$85:$AH$134,14,FALSE)","v":0},"medarbejder",null,{"$f":"+S3380/O3325","v":0},"kr./ha.",{"$f":"+Maskiner!$Z$17*N3380","v":0},"kr./tim."]
[{"$f":"IF(N3382=\"Maskinstation\",FALSE,OR(L3381<>0,N3385<>0,Q3382<>0,S3382<>0))","v":false}]
[{"$f":"A3383","v":false},null,null,null,null,null,null,null,null,null,null,"FO (faste omk.):",null,{"$f":"+S3384*S3383","v":0},"FE (faste enh. omk.):",null,{"$f":"IFERROR(N3384/Q3383,0)","v":0},{"$f":"\"kr./\"&R3383","v":"kr./ha."},{"$f":"SUMIF(A3388:A3438,TRUE,J3388:J3438)","v":0},"kr./tim."]
[false,null,null,null,null,null,null,null,null,null,null,"VO (var. omk.):",null,{"$f":"+S3383*S3385","v":0},"VE (var. enh. omk.):",null,{"$f":"IFERROR(N3385/Q3383,0)","v":0},{"$f":"+R3384","v":"kr./ha."},{"$f":"SUMIF(A3388:A3438,TRUE,I3388:I3438)","v":0},"kr./tim."]
[false,null,null,null,null,"id",null,null,"VE/tim","FE",null,null,null,null,"Maskinstationspris",null,{"$f":"VLOOKUP(F3383,$L$85:$AH$134,23,FALSE)","v":0},{"$f":"+R3386","v":"kr./ha."}]
[{"$f":"CheckOne(H3383,F3388)","v":false},null,null,null,null,{"$f":"_xlfn.ANCHORARRAY($J$31)","v":0},null,null,{"$f":"VLOOKUP(_xlfn.ANCHORARRAY(L3388),$L$31:$AE$80,17,FALSE)","v":0},{"$f":"VLOOKUP(_xlfn.ANCHORARRAY(L3388),$L$31:$AE$80,20,FALSE)-_xlfn.ANCHORARRAY(I3388)","v":0},null,{"$f":"$L$31:$L$80","v":1},{"$f":"$M$31:$M$80","v":0},null,null,null,{"$f":"_xlfn.ANCHORARRAY(S3388)/O3383","v":0},{"$f":"+R3386","v":"kr./ha."},{"$f":"$AE$31:$AE$80","v":0},"kr./tim."]
[{"$f":"CheckOne(H3383,F3391)","v":false},null,null,null,null,4,null,null,0,0,null,4,0,null,null,null,0,"kr./ha.",0,"kr./tim."]
[{"$f":"CheckOne(H3383,F3392)","v":false},null,null,null,null,1,null,null,0,0,null,5,0,null,null,null,0,"kr./ha.",0,"kr./tim."]
[{"$f":"CheckOne(H3383,F3394)","v":false},null,null,null,null,6,null,null,0,0,null,7,0,null,null,null,0,"kr./ha.",0,"kr./tim."]
[{"$f":"CheckOne(H3383,F3395)","v":false},null,null,null,null,7,null,null,0,0,null,8,0,null,null,null,0,"kr./ha.",0,"kr./tim."]
[{"$f":"CheckOne(H3383,F3398)","v":false},null,null,null,null,10,null,null,0,0,null,11,0,null,null,null,0,"kr./ha.",0,"kr./tim."]
[{"$f":"CheckOne(H3383,F3399)","v":false},null,null,null,null,11,null,null,0,0,null,12,0,null,null,null,0,"kr./ha.",0,"kr./tim."]
[{"$f":"CheckOne(H3383,F3401)","v":false},null,null,null,null,13,null,null,0,0,null,14,0,null,null,null,0,"kr./ha.",0,"kr./tim."]
[{"$f":"CheckOne(H3383,F3402)","v":false},null,null,null,null,14,null,null,0,0,null,15,0,null,null,null,0,"kr./ha.",0,"kr./tim."]
[{"$f":"CheckOne(H3383,F3405)","v":false},null,null,null,null,17,null,null,0,0,null,18,0,null,null,null,0,"kr./ha.",0,"kr./tim."]
[{"$f":"CheckOne(H3383,F3406)","v":false},null,null,null,null,18,null,null,0,0,null,19,0,null,null,null,0,"kr./ha.",0,"kr./tim."]
[{"$f":"CheckOne(H3383,F3408)","v":false},null,null,null,null,20,null,null,0,0,null,21,0,null,null,null,0,"kr./ha.",0,"kr./tim."]
[{"$f":"CheckOne(H3383,F3409)","v":false},null,null,null,null,21,null,null,0,0,null,22,0,null,null,null,0,"kr./ha.",0,"kr./tim."]
[{"$f":"CheckOne(H3383,F3412)","v":false},null,null,null,null,24,null,null,0,0,null,25,0,null,null,null,0,"kr./ha.",0,"kr./tim."]
[{"$f":"CheckOne(H3383,F3413)","v":false},null,null,null,null,25,null,null,0,0,null,26,0,null,null,null,0,"kr./ha.",0,"kr./tim."]
[{"$f":"CheckOne(H3383,F3415)","v":false},null,null,null,null,27,null,null,0,0,null,28,0,null,null,null,0,"kr./ha.",0,"kr./tim."]
[{"$f":"CheckOne(H3383,F3416)","v":false},null,null,null,null,28,null,null,0,0,null,29,0,null,null,null,0,"kr./ha.",0,"kr./tim."]
[{"$f":"CheckOne(H3383,F3419)","v":false},null,null,null,null,31,null,null,0,0,null,32,0,null,null,null,0,"kr./ha.",0,"kr./tim."]
[{"$f":"CheckOne(H3383,F3420)","v":false},null,null,null,null,32,null,null,0,0,null,33,0,null,null,null,0,"kr./ha.",0,"kr./tim."]
[{"$f":"CheckOne(H3383,F3422)","v":false},null,null,null,null,34,null,null,0,0,null,35,0,null,null,null,0,"kr./ha.",0,"kr./tim."]
[{"$f":"CheckOne(H3383,F3423)","v":false},null,null,null,null,35,null,null,0,0,null,36,0,null,null,null,0,"kr./ha.",0,"kr./tim."]
[{"$f":"CheckOne(H3383,F3426)","v":false},null,null,null,null,38,null,null,0,0,null,39,0,null,null,null,0,"kr./ha.",0,"kr./tim."]
[{"$f":"CheckOne(H3383,F3427)","v":false},null,null,null,null,39,null,null,0,0,null,40,0,null,null,null,0,"kr./ha.",0,"kr./tim."]
[{"$f":"CheckOne(H3383,F3429)","v":false},null,null,null,null,41,null,null,0,0,null,42,0,null,null,null,0,"kr./ha.",0,"kr./tim."]
[{"$f":"CheckOne(H3383,F3430)","v":false},null,null,null,null,42,null,null,0,0,null,43,0,null,null,null,0,"kr./ha.",0,"kr./tim."]
[{"$f":"CheckOne(H3383,F3433)","v":false},null,null,null,null,45,null,null,0,0,null,46,0,null,null,null,0,"kr./ha.",0,"kr./tim."]
[{"$f":"CheckOne(H3383,F3434)","v":false},null,null,null,null,46,null,null,0,0,null,47,0,null,null,null,0,"kr./ha.",0,"kr./tim."]
[{"$f":"CheckOne(H3383,F3436)","v":false},null,null,null,null,48,null,null,0,0,null,49,0,null,null,null,0,"kr./ha.",0,"kr./tim."]
[{"$f":"CheckOne(H3383,F3437)","v":false},null,null,null,null,49,null,null,0,0,null,50,0,null,null,null,0,"kr./ha.",0,"kr./tim."]
[{"$f":"IF(N3441=\"Maskinstation\",FALSE,OR(L3440<>0,N3444<>0,Q3441<>0,S3441<>0))","v":false},null,null,null,null,"nr.","id","Maskiner",null,null,null,{"$f":"VLOOKUP(F3441,$L$85:$AH$134,2,FALSE)","v":0}]
[{"$f":"A3440","v":false},null,null,null,null,{"$f":"1+F3383","v":7},{"$f":"VLOOKUP(F3441,$F$85:$J$134,5,FALSE)","v":7},{"$f":"VLOOKUP(F3441,$F$85:$I$134,4,FALSE)","v":""},null,null,null,"Type:",null,{"$f":"VLOOKUP(F3441,$L$85:$AH$134,5,FALSE)","v":"Intern"},{"$f":"VLOOKUP(F3441,$L$85:$AH$134,19,FALSE)","v":1},{"$f":"R3441&\"/time\"","v":"ha./time"},{"$f":"VLOOKUP(F3441,$L$85:$AH$134,15,FALSE)","v":0},{"$f":"VLOOKUP(F3441,$L$85:$AH$134,16,FALSE)","v":"ha."},{"$f":"VLOOKUP(F3441,$L$85:$AH$134,17,FALSE)","v":0},"timer"]
[false,null,null,null,null,null,null,null,null,null,null,"VO (var. omk.):",null,{"$f":"+S3441*S3443","v":0},"VE (var. enh. omk.):",null,{"$f":"IFERROR(N3443/Q3441,0)","v":0},{"$f":"+R3442","v":"kr./ha."},{"$f":"SUMIF(A3446:A3496,TRUE,I3446:I3496)","v":0},"kr./tim."]
[false,null,null,null,null,null,null,null,null,null,null,"TO (totae omk.):",null,{"$f":"+N3443+N3442","v":0},"TE (totale enh. omk.):",null,{"$f":"+Q3443+Q3442","v":0},{"$f":"+R3443","v":"kr./ha."},{"$f":"+S3443+S3442","v":0},"kr./tim."]
[{"$f":"CheckOne(H3441,F3447)","v":false},null,null,null,null,3,null,null,0,0,null,2,0,null,null,null,0,{"$f":"+R3446","v":"kr./ha."},0,"kr./tim."]
[{"$f":"CheckOne(H3441,F3448)","v":false},null,null,null,null,5,null,null,0,0,null,3,0,null,null,null,0,{"$f":"+R3447","v":"kr./ha."},0,"kr./tim."]
[{"$f":"CheckOne(H3441,F3450)","v":false},null,null,null,null,1,null,null,0,0,null,5,0,null,null,null,0,"kr./ha.",0,"kr./tim."]
[{"$f":"CheckOne(H3441,F3451)","v":false},null,null,null,null,2,null,null,0,0,null,6,0,null,null,null,0,"kr./ha.",0,"kr./tim."]
[{"$f":"CheckOne(H3441,F3454)","v":false},null,null,null,null,8,null,null,0,0,null,9,0,null,null,null,0,"kr./ha.",0,"kr./tim."]
[{"$f":"CheckOne(H3441,F3455)","v":false},null,null,null,null,9,null,null,0,0,null,10,0,null,null,null,0,"kr./ha.",0,"kr./tim."]
[{"$f":"CheckOne(H3441,F3457)","v":false},null,null,null,null,11,null,null,0,0,null,12,0,null,null,null,0,"kr./ha.",0,"kr./tim."]
[{"$f":"CheckOne(H3441,F3458)","v":false},null,null,null,null,12,null,null,0,0,null,13,0,null,null,null,0,"kr./ha.",0,"kr./tim."]
[{"$f":"CheckOne(H3441,F3460)","v":false},null,null,null,null,14,null,null,0,0,null,15,0,null,null,null,0,"kr./ha.",0,"kr./tim."]
[{"$f":"CheckOne(H3441,F3461)","v":false},null,null,null,null,15,null,null,0,0,null,16,0,null,null,null,0,"kr./ha.",0,"kr./tim."]
[{"$f":"CheckOne(H3441,F3464)","v":false},null,null,null,null,18,null,null,0,0,null,19,0,null,null,null,0,"kr./ha.",0,"kr./tim."]
[{"$f":"CheckOne(H3441,F3465)","v":false},null,null,null,null,19,null,null,0,0,null,20,0,null,null,null,0,"kr./ha.",0,"kr./tim."]
[{"$f":"CheckOne(H3441,F3467)","v":false},null,null,null,null,21,null,null,0,0,null,22,0,null,null,null,0,"kr./ha.",0,"kr./tim."]
[{"$f":"CheckOne(H3441,F3468)","v":false},null,null,null,null,22,null,null,0,0,null,23,0,null,null,null,0,"kr./ha.",0,"kr./tim."]
[{"$f":"CheckOne(H3441,F3471)","v":false},null,null,null,null,25,null,null,0,0,null,26,0,null,null,null,0,"kr./ha.",0,"kr./tim."]
[{"$f":"CheckOne(H3441,F3472)","v":false},null,null,null,null,26,null,null,0,0,null,27,0,null,null,null,0,"kr./ha.",0,"kr./tim."]
[{"$f":"CheckOne(H3441,F3474)","v":false},null,null,null,null,28,null,null,0,0,null,29,0,null,null,null,0,"kr./ha.",0,"kr./tim."]
[{"$f":"CheckOne(H3441,F3475)","v":false},null,null,null,null,29,null,null,0,0,null,30,0,null,null,null,0,"kr./ha.",0,"kr./tim."]
[{"$f":"CheckOne(H3441,F3478)","v":false},null,null,null,null,32,null,null,0,0,null,33,0,null,null,null,0,"kr./ha.",0,"kr./tim."]
[{"$f":"CheckOne(H3441,F3479)","v":false},null,null,null,null,33,null,null,0,0,null,34,0,null,null,null,0,"kr./ha.",0,"kr./tim."]
[{"$f":"CheckOne(H3441,F3481)","v":false},null,null,null,null,35,null,null,0,0,null,36,0,null,null,null,0,"kr./ha.",0,"kr./tim."]
[{"$f":"CheckOne(H3441,F3482)","v":false},null,null,null,null,36,null,null,0,0,null,37,0,null,null,null,0,"kr./ha.",0,"kr./tim."]
[{"$f":"CheckOne(H3441,F3485)","v":false},null,null,null,null,39,null,null,0,0,null,40,0,null,null,null,0,"kr./ha.",0,"kr./tim."]
[{"$f":"CheckOne(H3441,F3486)","v":false},null,null,null,null,40,null,null,0,0,null,41,0,null,null,null,0,"kr./ha.",0,"kr./tim."]
[{"$f":"CheckOne(H3441,F3488)","v":false},null,null,null,null,42,null,null,0,0,null,43,0,null,null,null,0,"kr./ha.",0,"kr./tim."]
[{"$f":"CheckOne(H3441,F3489)","v":false},null,null,null,null,43,null,null,0,0,null,44,0,null,null,null,0,"kr./ha.",0,"kr./tim."]
[{"$f":"CheckOne(H3441,F3492)","v":false},null,null,null,null,46,null,null,0,0,null,47,0,null,null,null,0,"kr./ha.",0,"kr./tim."]
[{"$f":"CheckOne(H3441,F3493)","v":false},null,null,null,null,47,null,null,0,0,null,48,0,null,null,null,0,"kr./ha.",0,"kr./tim."]
[{"$f":"CheckOne(H3441,F3495)","v":false},null,null,null,null,49,null,null,0,0,null,50,0,null,null,null,0,"kr./ha.",0,"kr./tim."]
[{"$f":"OR(N3496>0)","v":false},null,null,null,null,null,null,null,{"$f":"+S3496","v":0},0,null,null,"Arbejdsløn:",{"$f":"VLOOKUP(F3441,$L$85:$AH$134,14,FALSE)","v":0},"medarbejder",null,{"$f":"+S3496/O3441","v":0},"kr./ha.",{"$f":"+Maskiner!$Z$17*N3496","v":0},"kr./tim."]
[{"$f":"A3498","v":false},null,null,null,null,{"$f":"1+F3441","v":8},{"$f":"VLOOKUP(F3499,$F$85:$J$134,5,FALSE)","v":10},{"$f":"VLOOKUP(F3499,$F$85:$I$134,4,FALSE)","v":""},null,null,null,"Type:",null,{"$f":"VLOOKUP(F3499,$L$85:$AH$134,5,FALSE)","v":"Intern"},{"$f":"VLOOKUP(F3499,$L$85:$AH$134,19,FALSE)","v":1},{"$f":"R3499&\"/time\"","v":"ha./time"},{"$f":"VLOOKUP(F3499,$L$85:$AH$134,15,FALSE)","v":0},{"$f":"VLOOKUP(F3499,$L$85:$AH$134,16,FALSE)","v":"ha."},{"$f":"VLOOKUP(F3499,$L$85:$AH$134,17,FALSE)","v":0},"timer"]
[{"$f":"A3499","v":false},null,null,null,null,null,null,null,null,null,null,"FO (faste omk.):",null,{"$f":"+S3500*S3499","v":0},"FE (faste enh. omk.):",null,{"$f":"IFERROR(N3500/Q3499,0)","v":0},{"$f":"\"kr./\"&R3499","v":"kr./ha."},{"$f":"SUMIF(A3504:A3554,TRUE,J3504:J3554)","v":0},"kr./tim."]
[false,null,null,null,null,null,null,null,null,null,null,"TO (totae omk.):",null,{"$f":"+N3501+N3500","v":0},"TE (totale enh. omk.):",null,{"$f":"+Q3501+Q3500","v":0},{"$f":"+R3501","v":"kr./ha."},{"$f":"+S3501+S3500","v":0},"kr./tim."]
[false,null,null,null,null,"id",null,null,"VE/tim","FE",null,null,null,null,"Maskinstationspris",null,{"$f":"VLOOKUP(F3499,$L$85:$AH$134,23,FALSE)","v":0},{"$f":"+R3502","v":"kr./ha."}]
[{"$f":"CheckOne(H3499,F3506)","v":false},null,null,null,null,5,null,null,0,0,null,3,0,null,null,null,0,{"$f":"+R3505","v":"kr./ha."},0,"kr./tim."]
[{"$f":"CheckOne(H3499,F3507)","v":false},null,null,null,null,4,null,null,0,0,null,4,0,null,null,null,0,"kr./ha.",0,"kr./tim."]
[{"$f":"CheckOne(H3499,F3509)","v":false},null,null,null,null,2,null,null,0,0,null,6,0,null,null,null,0,"kr./ha.",0,"kr./tim."]
[{"$f":"CheckOne(H3499,F3510)","v":false},null,null,null,null,6,null,null,0,0,null,7,0,null,null,null,0,"kr./ha.",0,"kr./tim."]
[{"$f":"CheckOne(H3499,F3513)","v":false},null,null,null,null,9,null,null,0,0,null,10,0,null,null,null,0,"kr./ha.",0,"kr./tim."]
[{"$f":"CheckOne(H3499,F3514)","v":false},null,null,null,null,10,null,null,0,0,null,11,0,null,null,null,0,"kr./ha.",0,"kr./tim."]
[{"$f":"CheckOne(H3499,F3516)","v":false},null,null,null,null,12,null,null,0,0,null,13,0,null,null,null,0,"kr./ha.",0,"kr./tim."]
[{"$f":"CheckOne(H3499,F3517)","v":false},null,null,null,null,13,null,null,0,0,null,14,0,null,null,null,0,"kr./ha.",0,"kr./tim."]
[{"$f":"CheckOne(H3499,F3520)","v":false},null,null,null,null,16,null,null,0,0,null,17,0,null,null,null,0,"kr./ha.",0,"kr./tim."]
[{"$f":"CheckOne(H3499,F3521)","v":false},null,null,null,null,17,null,null,0,0,null,18,0,null,null,null,0,"kr./ha.",0,"kr./tim."]
[{"$f":"CheckOne(H3499,F3523)","v":false},null,null,null,null,19,null,null,0,0,null,20,0,null,null,null,0,"kr./ha.",0,"kr./tim."]
[{"$f":"CheckOne(H3499,F3524)","v":false},null,null,null,null,20,null,null,0,0,null,21,0,null,null,null,0,"kr./ha.",0,"kr./tim."]
[{"$f":"CheckOne(H3499,F3527)","v":false},null,null,null,null,23,null,null,0,0,null,24,0,null,null,null,0,"kr./ha.",0,"kr./tim."]
[{"$f":"CheckOne(H3499,F3528)","v":false},null,null,null,null,24,null,null,0,0,null,25,0,null,null,null,0,"kr./ha.",0,"kr./tim."]
[{"$f":"CheckOne(H3499,F3530)","v":false},null,null,null,null,26,null,null,0,0,null,27,0,null,null,null,0,"kr./ha.",0,"kr./tim."]
[{"$f":"CheckOne(H3499,F3531)","v":false},null,null,null,null,27,null,null,0,0,null,28,0,null,null,null,0,"kr./ha.",0,"kr./tim."]
[{"$f":"CheckOne(H3499,F3534)","v":false},null,null,null,null,30,null,null,0,0,null,31,0,null,null,null,0,"kr./ha.",0,"kr./tim."]
[{"$f":"CheckOne(H3499,F3535)","v":false},null,null,null,null,31,null,null,0,0,null,32,0,null,null,null,0,"kr./ha.",0,"kr./tim."]
[{"$f":"CheckOne(H3499,F3537)","v":false},null,null,null,null,33,null,null,0,0,null,34,0,null,null,null,0,"kr./ha.",0,"kr./tim."]
[{"$f":"CheckOne(H3499,F3538)","v":false},null,null,null,null,34,null,null,0,0,null,35,0,null,null,null,0,"kr./ha.",0,"kr./tim."]
[{"$f":"CheckOne(H3499,F3541)","v":false},null,null,null,null,37,null,null,0,0,null,38,0,null,null,null,0,"kr./ha.",0,"kr./tim."]
[{"$f":"CheckOne(H3499,F3542)","v":false},null,null,null,null,38,null,null,0,0,null,39,0,null,null,null,0,"kr./ha.",0,"kr./tim."]
[{"$f":"CheckOne(H3499,F3544)","v":false},null,null,null,null,40,null,null,0,0,null,41,0,null,null,null,0,"kr./ha.",0,"kr./tim."]
[{"$f":"CheckOne(H3499,F3545)","v":false},null,null,null,null,41,null,null,0,0,null,42,0,null,null,null,0,"kr./ha.",0,"kr./tim."]
[{"$f":"CheckOne(H3499,F3548)","v":false},null,null,null,null,44,null,null,0,0,null,45,0,null,null,null,0,"kr./ha.",0,"kr./tim."]
[{"$f":"CheckOne(H3499,F3549)","v":false},null,null,null,null,45,null,null,0,0,null,46,0,null,null,null,0,"kr./ha.",0,"kr./tim."]
[{"$f":"CheckOne(H3499,F3551)","v":false},null,null,null,null,47,null,null,0,0,null,48,0,null,null,null,0,"kr./ha.",0,"kr./tim."]
[{"$f":"CheckOne(H3499,F3552)","v":false},null,null,null,null,48,null,null,0,0,null,49,0,null,null,null,0,"kr./ha.",0,"kr./tim."]
[{"$f":"IF(N3556=\"Maskinstation\",FALSE,OR(L3555<>0,N3559<>0,Q3556<>0,S3556<>0))","v":false}]
[{"$f":"IF(N3557=\"Maskinstation\",FALSE,OR(L3556<>0,N3560<>0,Q3557<>0,S3557<>0))","v":false},null,null,null,null,"nr.","id","Maskiner",null,null,null,{"$f":"VLOOKUP(F3557,$L$85:$AH$134,2,FALSE)","v":0}]
[{"$f":"A3557","v":false},null,null,null,null,null,null,null,null,null,null,"FO (faste omk.):",null,{"$f":"+S3558*S3557","v":0},"FE (faste enh. omk.):",null,{"$f":"IFERROR(N3558/Q3557,0)","v":0},{"$f":"\"kr./\"&R3557","v":"kr./ha."},{"$f":"SUMIF(A3562:A3612,TRUE,J3562:J3612)","v":0},"kr./tim."]
[false,null,null,null,null,null,null,null,null,null,null,"VO (var. omk.):",null,{"$f":"+S3557*S3559","v":0},"VE (var. enh. omk.):",null,{"$f":"IFERROR(N3559/Q3557,0)","v":0},{"$f":"+R3558","v":"kr./ha."},{"$f":"SUMIF(A3562:A3612,TRUE,I3562:I3612)","v":0},"kr./tim."]
[{"$f":"CheckOne(H3557,F3562)","v":false},null,null,null,null,{"$f":"_xlfn.ANCHORARRAY($J$31)","v":0},null,null,{"$f":"VLOOKUP(_xlfn.ANCHORARRAY(L3562),$L$31:$AE$80,17,FALSE)","v":0},{"$f":"VLOOKUP(_xlfn.ANCHORARRAY(L3562),$L$31:$AE$80,20,FALSE)-_xlfn.ANCHORARRAY(I3562)","v":0},null,{"$f":"$L$31:$L$80","v":1},{"$f":"$M$31:$M$80","v":0},null,null,null,{"$f":"_xlfn.ANCHORARRAY(S3562)/O3557","v":0},{"$f":"+R3560","v":"kr./ha."},{"$f":"$AE$31:$AE$80","v":0},"kr./tim."]
[{"$f":"CheckOne(H3557,F3563)","v":false},null,null,null,null,3,null,null,0,0,null,2,0,null,null,null,0,{"$f":"+R3562","v":"kr./ha."},0,"kr./tim."]
[{"$f":"CheckOne(H3557,F3565)","v":false},null,null,null,null,4,null,null,0,0,null,4,0,null,null,null,0,"kr./ha.",0,"kr./tim."]
[{"$f":"CheckOne(H3557,F3566)","v":false},null,null,null,null,1,null,null,0,0,null,5,0,null,null,null,0,"kr./ha.",0,"kr./tim."]
[{"$f":"CheckOne(H3557,F3569)","v":false},null,null,null,null,7,null,null,0,0,null,8,0,null,null,null,0,"kr./ha.",0,"kr./tim."]
[{"$f":"CheckOne(H3557,F3570)","v":false},null,null,null,null,8,null,null,0,0,null,9,0,null,null,null,0,"kr./ha.",0,"kr./tim."]
[{"$f":"CheckOne(H3557,F3572)","v":false},null,null,null,null,10,null,null,0,0,null,11,0,null,null,null,0,"kr./ha.",0,"kr./tim."]
[{"$f":"CheckOne(H3557,F3573)","v":false},null,null,null,null,11,null,null,0,0,null,12,0,null,null,null,0,"kr./ha.",0,"kr./tim."]
[{"$f":"CheckOne(H3557,F3576)","v":false},null,null,null,null,14,null,null,0,0,null,15,0,null,null,null,0,"kr./ha.",0,"kr./tim."]
[{"$f":"CheckOne(H3557,F3577)","v":false},null,null,null,null,15,null,null,0,0,null,16,0,null,null,null,0,"kr./ha.",0,"kr./tim."]
[{"$f":"CheckOne(H3557,F3579)","v":false},null,null,null,null,17,null,null,0,0,null,18,0,null,null,null,0,"kr./ha.",0,"kr./tim."]
[{"$f":"CheckOne(H3557,F3580)","v":false},null,null,null,null,18,null,null,0,0,null,19,0,null,null,null,0,"kr./ha.",0,"kr./tim."]
[{"$f":"CheckOne(H3557,F3583)","v":false},null,null,null,null,21,null,null,0,0,null,22,0,null,null,null,0,"kr./ha.",0,"kr./tim."]
[{"$f":"CheckOne(H3557,F3584)","v":false},null,null,null,null,22,null,null,0,0,null,23,0,null,null,null,0,"kr./ha.",0,"kr./tim."]
[{"$f":"CheckOne(H3557,F3586)","v":false},null,null,null,null,24,null,null,0,0,null,25,0,null,null,null,0,"kr./ha.",0,"kr./tim."]
[{"$f":"CheckOne(H3557,F3587)","v":false},null,null,null,null,25,null,null,0,0,null,26,0,null,null,null,0,"kr./ha.",0,"kr./tim."]
[{"$f":"CheckOne(H3557,F3590)","v":false},null,null,null,null,28,null,null,0,0,null,29,0,null,null,null,0,"kr./ha.",0,"kr./tim."]
[{"$f":"CheckOne(H3557,F3591)","v":false},null,null,null,null,29,null,null,0,0,null,30,0,null,null,null,0,"kr./ha.",0,"kr./tim."]
[{"$f":"CheckOne(H3557,F3593)","v":false},null,null,null,null,31,null,null,0,0,null,32,0,null,null,null,0,"kr./ha.",0,"kr./tim."]
[{"$f":"CheckOne(H3557,F3594)","v":false},null,null,null,null,32,null,null,0,0,null,33,0,null,null,null,0,"kr./ha.",0,"kr./tim."]
[{"$f":"CheckOne(H3557,F3597)","v":false},null,null,null,null,35,null,null,0,0,null,36,0,null,null,null,0,"kr./ha.",0,"kr./tim."]
[{"$f":"CheckOne(H3557,F3598)","v":false},null,null,null,null,36,null,null,0,0,null,37,0,null,null,null,0,"kr./ha.",0,"kr./tim."]
[{"$f":"CheckOne(H3557,F3600)","v":false},null,null,null,null,38,null,null,0,0,null,39,0,null,null,null,0,"kr./ha.",0,"kr./tim."]
[{"$f":"CheckOne(H3557,F3601)","v":false},null,null,null,null,39,null,null,0,0,null,40,0,null,null,null,0,"kr./ha.",0,"kr./tim."]
[{"$f":"CheckOne(H3557,F3604)","v":false},null,null,null,null,42,null,null,0,0,null,43,0,null,null,null,0,"kr./ha.",0,"kr./tim."]
[{"$f":"CheckOne(H3557,F3605)","v":false},null,null,null,null,43,null,null,0,0,null,44,0,null,null,null,0,"kr./ha.",0,"kr./tim."]
[{"$f":"CheckOne(H3557,F3607)","v":false},null,null,null,null,45,null,null,0,0,null,46,0,null,null,null,0,"kr./ha.",0,"kr./tim."]
[{"$f":"CheckOne(H3557,F3608)","v":false},null,null,null,null,46,null,null,0,0,null,47,0,null,null,null,0,"kr./ha.",0,"kr./tim."]
[{"$f":"CheckOne(H3557,F3611)","v":false},null,null,null,null,49,null,null,0,0,null,50,0,null,null,null,0,"kr./ha.",0,"kr./tim."]
[{"$f":"OR(N3612>0)","v":false},null,null,null,null,null,null,null,{"$f":"+S3612","v":0},0,null,null,"Arbejdsløn:",{"$f":"VLOOKUP(F3557,$L$85:$AH$134,14,FALSE)","v":0},"medarbejder",null,{"$f":"+S3612/O3557","v":0},"kr./ha.",{"$f":"+Maskiner!$Z$17*N3612","v":0},"kr./tim."]
[{"$f":"IF(N3615=\"Maskinstation\",FALSE,OR(L3614<>0,N3618<>0,Q3615<>0,S3615<>0))","v":false},null,null,null,null,"nr.","id","Maskiner",null,null,null,{"$f":"VLOOKUP(F3615,$L$85:$AH$134,2,FALSE)","v":0}]
[{"$f":"A3614","v":false},null,null,null,null,{"$f":"1+F3557","v":10},{"$f":"VLOOKUP(F3615,$F$85:$J$134,5,FALSE)","v":9},{"$f":"VLOOKUP(F3615,$F$85:$I$134,4,FALSE)","v":""},null,null,null,"Type:",null,{"$f":"VLOOKUP(F3615,$L$85:$AH$134,5,FALSE)","v":"Intern"},{"$f":"VLOOKUP(F3615,$L$85:$AH$134,19,FALSE)","v":1},{"$f":"R3615&\"/time\"","v":"ha./time"},{"$f":"VLOOKUP(F3615,$L$85:$AH$134,15,FALSE)","v":0},{"$f":"VLOOKUP(F3615,$L$85:$AH$134,16,FALSE)","v":"ha."},{"$f":"VLOOKUP(F3615,$L$85:$AH$134,17,FALSE)","v":0},"timer"]
[false,null,null,null,null,null,null,null,null,null,null,"TO (totae omk.):",null,{"$f":"+N3617+N3616","v":0},"TE (totale enh. omk.):",null,{"$f":"+Q3617+Q3616","v":0},{"$f":"+R3617","v":"kr./ha."},{"$f":"+S3617+S3616","v":0},"kr./tim."]
[false,null,null,null,null,"id",null,null,"VE/tim","FE",null,null,null,null,"Maskinstationspris",null,{"$f":"VLOOKUP(F3615,$L$85:$AH$134,23,FALSE)","v":0},{"$f":"+R3618","v":"kr./ha."}]
[{"$f":"CheckOne(H3615,F3621)","v":false},null,null,null,null,3,null,null,0,0,null,2,0,null,null,null,0,{"$f":"+R3620","v":"kr./ha."},0,"kr./tim."]
[{"$f":"CheckOne(H3615,F3622)","v":false},null,null,null,null,5,null,null,0,0,null,3,0,null,null,null,0,{"$f":"+R3621","v":"kr./ha."},0,"kr./tim."]
[{"$f":"CheckOne(H3615,F3625)","v":false},null,null,null,null,2,null,null,0,0,null,6,0,null,null,null,0,"kr./ha.",0,"kr./tim."]
[{"$f":"CheckOne(H3615,F3626)","v":false},null,null,null,null,6,null,null,0,0,null,7,0,null,null,null,0,"kr./ha.",0,"kr./tim."]
[{"$f":"CheckOne(H3615,F3628)","v":false},null,null,null,null,8,null,null,0,0,null,9,0,null,null,null,0,"kr./ha.",0,"kr./tim."]
[{"$f":"CheckOne(H3615,F3629)","v":false},null,null,null,null,9,null,null,0,0,null,10,0,null,null,null,0,"kr./ha.",0,"kr./tim."]
[{"$f":"CheckOne(H3615,F3632)","v":false},null,null,null,null,12,null,null,0,0,null,13,0,null,null,null,0,"kr./ha.",0,"kr./tim."]
[{"$f":"CheckOne(H3615,F3633)","v":false},null,null,null,null,13,null,null,0,0,null,14,0,null,null,null,0,"kr./ha.",0,"kr./tim."]
[{"$f":"CheckOne(H3615,F3635)","v":false},null,null,null,null,15,null,null,0,0,null,16,0,null,null,null,0,"kr./ha.",0,"kr./tim."]
[{"$f":"CheckOne(H3615,F3636)","v":false},null,null,null,null,16,null,null,0,0,null,17,0,null,null,null,0,"kr./ha.",0,"kr./tim."]
[{"$f":"CheckOne(H3615,F3639)","v":false},null,null,null,null,19,null,null,0,0,null,20,0,null,null,null,0,"kr./ha.",0,"kr./tim."]
[{"$f":"CheckOne(H3615,F3640)","v":false},null,null,null,null,20,null,null,0,0,null,21,0,null,null,null,0,"kr./ha.",0,"kr./tim."]
[{"$f":"CheckOne(H3615,F3642)","v":false},null,null,null,null,22,null,null,0,0,null,23,0,null,null,null,0,"kr./ha.",0,"kr./tim."]
[{"$f":"CheckOne(H3615,F3643)","v":false},null,null,null,null,23,null,null,0,0,null,24,0,null,null,null,0,"kr./ha.",0,"kr./tim."]
[{"$f":"CheckOne(H3615,F3646)","v":false},null,null,null,null,26,null,null,0,0,null,27,0,null,null,null,0,"kr./ha.",0,"kr./tim."]
[{"$f":"CheckOne(H3615,F3647)","v":false},null,null,null,null,27,null,null,0,0,null,28,0,null,null,null,0,"kr./ha.",0,"kr./tim."]
[{"$f":"CheckOne(H3615,F3649)","v":false},null,null,null,null,29,null,null,0,0,null,30,0,null,null,null,0,"kr./ha.",0,"kr./tim."]
[{"$f":"CheckOne(H3615,F3650)","v":false},null,null,null,null,30,null,null,0,0,null,31,0,null,null,null,0,"kr./ha.",0,"kr./tim."]
[{"$f":"CheckOne(H3615,F3652)","v":false},null,null,null,null,32,null,null,0,0,null,33,0,null,null,null,0,"kr./ha.",0,"kr./tim."]
[{"$f":"CheckOne(H3615,F3653)","v":false},null,null,null,null,33,null,null,0,0,null,34,0,null,null,null,0,"kr./ha.",0,"kr./tim."]
[{"$f":"CheckOne(H3615,F3656)","v":false},null,null,null,null,36,null,null,0,0,null,37,0,null,null,null,0,"kr./ha.",0,"kr./tim."]
[{"$f":"CheckOne(H3615,F3657)","v":false},null,null,null,null,37,null,null,0,0,null,38,0,null,null,null,0,"kr./ha.",0,"kr./tim."]
[{"$f":"CheckOne(H3615,F3659)","v":false},null,null,null,null,39,null,null,0,0,null,40,0,null,null,null,0,"kr./ha.",0,"kr./tim."]
[{"$f":"CheckOne(H3615,F3660)","v":false},null,null,null,null,40,null,null,0,0,null,41,0,null,null,null,0,"kr./ha.",0,"kr./tim."]
[{"$f":"CheckOne(H3615,F3663)","v":false},null,null,null,null,43,null,null,0,0,null,44,0,null,null,null,0,"kr./ha.",0,"kr./tim."]
[{"$f":"CheckOne(H3615,F3664)","v":false},null,null,null,null,44,null,null,0,0,null,45,0,null,null,null,0,"kr./ha.",0,"kr./tim."]
[{"$f":"CheckOne(H3615,F3666)","v":false},null,null,null,null,46,null,null,0,0,null,47,0,null,null,null,0,"kr./ha.",0,"kr./tim."]
[{"$f":"CheckOne(H3615,F3667)","v":false},null,null,null,null,47,null,null,0,0,null,48,0,null,null,null,0,"kr./ha.",0,"kr./tim."]
[{"$f":"OR(N3670>0)","v":false},null,null,null,null,null,null,null,{"$f":"+S3670","v":0},0,null,null,"Arbejdsløn:",{"$f":"VLOOKUP(F3615,$L$85:$AH$134,14,FALSE)","v":0},"medarbejder",null,{"$f":"+S3670/O3615","v":0},"kr./ha.",{"$f":"+Maskiner!$Z$17*N3670","v":0},"kr./tim."]
[{"$f":"IF(N3672=\"Maskinstation\",FALSE,OR(L3671<>0,N3675<>0,Q3672<>0,S3672<>0))","v":false}]
[{"$f":"A3672","v":false},null,null,null,null,{"$f":"1+F3615","v":11},{"$f":"VLOOKUP(F3673,$F$85:$J$134,5,FALSE)","v":5},{"$f":"VLOOKUP(F3673,$F$85:$I$134,4,FALSE)","v":""},null,null,null,"Type:",null,{"$f":"VLOOKUP(F3673,$L$85:$AH$134,5,FALSE)","v":"Intern"},{"$f":"VLOOKUP(F3673,$L$85:$AH$134,19,FALSE)","v":1},{"$f":"R3673&\"/time\"","v":"ha./time"},{"$f":"VLOOKUP(F3673,$L$85:$AH$134,15,FALSE)","v":0},{"$f":"VLOOKUP(F3673,$L$85:$AH$134,16,FALSE)","v":"ha."},{"$f":"VLOOKUP(F3673,$L$85:$AH$134,17,FALSE)","v":0},"timer"]
[{"$f":"A3673","v":false},null,null,null,null,null,null,null,null,null,null,"FO (faste omk.):",null,{"$f":"+S3674*S3673","v":0},"FE (faste enh. omk.):",null,{"$f":"IFERROR(N3674/Q3673,0)","v":0},{"$f":"\"kr./\"&R3673","v":"kr./ha."},{"$f":"SUMIF(A3678:A3728,TRUE,J3678:J3728)","v":0},"kr./tim."]
[false,null,null,null,null,"id",null,null,"VE/tim","FE",null,null,null,null,"Maskinstationspris",null,{"$f":"VLOOKUP(F3673,$L$85:$AH$134,23,FALSE)","v":0},{"$f":"+R3676","v":"kr./ha."}]
[{"$f":"CheckOne(H3673,F3678)","v":false},null,null,null,null,{"$f":"_xlfn.ANCHORARRAY($J$31)","v":0},null,null,{"$f":"VLOOKUP(_xlfn.ANCHORARRAY(L3678),$L$31:$AE$80,17,FALSE)","v":0},{"$f":"VLOOKUP(_xlfn.ANCHORARRAY(L3678),$L$31:$AE$80,20,FALSE)-_xlfn.ANCHORARRAY(I3678)","v":0},null,{"$f":"$L$31:$L$80","v":1},{"$f":"$M$31:$M$80","v":0},null,null,null,{"$f":"_xlfn.ANCHORARRAY(S3678)/O3673","v":0},{"$f":"+R3676","v":"kr./ha."},{"$f":"$AE$31:$AE$80","v":0},"kr./tim."]
[{"$f":"CheckOne(H3673,F3680)","v":false},null,null,null,null,5,null,null,0,0,null,3,0,null,null,null,0,{"$f":"+R3679","v":"kr./ha."},0,"kr./tim."]
[{"$f":"CheckOne(H3673,F3681)","v":false},null,null,null,null,4,null,null,0,0,null,4,0,null,null,null,0,"kr./ha.",0,"kr./tim."]
[{"$f":"CheckOne(H3673,F3684)","v":false},null,null,null,null,6,null,null,0,0,null,7,0,null,null,null,0,"kr./ha.",0,"kr./tim."]
[{"$f":"CheckOne(H3673,F3685)","v":false},null,null,null,null,7,null,null,0,0,null,8,0,null,null,null,0,"kr./ha.",0,"kr./tim."]
[{"$f":"CheckOne(H3673,F3687)","v":false},null,null,null,null,9,null,null,0,0,null,10,0,null,null,null,0,"kr./ha.",0,"kr./tim."]
[{"$f":"CheckOne(H3673,F3688)","v":false},null,null,null,null,10,null,null,0,0,null,11,0,null,null,null,0,"kr./ha.",0,"kr./tim."]
[{"$f":"CheckOne(H3673,F3691)","v":false},null,null,null,null,13,null,null,0,0,null,14,0,null,null,null,0,"kr./ha.",0,"kr./tim."]
[{"$f":"CheckOne(H3673,F3692)","v":false},null,null,null,null,14,null,null,0,0,null,15,0,null,null,null,0,"kr./ha.",0,"kr./tim."]
[{"$f":"CheckOne(H3673,F3694)","v":false},null,null,null,null,16,null,null,0,0,null,17,0,null,null,null,0,"kr./ha.",0,"kr./tim."]
[{"$f":"CheckOne(H3673,F3695)","v":false},null,null,null,null,17,null,null,0,0,null,18,0,null,null,null,0,"kr./ha.",0,"kr./tim."]
[{"$f":"CheckOne(H3673,F3698)","v":false},null,null,null,null,20,null,null,0,0,null,21,0,null,null,null,0,"kr./ha.",0,"kr./tim."]
[{"$f":"CheckOne(H3673,F3699)","v":false},null,null,null,null,21,null,null,0,0,null,22,0,null,null,null,0,"kr./ha.",0,"kr./tim."]
[{"$f":"CheckOne(H3673,F3701)","v":false},null,null,null,null,23,null,null,0,0,null,24,0,null,null,null,0,"kr./ha.",0,"kr./tim."]
[{"$f":"CheckOne(H3673,F3702)","v":false},null,null,null,null,24,null,null,0,0,null,25,0,null,null,null,0,"kr./ha.",0,"kr./tim."]
[{"$f":"CheckOne(H3673,F3705)","v":false},null,null,null,null,27,null,null,0,0,null,28,0,null,null,null,0,"kr./ha.",0,"kr./tim."]
[{"$f":"CheckOne(H3673,F3706)","v":false},null,null,null,null,28,null,null,0,0,null,29,0,null,null,null,0,"kr./ha.",0,"kr./tim."]
[{"$f":"CheckOne(H3673,F3708)","v":false},null,null,null,null,30,null,null,0,0,null,31,0,null,null,null,0,"kr./ha.",0,"kr./tim."]
[{"$f":"CheckOne(H3673,F3709)","v":false},null,null,null,null,31,null,null,0,0,null,32,0,null,null,null,0,"kr./ha.",0,"kr./tim."]
[{"$f":"CheckOne(H3673,F3712)","v":false},null,null,null,null,34,null,null,0,0,null,35,0,null,null,null,0,"kr./ha.",0,"kr./tim."]
[{"$f":"CheckOne(H3673,F3713)","v":false},null,null,null,null,35,null,null,0,0,null,36,0,null,null,null,0,"kr./ha.",0,"kr./tim."]
[{"$f":"CheckOne(H3673,F3715)","v":false},null,null,null,null,37,null,null,0,0,null,38,0,null,null,null,0,"kr./ha.",0,"kr./tim."]
[{"$f":"CheckOne(H3673,F3716)","v":false},null,null,null,null,38,null,null,0,0,null,39,0,null,null,null,0,"kr./ha.",0,"kr./tim."]
[{"$f":"CheckOne(H3673,F3719)","v":false},null,null,null,null,41,null,null,0,0,null,42,0,null,null,null,0,"kr./ha.",0,"kr./tim."]
[{"$f":"CheckOne(H3673,F3720)","v":false},null,null,null,null,42,null,null,0,0,null,43,0,null,null,null,0,"kr./ha.",0,"kr./tim."]
[{"$f":"CheckOne(H3673,F3722)","v":false},null,null,null,null,44,null,null,0,0,null,45,0,null,null,null,0,"kr./ha.",0,"kr./tim."]
[{"$f":"CheckOne(H3673,F3723)","v":false},null,null,null,null,45,null,null,0,0,null,46,0,null,null,null,0,"kr./ha.",0,"kr./tim."]
[{"$f":"CheckOne(H3673,F3726)","v":false},null,null,null,null,48,null,null,0,0,null,49,0,null,null,null,0,"kr./ha.",0,"kr./tim."]
[{"$f":"CheckOne(H3673,F3727)","v":false},null,null,null,null,49,null,null,0,0,null,50,0,null,null,null,0,"kr./ha.",0,"kr./tim."]
[{"$f":"IF(N3730=\"Maskinstation\",FALSE,OR(L3729<>0,N3733<>0,Q3730<>0,S3730<>0))","v":false}]
[{"$f":"IF(N3731=\"Maskinstation\",FALSE,OR(L3730<>0,N3734<>0,Q3731<>0,S3731<>0))","v":false},null,null,null,null,"nr.","id","Maskiner",null,null,null,{"$f":"VLOOKUP(F3731,$L$85:$AH$134,2,FALSE)","v":0}]
[false,null,null,null,null,null,null,null,null,null,null,"VO (var. omk.):",null,{"$f":"+S3731*S3733","v":0},"VE (var. enh. omk.):",null,{"$f":"IFERROR(N3733/Q3731,0)","v":0},{"$f":"+R3732","v":"kr./ha."},{"$f":"SUMIF(A3736:A3786,TRUE,I3736:I3786)","v":0},"kr./tim."]
[false,null,null,null,null,null,null,null,null,null,null,"TO (totae omk.):",null,{"$f":"+N3733+N3732","v":0},"TE (totale enh. omk.):",null,{"$f":"+Q3733+Q3732","v":0},{"$f":"+R3733","v":"kr./ha."},{"$f":"+S3733+S3732","v":0},"kr./tim."]
[{"$f":"CheckOne(H3731,F3736)","v":false},null,null,null,null,{"$f":"_xlfn.ANCHORARRAY($J$31)","v":0},null,null,{"$f":"VLOOKUP(_xlfn.ANCHORARRAY(L3736),$L$31:$AE$80,17,FALSE)","v":0},{"$f":"VLOOKUP(_xlfn.ANCHORARRAY(L3736),$L$31:$AE$80,20,FALSE)-_xlfn.ANCHORARRAY(I3736)","v":0},null,{"$f":"$L$31:$L$80","v":1},{"$f":"$M$31:$M$80","v":0},null,null,null,{"$f":"_xlfn.ANCHORARRAY(S3736)/O3731","v":0},{"$f":"+R3734","v":"kr./ha."},{"$f":"$AE$31:$AE$80","v":0},"kr./tim."]
[{"$f":"CheckOne(H3731,F3737)","v":false},null,null,null,null,3,null,null,0,0,null,2,0,null,null,null,0,{"$f":"+R3736","v":"kr./ha."},0,"kr./tim."]
[{"$f":"CheckOne(H3731,F3740)","v":false},null,null,null,null,1,null,null,0,0,null,5,0,null,null,null,0,"kr./ha.",0,"kr./tim."]
[{"$f":"CheckOne(H3731,F3741)","v":false},null,null,null,null,2,null,null,0,0,null,6,0,null,null,null,0,"kr./ha.",0,"kr./tim."]
[{"$f":"CheckOne(H3731,F3743)","v":false},null,null,null,null,7,null,null,0,0,null,8,0,null,null,null,0,"kr./ha.",0,"kr./tim."]
[{"$f":"CheckOne(H3731,F3744)","v":false},null,null,null,null,8,null,null,0,0,null,9,0,null,null,null,0,"kr./ha.",0,"kr./tim."]
[{"$f":"CheckOne(H3731,F3747)","v":false},null,null,null,null,11,null,null,0,0,null,12,0,null,null,null,0,"kr./ha.",0,"kr./tim."]
[{"$f":"CheckOne(H3731,F3748)","v":false},null,null,null,null,12,null,null,0,0,null,13,0,null,null,null,0,"kr./ha.",0,"kr./tim."]
[{"$f":"CheckOne(H3731,F3750)","v":false},null,null,null,null,14,null,null,0,0,null,15,0,null,null,null,0,"kr./ha.",0,"kr./tim."]
[{"$f":"CheckOne(H3731,F3751)","v":false},null,null,null,null,15,null,null,0,0,null,16,0,null,null,null,0,"kr./ha.",0,"kr./tim."]
[{"$f":"CheckOne(H3731,F3754)","v":false},null,null,null,null,18,null,null,0,0,null,19,0,null,null,null,0,"kr./ha.",0,"kr./tim."]
[{"$f":"CheckOne(H3731,F3755)","v":false},null,null,null,null,19,null,null,0,0,null,20,0,null,null,null,0,"kr./ha.",0,"kr./tim."]
[{"$f":"CheckOne(H3731,F3757)","v":false},null,null,null,null,21,null,null,0,0,null,22,0,null,null,null,0,"kr./ha.",0,"kr./tim."]
[{"$f":"CheckOne(H3731,F3758)","v":false},null,null,null,null,22,null,null,0,0,null,23,0,null,null,null,0,"kr./ha.",0,"kr./tim."]
[{"$f":"CheckOne(H3731,F3761)","v":false},null,null,null,null,25,null,null,0,0,null,26,0,null,null,null,0,"kr./ha.",0,"kr./tim."]
[{"$f":"CheckOne(H3731,F3762)","v":false},null,null,null,null,26,null,null,0,0,null,27,0,null,null,null,0,"kr./ha.",0,"kr./tim."]
[{"$f":"CheckOne(H3731,F3764)","v":false},null,null,null,null,28,null,null,0,0,null,29,0,null,null,null,0,"kr./ha.",0,"kr./tim."]
[{"$f":"CheckOne(H3731,F3765)","v":false},null,null,null,null,29,null,null,0,0,null,30,0,null,null,null,0,"kr./ha.",0,"kr./tim."]
[{"$f":"CheckOne(H3731,F3768)","v":false},null,null,null,null,32,null,null,0,0,null,33,0,null,null,null,0,"kr./ha.",0,"kr./tim."]
[{"$f":"CheckOne(H3731,F3769)","v":false},null,null,null,null,33,null,null,0,0,null,34,0,null,null,null,0,"kr./ha.",0,"kr./tim."]
[{"$f":"CheckOne(H3731,F3771)","v":false},null,null,null,null,35,null,null,0,0,null,36,0,null,null,null,0,"kr./ha.",0,"kr./tim."]
[{"$f":"CheckOne(H3731,F3772)","v":false},null,null,null,null,36,null,null,0,0,null,37,0,null,null,null,0,"kr./ha.",0,"kr./tim."]
[{"$f":"CheckOne(H3731,F3775)","v":false},null,null,null,null,39,null,null,0,0,null,40,0,null,null,null,0,"kr./ha.",0,"kr./tim."]
[{"$f":"CheckOne(H3731,F3776)","v":false},null,null,null,null,40,null,null,0,0,null,41,0,null,null,null,0,"kr./ha.",0,"kr./tim."]
[{"$f":"CheckOne(H3731,F3778)","v":false},null,null,null,null,42,null,null,0,0,null,43,0,null,null,null,0,"kr./ha.",0,"kr./tim."]
[{"$f":"CheckOne(H3731,F3779)","v":false},null,null,null,null,43,null,null,0,0,null,44,0,null,null,null,0,"kr./ha.",0,"kr./tim."]
[{"$f":"CheckOne(H3731,F3782)","v":false},null,null,null,null,46,null,null,0,0,null,47,0,null,null,null,0,"kr./ha.",0,"kr./tim."]
[{"$f":"CheckOne(H3731,F3783)","v":false},null,null,null,null,47,null,null,0,0,null,48,0,null,null,null,0,"kr./ha.",0,"kr./tim."]
[{"$f":"CheckOne(H3731,F3785)","v":false},null,null,null,null,49,null,null,0,0,null,50,0,null,null,null,0,"kr./ha.",0,"kr./tim."]
[{"$f":"OR(N3786>0)","v":false},null,null,null,null,null,null,null,{"$f":"+S3786","v":0},0,null,null,"Arbejdsløn:",{"$f":"VLOOKUP(F3731,$L$85:$AH$134,14,FALSE)","v":0},"medarbejder",null,{"$f":"+S3786/O3731","v":0},"kr./ha.",{"$f":"+Maskiner!$Z$17*N3786","v":0},"kr./tim."]
[{"$f":"A3788","v":false},null,null,null,null,{"$f":"1+F3731","v":13},{"$f":"VLOOKUP(F3789,$F$85:$J$134,5,FALSE)","v":12},{"$f":"VLOOKUP(F3789,$F$85:$I$134,4,FALSE)","v":""},null,null,null,"Type:",null,{"$f":"VLOOKUP(F3789,$L$85:$AH$134,5,FALSE)","v":"Intern"},{"$f":"VLOOKUP(F3789,$L$85:$AH$134,19,FALSE)","v":1},{"$f":"R3789&\"/time\"","v":"ha./time"},{"$f":"VLOOKUP(F3789,$L$85:$AH$134,15,FALSE)","v":0},{"$f":"VLOOKUP(F3789,$L$85:$AH$134,16,FALSE)","v":"ha."},{"$f":"VLOOKUP(F3789,$L$85:$AH$134,17,FALSE)","v":0},"timer"]
[{"$f":"A3789","v":false},null,null,null,null,null,null,null,null,null,null,"FO (faste omk.):",null,{"$f":"+S3790*S3789","v":0},"FE (faste enh. omk.):",null,{"$f":"IFERROR(N3790/Q3789,0)","v":0},{"$f":"\"kr./\"&R3789","v":"kr./ha."},{"$f":"SUMIF(A3794:A3844,TRUE,J3794:J3844)","v":0},"kr./tim."]
[false,null,null,null,null,null,null,null,null,null,null,"TO (totae omk.):",null,{"$f":"+N3791+N3790","v":0},"TE (totale enh. omk.):",null,{"$f":"+Q3791+Q3790","v":0},{"$f":"+R3791","v":"kr./ha."},{"$f":"+S3791+S3790","v":0},"kr./tim."]
[false,null,null,null,null,"id",null,null,"VE/tim","FE",null,null,null,null,"Maskinstationspris",null,{"$f":"VLOOKUP(F3789,$L$85:$AH$134,23,FALSE)","v":0},{"$f":"+R3792","v":"kr./ha."}]
[{"$f":"CheckOne(H3789,F3796)","v":false},null,null,null,null,5,null,null,0,0,null,3,0,null,null,null,0,{"$f":"+R3795","v":"kr./ha."},0,"kr./tim."]
[{"$f":"CheckOne(H3789,F3797)","v":false},null,null,null,null,4,null,null,0,0,null,4,0,null,null,null,0,"kr./ha.",0,"kr./tim."]
[{"$f":"CheckOne(H3789,F3799)","v":false},null,null,null,null,2,null,null,0,0,null,6,0,null,null,null,0,"kr./ha.",0,"kr./tim."]
[{"$f":"CheckOne(H3789,F3800)","v":false},null,null,null,null,6,null,null,0,0,null,7,0,null,null,null,0,"kr./ha.",0,"kr./tim."]
[{"$f":"CheckOne(H3789,F3803)","v":false},null,null,null,null,9,null,null,0,0,null,10,0,null,null,null,0,"kr./ha.",0,"kr./tim."]
[{"$f":"CheckOne(H3789,F3804)","v":false},null,null,null,null,10,null,null,0,0,null,11,0,null,null,null,0,"kr./ha.",0,"kr./tim."]
[{"$f":"CheckOne(H3789,F3806)","v":false},null,null,null,null,12,null,null,0,0,null,13,0,null,null,null,0,"kr./ha.",0,"kr./tim."]
[{"$f":"CheckOne(H3789,F3807)","v":false},null,null,null,null,13,null,null,0,0,null,14,0,null,null,null,0,"kr./ha.",0,"kr./tim."]
[{"$f":"CheckOne(H3789,F3810)","v":false},null,null,null,null,16,null,null,0,0,null,17,0,null,null,null,0,"kr./ha.",0,"kr./tim."]
[{"$f":"CheckOne(H3789,F3811)","v":false},null,null,null,null,17,null,null,0,0,null,18,0,null,null,null,0,"kr./ha.",0,"kr./tim."]
[{"$f":"CheckOne(H3789,F3813)","v":false},null,null,null,null,19,null,null,0,0,null,20,0,null,null,null,0,"kr./ha.",0,"kr./tim."]
[{"$f":"CheckOne(H3789,F3814)","v":false},null,null,null,null,20,null,null,0,0,null,21,0,null,null,null,0,"kr./ha.",0,"kr./tim."]
[{"$f":"CheckOne(H3789,F3817)","v":false},null,null,null,null,23,null,null,0,0,null,24,0,null,null,null,0,"kr./ha.",0,"kr./tim."]
[{"$f":"CheckOne(H3789,F3818)","v":false},null,null,null,null,24,null,null,0,0,null,25,0,null,null,null,0,"kr./ha.",0,"kr./tim."]
[{"$f":"CheckOne(H3789,F3820)","v":false},null,null,null,null,26,null,null,0,0,null,27,0,null,null,null,0,"kr./ha.",0,"kr./tim."]
[{"$f":"CheckOne(H3789,F3821)","v":false},null,null,null,null,27,null,null,0,0,null,28,0,null,null,null,0,"kr./ha.",0,"kr./tim."]
[{"$f":"CheckOne(H3789,F3824)","v":false},null,null,null,null,30,null,null,0,0,null,31,0,null,null,null,0,"kr./ha.",0,"kr./tim."]
[{"$f":"CheckOne(H3789,F3825)","v":false},null,null,null,null,31,null,null,0,0,null,32,0,null,null,null,0,"kr./ha.",0,"kr./tim."]
[{"$f":"CheckOne(H3789,F3827)","v":false},null,null,null,null,33,null,null,0,0,null,34,0,null,null,null,0,"kr./ha.",0,"kr./tim."]
[{"$f":"CheckOne(H3789,F3828)","v":false},null,null,null,null,34,null,null,0,0,null,35,0,null,null,null,0,"kr./ha.",0,"kr./tim."]
[{"$f":"CheckOne(H3789,F3831)","v":false},null,null,null,null,37,null,null,0,0,null,38,0,null,null,null,0,"kr./ha.",0,"kr./tim."]
[{"$f":"CheckOne(H3789,F3832)","v":false},null,null,null,null,38,null,null,0,0,null,39,0,null,null,null,0,"kr./ha.",0,"kr./tim."]
[{"$f":"CheckOne(H3789,F3834)","v":false},null,null,null,null,40,null,null,0,0,null,41,0,null,null,null,0,"kr./ha.",0,"kr./tim."]
[{"$f":"CheckOne(H3789,F3835)","v":false},null,null,null,null,41,null,null,0,0,null,42,0,null,null,null,0,"kr./ha.",0,"kr./tim."]
[{"$f":"CheckOne(H3789,F3838)","v":false},null,null,null,null,44,null,null,0,0,null,45,0,null,null,null,0,"kr./ha.",0,"kr./tim."]
[{"$f":"CheckOne(H3789,F3839)","v":false},null,null,null,null,45,null,null,0,0,null,46,0,null,null,null,0,"kr./ha.",0,"kr./tim."]
[{"$f":"CheckOne(H3789,F3841)","v":false},null,null,null,null,47,null,null,0,0,null,48,0,null,null,null,0,"kr./ha.",0,"kr./tim."]
[{"$f":"CheckOne(H3789,F3842)","v":false},null,null,null,null,48,null,null,0,0,null,49,0,null,null,null,0,"kr./ha.",0,"kr./tim."]
[{"$f":"OR(N3844>0)","v":false},null,null,null,null,null,null,null,{"$f":"+S3844","v":0},0,null,null,"Arbejdsløn:",{"$f":"VLOOKUP(F3789,$L$85:$AH$134,14,FALSE)","v":0},"medarbejder",null,{"$f":"+S3844/O3789","v":0},"kr./ha.",{"$f":"+Maskiner!$Z$17*N3844","v":0},"kr./tim."]
[{"$f":"IF(N3846=\"Maskinstation\",FALSE,OR(L3845<>0,N3849<>0,Q3846<>0,S3846<>0))","v":false}]
[{"$f":"A3847","v":false},null,null,null,null,null,null,null,null,null,null,"FO (faste omk.):",null,{"$f":"+S3848*S3847","v":0},"FE (faste enh. omk.):",null,{"$f":"IFERROR(N3848/Q3847,0)","v":0},{"$f":"\"kr./\"&R3847","v":"kr./ha."},{"$f":"SUMIF(A3852:A3902,TRUE,J3852:J3902)","v":0},"kr./tim."]
[false,null,null,null,null,null,null,null,null,null,null,"VO (var. omk.):",null,{"$f":"+S3847*S3849","v":0},"VE (var. enh. omk.):",null,{"$f":"IFERROR(N3849/Q3847,0)","v":0},{"$f":"+R3848","v":"kr./ha."},{"$f":"SUMIF(A3852:A3902,TRUE,I3852:I3902)","v":0},"kr./tim."]
[false,null,null,null,null,"id",null,null,"VE/tim","FE",null,null,null,null,"Maskinstationspris",null,{"$f":"VLOOKUP(F3847,$L$85:$AH$134,23,FALSE)","v":0},{"$f":"+R3850","v":"kr./ha."}]
[{"$f":"CheckOne(H3847,F3852)","v":false},null,null,null,null,{"$f":"_xlfn.ANCHORARRAY($J$31)","v":0},null,null,{"$f":"VLOOKUP(_xlfn.ANCHORARRAY(L3852),$L$31:$AE$80,17,FALSE)","v":0},{"$f":"VLOOKUP(_xlfn.ANCHORARRAY(L3852),$L$31:$AE$80,20,FALSE)-_xlfn.ANCHORARRAY(I3852)","v":0},null,{"$f":"$L$31:$L$80","v":1},{"$f":"$M$31:$M$80","v":0},null,null,null,{"$f":"_xlfn.ANCHORARRAY(S3852)/O3847","v":0},{"$f":"+R3850","v":"kr./ha."},{"$f":"$AE$31:$AE$80","v":0},"kr./tim."]
[{"$f":"CheckOne(H3847,F3855)","v":false},null,null,null,null,4,null,null,0,0,null,4,0,null,null,null,0,"kr./ha.",0,"kr./tim."]
[{"$f":"CheckOne(H3847,F3856)","v":false},null,null,null,null,1,null,null,0,0,null,5,0,null,null,null,0,"kr./ha.",0,"kr./tim."]
[{"$f":"CheckOne(H3847,F3858)","v":false},null,null,null,null,6,null,null,0,0,null,7,0,null,null,null,0,"kr./ha.",0,"kr./tim."]
[{"$f":"CheckOne(H3847,F3859)","v":false},null,null,null,null,7,null,null,0,0,null,8,0,null,null,null,0,"kr./ha.",0,"kr./tim."]
[{"$f":"CheckOne(H3847,F3862)","v":false},null,null,null,null,10,null,null,0,0,null,11,0,null,null,null,0,"kr./ha.",0,"kr./tim."]
[{"$f":"CheckOne(H3847,F3863)","v":false},null,null,null,null,11,null,null,0,0,null,12,0,null,null,null,0,"kr./ha.",0,"kr./tim."]
[{"$f":"CheckOne(H3847,F3865)","v":false},null,null,null,null,13,null,null,0,0,null,14,0,null,null,null,0,"kr./ha.",0,"kr./tim."]
[{"$f":"CheckOne(H3847,F3866)","v":false},null,null,null,null,14,null,null,0,0,null,15,0,null,null,null,0,"kr./ha.",0,"kr./tim."]
[{"$f":"CheckOne(H3847,F3869)","v":false},null,null,null,null,17,null,null,0,0,null,18,0,null,null,null,0,"kr./ha.",0,"kr./tim."]
[{"$f":"CheckOne(H3847,F3870)","v":false},null,null,null,null,18,null,null,0,0,null,19,0,null,null,null,0,"kr./ha.",0,"kr./tim."]
[{"$f":"CheckOne(H3847,F3872)","v":false},null,null,null,null,20,null,null,0,0,null,21,0,null,null,null,0,"kr./ha.",0,"kr./tim."]
[{"$f":"CheckOne(H3847,F3873)","v":false},null,null,null,null,21,null,null,0,0,null,22,0,null,null,null,0,"kr./ha.",0,"kr./tim."]
[{"$f":"CheckOne(H3847,F3876)","v":false},null,null,null,null,24,null,null,0,0,null,25,0,null,null,null,0,"kr./ha.",0,"kr./tim."]
[{"$f":"CheckOne(H3847,F3877)","v":false},null,null,null,null,25,null,null,0,0,null,26,0,null,null,null,0,"kr./ha.",0,"kr./tim."]
[{"$f":"CheckOne(H3847,F3879)","v":false},null,null,null,null,27,null,null,0,0,null,28,0,null,null,null,0,"kr./ha.",0,"kr./tim."]
[{"$f":"CheckOne(H3847,F3880)","v":false},null,null,null,null,28,null,null,0,0,null,29,0,null,null,null,0,"kr./ha.",0,"kr./tim."]
[{"$f":"CheckOne(H3847,F3883)","v":false},null,null,null,null,31,null,null,0,0,null,32,0,null,null,null,0,"kr./ha.",0,"kr./tim."]
[{"$f":"CheckOne(H3847,F3884)","v":false},null,null,null,null,32,null,null,0,0,null,33,0,null,null,null,0,"kr./ha.",0,"kr./tim."]
[{"$f":"CheckOne(H3847,F3886)","v":false},null,null,null,null,34,null,null,0,0,null,35,0,null,null,null,0,"kr./ha.",0,"kr./tim."]
[{"$f":"CheckOne(H3847,F3887)","v":false},null,null,null,null,35,null,null,0,0,null,36,0,null,null,null,0,"kr./ha.",0,"kr./tim."]
[{"$f":"CheckOne(H3847,F3890)","v":false},null,null,null,null,38,null,null,0,0,null,39,0,null,null,null,0,"kr./ha.",0,"kr./tim."]
[{"$f":"CheckOne(H3847,F3891)","v":false},null,null,null,null,39,null,null,0,0,null,40,0,null,null,null,0,"kr./ha.",0,"kr./tim."]
[{"$f":"CheckOne(H3847,F3893)","v":false},null,null,null,null,41,null,null,0,0,null,42,0,null,null,null,0,"kr./ha.",0,"kr./tim."]
[{"$f":"CheckOne(H3847,F3894)","v":false},null,null,null,null,42,null,null,0,0,null,43,0,null,null,null,0,"kr./ha.",0,"kr./tim."]
[{"$f":"CheckOne(H3847,F3897)","v":false},null,null,null,null,45,null,null,0,0,null,46,0,null,null,null,0,"kr./ha.",0,"kr./tim."]
[{"$f":"CheckOne(H3847,F3898)","v":false},null,null,null,null,46,null,null,0,0,null,47,0,null,null,null,0,"kr./ha.",0,"kr./tim."]
[{"$f":"CheckOne(H3847,F3900)","v":false},null,null,null,null,48,null,null,0,0,null,49,0,null,null,null,0,"kr./ha.",0,"kr./tim."]
[{"$f":"CheckOne(H3847,F3901)","v":false},null,null,null,null,49,null,null,0,0,null,50,0,null,null,null,0,"kr./ha.",0,"kr./tim."]
[{"$f":"IF(N3905=\"Maskinstation\",FALSE,OR(L3904<>0,N3908<>0,Q3905<>0,S3905<>0))","v":false},null,null,null,null,"nr.","id","Maskiner",null,null,null,{"$f":"VLOOKUP(F3905,$L$85:$AH$134,2,FALSE)","v":0}]
[{"$f":"A3904","v":false},null,null,null,null,{"$f":"1+F3847","v":15},{"$f":"VLOOKUP(F3905,$F$85:$J$134,5,FALSE)","v":14},{"$f":"VLOOKUP(F3905,$F$85:$I$134,4,FALSE)","v":""},null,null,null,"Type:",null,{"$f":"VLOOKUP(F3905,$L$85:$AH$134,5,FALSE)","v":"Intern"},{"$f":"VLOOKUP(F3905,$L$85:$AH$134,19,FALSE)","v":1},{"$f":"R3905&\"/time\"","v":"ha./time"},{"$f":"VLOOKUP(F3905,$L$85:$AH$134,15,FALSE)","v":0},{"$f":"VLOOKUP(F3905,$L$85:$AH$134,16,FALSE)","v":"ha."},{"$f":"VLOOKUP(F3905,$L$85:$AH$134,17,FALSE)","v":0},"timer"]
[false,null,null,null,null,null,null,null,null,null,null,"VO (var. omk.):",null,{"$f":"+S3905*S3907","v":0},"VE (var. enh. omk.):",null,{"$f":"IFERROR(N3907/Q3905,0)","v":0},{"$f":"+R3906","v":"kr./ha."},{"$f":"SUMIF(A3910:A3960,TRUE,I3910:I3960)","v":0},"kr./tim."]
[false,null,null,null,null,null,null,null,null,null,null,"TO (totae omk.):",null,{"$f":"+N3907+N3906","v":0},"TE (totale enh. omk.):",null,{"$f":"+Q3907+Q3906","v":0},{"$f":"+R3907","v":"kr./ha."},{"$f":"+S3907+S3906","v":0},"kr./tim."]
[{"$f":"CheckOne(H3905,F3911)","v":false},null,null,null,null,3,null,null,0,0,null,2,0,null,null,null,0,{"$f":"+R3910","v":"kr./ha."},0,"kr./tim."]
[{"$f":"CheckOne(H3905,F3912)","v":false},null,null,null,null,5,null,null,0,0,null,3,0,null,null,null,0,{"$f":"+R3911","v":"kr./ha."},0,"kr./tim."]
[{"$f":"CheckOne(H3905,F3914)","v":false},null,null,null,null,1,null,null,0,0,null,5,0,null,null,null,0,"kr./ha.",0,"kr./tim."]
[{"$f":"CheckOne(H3905,F3915)","v":false},null,null,null,null,2,null,null,0,0,null,6,0,null,null,null,0,"kr./ha.",0,"kr./tim."]
[{"$f":"CheckOne(H3905,F3918)","v":false},null,null,null,null,8,null,null,0,0,null,9,0,null,null,null,0,"kr./ha.",0,"kr./tim."]
[{"$f":"CheckOne(H3905,F3919)","v":false},null,null,null,null,9,null,null,0,0,null,10,0,null,null,null,0,"kr./ha.",0,"kr./tim."]
[{"$f":"CheckOne(H3905,F3921)","v":false},null,null,null,null,11,null,null,0,0,null,12,0,null,null,null,0,"kr./ha.",0,"kr./tim."]
[{"$f":"CheckOne(H3905,F3922)","v":false},null,null,null,null,12,null,null,0,0,null,13,0,null,null,null,0,"kr./ha.",0,"kr./tim."]
[{"$f":"CheckOne(H3905,F3925)","v":false},null,null,null,null,15,null,null,0,0,null,16,0,null,null,null,0,"kr./ha.",0,"kr./tim."]
[{"$f":"CheckOne(H3905,F3926)","v":false},null,null,null,null,16,null,null,0,0,null,17,0,null,null,null,0,"kr./ha.",0,"kr./tim."]
[{"$f":"CheckOne(H3905,F3928)","v":false},null,null,null,null,18,null,null,0,0,null,19,0,null,null,null,0,"kr./ha.",0,"kr./tim."]
[{"$f":"CheckOne(H3905,F3929)","v":false},null,null,null,null,19,null,null,0,0,null,20,0,null,null,null,0,"kr./ha.",0,"kr./tim."]
[{"$f":"CheckOne(H3905,F3932)","v":false},null,null,null,null,22,null,null,0,0,null,23,0,null,null,null,0,"kr./ha.",0,"kr./tim."]
[{"$f":"CheckOne(H3905,F3933)","v":false},null,null,null,null,23,null,null,0,0,null,24,0,null,null,null,0,"kr./ha.",0,"kr./tim."]
[{"$f":"CheckOne(H3905,F3935)","v":false},null,null,null,null,25,null,null,0,0,null,26,0,null,null,null,0,"kr./ha.",0,"kr./tim."]
[{"$f":"CheckOne(H3905,F3936)","v":false},null,null,null,null,26,null,null,0,0,null,27,0,null,null,null,0,"kr./ha.",0,"kr./tim."]
[{"$f":"CheckOne(H3905,F3939)","v":false},null,null,null,null,29,null,null,0,0,null,30,0,null,null,null,0,"kr./ha.",0,"kr./tim."]
[{"$f":"CheckOne(H3905,F3940)","v":false},null,null,null,null,30,null,null,0,0,null,31,0,null,null,null,0,"kr./ha.",0,"kr./tim."]
[{"$f":"CheckOne(H3905,F3942)","v":false},null,null,null,null,32,null,null,0,0,null,33,0,null,null,null,0,"kr./ha.",0,"kr./tim."]
[{"$f":"CheckOne(H3905,F3943)","v":false},null,null,null,null,33,null,null,0,0,null,34,0,null,null,null,0,"kr./ha.",0,"kr./tim."]
[{"$f":"CheckOne(H3905,F3946)","v":false},null,null,null,null,36,null,null,0,0,null,37,0,null,null,null,0,"kr./ha.",0,"kr./tim."]
[{"$f":"CheckOne(H3905,F3947)","v":false},null,null,null,null,37,null,null,0,0,null,38,0,null,null,null,0,"kr./ha.",0,"kr./tim."]
[{"$f":"CheckOne(H3905,F3949)","v":false},null,null,null,null,39,null,null,0,0,null,40,0,null,null,null,0,"kr./ha.",0,"kr./tim."]
[{"$f":"CheckOne(H3905,F3950)","v":false},null,null,null,null,40,null,null,0,0,null,41,0,null,null,null,0,"kr./ha.",0,"kr./tim."]
[{"$f":"CheckOne(H3905,F3953)","v":false},null,null,null,null,43,null,null,0,0,null,44,0,null,null,null,0,"kr./ha.",0,"kr./tim."]
[{"$f":"CheckOne(H3905,F3954)","v":false},null,null,null,null,44,null,null,0,0,null,45,0,null,null,null,0,"kr./ha.",0,"kr./tim."]
[{"$f":"CheckOne(H3905,F3956)","v":false},null,null,null,null,46,null,null,0,0,null,47,0,null,null,null,0,"kr./ha.",0,"kr./tim."]
[{"$f":"CheckOne(H3905,F3957)","v":false},null,null,null,null,47,null,null,0,0,null,48,0,null,null,null,0,"kr./ha.",0,"kr./tim."]
[{"$f":"OR(N3960>0)","v":false},null,null,null,null,null,null,null,{"$f":"+S3960","v":0},0,null,null,"Arbejdsløn:",{"$f":"VLOOKUP(F3905,$L$85:$AH$134,14,FALSE)","v":0},"medarbejder",null,{"$f":"+S3960/O3905","v":0},"kr./ha.",{"$f":"+Maskiner!$Z$17*N3960","v":0},"kr./tim."]
[{"$f":"IF(N3962=\"Maskinstation\",FALSE,OR(L3961<>0,N3965<>0,Q3962<>0,S3962<>0))","v":false}]
[{"$f":"A3962","v":false},null,null,null,null,{"$f":"1+F3905","v":16},{"$f":"VLOOKUP(F3963,$F$85:$J$134,5,FALSE)","v":15},{"$f":"VLOOKUP(F3963,$F$85:$I$134,4,FALSE)","v":""},null,null,null,"Type:",null,{"$f":"VLOOKUP(F3963,$L$85:$AH$134,5,FALSE)","v":"Intern"},{"$f":"VLOOKUP(F3963,$L$85:$AH$134,19,FALSE)","v":1},{"$f":"R3963&\"/time\"","v":"ha./time"},{"$f":"VLOOKUP(F3963,$L$85:$AH$134,15,FALSE)","v":0},{"$f":"VLOOKUP(F3963,$L$85:$AH$134,16,FALSE)","v":"ha."},{"$f":"VLOOKUP(F3963,$L$85:$AH$134,17,FALSE)","v":0},"timer"]
[{"$f":"A3963","v":false},null,null,null,null,null,null,null,null,null,null,"FO (faste omk.):",null,{"$f":"+S3964*S3963","v":0},"FE (faste enh. omk.):",null,{"$f":"IFERROR(N3964/Q3963,0)","v":0},{"$f":"\"kr./\"&R3963","v":"kr./ha."},{"$f":"SUMIF(A3968:A4018,TRUE,J3968:J4018)","v":0},"kr./tim."]
[false,null,null,null,null,"id",null,null,"VE/tim","FE",null,null,null,null,"Maskinstationspris",null,{"$f":"VLOOKUP(F3963,$L$85:$AH$134,23,FALSE)","v":0},{"$f":"+R3966","v":"kr./ha."}]
[{"$f":"CheckOne(H3963,F3968)","v":false},null,null,null,null,{"$f":"_xlfn.ANCHORARRAY($J$31)","v":0},null,null,{"$f":"VLOOKUP(_xlfn.ANCHORARRAY(L3968),$L$31:$AE$80,17,FALSE)","v":0},{"$f":"VLOOKUP(_xlfn.ANCHORARRAY(L3968),$L$31:$AE$80,20,FALSE)-_xlfn.ANCHORARRAY(I3968)","v":0},null,{"$f":"$L$31:$L$80","v":1},{"$f":"$M$31:$M$80","v":0},null,null,null,{"$f":"_xlfn.ANCHORARRAY(S3968)/O3963","v":0},{"$f":"+R3966","v":"kr./ha."},{"$f":"$AE$31:$AE$80","v":0},"kr./tim."]
[{"$f":"CheckOne(H3963,F3970)","v":false},null,null,null,null,5,null,null,0,0,null,3,0,null,null,null,0,{"$f":"+R3969","v":"kr./ha."},0,"kr./tim."]
[{"$f":"CheckOne(H3963,F3971)","v":false},null,null,null,null,4,null,null,0,0,null,4,0,null,null,null,0,"kr./ha.",0,"kr./tim."]
[{"$f":"CheckOne(H3963,F3974)","v":false},null,null,null,null,6,null,null,0,0,null,7,0,null,null,null,0,"kr./ha.",0,"kr./tim."]
[{"$f":"CheckOne(H3963,F3975)","v":false},null,null,null,null,7,null,null,0,0,null,8,0,null,null,null,0,"kr./ha.",0,"kr./tim."]
[{"$f":"CheckOne(H3963,F3977)","v":false},null,null,null,null,9,null,null,0,0,null,10,0,null,null,null,0,"kr./ha.",0,"kr./tim."]
[{"$f":"CheckOne(H3963,F3978)","v":false},null,null,null,null,10,null,null,0,0,null,11,0,null,null,null,0,"kr./ha.",0,"kr./tim."]
[{"$f":"CheckOne(H3963,F3981)","v":false},null,null,null,null,13,null,null,0,0,null,14,0,null,null,null,0,"kr./ha.",0,"kr./tim."]
[{"$f":"CheckOne(H3963,F3982)","v":false},null,null,null,null,14,null,null,0,0,null,15,0,null,null,null,0,"kr./ha.",0,"kr./tim."]
[{"$f":"CheckOne(H3963,F3984)","v":false},null,null,null,null,16,null,null,0,0,null,17,0,null,null,null,0,"kr./ha.",0,"kr./tim."]
[{"$f":"CheckOne(H3963,F3985)","v":false},null,null,null,null,17,null,null,0,0,null,18,0,null,null,null,0,"kr./ha.",0,"kr./tim."]
[{"$f":"CheckOne(H3963,F3988)","v":false},null,null,null,null,20,null,null,0,0,null,21,0,null,null,null,0,"kr./ha.",0,"kr./tim."]
[{"$f":"CheckOne(H3963,F3989)","v":false},null,null,null,null,21,null,null,0,0,null,22,0,null,null,null,0,"kr./ha.",0,"kr./tim."]
[{"$f":"CheckOne(H3963,F3991)","v":false},null,null,null,null,23,null,null,0,0,null,24,0,null,null,null,0,"kr./ha.",0,"kr./tim."]
[{"$f":"CheckOne(H3963,F3992)","v":false},null,null,null,null,24,null,null,0,0,null,25,0,null,null,null,0,"kr./ha.",0,"kr./tim."]
[{"$f":"CheckOne(H3963,F3995)","v":false},null,null,null,null,27,null,null,0,0,null,28,0,null,null,null,0,"kr./ha.",0,"kr./tim."]
[{"$f":"CheckOne(H3963,F3996)","v":false},null,null,null,null,28,null,null,0,0,null,29,0,null,null,null,0,"kr./ha.",0,"kr./tim."]
[{"$f":"CheckOne(H3963,F3998)","v":false},null,null,null,null,30,null,null,0,0,null,31,0,null,null,null,0,"kr./ha.",0,"kr./tim."]
[{"$f":"CheckOne(H3963,F3999)","v":false},null,null,null,null,31,null,null,0,0,null,32,0,null,null,null,0,"kr./ha.",0,"kr./tim."]
[{"$f":"CheckOne(H3963,F4002)","v":false},null,null,null,null,34,null,null,0,0,null,35,0,null,null,null,0,"kr./ha.",0,"kr./tim."]
[{"$f":"CheckOne(H3963,F4003)","v":false},null,null,null,null,35,null,null,0,0,null,36,0,null,null,null,0,"kr./ha.",0,"kr./tim."]
[{"$f":"CheckOne(H3963,F4005)","v":false},null,null,null,null,37,null,null,0,0,null,38,0,null,null,null,0,"kr./ha.",0,"kr./tim."]
[{"$f":"CheckOne(H3963,F4006)","v":false},null,null,null,null,38,null,null,0,0,null,39,0,null,null,null,0,"kr./ha.",0,"kr./tim."]
[{"$f":"CheckOne(H3963,F4009)","v":false},null,null,null,null,41,null,null,0,0,null,42,0,null,null,null,0,"kr./ha.",0,"kr./tim."]
[{"$f":"CheckOne(H3963,F4010)","v":false},null,null,null,null,42,null,null,0,0,null,43,0,null,null,null,0,"kr./ha.",0,"kr./tim."]
[{"$f":"CheckOne(H3963,F4012)","v":false},null,null,null,null,44,null,null,0,0,null,45,0,null,null,null,0,"kr./ha.",0,"kr./tim."]
[{"$f":"CheckOne(H3963,F4013)","v":false},null,null,null,null,45,null,null,0,0,null,46,0,null,null,null,0,"kr./ha.",0,"kr./tim."]
[{"$f":"CheckOne(H3963,F4016)","v":false},null,null,null,null,48,null,null,0,0,null,49,0,null,null,null,0,"kr./ha.",0,"kr./tim."]
[{"$f":"CheckOne(H3963,F4017)","v":false},null,null,null,null,49,null,null,0,0,null,50,0,null,null,null,0,"kr./ha.",0,"kr./tim."]
[{"$f":"IF(N4020=\"Maskinstation\",FALSE,OR(L4019<>0,N4023<>0,Q4020<>0,S4020<>0))","v":false}]
[{"$f":"IF(N4021=\"Maskinstation\",FALSE,OR(L4020<>0,N4024<>0,Q4021<>0,S4021<>0))","v":false},null,null,null,null,"nr.","id","Maskiner",null,null,null,{"$f":"VLOOKUP(F4021,$L$85:$AH$134,2,FALSE)","v":0}]
[false,null,null,null,null,null,null,null,null,null,null,"VO (var. omk.):",null,{"$f":"+S4021*S4023","v":0},"VE (var. enh. omk.):",null,{"$f":"IFERROR(N4023/Q4021,0)","v":0},{"$f":"+R4022","v":"kr./ha."},{"$f":"SUMIF(A4026:A4076,TRUE,I4026:I4076)","v":0},"kr./tim."]
[false,null,null,null,null,null,null,null,null,null,null,"TO (totae omk.):",null,{"$f":"+N4023+N4022","v":0},"TE (totale enh. omk.):",null,{"$f":"+Q4023+Q4022","v":0},{"$f":"+R4023","v":"kr./ha."},{"$f":"+S4023+S4022","v":0},"kr./tim."]
[{"$f":"CheckOne(H4021,F4026)","v":false},null,null,null,null,{"$f":"_xlfn.ANCHORARRAY($J$31)","v":0},null,null,{"$f":"VLOOKUP(_xlfn.ANCHORARRAY(L4026),$L$31:$AE$80,17,FALSE)","v":0},{"$f":"VLOOKUP(_xlfn.ANCHORARRAY(L4026),$L$31:$AE$80,20,FALSE)-_xlfn.ANCHORARRAY(I4026)","v":0},null,{"$f":"$L$31:$L$80","v":1},{"$f":"$M$31:$M$80","v":0},null,null,null,{"$f":"_xlfn.ANCHORARRAY(S4026)/O4021","v":0},{"$f":"+R4024","v":"kr./ha."},{"$f":"$AE$31:$AE$80","v":0},"kr./tim."]
[{"$f":"CheckOne(H4021,F4027)","v":false},null,null,null,null,3,null,null,0,0,null,2,0,null,null,null,0,{"$f":"+R4026","v":"kr./ha."},0,"kr./tim."]
[{"$f":"CheckOne(H4021,F4030)","v":false},null,null,null,null,1,null,null,0,0,null,5,0,null,null,null,0,"kr./ha.",0,"kr./tim."]
[{"$f":"CheckOne(H4021,F4031)","v":false},null,null,null,null,2,null,null,0,0,null,6,0,null,null,null,0,"kr./ha.",0,"kr./tim."]
[{"$f":"CheckOne(H4021,F4033)","v":false},null,null,null,null,7,null,null,0,0,null,8,0,null,null,null,0,"kr./ha.",0,"kr./tim."]
[{"$f":"CheckOne(H4021,F4034)","v":false},null,null,null,null,8,null,null,0,0,null,9,0,null,null,null,0,"kr./ha.",0,"kr./tim."]
[{"$f":"CheckOne(H4021,F4036)","v":false},null,null,null,null,10,null,null,0,0,null,11,0,null,null,null,0,"kr./ha.",0,"kr./tim."]
[{"$f":"CheckOne(H4021,F4037)","v":false},null,null,null,null,11,null,null,0,0,null,12,0,null,null,null,0,"kr./ha.",0,"kr./tim."]
[{"$f":"CheckOne(H4021,F4040)","v":false},null,null,null,null,14,null,null,0,0,null,15,0,null,null,null,0,"kr./ha.",0,"kr./tim."]
[{"$f":"CheckOne(H4021,F4041)","v":false},null,null,null,null,15,null,null,0,0,null,16,0,null,null,null,0,"kr./ha.",0,"kr./tim."]
[{"$f":"CheckOne(H4021,F4043)","v":false},null,null,null,null,17,null,null,0,0,null,18,0,null,null,null,0,"kr./ha.",0,"kr./tim."]
[{"$f":"CheckOne(H4021,F4044)","v":false},null,null,null,null,18,null,null,0,0,null,19,0,null,null,null,0,"kr./ha.",0,"kr./tim."]
[{"$f":"CheckOne(H4021,F4047)","v":false},null,null,null,null,21,null,null,0,0,null,22,0,null,null,null,0,"kr./ha.",0,"kr./tim."]
[{"$f":"CheckOne(H4021,F4048)","v":false},null,null,null,null,22,null,null,0,0,null,23,0,null,null,null,0,"kr./ha.",0,"kr./tim."]
[{"$f":"CheckOne(H4021,F4050)","v":false},null,null,null,null,24,null,null,0,0,null,25,0,null,null,null,0,"kr./ha.",0,"kr./tim."]
[{"$f":"CheckOne(H4021,F4051)","v":false},null,null,null,null,25,null,null,0,0,null,26,0,null,null,null,0,"kr./ha.",0,"kr./tim."]
[{"$f":"CheckOne(H4021,F4054)","v":false},null,null,null,null,28,null,null,0,0,null,29,0,null,null,null,0,"kr./ha.",0,"kr./tim."]
[{"$f":"CheckOne(H4021,F4055)","v":false},null,null,null,null,29,null,null,0,0,null,30,0,null,null,null,0,"kr./ha.",0,"kr./tim."]
[{"$f":"CheckOne(H4021,F4057)","v":false},null,null,null,null,31,null,null,0,0,null,32,0,null,null,null,0,"kr./ha.",0,"kr./tim."]
[{"$f":"CheckOne(H4021,F4058)","v":false},null,null,null,null,32,null,null,0,0,null,33,0,null,null,null,0,"kr./ha.",0,"kr./tim."]
[{"$f":"CheckOne(H4021,F4061)","v":false},null,null,null,null,35,null,null,0,0,null,36,0,null,null,null,0,"kr./ha.",0,"kr./tim."]
[{"$f":"CheckOne(H4021,F4062)","v":false},null,null,null,null,36,null,null,0,0,null,37,0,null,null,null,0,"kr./ha.",0,"kr./tim."]
[{"$f":"CheckOne(H4021,F4064)","v":false},null,null,null,null,38,null,null,0,0,null,39,0,null,null,null,0,"kr./ha.",0,"kr./tim."]
[{"$f":"CheckOne(H4021,F4065)","v":false},null,null,null,null,39,null,null,0,0,null,40,0,null,null,null,0,"kr./ha.",0,"kr./tim."]
[{"$f":"CheckOne(H4021,F4068)","v":false},null,null,null,null,42,null,null,0,0,null,43,0,null,null,null,0,"kr./ha.",0,"kr./tim."]
[{"$f":"CheckOne(H4021,F4069)","v":false},null,null,null,null,43,null,null,0,0,null,44,0,null,null,null,0,"kr./ha.",0,"kr./tim."]
[{"$f":"CheckOne(H4021,F4071)","v":false},null,null,null,null,45,null,null,0,0,null,46,0,null,null,null,0,"kr./ha.",0,"kr./tim."]
[{"$f":"CheckOne(H4021,F4072)","v":false},null,null,null,null,46,null,null,0,0,null,47,0,null,null,null,0,"kr./ha.",0,"kr./tim."]
[{"$f":"CheckOne(H4021,F4075)","v":false},null,null,null,null,49,null,null,0,0,null,50,0,null,null,null,0,"kr./ha.",0,"kr./tim."]
[{"$f":"OR(N4076>0)","v":false},null,null,null,null,null,null,null,{"$f":"+S4076","v":0},0,null,null,"Arbejdsløn:",{"$f":"VLOOKUP(F4021,$L$85:$AH$134,14,FALSE)","v":0},"medarbejder",null,{"$f":"+S4076/O4021","v":0},"kr./ha.",{"$f":"+Maskiner!$Z$17*N4076","v":0},"kr./tim."]
[{"$f":"IF(N4079=\"Maskinstation\",FALSE,OR(L4078<>0,N4082<>0,Q4079<>0,S4079<>0))","v":false},null,null,null,null,"nr.","id","Maskiner",null,null,null,{"$f":"VLOOKUP(F4079,$L$85:$AH$134,2,FALSE)","v":0}]
[{"$f":"A4078","v":false},null,null,null,null,{"$f":"1+F4021","v":18},{"$f":"VLOOKUP(F4079,$F$85:$J$134,5,FALSE)","v":17},{"$f":"VLOOKUP(F4079,$F$85:$I$134,4,FALSE)","v":""},null,null,null,"Type:",null,{"$f":"VLOOKUP(F4079,$L$85:$AH$134,5,FALSE)","v":"Intern"},{"$f":"VLOOKUP(F4079,$L$85:$AH$134,19,FALSE)","v":1},{"$f":"R4079&\"/time\"","v":"ha./time"},{"$f":"VLOOKUP(F4079,$L$85:$AH$134,15,FALSE)","v":0},{"$f":"VLOOKUP(F4079,$L$85:$AH$134,16,FALSE)","v":"ha."},{"$f":"VLOOKUP(F4079,$L$85:$AH$134,17,FALSE)","v":0},"timer"]
[false,null,null,null,null,null,null,null,null,null,null,"TO (totae omk.):",null,{"$f":"+N4081+N4080","v":0},"TE (totale enh. omk.):",null,{"$f":"+Q4081+Q4080","v":0},{"$f":"+R4081","v":"kr./ha."},{"$f":"+S4081+S4080","v":0},"kr./tim."]
[false,null,null,null,null,"id",null,null,"VE/tim","FE",null,null,null,null,"Maskinstationspris",null,{"$f":"VLOOKUP(F4079,$L$85:$AH$134,23,FALSE)","v":0},{"$f":"+R4082","v":"kr./ha."}]
[{"$f":"CheckOne(H4079,F4085)","v":false},null,null,null,null,3,null,null,0,0,null,2,0,null,null,null,0,{"$f":"+R4084","v":"kr./ha."},0,"kr./tim."]
[{"$f":"CheckOne(H4079,F4086)","v":false},null,null,null,null,5,null,null,0,0,null,3,0,null,null,null,0,{"$f":"+R4085","v":"kr./ha."},0,"kr./tim."]
[{"$f":"CheckOne(H4079,F4089)","v":false},null,null,null,null,2,null,null,0,0,null,6,0,null,null,null,0,"kr./ha.",0,"kr./tim."]
[{"$f":"CheckOne(H4079,F4090)","v":false},null,null,null,null,6,null,null,0,0,null,7,0,null,null,null,0,"kr./ha.",0,"kr./tim."]
[{"$f":"CheckOne(H4079,F4092)","v":false},null,null,null,null,8,null,null,0,0,null,9,0,null,null,null,0,"kr./ha.",0,"kr./tim."]
[{"$f":"CheckOne(H4079,F4093)","v":false},null,null,null,null,9,null,null,0,0,null,10,0,null,null,null,0,"kr./ha.",0,"kr./tim."]
[{"$f":"CheckOne(H4079,F4096)","v":false},null,null,null,null,12,null,null,0,0,null,13,0,null,null,null,0,"kr./ha.",0,"kr./tim."]
[{"$f":"CheckOne(H4079,F4097)","v":false},null,null,null,null,13,null,null,0,0,null,14,0,null,null,null,0,"kr./ha.",0,"kr./tim."]
[{"$f":"CheckOne(H4079,F4099)","v":false},null,null,null,null,15,null,null,0,0,null,16,0,null,null,null,0,"kr./ha.",0,"kr./tim."]
[{"$f":"CheckOne(H4079,F4100)","v":false},null,null,null,null,16,null,null,0,0,null,17,0,null,null,null,0,"kr./ha.",0,"kr./tim."]
[{"$f":"CheckOne(H4079,F4103)","v":false},null,null,null,null,19,null,null,0,0,null,20,0,null,null,null,0,"kr./ha.",0,"kr./tim."]
[{"$f":"CheckOne(H4079,F4104)","v":false},null,null,null,null,20,null,null,0,0,null,21,0,null,null,null,0,"kr./ha.",0,"kr./tim."]
[{"$f":"CheckOne(H4079,F4106)","v":false},null,null,null,null,22,null,null,0,0,null,23,0,null,null,null,0,"kr./ha.",0,"kr./tim."]
[{"$f":"CheckOne(H4079,F4107)","v":false},null,null,null,null,23,null,null,0,0,null,24,0,null,null,null,0,"kr./ha.",0,"kr./tim."]
[{"$f":"CheckOne(H4079,F4110)","v":false},null,null,null,null,26,null,null,0,0,null,27,0,null,null,null,0,"kr./ha.",0,"kr./tim."]
[{"$f":"CheckOne(H4079,F4111)","v":false},null,null,null,null,27,null,null,0,0,null,28,0,null,null,null,0,"kr./ha.",0,"kr./tim."]
[{"$f":"CheckOne(H4079,F4113)","v":false},null,null,null,null,29,null,null,0,0,null,30,0,null,null,null,0,"kr./ha.",0,"kr./tim."]
[{"$f":"CheckOne(H4079,F4114)","v":false},null,null,null,null,30,null,null,0,0,null,31,0,null,null,null,0,"kr./ha.",0,"kr./tim."]
[{"$f":"CheckOne(H4079,F4117)","v":false},null,null,null,null,33,null,null,0,0,null,34,0,null,null,null,0,"kr./ha.",0,"kr./tim."]
[{"$f":"CheckOne(H4079,F4118)","v":false},null,null,null,null,34,null,null,0,0,null,35,0,null,null,null,0,"kr./ha.",0,"kr./tim."]
[{"$f":"CheckOne(H4079,F4120)","v":false},null,null,null,null,36,null,null,0,0,null,37,0,null,null,null,0,"kr./ha.",0,"kr./tim."]
[{"$f":"CheckOne(H4079,F4121)","v":false},null,null,null,null,37,null,null,0,0,null,38,0,null,null,null,0,"kr./ha.",0,"kr./tim."]
[{"$f":"CheckOne(H4079,F4124)","v":false},null,null,null,null,40,null,null,0,0,null,41,0,null,null,null,0,"kr./ha.",0,"kr./tim."]
[{"$f":"CheckOne(H4079,F4125)","v":false},null,null,null,null,41,null,null,0,0,null,42,0,null,null,null,0,"kr./ha.",0,"kr./tim."]
[{"$f":"CheckOne(H4079,F4127)","v":false},null,null,null,null,43,null,null,0,0,null,44,0,null,null,null,0,"kr./ha.",0,"kr./tim."]
[{"$f":"CheckOne(H4079,F4128)","v":false},null,null,null,null,44,null,null,0,0,null,45,0,null,null,null,0,"kr./ha.",0,"kr./tim."]
[{"$f":"CheckOne(H4079,F4131)","v":false},null,null,null,null,47,null,null,0,0,null,48,0,null,null,null,0,"kr./ha.",0,"kr./tim."]
[{"$f":"CheckOne(H4079,F4132)","v":false},null,null,null,null,48,null,null,0,0,null,49,0,null,null,null,0,"kr./ha.",0,"kr./tim."]
[{"$f":"OR(N4134>0)","v":false},null,null,null,null,null,null,null,{"$f":"+S4134","v":0},0,null,null,"Arbejdsløn:",{"$f":"VLOOKUP(F4079,$L$85:$AH$134,14,FALSE)","v":0},"medarbejder",null,{"$f":"+S4134/O4079","v":0},"kr./ha.",{"$f":"+Maskiner!$Z$17*N4134","v":0},"kr./tim."]
[{"$f":"IF(N4136=\"Maskinstation\",FALSE,OR(L4135<>0,N4139<>0,Q4136<>0,S4136<>0))","v":false}]
[{"$f":"A4137","v":false},null,null,null,null,null,null,null,null,null,null,"FO (faste omk.):",null,{"$f":"+S4138*S4137","v":0},"FE (faste enh. omk.):",null,{"$f":"IFERROR(N4138/Q4137,0)","v":0},{"$f":"\"kr./\"&R4137","v":"kr./ha."},{"$f":"SUMIF(A4142:A4192,TRUE,J4142:J4192)","v":0},"kr./tim."]
[false,null,null,null,null,null,null,null,null,null,null,"VO (var. omk.):",null,{"$f":"+S4137*S4139","v":0},"VE (var. enh. omk.):",null,{"$f":"IFERROR(N4139/Q4137,0)","v":0},{"$f":"+R4138","v":"kr./ha."},{"$f":"SUMIF(A4142:A4192,TRUE,I4142:I4192)","v":0},"kr./tim."]
[false,null,null,null,null,"id",null,null,"VE/tim","FE",null,null,null,null,"Maskinstationspris",null,{"$f":"VLOOKUP(F4137,$L$85:$AH$134,23,FALSE)","v":0},{"$f":"+R4140","v":"kr./ha."}]
[{"$f":"CheckOne(H4137,F4142)","v":false},null,null,null,null,{"$f":"_xlfn.ANCHORARRAY($J$31)","v":0},null,null,{"$f":"VLOOKUP(_xlfn.ANCHORARRAY(L4142),$L$31:$AE$80,17,FALSE)","v":0},{"$f":"VLOOKUP(_xlfn.ANCHORARRAY(L4142),$L$31:$AE$80,20,FALSE)-_xlfn.ANCHORARRAY(I4142)","v":0},null,{"$f":"$L$31:$L$80","v":1},{"$f":"$M$31:$M$80","v":0},null,null,null,{"$f":"_xlfn.ANCHORARRAY(S4142)/O4137","v":0},{"$f":"+R4140","v":"kr./ha."},{"$f":"$AE$31:$AE$80","v":0},"kr./tim."]
[{"$f":"CheckOne(H4137,F4145)","v":false},null,null,null,null,4,null,null,0,0,null,4,0,null,null,null,0,"kr./ha.",0,"kr./tim."]
[{"$f":"CheckOne(H4137,F4146)","v":false},null,null,null,null,1,null,null,0,0,null,5,0,null,null,null,0,"kr./ha.",0,"kr./tim."]
[{"$f":"CheckOne(H4137,F4148)","v":false},null,null,null,null,6,null,null,0,0,null,7,0,null,null,null,0,"kr./ha.",0,"kr./tim."]
[{"$f":"CheckOne(H4137,F4149)","v":false},null,null,null,null,7,null,null,0,0,null,8,0,null,null,null,0,"kr./ha.",0,"kr./tim."]
[{"$f":"CheckOne(H4137,F4152)","v":false},null,null,null,null,10,null,null,0,0,null,11,0,null,null,null,0,"kr./ha.",0,"kr./tim."]
[{"$f":"CheckOne(H4137,F4153)","v":false},null,null,null,null,11,null,null,0,0,null,12,0,null,null,null,0,"kr./ha.",0,"kr./tim."]
[{"$f":"CheckOne(H4137,F4155)","v":false},null,null,null,null,13,null,null,0,0,null,14,0,null,null,null,0,"kr./ha.",0,"kr./tim."]
[{"$f":"CheckOne(H4137,F4156)","v":false},null,null,null,null,14,null,null,0,0,null,15,0,null,null,null,0,"kr./ha.",0,"kr./tim."]
[{"$f":"CheckOne(H4137,F4159)","v":false},null,null,null,null,17,null,null,0,0,null,18,0,null,null,null,0,"kr./ha.",0,"kr./tim."]
[{"$f":"CheckOne(H4137,F4160)","v":false},null,null,null,null,18,null,null,0,0,null,19,0,null,null,null,0,"kr./ha.",0,"kr./tim."]
[{"$f":"CheckOne(H4137,F4162)","v":false},null,null,null,null,20,null,null,0,0,null,21,0,null,null,null,0,"kr./ha.",0,"kr./tim."]
[{"$f":"CheckOne(H4137,F4163)","v":false},null,null,null,null,21,null,null,0,0,null,22,0,null,null,null,0,"kr./ha.",0,"kr./tim."]
[{"$f":"CheckOne(H4137,F4166)","v":false},null,null,null,null,24,null,null,0,0,null,25,0,null,null,null,0,"kr./ha.",0,"kr./tim."]
[{"$f":"CheckOne(H4137,F4167)","v":false},null,null,null,null,25,null,null,0,0,null,26,0,null,null,null,0,"kr./ha.",0,"kr./tim."]
[{"$f":"CheckOne(H4137,F4169)","v":false},null,null,null,null,27,null,null,0,0,null,28,0,null,null,null,0,"kr./ha.",0,"kr./tim."]
[{"$f":"CheckOne(H4137,F4170)","v":false},null,null,null,null,28,null,null,0,0,null,29,0,null,null,null,0,"kr./ha.",0,"kr./tim."]
[{"$f":"CheckOne(H4137,F4173)","v":false},null,null,null,null,31,null,null,0,0,null,32,0,null,null,null,0,"kr./ha.",0,"kr./tim."]
[{"$f":"CheckOne(H4137,F4174)","v":false},null,null,null,null,32,null,null,0,0,null,33,0,null,null,null,0,"kr./ha.",0,"kr./tim."]
[{"$f":"CheckOne(H4137,F4176)","v":false},null,null,null,null,34,null,null,0,0,null,35,0,null,null,null,0,"kr./ha.",0,"kr./tim."]
[{"$f":"CheckOne(H4137,F4177)","v":false},null,null,null,null,35,null,null,0,0,null,36,0,null,null,null,0,"kr./ha.",0,"kr./tim."]
[{"$f":"CheckOne(H4137,F4180)","v":false},null,null,null,null,38,null,null,0,0,null,39,0,null,null,null,0,"kr./ha.",0,"kr./tim."]
[{"$f":"CheckOne(H4137,F4181)","v":false},null,null,null,null,39,null,null,0,0,null,40,0,null,null,null,0,"kr./ha.",0,"kr./tim."]
[{"$f":"CheckOne(H4137,F4183)","v":false},null,null,null,null,41,null,null,0,0,null,42,0,null,null,null,0,"kr./ha.",0,"kr./tim."]
[{"$f":"CheckOne(H4137,F4184)","v":false},null,null,null,null,42,null,null,0,0,null,43,0,null,null,null,0,"kr./ha.",0,"kr./tim."]
[{"$f":"CheckOne(H4137,F4187)","v":false},null,null,null,null,45,null,null,0,0,null,46,0,null,null,null,0,"kr./ha.",0,"kr./tim."]
[{"$f":"CheckOne(H4137,F4188)","v":false},null,null,null,null,46,null,null,0,0,null,47,0,null,null,null,0,"kr./ha.",0,"kr./tim."]
[{"$f":"CheckOne(H4137,F4190)","v":false},null,null,null,null,48,null,null,0,0,null,49,0,null,null,null,0,"kr./ha.",0,"kr./tim."]
[{"$f":"CheckOne(H4137,F4191)","v":false},null,null,null,null,49,null,null,0,0,null,50,0,null,null,null,0,"kr./ha.",0,"kr./tim."]
[{"$f":"IF(N4195=\"Maskinstation\",FALSE,OR(L4194<>0,N4198<>0,Q4195<>0,S4195<>0))","v":false},null,null,null,null,"nr.","id","Maskiner",null,null,null,{"$f":"VLOOKUP(F4195,$L$85:$AH$134,2,FALSE)","v":0}]
[{"$f":"A4194","v":false},null,null,null,null,{"$f":"1+F4137","v":20},{"$f":"VLOOKUP(F4195,$F$85:$J$134,5,FALSE)","v":19},{"$f":"VLOOKUP(F4195,$F$85:$I$134,4,FALSE)","v":""},null,null,null,"Type:",null,{"$f":"VLOOKUP(F4195,$L$85:$AH$134,5,FALSE)","v":"Intern"},{"$f":"VLOOKUP(F4195,$L$85:$AH$134,19,FALSE)","v":1},{"$f":"R4195&\"/time\"","v":"ha./time"},{"$f":"VLOOKUP(F4195,$L$85:$AH$134,15,FALSE)","v":0},{"$f":"VLOOKUP(F4195,$L$85:$AH$134,16,FALSE)","v":"ha."},{"$f":"VLOOKUP(F4195,$L$85:$AH$134,17,FALSE)","v":0},"timer"]
[false,null,null,null,null,null,null,null,null,null,null,"VO (var. omk.):",null,{"$f":"+S4195*S4197","v":0},"VE (var. enh. omk.):",null,{"$f":"IFERROR(N4197/Q4195,0)","v":0},{"$f":"+R4196","v":"kr./ha."},{"$f":"SUMIF(A4200:A4250,TRUE,I4200:I4250)","v":0},"kr./tim."]
[false,null,null,null,null,null,null,null,null,null,null,"TO (totae omk.):",null,{"$f":"+N4197+N4196","v":0},"TE (totale enh. omk.):",null,{"$f":"+Q4197+Q4196","v":0},{"$f":"+R4197","v":"kr./ha."},{"$f":"+S4197+S4196","v":0},"kr./tim."]
[{"$f":"CheckOne(H4195,F4201)","v":false},null,null,null,null,3,null,null,0,0,null,2,0,null,null,null,0,{"$f":"+R4200","v":"kr./ha."},0,"kr./tim."]
[{"$f":"CheckOne(H4195,F4202)","v":false},null,null,null,null,5,null,null,0,0,null,3,0,null,null,null,0,{"$f":"+R4201","v":"kr./ha."},0,"kr./tim."]
[{"$f":"CheckOne(H4195,F4204)","v":false},null,null,null,null,1,null,null,0,0,null,5,0,null,null,null,0,"kr./ha.",0,"kr./tim."]
[{"$f":"CheckOne(H4195,F4205)","v":false},null,null,null,null,2,null,null,0,0,null,6,0,null,null,null,0,"kr./ha.",0,"kr./tim."]
[{"$f":"CheckOne(H4195,F4208)","v":false},null,null,null,null,8,null,null,0,0,null,9,0,null,null,null,0,"kr./ha.",0,"kr./tim."]
[{"$f":"CheckOne(H4195,F4209)","v":false},null,null,null,null,9,null,null,0,0,null,10,0,null,null,null,0,"kr./ha.",0,"kr./tim."]
[{"$f":"CheckOne(H4195,F4211)","v":false},null,null,null,null,11,null,null,0,0,null,12,0,null,null,null,0,"kr./ha.",0,"kr./tim."]
[{"$f":"CheckOne(H4195,F4212)","v":false},null,null,null,null,12,null,null,0,0,null,13,0,null,null,null,0,"kr./ha.",0,"kr./tim."]
[{"$f":"CheckOne(H4195,F4215)","v":false},null,null,null,null,15,null,null,0,0,null,16,0,null,null,null,0,"kr./ha.",0,"kr./tim."]
[{"$f":"CheckOne(H4195,F4216)","v":false},null,null,null,null,16,null,null,0,0,null,17,0,null,null,null,0,"kr./ha.",0,"kr./tim."]
[{"$f":"CheckOne(H4195,F4218)","v":false},null,null,null,null,18,null,null,0,0,null,19,0,null,null,null,0,"kr./ha.",0,"kr./tim."]
[{"$f":"CheckOne(H4195,F4219)","v":false},null,null,null,null,19,null,null,0,0,null,20,0,null,null,null,0,"kr./ha.",0,"kr./tim."]
[{"$f":"CheckOne(H4195,F4222)","v":false},null,null,null,null,22,null,null,0,0,null,23,0,null,null,null,0,"kr./ha.",0,"kr./tim."]
[{"$f":"CheckOne(H4195,F4223)","v":false},null,null,null,null,23,null,null,0,0,null,24,0,null,null,null,0,"kr./ha.",0,"kr./tim."]
[{"$f":"CheckOne(H4195,F4225)","v":false},null,null,null,null,25,null,null,0,0,null,26,0,null,null,null,0,"kr./ha.",0,"kr./tim."]
[{"$f":"CheckOne(H4195,F4226)","v":false},null,null,null,null,26,null,null,0,0,null,27,0,null,null,null,0,"kr./ha.",0,"kr./tim."]
[{"$f":"CheckOne(H4195,F4229)","v":false},null,null,null,null,29,null,null,0,0,null,30,0,null,null,null,0,"kr./ha.",0,"kr./tim."]
[{"$f":"CheckOne(H4195,F4230)","v":false},null,null,null,null,30,null,null,0,0,null,31,0,null,null,null,0,"kr./ha.",0,"kr./tim."]
[{"$f":"CheckOne(H4195,F4232)","v":false},null,null,null,null,32,null,null,0,0,null,33,0,null,null,null,0,"kr./ha.",0,"kr./tim."]
[{"$f":"CheckOne(H4195,F4233)","v":false},null,null,null,null,33,null,null,0,0,null,34,0,null,null,null,0,"kr./ha.",0,"kr./tim."]
[{"$f":"CheckOne(H4195,F4235)","v":false},null,null,null,null,35,null,null,0,0,null,36,0,null,null,null,0,"kr./ha.",0,"kr./tim."]
[{"$f":"CheckOne(H4195,F4236)","v":false},null,null,null,null,36,null,null,0,0,null,37,0,null,null,null,0,"kr./ha.",0,"kr./tim."]
[{"$f":"CheckOne(H4195,F4239)","v":false},null,null,null,null,39,null,null,0,0,null,40,0,null,null,null,0,"kr./ha.",0,"kr./tim."]
[{"$f":"CheckOne(H4195,F4240)","v":false},null,null,null,null,40,null,null,0,0,null,41,0,null,null,null,0,"kr./ha.",0,"kr./tim."]
[{"$f":"CheckOne(H4195,F4242)","v":false},null,null,null,null,42,null,null,0,0,null,43,0,null,null,null,0,"kr./ha.",0,"kr./tim."]
[{"$f":"CheckOne(H4195,F4243)","v":false},null,null,null,null,43,null,null,0,0,null,44,0,null,null,null,0,"kr./ha.",0,"kr./tim."]
[{"$f":"CheckOne(H4195,F4246)","v":false},null,null,null,null,46,null,null,0,0,null,47,0,null,null,null,0,"kr./ha.",0,"kr./tim."]
[{"$f":"CheckOne(H4195,F4247)","v":false},null,null,null,null,47,null,null,0,0,null,48,0,null,null,null,0,"kr./ha.",0,"kr./tim."]
[{"$f":"CheckOne(H4195,F4249)","v":false},null,null,null,null,49,null,null,0,0,null,50,0,null,null,null,0,"kr./ha.",0,"kr./tim."]
[{"$f":"OR(N4250>0)","v":false},null,null,null,null,null,null,null,{"$f":"+S4250","v":0},0,null,null,"Arbejdsløn:",{"$f":"VLOOKUP(F4195,$L$85:$AH$134,14,FALSE)","v":0},"medarbejder",null,{"$f":"+S4250/O4195","v":0},"kr./ha.",{"$f":"+Maskiner!$Z$17*N4250","v":0},"kr./tim."]
[{"$f":"A4252","v":false},null,null,null,null,{"$f":"1+F4195","v":21},{"$f":"VLOOKUP(F4253,$F$85:$J$134,5,FALSE)","v":20},{"$f":"VLOOKUP(F4253,$F$85:$I$134,4,FALSE)","v":""},null,null,null,"Type:",null,{"$f":"VLOOKUP(F4253,$L$85:$AH$134,5,FALSE)","v":"Intern"},{"$f":"VLOOKUP(F4253,$L$85:$AH$134,19,FALSE)","v":1},{"$f":"R4253&\"/time\"","v":"ha./time"},{"$f":"VLOOKUP(F4253,$L$85:$AH$134,15,FALSE)","v":0},{"$f":"VLOOKUP(F4253,$L$85:$AH$134,16,FALSE)","v":"ha."},{"$f":"VLOOKUP(F4253,$L$85:$AH$134,17,FALSE)","v":0},"timer"]
[{"$f":"A4253","v":false},null,null,null,null,null,null,null,null,null,null,"FO (faste omk.):",null,{"$f":"+S4254*S4253","v":0},"FE (faste enh. omk.):",null,{"$f":"IFERROR(N4254/Q4253,0)","v":0},{"$f":"\"kr./\"&R4253","v":"kr./ha."},{"$f":"SUMIF(A4258:A4308,TRUE,J4258:J4308)","v":0},"kr./tim."]
[false,null,null,null,null,null,null,null,null,null,null,"TO (totae omk.):",null,{"$f":"+N4255+N4254","v":0},"TE (totale enh. omk.):",null,{"$f":"+Q4255+Q4254","v":0},{"$f":"+R4255","v":"kr./ha."},{"$f":"+S4255+S4254","v":0},"kr./tim."]
[false,null,null,null,null,"id",null,null,"VE/tim","FE",null,null,null,null,"Maskinstationspris",null,{"$f":"VLOOKUP(F4253,$L$85:$AH$134,23,FALSE)","v":0},{"$f":"+R4256","v":"kr./ha."}]
[{"$f":"CheckOne(H4253,F4260)","v":false},null,null,null,null,5,null,null,0,0,null,3,0,null,null,null,0,{"$f":"+R4259","v":"kr./ha."},0,"kr./tim."]
[{"$f":"CheckOne(H4253,F4261)","v":false},null,null,null,null,4,null,null,0,0,null,4,0,null,null,null,0,"kr./ha.",0,"kr./tim."]
[{"$f":"CheckOne(H4253,F4263)","v":false},null,null,null,null,2,null,null,0,0,null,6,0,null,null,null,0,"kr./ha.",0,"kr./tim."]
[{"$f":"CheckOne(H4253,F4264)","v":false},null,null,null,null,6,null,null,0,0,null,7,0,null,null,null,0,"kr./ha.",0,"kr./tim."]
[{"$f":"CheckOne(H4253,F4267)","v":false},null,null,null,null,9,null,null,0,0,null,10,0,null,null,null,0,"kr./ha.",0,"kr./tim."]
[{"$f":"CheckOne(H4253,F4268)","v":false},null,null,null,null,10,null,null,0,0,null,11,0,null,null,null,0,"kr./ha.",0,"kr./tim."]
[{"$f":"CheckOne(H4253,F4270)","v":false},null,null,null,null,12,null,null,0,0,null,13,0,null,null,null,0,"kr./ha.",0,"kr./tim."]
[{"$f":"CheckOne(H4253,F4271)","v":false},null,null,null,null,13,null,null,0,0,null,14,0,null,null,null,0,"kr./ha.",0,"kr./tim."]
[{"$f":"CheckOne(H4253,F4274)","v":false},null,null,null,null,16,null,null,0,0,null,17,0,null,null,null,0,"kr./ha.",0,"kr./tim."]
[{"$f":"CheckOne(H4253,F4275)","v":false},null,null,null,null,17,null,null,0,0,null,18,0,null,null,null,0,"kr./ha.",0,"kr./tim."]
[{"$f":"CheckOne(H4253,F4277)","v":false},null,null,null,null,19,null,null,0,0,null,20,0,null,null,null,0,"kr./ha.",0,"kr./tim."]
[{"$f":"CheckOne(H4253,F4278)","v":false},null,null,null,null,20,null,null,0,0,null,21,0,null,null,null,0,"kr./ha.",0,"kr./tim."]
[{"$f":"CheckOne(H4253,F4281)","v":false},null,null,null,null,23,null,null,0,0,null,24,0,null,null,null,0,"kr./ha.",0,"kr./tim."]
[{"$f":"CheckOne(H4253,F4282)","v":false},null,null,null,null,24,null,null,0,0,null,25,0,null,null,null,0,"kr./ha.",0,"kr./tim."]
[{"$f":"CheckOne(H4253,F4284)","v":false},null,null,null,null,26,null,null,0,0,null,27,0,null,null,null,0,"kr./ha.",0,"kr./tim."]
[{"$f":"CheckOne(H4253,F4285)","v":false},null,null,null,null,27,null,null,0,0,null,28,0,null,null,null,0,"kr./ha.",0,"kr./tim."]
[{"$f":"CheckOne(H4253,F4288)","v":false},null,null,null,null,30,null,null,0,0,null,31,0,null,null,null,0,"kr./ha.",0,"kr./tim."]
[{"$f":"CheckOne(H4253,F4289)","v":false},null,null,null,null,31,null,null,0,0,null,32,0,null,null,null,0,"kr./ha.",0,"kr./tim."]
[{"$f":"CheckOne(H4253,F4291)","v":false},null,null,null,null,33,null,null,0,0,null,34,0,null,null,null,0,"kr./ha.",0,"kr./tim."]
[{"$f":"CheckOne(H4253,F4292)","v":false},null,null,null,null,34,null,null,0,0,null,35,0,null,null,null,0,"kr./ha.",0,"kr./tim."]
[{"$f":"CheckOne(H4253,F4295)","v":false},null,null,null,null,37,null,null,0,0,null,38,0,null,null,null,0,"kr./ha.",0,"kr./tim."]
[{"$f":"CheckOne(H4253,F4296)","v":false},null,null,null,null,38,null,null,0,0,null,39,0,null,null,null,0,"kr./ha.",0,"kr./tim."]
[{"$f":"CheckOne(H4253,F4298)","v":false},null,null,null,null,40,null,null,0,0,null,41,0,null,null,null,0,"kr./ha.",0,"kr./tim."]
[{"$f":"CheckOne(H4253,F4299)","v":false},null,null,null,null,41,null,null,0,0,null,42,0,null,null,null,0,"kr./ha.",0,"kr./tim."]
[{"$f":"CheckOne(H4253,F4302)","v":false},null,null,null,null,44,null,null,0,0,null,45,0,null,null,null,0,"kr./ha.",0,"kr./tim."]
[{"$f":"CheckOne(H4253,F4303)","v":false},null,null,null,null,45,null,null,0,0,null,46,0,null,null,null,0,"kr./ha.",0,"kr./tim."]
[{"$f":"CheckOne(H4253,F4305)","v":false},null,null,null,null,47,null,null,0,0,null,48,0,null,null,null,0,"kr./ha.",0,"kr./tim."]
[{"$f":"CheckOne(H4253,F4306)","v":false},null,null,null,null,48,null,null,0,0,null,49,0,null,null,null,0,"kr./ha.",0,"kr./tim."]
[{"$f":"IF(N4310=\"Maskinstation\",FALSE,OR(L4309<>0,N4313<>0,Q4310<>0,S4310<>0))","v":false}]
[{"$f":"IF(N4311=\"Maskinstation\",FALSE,OR(L4310<>0,N4314<>0,Q4311<>0,S4311<>0))","v":false},null,null,null,null,"nr.","id","Maskiner",null,null,null,{"$f":"VLOOKUP(F4311,$L$85:$AH$134,2,FALSE)","v":0}]
[{"$f":"A4311","v":false},null,null,null,null,null,null,null,null,null,null,"FO (faste omk.):",null,{"$f":"+S4312*S4311","v":0},"FE (faste enh. omk.):",null,{"$f":"IFERROR(N4312/Q4311,0)","v":0},{"$f":"\"kr./\"&R4311","v":"kr./ha."},{"$f":"SUMIF(A4316:A4366,TRUE,J4316:J4366)","v":0},"kr./tim."]
[false,null,null,null,null,null,null,null,null,null,null,"VO (var. omk.):",null,{"$f":"+S4311*S4313","v":0},"VE (var. enh. omk.):",null,{"$f":"IFERROR(N4313/Q4311,0)","v":0},{"$f":"+R4312","v":"kr./ha."},{"$f":"SUMIF(A4316:A4366,TRUE,I4316:I4366)","v":0},"kr./tim."]
[{"$f":"CheckOne(H4311,F4316)","v":false},null,null,null,null,{"$f":"_xlfn.ANCHORARRAY($J$31)","v":0},null,null,{"$f":"VLOOKUP(_xlfn.ANCHORARRAY(L4316),$L$31:$AE$80,17,FALSE)","v":0},{"$f":"VLOOKUP(_xlfn.ANCHORARRAY(L4316),$L$31:$AE$80,20,FALSE)-_xlfn.ANCHORARRAY(I4316)","v":0},null,{"$f":"$L$31:$L$80","v":1},{"$f":"$M$31:$M$80","v":0},null,null,null,{"$f":"_xlfn.ANCHORARRAY(S4316)/O4311","v":0},{"$f":"+R4314","v":"kr./ha."},{"$f":"$AE$31:$AE$80","v":0},"kr./tim."]
[{"$f":"CheckOne(H4311,F4317)","v":false},null,null,null,null,3,null,null,0,0,null,2,0,null,null,null,0,{"$f":"+R4316","v":"kr./ha."},0,"kr./tim."]
[{"$f":"CheckOne(H4311,F4319)","v":false},null,null,null,null,4,null,null,0,0,null,4,0,null,null,null,0,"kr./ha.",0,"kr./tim."]
[{"$f":"CheckOne(H4311,F4320)","v":false},null,null,null,null,1,null,null,0,0,null,5,0,null,null,null,0,"kr./ha.",0,"kr./tim."]
[{"$f":"CheckOne(H4311,F4323)","v":false},null,null,null,null,7,null,null,0,0,null,8,0,null,null,null,0,"kr./ha.",0,"kr./tim."]
[{"$f":"CheckOne(H4311,F4324)","v":false},null,null,null,null,8,null,null,0,0,null,9,0,null,null,null,0,"kr./ha.",0,"kr./tim."]
[{"$f":"CheckOne(H4311,F4326)","v":false},null,null,null,null,10,null,null,0,0,null,11,0,null,null,null,0,"kr./ha.",0,"kr./tim."]
[{"$f":"CheckOne(H4311,F4327)","v":false},null,null,null,null,11,null,null,0,0,null,12,0,null,null,null,0,"kr./ha.",0,"kr./tim."]
[{"$f":"CheckOne(H4311,F4330)","v":false},null,null,null,null,14,null,null,0,0,null,15,0,null,null,null,0,"kr./ha.",0,"kr./tim."]
[{"$f":"CheckOne(H4311,F4331)","v":false},null,null,null,null,15,null,null,0,0,null,16,0,null,null,null,0,"kr./ha.",0,"kr./tim."]
[{"$f":"CheckOne(H4311,F4333)","v":false},null,null,null,null,17,null,null,0,0,null,18,0,null,null,null,0,"kr./ha.",0,"kr./tim."]
[{"$f":"CheckOne(H4311,F4334)","v":false},null,null,null,null,18,null,null,0,0,null,19,0,null,null,null,0,"kr./ha.",0,"kr./tim."]
[{"$f":"CheckOne(H4311,F4337)","v":false},null,null,null,null,21,null,null,0,0,null,22,0,null,null,null,0,"kr./ha.",0,"kr./tim."]
[{"$f":"CheckOne(H4311,F4338)","v":false},null,null,null,null,22,null,null,0,0,null,23,0,null,null,null,0,"kr./ha.",0,"kr./tim."]
[{"$f":"CheckOne(H4311,F4340)","v":false},null,null,null,null,24,null,null,0,0,null,25,0,null,null,null,0,"kr./ha.",0,"kr./tim."]
[{"$f":"CheckOne(H4311,F4341)","v":false},null,null,null,null,25,null,null,0,0,null,26,0,null,null,null,0,"kr./ha.",0,"kr./tim."]
[{"$f":"CheckOne(H4311,F4344)","v":false},null,null,null,null,28,null,null,0,0,null,29,0,null,null,null,0,"kr./ha.",0,"kr./tim."]
[{"$f":"CheckOne(H4311,F4345)","v":false},null,null,null,null,29,null,null,0,0,null,30,0,null,null,null,0,"kr./ha.",0,"kr./tim."]
[{"$f":"CheckOne(H4311,F4347)","v":false},null,null,null,null,31,null,null,0,0,null,32,0,null,null,null,0,"kr./ha.",0,"kr./tim."]
[{"$f":"CheckOne(H4311,F4348)","v":false},null,null,null,null,32,null,null,0,0,null,33,0,null,null,null,0,"kr./ha.",0,"kr./tim."]
[{"$f":"CheckOne(H4311,F4351)","v":false},null,null,null,null,35,null,null,0,0,null,36,0,null,null,null,0,"kr./ha.",0,"kr./tim."]
[{"$f":"CheckOne(H4311,F4352)","v":false},null,null,null,null,36,null,null,0,0,null,37,0,null,null,null,0,"kr./ha.",0,"kr./tim."]
[{"$f":"CheckOne(H4311,F4354)","v":false},null,null,null,null,38,null,null,0,0,null,39,0,null,null,null,0,"kr./ha.",0,"kr./tim."]
[{"$f":"CheckOne(H4311,F4355)","v":false},null,null,null,null,39,null,null,0,0,null,40,0,null,null,null,0,"kr./ha.",0,"kr./tim."]
[{"$f":"CheckOne(H4311,F4358)","v":false},null,null,null,null,42,null,null,0,0,null,43,0,null,null,null,0,"kr./ha.",0,"kr./tim."]
[{"$f":"CheckOne(H4311,F4359)","v":false},null,null,null,null,43,null,null,0,0,null,44,0,null,null,null,0,"kr./ha.",0,"kr./tim."]
[{"$f":"CheckOne(H4311,F4361)","v":false},null,null,null,null,45,null,null,0,0,null,46,0,null,null,null,0,"kr./ha.",0,"kr./tim."]
[{"$f":"CheckOne(H4311,F4362)","v":false},null,null,null,null,46,null,null,0,0,null,47,0,null,null,null,0,"kr./ha.",0,"kr./tim."]
[{"$f":"CheckOne(H4311,F4365)","v":false},null,null,null,null,49,null,null,0,0,null,50,0,null,null,null,0,"kr./ha.",0,"kr./tim."]
[{"$f":"OR(N4366>0)","v":false},null,null,null,null,null,null,null,{"$f":"+S4366","v":0},0,null,null,"Arbejdsløn:",{"$f":"VLOOKUP(F4311,$L$85:$AH$134,14,FALSE)","v":0},"medarbejder",null,{"$f":"+S4366/O4311","v":0},"kr./ha.",{"$f":"+Maskiner!$Z$17*N4366","v":0},"kr./tim."]
[{"$f":"IF(N4369=\"Maskinstation\",FALSE,OR(L4368<>0,N4372<>0,Q4369<>0,S4369<>0))","v":false},null,null,null,null,"nr.","id","Maskiner",null,null,null,{"$f":"VLOOKUP(F4369,$L$85:$AH$134,2,FALSE)","v":0}]
[{"$f":"A4368","v":false},null,null,null,null,{"$f":"1+F4311","v":23},{"$f":"VLOOKUP(F4369,$F$85:$J$134,5,FALSE)","v":22},{"$f":"VLOOKUP(F4369,$F$85:$I$134,4,FALSE)","v":""},null,null,null,"Type:",null,{"$f":"VLOOKUP(F4369,$L$85:$AH$134,5,FALSE)","v":"Intern"},{"$f":"VLOOKUP(F4369,$L$85:$AH$134,19,FALSE)","v":1},{"$f":"R4369&\"/time\"","v":"ha./time"},{"$f":"VLOOKUP(F4369,$L$85:$AH$134,15,FALSE)","v":0},{"$f":"VLOOKUP(F4369,$L$85:$AH$134,16,FALSE)","v":"ha."},{"$f":"VLOOKUP(F4369,$L$85:$AH$134,17,FALSE)","v":0},"timer"]
[false,null,null,null,null,null,null,null,null,null,null,"TO (totae omk.):",null,{"$f":"+N4371+N4370","v":0},"TE (totale enh. omk.):",null,{"$f":"+Q4371+Q4370","v":0},{"$f":"+R4371","v":"kr./ha."},{"$f":"+S4371+S4370","v":0},"kr./tim."]
[false,null,null,null,null,"id",null,null,"VE/tim","FE",null,null,null,null,"Maskinstationspris",null,{"$f":"VLOOKUP(F4369,$L$85:$AH$134,23,FALSE)","v":0},{"$f":"+R4372","v":"kr./ha."}]
[{"$f":"CheckOne(H4369,F4375)","v":false},null,null,null,null,3,null,null,0,0,null,2,0,null,null,null,0,{"$f":"+R4374","v":"kr./ha."},0,"kr./tim."]
[{"$f":"CheckOne(H4369,F4376)","v":false},null,null,null,null,5,null,null,0,0,null,3,0,null,null,null,0,{"$f":"+R4375","v":"kr./ha."},0,"kr./tim."]
[{"$f":"CheckOne(H4369,F4379)","v":false},null,null,null,null,2,null,null,0,0,null,6,0,null,null,null,0,"kr./ha.",0,"kr./tim."]
[{"$f":"CheckOne(H4369,F4380)","v":false},null,null,null,null,6,null,null,0,0,null,7,0,null,null,null,0,"kr./ha.",0,"kr./tim."]
[{"$f":"CheckOne(H4369,F4382)","v":false},null,null,null,null,8,null,null,0,0,null,9,0,null,null,null,0,"kr./ha.",0,"kr./tim."]
[{"$f":"CheckOne(H4369,F4383)","v":false},null,null,null,null,9,null,null,0,0,null,10,0,null,null,null,0,"kr./ha.",0,"kr./tim."]
[{"$f":"CheckOne(H4369,F4386)","v":false},null,null,null,null,12,null,null,0,0,null,13,0,null,null,null,0,"kr./ha.",0,"kr./tim."]
[{"$f":"CheckOne(H4369,F4387)","v":false},null,null,null,null,13,null,null,0,0,null,14,0,null,null,null,0,"kr./ha.",0,"kr./tim."]
[{"$f":"CheckOne(H4369,F4389)","v":false},null,null,null,null,15,null,null,0,0,null,16,0,null,null,null,0,"kr./ha.",0,"kr./tim."]
[{"$f":"CheckOne(H4369,F4390)","v":false},null,null,null,null,16,null,null,0,0,null,17,0,null,null,null,0,"kr./ha.",0,"kr./tim."]
[{"$f":"CheckOne(H4369,F4393)","v":false},null,null,null,null,19,null,null,0,0,null,20,0,null,null,null,0,"kr./ha.",0,"kr./tim."]
[{"$f":"CheckOne(H4369,F4394)","v":false},null,null,null,null,20,null,null,0,0,null,21,0,null,null,null,0,"kr./ha.",0,"kr./tim."]
[{"$f":"CheckOne(H4369,F4396)","v":false},null,null,null,null,22,null,null,0,0,null,23,0,null,null,null,0,"kr./ha.",0,"kr./tim."]
[{"$f":"CheckOne(H4369,F4397)","v":false},null,null,null,null,23,null,null,0,0,null,24,0,null,null,null,0,"kr./ha.",0,"kr./tim."]
[{"$f":"CheckOne(H4369,F4400)","v":false},null,null,null,null,26,null,null,0,0,null,27,0,null,null,null,0,"kr./ha.",0,"kr./tim."]
[{"$f":"CheckOne(H4369,F4401)","v":false},null,null,null,null,27,null,null,0,0,null,28,0,null,null,null,0,"kr./ha.",0,"kr./tim."]
[{"$f":"CheckOne(H4369,F4403)","v":false},null,null,null,null,29,null,null,0,0,null,30,0,null,null,null,0,"kr./ha.",0,"kr./tim."]
[{"$f":"CheckOne(H4369,F4404)","v":false},null,null,null,null,30,null,null,0,0,null,31,0,null,null,null,0,"kr./ha.",0,"kr./tim."]
[{"$f":"CheckOne(H4369,F4407)","v":false},null,null,null,null,33,null,null,0,0,null,34,0,null,null,null,0,"kr./ha.",0,"kr./tim."]
[{"$f":"CheckOne(H4369,F4408)","v":false},null,null,null,null,34,null,null,0,0,null,35,0,null,null,null,0,"kr./ha.",0,"kr./tim."]
[{"$f":"CheckOne(H4369,F4410)","v":false},null,null,null,null,36,null,null,0,0,null,37,0,null,null,null,0,"kr./ha.",0,"kr./tim."]
[{"$f":"CheckOne(H4369,F4411)","v":false},null,null,null,null,37,null,null,0,0,null,38,0,null,null,null,0,"kr./ha.",0,"kr./tim."]
[{"$f":"CheckOne(H4369,F4414)","v":false},null,null,null,null,40,null,null,0,0,null,41,0,null,null,null,0,"kr./ha.",0,"kr./tim."]
[{"$f":"CheckOne(H4369,F4415)","v":false},null,null,null,null,41,null,null,0,0,null,42,0,null,null,null,0,"kr./ha.",0,"kr./tim."]
[{"$f":"CheckOne(H4369,F4417)","v":false},null,null,null,null,43,null,null,0,0,null,44,0,null,null,null,0,"kr./ha.",0,"kr./tim."]
[{"$f":"CheckOne(H4369,F4418)","v":false},null,null,null,null,44,null,null,0,0,null,45,0,null,null,null,0,"kr./ha.",0,"kr./tim."]
[{"$f":"CheckOne(H4369,F4421)","v":false},null,null,null,null,47,null,null,0,0,null,48,0,null,null,null,0,"kr./ha.",0,"kr./tim."]
[{"$f":"CheckOne(H4369,F4422)","v":false},null,null,null,null,48,null,null,0,0,null,49,0,null,null,null,0,"kr./ha.",0,"kr./tim."]
[{"$f":"OR(N4424>0)","v":false},null,null,null,null,null,null,null,{"$f":"+S4424","v":0},0,null,null,"Arbejdsløn:",{"$f":"VLOOKUP(F4369,$L$85:$AH$134,14,FALSE)","v":0},"medarbejder",null,{"$f":"+S4424/O4369","v":0},"kr./ha.",{"$f":"+Maskiner!$Z$17*N4424","v":0},"kr./tim."]
[{"$f":"IF(N4426=\"Maskinstation\",FALSE,OR(L4425<>0,N4429<>0,Q4426<>0,S4426<>0))","v":false}]
[{"$f":"A4426","v":false},null,null,null,null,{"$f":"1+F4369","v":24},{"$f":"VLOOKUP(F4427,$F$85:$J$134,5,FALSE)","v":23},{"$f":"VLOOKUP(F4427,$F$85:$I$134,4,FALSE)","v":""},null,null,null,"Type:",null,{"$f":"VLOOKUP(F4427,$L$85:$AH$134,5,FALSE)","v":"Intern"},{"$f":"VLOOKUP(F4427,$L$85:$AH$134,19,FALSE)","v":1},{"$f":"R4427&\"/time\"","v":"ha./time"},{"$f":"VLOOKUP(F4427,$L$85:$AH$134,15,FALSE)","v":0},{"$f":"VLOOKUP(F4427,$L$85:$AH$134,16,FALSE)","v":"ha."},{"$f":"VLOOKUP(F4427,$L$85:$AH$134,17,FALSE)","v":0},"timer"]
[{"$f":"A4427","v":false},null,null,null,null,null,null,null,null,null,null,"FO (faste omk.):",null,{"$f":"+S4428*S4427","v":0},"FE (faste enh. omk.):",null,{"$f":"IFERROR(N4428/Q4427,0)","v":0},{"$f":"\"kr./\"&R4427","v":"kr./ha."},{"$f":"SUMIF(A4432:A4482,TRUE,J4432:J4482)","v":0},"kr./tim."]
[false,null,null,null,null,"id",null,null,"VE/tim","FE",null,null,null,null,"Maskinstationspris",null,{"$f":"VLOOKUP(F4427,$L$85:$AH$134,23,FALSE)","v":0},{"$f":"+R4430","v":"kr./ha."}]
[{"$f":"CheckOne(H4427,F4432)","v":false},null,null,null,null,{"$f":"_xlfn.ANCHORARRAY($J$31)","v":0},null,null,{"$f":"VLOOKUP(_xlfn.ANCHORARRAY(L4432),$L$31:$AE$80,17,FALSE)","v":0},{"$f":"VLOOKUP(_xlfn.ANCHORARRAY(L4432),$L$31:$AE$80,20,FALSE)-_xlfn.ANCHORARRAY(I4432)","v":0},null,{"$f":"$L$31:$L$80","v":1},{"$f":"$M$31:$M$80","v":0},null,null,null,{"$f":"_xlfn.ANCHORARRAY(S4432)/O4427","v":0},{"$f":"+R4430","v":"kr./ha."},{"$f":"$AE$31:$AE$80","v":0},"kr./tim."]
[{"$f":"CheckOne(H4427,F4434)","v":false},null,null,null,null,5,null,null,0,0,null,3,0,null,null,null,0,{"$f":"+R4433","v":"kr./ha."},0,"kr./tim."]
[{"$f":"CheckOne(H4427,F4435)","v":false},null,null,null,null,4,null,null,0,0,null,4,0,null,null,null,0,"kr./ha.",0,"kr./tim."]
[{"$f":"CheckOne(H4427,F4438)","v":false},null,null,null,null,6,null,null,0,0,null,7,0,null,null,null,0,"kr./ha.",0,"kr./tim."]
[{"$f":"CheckOne(H4427,F4439)","v":false},null,null,null,null,7,null,null,0,0,null,8,0,null,null,null,0,"kr./ha.",0,"kr./tim."]
[{"$f":"CheckOne(H4427,F4441)","v":false},null,null,null,null,9,null,null,0,0,null,10,0,null,null,null,0,"kr./ha.",0,"kr./tim."]
[{"$f":"CheckOne(H4427,F4442)","v":false},null,null,null,null,10,null,null,0,0,null,11,0,null,null,null,0,"kr./ha.",0,"kr./tim."]
[{"$f":"CheckOne(H4427,F4445)","v":false},null,null,null,null,13,null,null,0,0,null,14,0,null,null,null,0,"kr./ha.",0,"kr./tim."]
[{"$f":"CheckOne(H4427,F4446)","v":false},null,null,null,null,14,null,null,0,0,null,15,0,null,null,null,0,"kr./ha.",0,"kr./tim."]
[{"$f":"CheckOne(H4427,F4448)","v":false},null,null,null,null,16,null,null,0,0,null,17,0,null,null,null,0,"kr./ha.",0,"kr./tim."]
[{"$f":"CheckOne(H4427,F4449)","v":false},null,null,null,null,17,null,null,0,0,null,18,0,null,null,null,0,"kr./ha.",0,"kr./tim."]
[{"$f":"CheckOne(H4427,F4452)","v":false},null,null,null,null,20,null,null,0,0,null,21,0,null,null,null,0,"kr./ha.",0,"kr./tim."]
[{"$f":"CheckOne(H4427,F4453)","v":false},null,null,null,null,21,null,null,0,0,null,22,0,null,null,null,0,"kr./ha.",0,"kr./tim."]
[{"$f":"CheckOne(H4427,F4455)","v":false},null,null,null,null,23,null,null,0,0,null,24,0,null,null,null,0,"kr./ha.",0,"kr./tim."]
[{"$f":"CheckOne(H4427,F4456)","v":false},null,null,null,null,24,null,null,0,0,null,25,0,null,null,null,0,"kr./ha.",0,"kr./tim."]
[{"$f":"CheckOne(H4427,F4459)","v":false},null,null,null,null,27,null,null,0,0,null,28,0,null,null,null,0,"kr./ha.",0,"kr./tim."]
[{"$f":"CheckOne(H4427,F4460)","v":false},null,null,null,null,28,null,null,0,0,null,29,0,null,null,null,0,"kr./ha.",0,"kr./tim."]
[{"$f":"CheckOne(H4427,F4462)","v":false},null,null,null,null,30,null,null,0,0,null,31,0,null,null,null,0,"kr./ha.",0,"kr./tim."]
[{"$f":"CheckOne(H4427,F4463)","v":false},null,null,null,null,31,null,null,0,0,null,32,0,null,null,null,0,"kr./ha.",0,"kr./tim."]
[{"$f":"CheckOne(H4427,F4466)","v":false},null,null,null,null,34,null,null,0,0,null,35,0,null,null,null,0,"kr./ha.",0,"kr./tim."]
[{"$f":"CheckOne(H4427,F4467)","v":false},null,null,null,null,35,null,null,0,0,null,36,0,null,null,null,0,"kr./ha.",0,"kr./tim."]
[{"$f":"CheckOne(H4427,F4469)","v":false},null,null,null,null,37,null,null,0,0,null,38,0,null,null,null,0,"kr./ha.",0,"kr./tim."]
[{"$f":"CheckOne(H4427,F4470)","v":false},null,null,null,null,38,null,null,0,0,null,39,0,null,null,null,0,"kr./ha.",0,"kr./tim."]
[{"$f":"CheckOne(H4427,F4473)","v":false},null,null,null,null,41,null,null,0,0,null,42,0,null,null,null,0,"kr./ha.",0,"kr./tim."]
[{"$f":"CheckOne(H4427,F4474)","v":false},null,null,null,null,42,null,null,0,0,null,43,0,null,null,null,0,"kr./ha.",0,"kr./tim."]
[{"$f":"CheckOne(H4427,F4476)","v":false},null,null,null,null,44,null,null,0,0,null,45,0,null,null,null,0,"kr./ha.",0,"kr./tim."]
[{"$f":"CheckOne(H4427,F4477)","v":false},null,null,null,null,45,null,null,0,0,null,46,0,null,null,null,0,"kr./ha.",0,"kr./tim."]
[{"$f":"CheckOne(H4427,F4480)","v":false},null,null,null,null,48,null,null,0,0,null,49,0,null,null,null,0,"kr./ha.",0,"kr./tim."]
[{"$f":"CheckOne(H4427,F4481)","v":false},null,null,null,null,49,null,null,0,0,null,50,0,null,null,null,0,"kr./ha.",0,"kr./tim."]
[{"$f":"IF(N4484=\"Maskinstation\",FALSE,OR(L4483<>0,N4487<>0,Q4484<>0,S4484<>0))","v":false}]
[{"$f":"IF(N4485=\"Maskinstation\",FALSE,OR(L4484<>0,N4488<>0,Q4485<>0,S4485<>0))","v":false},null,null,null,null,"nr.","id","Maskiner",null,null,null,{"$f":"VLOOKUP(F4485,$L$85:$AH$134,2,FALSE)","v":0}]
[false,null,null,null,null,null,null,null,null,null,null,"VO (var. omk.):",null,{"$f":"+S4485*S4487","v":0},"VE (var. enh. omk.):",null,{"$f":"IFERROR(N4487/Q4485,0)","v":0},{"$f":"+R4486","v":"kr./ha."},{"$f":"SUMIF(A4490:A4540,TRUE,I4490:I4540)","v":0},"kr./tim."]
[false,null,null,null,null,null,null,null,null,null,null,"TO (totae omk.):",null,{"$f":"+N4487+N4486","v":0},"TE (totale enh. omk.):",null,{"$f":"+Q4487+Q4486","v":0},{"$f":"+R4487","v":"kr./ha."},{"$f":"+S4487+S4486","v":0},"kr./tim."]
[{"$f":"CheckOne(H4485,F4490)","v":false},null,null,null,null,{"$f":"_xlfn.ANCHORARRAY($J$31)","v":0},null,null,{"$f":"VLOOKUP(_xlfn.ANCHORARRAY(L4490),$L$31:$AE$80,17,FALSE)","v":0},{"$f":"VLOOKUP(_xlfn.ANCHORARRAY(L4490),$L$31:$AE$80,20,FALSE)-_xlfn.ANCHORARRAY(I4490)","v":0},null,{"$f":"$L$31:$L$80","v":1},{"$f":"$M$31:$M$80","v":0},null,null,null,{"$f":"_xlfn.ANCHORARRAY(S4490)/O4485","v":0},{"$f":"+R4488","v":"kr./ha."},{"$f":"$AE$31:$AE$80","v":0},"kr./tim."]
[{"$f":"CheckOne(H4485,F4491)","v":false},null,null,null,null,3,null,null,0,0,null,2,0,null,null,null,0,{"$f":"+R4490","v":"kr./ha."},0,"kr./tim."]
[{"$f":"CheckOne(H4485,F4494)","v":false},null,null,null,null,1,null,null,0,0,null,5,0,null,null,null,0,"kr./ha.",0,"kr./tim."]
[{"$f":"CheckOne(H4485,F4495)","v":false},null,null,null,null,2,null,null,0,0,null,6,0,null,null,null,0,"kr./ha.",0,"kr./tim."]
[{"$f":"CheckOne(H4485,F4497)","v":false},null,null,null,null,7,null,null,0,0,null,8,0,null,null,null,0,"kr./ha.",0,"kr./tim."]
[{"$f":"CheckOne(H4485,F4498)","v":false},null,null,null,null,8,null,null,0,0,null,9,0,null,null,null,0,"kr./ha.",0,"kr./tim."]
[{"$f":"CheckOne(H4485,F4501)","v":false},null,null,null,null,11,null,null,0,0,null,12,0,null,null,null,0,"kr./ha.",0,"kr./tim."]
[{"$f":"CheckOne(H4485,F4502)","v":false},null,null,null,null,12,null,null,0,0,null,13,0,null,null,null,0,"kr./ha.",0,"kr./tim."]
[{"$f":"CheckOne(H4485,F4504)","v":false},null,null,null,null,14,null,null,0,0,null,15,0,null,null,null,0,"kr./ha.",0,"kr./tim."]
[{"$f":"CheckOne(H4485,F4505)","v":false},null,null,null,null,15,null,null,0,0,null,16,0,null,null,null,0,"kr./ha.",0,"kr./tim."]
[{"$f":"CheckOne(H4485,F4508)","v":false},null,null,null,null,18,null,null,0,0,null,19,0,null,null,null,0,"kr./ha.",0,"kr./tim."]
[{"$f":"CheckOne(H4485,F4509)","v":false},null,null,null,null,19,null,null,0,0,null,20,0,null,null,null,0,"kr./ha.",0,"kr./tim."]
[{"$f":"CheckOne(H4485,F4511)","v":false},null,null,null,null,21,null,null,0,0,null,22,0,null,null,null,0,"kr./ha.",0,"kr./tim."]
[{"$f":"CheckOne(H4485,F4512)","v":false},null,null,null,null,22,null,null,0,0,null,23,0,null,null,null,0,"kr./ha.",0,"kr./tim."]
[{"$f":"CheckOne(H4485,F4515)","v":false},null,null,null,null,25,null,null,0,0,null,26,0,null,null,null,0,"kr./ha.",0,"kr./tim."]
[{"$f":"CheckOne(H4485,F4516)","v":false},null,null,null,null,26,null,null,0,0,null,27,0,null,null,null,0,"kr./ha.",0,"kr./tim."]
[{"$f":"CheckOne(H4485,F4518)","v":false},null,null,null,null,28,null,null,0,0,null,29,0,null,null,null,0,"kr./ha.",0,"kr./tim."]
[{"$f":"CheckOne(H4485,F4519)","v":false},null,null,null,null,29,null,null,0,0,null,30,0,null,null,null,0,"kr./ha.",0,"kr./tim."]
[{"$f":"CheckOne(H4485,F4522)","v":false},null,null,null,null,32,null,null,0,0,null,33,0,null,null,null,0,"kr./ha.",0,"kr./tim."]
[{"$f":"CheckOne(H4485,F4523)","v":false},null,null,null,null,33,null,null,0,0,null,34,0,null,null,null,0,"kr./ha.",0,"kr./tim."]
[{"$f":"CheckOne(H4485,F4525)","v":false},null,null,null,null,35,null,null,0,0,null,36,0,null,null,null,0,"kr./ha.",0,"kr./tim."]
[{"$f":"CheckOne(H4485,F4526)","v":false},null,null,null,null,36,null,null,0,0,null,37,0,null,null,null,0,"kr./ha.",0,"kr./tim."]
[{"$f":"CheckOne(H4485,F4529)","v":false},null,null,null,null,39,null,null,0,0,null,40,0,null,null,null,0,"kr./ha.",0,"kr./tim."]
[{"$f":"CheckOne(H4485,F4530)","v":false},null,null,null,null,40,null,null,0,0,null,41,0,null,null,null,0,"kr./ha.",0,"kr./tim."]
[{"$f":"CheckOne(H4485,F4532)","v":false},null,null,null,null,42,null,null,0,0,null,43,0,null,null,null,0,"kr./ha.",0,"kr./tim."]
[{"$f":"CheckOne(H4485,F4533)","v":false},null,null,null,null,43,null,null,0,0,null,44,0,null,null,null,0,"kr./ha.",0,"kr./tim."]
[{"$f":"CheckOne(H4485,F4536)","v":false},null,null,null,null,46,null,null,0,0,null,47,0,null,null,null,0,"kr./ha.",0,"kr./tim."]
[{"$f":"CheckOne(H4485,F4537)","v":false},null,null,null,null,47,null,null,0,0,null,48,0,null,null,null,0,"kr./ha.",0,"kr./tim."]
[{"$f":"CheckOne(H4485,F4539)","v":false},null,null,null,null,49,null,null,0,0,null,50,0,null,null,null,0,"kr./ha.",0,"kr./tim."]
[{"$f":"OR(N4540>0)","v":false},null,null,null,null,null,null,null,{"$f":"+S4540","v":0},0,null,null,"Arbejdsløn:",{"$f":"VLOOKUP(F4485,$L$85:$AH$134,14,FALSE)","v":0},"medarbejder",null,{"$f":"+S4540/O4485","v":0},"kr./ha.",{"$f":"+Maskiner!$Z$17*N4540","v":0},"kr./tim."]
[{"$f":"A4542","v":false},null,null,null,null,{"$f":"1+F4485","v":26},{"$f":"VLOOKUP(F4543,$F$85:$J$134,5,FALSE)","v":25},{"$f":"VLOOKUP(F4543,$F$85:$I$134,4,FALSE)","v":""},null,null,null,"Type:",null,{"$f":"VLOOKUP(F4543,$L$85:$AH$134,5,FALSE)","v":"Intern"},{"$f":"VLOOKUP(F4543,$L$85:$AH$134,19,FALSE)","v":1},{"$f":"R4543&\"/time\"","v":"ha./time"},{"$f":"VLOOKUP(F4543,$L$85:$AH$134,15,FALSE)","v":0},{"$f":"VLOOKUP(F4543,$L$85:$AH$134,16,FALSE)","v":"ha."},{"$f":"VLOOKUP(F4543,$L$85:$AH$134,17,FALSE)","v":0},"timer"]
[{"$f":"A4543","v":false},null,null,null,null,null,null,null,null,null,null,"FO (faste omk.):",null,{"$f":"+S4544*S4543","v":0},"FE (faste enh. omk.):",null,{"$f":"IFERROR(N4544/Q4543,0)","v":0},{"$f":"\"kr./\"&R4543","v":"kr./ha."},{"$f":"SUMIF(A4548:A4598,TRUE,J4548:J4598)","v":0},"kr./tim."]
[false,null,null,null,null,null,null,null,null,null,null,"TO (totae omk.):",null,{"$f":"+N4545+N4544","v":0},"TE (totale enh. omk.):",null,{"$f":"+Q4545+Q4544","v":0},{"$f":"+R4545","v":"kr./ha."},{"$f":"+S4545+S4544","v":0},"kr./tim."]
[false,null,null,null,null,"id",null,null,"VE/tim","FE",null,null,null,null,"Maskinstationspris",null,{"$f":"VLOOKUP(F4543,$L$85:$AH$134,23,FALSE)","v":0},{"$f":"+R4546","v":"kr./ha."}]
[{"$f":"CheckOne(H4543,F4550)","v":false},null,null,null,null,5,null,null,0,0,null,3,0,null,null,null,0,{"$f":"+R4549","v":"kr./ha."},0,"kr./tim."]
[{"$f":"CheckOne(H4543,F4551)","v":false},null,null,null,null,4,null,null,0,0,null,4,0,null,null,null,0,"kr./ha.",0,"kr./tim."]
[{"$f":"CheckOne(H4543,F4553)","v":false},null,null,null,null,2,null,null,0,0,null,6,0,null,null,null,0,"kr./ha.",0,"kr./tim."]
[{"$f":"CheckOne(H4543,F4554)","v":false},null,null,null,null,6,null,null,0,0,null,7,0,null,null,null,0,"kr./ha.",0,"kr./tim."]
[{"$f":"CheckOne(H4543,F4557)","v":false},null,null,null,null,9,null,null,0,0,null,10,0,null,null,null,0,"kr./ha.",0,"kr./tim."]
[{"$f":"CheckOne(H4543,F4558)","v":false},null,null,null,null,10,null,null,0,0,null,11,0,null,null,null,0,"kr./ha.",0,"kr./tim."]
[{"$f":"CheckOne(H4543,F4560)","v":false},null,null,null,null,12,null,null,0,0,null,13,0,null,null,null,0,"kr./ha.",0,"kr./tim."]
[{"$f":"CheckOne(H4543,F4561)","v":false},null,null,null,null,13,null,null,0,0,null,14,0,null,null,null,0,"kr./ha.",0,"kr./tim."]
[{"$f":"CheckOne(H4543,F4564)","v":false},null,null,null,null,16,null,null,0,0,null,17,0,null,null,null,0,"kr./ha.",0,"kr./tim."]
[{"$f":"CheckOne(H4543,F4565)","v":false},null,null,null,null,17,null,null,0,0,null,18,0,null,null,null,0,"kr./ha.",0,"kr./tim."]
[{"$f":"CheckOne(H4543,F4567)","v":false},null,null,null,null,19,null,null,0,0,null,20,0,null,null,null,0,"kr./ha.",0,"kr./tim."]
[{"$f":"CheckOne(H4543,F4568)","v":false},null,null,null,null,20,null,null,0,0,null,21,0,null,null,null,0,"kr./ha.",0,"kr./tim."]
[{"$f":"CheckOne(H4543,F4571)","v":false},null,null,null,null,23,null,null,0,0,null,24,0,null,null,null,0,"kr./ha.",0,"kr./tim."]
[{"$f":"CheckOne(H4543,F4572)","v":false},null,null,null,null,24,null,null,0,0,null,25,0,null,null,null,0,"kr./ha.",0,"kr./tim."]
[{"$f":"CheckOne(H4543,F4574)","v":false},null,null,null,null,26,null,null,0,0,null,27,0,null,null,null,0,"kr./ha.",0,"kr./tim."]
[{"$f":"CheckOne(H4543,F4575)","v":false},null,null,null,null,27,null,null,0,0,null,28,0,null,null,null,0,"kr./ha.",0,"kr./tim."]
[{"$f":"CheckOne(H4543,F4578)","v":false},null,null,null,null,30,null,null,0,0,null,31,0,null,null,null,0,"kr./ha.",0,"kr./tim."]
[{"$f":"CheckOne(H4543,F4579)","v":false},null,null,null,null,31,null,null,0,0,null,32,0,null,null,null,0,"kr./ha.",0,"kr./tim."]
[{"$f":"CheckOne(H4543,F4581)","v":false},null,null,null,null,33,null,null,0,0,null,34,0,null,null,null,0,"kr./ha.",0,"kr./tim."]
[{"$f":"CheckOne(H4543,F4582)","v":false},null,null,null,null,34,null,null,0,0,null,35,0,null,null,null,0,"kr./ha.",0,"kr./tim."]
[{"$f":"CheckOne(H4543,F4585)","v":false},null,null,null,null,37,null,null,0,0,null,38,0,null,null,null,0,"kr./ha.",0,"kr./tim."]
[{"$f":"CheckOne(H4543,F4586)","v":false},null,null,null,null,38,null,null,0,0,null,39,0,null,null,null,0,"kr./ha.",0,"kr./tim."]
[{"$f":"CheckOne(H4543,F4588)","v":false},null,null,null,null,40,null,null,0,0,null,41,0,null,null,null,0,"kr./ha.",0,"kr./tim."]
[{"$f":"CheckOne(H4543,F4589)","v":false},null,null,null,null,41,null,null,0,0,null,42,0,null,null,null,0,"kr./ha.",0,"kr./tim."]
[{"$f":"CheckOne(H4543,F4592)","v":false},null,null,null,null,44,null,null,0,0,null,45,0,null,null,null,0,"kr./ha.",0,"kr./tim."]
[{"$f":"CheckOne(H4543,F4593)","v":false},null,null,null,null,45,null,null,0,0,null,46,0,null,null,null,0,"kr./ha.",0,"kr./tim."]
[{"$f":"CheckOne(H4543,F4595)","v":false},null,null,null,null,47,null,null,0,0,null,48,0,null,null,null,0,"kr./ha.",0,"kr./tim."]
[{"$f":"CheckOne(H4543,F4596)","v":false},null,null,null,null,48,null,null,0,0,null,49,0,null,null,null,0,"kr./ha.",0,"kr./tim."]
[{"$f":"IF(N4600=\"Maskinstation\",FALSE,OR(L4599<>0,N4603<>0,Q4600<>0,S4600<>0))","v":false}]
[{"$f":"IF(N4601=\"Maskinstation\",FALSE,OR(L4600<>0,N4604<>0,Q4601<>0,S4601<>0))","v":false},null,null,null,null,"nr.","id","Maskiner",null,null,null,{"$f":"VLOOKUP(F4601,$L$85:$AH$134,2,FALSE)","v":0}]
[{"$f":"A4601","v":false},null,null,null,null,null,null,null,null,null,null,"FO (faste omk.):",null,{"$f":"+S4602*S4601","v":0},"FE (faste enh. omk.):",null,{"$f":"IFERROR(N4602/Q4601,0)","v":0},{"$f":"\"kr./\"&R4601","v":"kr./ha."},{"$f":"SUMIF(A4606:A4656,TRUE,J4606:J4656)","v":0},"kr./tim."]
[false,null,null,null,null,null,null,null,null,null,null,"VO (var. omk.):",null,{"$f":"+S4601*S4603","v":0},"VE (var. enh. omk.):",null,{"$f":"IFERROR(N4603/Q4601,0)","v":0},{"$f":"+R4602","v":"kr./ha."},{"$f":"SUMIF(A4606:A4656,TRUE,I4606:I4656)","v":0},"kr./tim."]
[{"$f":"CheckOne(H4601,F4606)","v":false},null,null,null,null,{"$f":"_xlfn.ANCHORARRAY($J$31)","v":0},null,null,{"$f":"VLOOKUP(_xlfn.ANCHORARRAY(L4606),$L$31:$AE$80,17,FALSE)","v":0},{"$f":"VLOOKUP(_xlfn.ANCHORARRAY(L4606),$L$31:$AE$80,20,FALSE)-_xlfn.ANCHORARRAY(I4606)","v":0},null,{"$f":"$L$31:$L$80","v":1},{"$f":"$M$31:$M$80","v":0},null,null,null,{"$f":"_xlfn.ANCHORARRAY(S4606)/O4601","v":0},{"$f":"+R4604","v":"kr./ha."},{"$f":"$AE$31:$AE$80","v":0},"kr./tim."]
[{"$f":"CheckOne(H4601,F4607)","v":false},null,null,null,null,3,null,null,0,0,null,2,0,null,null,null,0,{"$f":"+R4606","v":"kr./ha."},0,"kr./tim."]
[{"$f":"CheckOne(H4601,F4609)","v":false},null,null,null,null,4,null,null,0,0,null,4,0,null,null,null,0,"kr./ha.",0,"kr./tim."]
[{"$f":"CheckOne(H4601,F4610)","v":false},null,null,null,null,1,null,null,0,0,null,5,0,null,null,null,0,"kr./ha.",0,"kr./tim."]
[{"$f":"CheckOne(H4601,F4613)","v":false},null,null,null,null,7,null,null,0,0,null,8,0,null,null,null,0,"kr./ha.",0,"kr./tim."]
[{"$f":"CheckOne(H4601,F4614)","v":false},null,null,null,null,8,null,null,0,0,null,9,0,null,null,null,0,"kr./ha.",0,"kr./tim."]
[{"$f":"CheckOne(H4601,F4616)","v":false},null,null,null,null,10,null,null,0,0,null,11,0,null,null,null,0,"kr./ha.",0,"kr./tim."]
[{"$f":"CheckOne(H4601,F4617)","v":false},null,null,null,null,11,null,null,0,0,null,12,0,null,null,null,0,"kr./ha.",0,"kr./tim."]
[{"$f":"CheckOne(H4601,F4619)","v":false},null,null,null,null,13,null,null,0,0,null,14,0,null,null,null,0,"kr./ha.",0,"kr./tim."]
[{"$f":"CheckOne(H4601,F4620)","v":false},null,null,null,null,14,null,null,0,0,null,15,0,null,null,null,0,"kr./ha.",0,"kr./tim."]
[{"$f":"CheckOne(H4601,F4623)","v":false},null,null,null,null,17,null,null,0,0,null,18,0,null,null,null,0,"kr./ha.",0,"kr./tim."]
[{"$f":"CheckOne(H4601,F4624)","v":false},null,null,null,null,18,null,null,0,0,null,19,0,null,null,null,0,"kr./ha.",0,"kr./tim."]
[{"$f":"CheckOne(H4601,F4626)","v":false},null,null,null,null,20,null,null,0,0,null,21,0,null,null,null,0,"kr./ha.",0,"kr./tim."]
[{"$f":"CheckOne(H4601,F4627)","v":false},null,null,null,null,21,null,null,0,0,null,22,0,null,null,null,0,"kr./ha.",0,"kr./tim."]
[{"$f":"CheckOne(H4601,F4630)","v":false},null,null,null,null,24,null,null,0,0,null,25,0,null,null,null,0,"kr./ha.",0,"kr./tim."]
[{"$f":"CheckOne(H4601,F4631)","v":false},null,null,null,null,25,null,null,0,0,null,26,0,null,null,null,0,"kr./ha.",0,"kr./tim."]
[{"$f":"CheckOne(H4601,F4633)","v":false},null,null,null,null,27,null,null,0,0,null,28,0,null,null,null,0,"kr./ha.",0,"kr./tim."]
[{"$f":"CheckOne(H4601,F4634)","v":false},null,null,null,null,28,null,null,0,0,null,29,0,null,null,null,0,"kr./ha.",0,"kr./tim."]
[{"$f":"CheckOne(H4601,F4637)","v":false},null,null,null,null,31,null,null,0,0,null,32,0,null,null,null,0,"kr./ha.",0,"kr./tim."]
[{"$f":"CheckOne(H4601,F4638)","v":false},null,null,null,null,32,null,null,0,0,null,33,0,null,null,null,0,"kr./ha.",0,"kr./tim."]
[{"$f":"CheckOne(H4601,F4640)","v":false},null,null,null,null,34,null,null,0,0,null,35,0,null,null,null,0,"kr./ha.",0,"kr./tim."]
[{"$f":"CheckOne(H4601,F4641)","v":false},null,null,null,null,35,null,null,0,0,null,36,0,null,null,null,0,"kr./ha.",0,"kr./tim."]
[{"$f":"CheckOne(H4601,F4644)","v":false},null,null,null,null,38,null,null,0,0,null,39,0,null,null,null,0,"kr./ha.",0,"kr./tim."]
[{"$f":"CheckOne(H4601,F4645)","v":false},null,null,null,null,39,null,null,0,0,null,40,0,null,null,null,0,"kr./ha.",0,"kr./tim."]
[{"$f":"CheckOne(H4601,F4647)","v":false},null,null,null,null,41,null,null,0,0,null,42,0,null,null,null,0,"kr./ha.",0,"kr./tim."]
[{"$f":"CheckOne(H4601,F4648)","v":false},null,null,null,null,42,null,null,0,0,null,43,0,null,null,null,0,"kr./ha.",0,"kr./tim."]
[{"$f":"CheckOne(H4601,F4651)","v":false},null,null,null,null,45,null,null,0,0,null,46,0,null,null,null,0,"kr./ha.",0,"kr./tim."]
[{"$f":"CheckOne(H4601,F4652)","v":false},null,null,null,null,46,null,null,0,0,null,47,0,null,null,null,0,"kr./ha.",0,"kr./tim."]
[{"$f":"CheckOne(H4601,F4654)","v":false},null,null,null,null,48,null,null,0,0,null,49,0,null,null,null,0,"kr./ha.",0,"kr./tim."]
[{"$f":"CheckOne(H4601,F4655)","v":false},null,null,null,null,49,null,null,0,0,null,50,0,null,null,null,0,"kr./ha.",0,"kr./tim."]
[{"$f":"IF(N4659=\"Maskinstation\",FALSE,OR(L4658<>0,N4662<>0,Q4659<>0,S4659<>0))","v":false},null,null,null,null,"nr.","id","Maskiner",null,null,null,{"$f":"VLOOKUP(F4659,$L$85:$AH$134,2,FALSE)","v":0}]
[{"$f":"A4658","v":false},null,null,null,null,{"$f":"1+F4601","v":28},{"$f":"VLOOKUP(F4659,$F$85:$J$134,5,FALSE)","v":27},{"$f":"VLOOKUP(F4659,$F$85:$I$134,4,FALSE)","v":""},null,null,null,"Type:",null,{"$f":"VLOOKUP(F4659,$L$85:$AH$134,5,FALSE)","v":"Intern"},{"$f":"VLOOKUP(F4659,$L$85:$AH$134,19,FALSE)","v":1},{"$f":"R4659&\"/time\"","v":"ha./time"},{"$f":"VLOOKUP(F4659,$L$85:$AH$134,15,FALSE)","v":0},{"$f":"VLOOKUP(F4659,$L$85:$AH$134,16,FALSE)","v":"ha."},{"$f":"VLOOKUP(F4659,$L$85:$AH$134,17,FALSE)","v":0},"timer"]
[false,null,null,null,null,null,null,null,null,null,null,"VO (var. omk.):",null,{"$f":"+S4659*S4661","v":0},"VE (var. enh. omk.):",null,{"$f":"IFERROR(N4661/Q4659,0)","v":0},{"$f":"+R4660","v":"kr./ha."},{"$f":"SUMIF(A4664:A4714,TRUE,I4664:I4714)","v":0},"kr./tim."]
[false,null,null,null,null,null,null,null,null,null,null,"TO (totae omk.):",null,{"$f":"+N4661+N4660","v":0},"TE (totale enh. omk.):",null,{"$f":"+Q4661+Q4660","v":0},{"$f":"+R4661","v":"kr./ha."},{"$f":"+S4661+S4660","v":0},"kr./tim."]
[{"$f":"CheckOne(H4659,F4665)","v":false},null,null,null,null,3,null,null,0,0,null,2,0,null,null,null,0,{"$f":"+R4664","v":"kr./ha."},0,"kr./tim."]
[{"$f":"CheckOne(H4659,F4666)","v":false},null,null,null,null,5,null,null,0,0,null,3,0,null,null,null,0,{"$f":"+R4665","v":"kr./ha."},0,"kr./tim."]
[{"$f":"CheckOne(H4659,F4668)","v":false},null,null,null,null,1,null,null,0,0,null,5,0,null,null,null,0,"kr./ha.",0,"kr./tim."]
[{"$f":"CheckOne(H4659,F4669)","v":false},null,null,null,null,2,null,null,0,0,null,6,0,null,null,null,0,"kr./ha.",0,"kr./tim."]
[{"$f":"CheckOne(H4659,F4672)","v":false},null,null,null,null,8,null,null,0,0,null,9,0,null,null,null,0,"kr./ha.",0,"kr./tim."]
[{"$f":"CheckOne(H4659,F4673)","v":false},null,null,null,null,9,null,null,0,0,null,10,0,null,null,null,0,"kr./ha.",0,"kr./tim."]
[{"$f":"CheckOne(H4659,F4675)","v":false},null,null,null,null,11,null,null,0,0,null,12,0,null,null,null,0,"kr./ha.",0,"kr./tim."]
[{"$f":"CheckOne(H4659,F4676)","v":false},null,null,null,null,12,null,null,0,0,null,13,0,null,null,null,0,"kr./ha.",0,"kr./tim."]
[{"$f":"CheckOne(H4659,F4679)","v":false},null,null,null,null,15,null,null,0,0,null,16,0,null,null,null,0,"kr./ha.",0,"kr./tim."]
[{"$f":"CheckOne(H4659,F4680)","v":false},null,null,null,null,16,null,null,0,0,null,17,0,null,null,null,0,"kr./ha.",0,"kr./tim."]
[{"$f":"CheckOne(H4659,F4682)","v":false},null,null,null,null,18,null,null,0,0,null,19,0,null,null,null,0,"kr./ha.",0,"kr./tim."]
[{"$f":"CheckOne(H4659,F4683)","v":false},null,null,null,null,19,null,null,0,0,null,20,0,null,null,null,0,"kr./ha.",0,"kr./tim."]
[{"$f":"CheckOne(H4659,F4686)","v":false},null,null,null,null,22,null,null,0,0,null,23,0,null,null,null,0,"kr./ha.",0,"kr./tim."]
[{"$f":"CheckOne(H4659,F4687)","v":false},null,null,null,null,23,null,null,0,0,null,24,0,null,null,null,0,"kr./ha.",0,"kr./tim."]
[{"$f":"CheckOne(H4659,F4689)","v":false},null,null,null,null,25,null,null,0,0,null,26,0,null,null,null,0,"kr./ha.",0,"kr./tim."]
[{"$f":"CheckOne(H4659,F4690)","v":false},null,null,null,null,26,null,null,0,0,null,27,0,null,null,null,0,"kr./ha.",0,"kr./tim."]
[{"$f":"CheckOne(H4659,F4693)","v":false},null,null,null,null,29,null,null,0,0,null,30,0,null,null,null,0,"kr./ha.",0,"kr./tim."]
[{"$f":"CheckOne(H4659,F4694)","v":false},null,null,null,null,30,null,null,0,0,null,31,0,null,null,null,0,"kr./ha.",0,"kr./tim."]
[{"$f":"CheckOne(H4659,F4696)","v":false},null,null,null,null,32,null,null,0,0,null,33,0,null,null,null,0,"kr./ha.",0,"kr./tim."]
[{"$f":"CheckOne(H4659,F4697)","v":false},null,null,null,null,33,null,null,0,0,null,34,0,null,null,null,0,"kr./ha.",0,"kr./tim."]
[{"$f":"CheckOne(H4659,F4700)","v":false},null,null,null,null,36,null,null,0,0,null,37,0,null,null,null,0,"kr./ha.",0,"kr./tim."]
[{"$f":"CheckOne(H4659,F4701)","v":false},null,null,null,null,37,null,null,0,0,null,38,0,null,null,null,0,"kr./ha.",0,"kr./tim."]
[{"$f":"CheckOne(H4659,F4703)","v":false},null,null,null,null,39,null,null,0,0,null,40,0,null,null,null,0,"kr./ha.",0,"kr./tim."]
[{"$f":"CheckOne(H4659,F4704)","v":false},null,null,null,null,40,null,null,0,0,null,41,0,null,null,null,0,"kr./ha.",0,"kr./tim."]
[{"$f":"CheckOne(H4659,F4707)","v":false},null,null,null,null,43,null,null,0,0,null,44,0,null,null,null,0,"kr./ha.",0,"kr./tim."]
[{"$f":"CheckOne(H4659,F4708)","v":false},null,null,null,null,44,null,null,0,0,null,45,0,null,null,null,0,"kr./ha.",0,"kr./tim."]
[{"$f":"CheckOne(H4659,F4710)","v":false},null,null,null,null,46,null,null,0,0,null,47,0,null,null,null,0,"kr./ha.",0,"kr./tim."]
[{"$f":"CheckOne(H4659,F4711)","v":false},null,null,null,null,47,null,null,0,0,null,48,0,null,null,null,0,"kr./ha.",0,"kr./tim."]
[{"$f":"OR(N4714>0)","v":false},null,null,null,null,null,null,null,{"$f":"+S4714","v":0},0,null,null,"Arbejdsløn:",{"$f":"VLOOKUP(F4659,$L$85:$AH$134,14,FALSE)","v":0},"medarbejder",null,{"$f":"+S4714/O4659","v":0},"kr./ha.",{"$f":"+Maskiner!$Z$17*N4714","v":0},"kr./tim."]
[{"$f":"IF(N4716=\"Maskinstation\",FALSE,OR(L4715<>0,N4719<>0,Q4716<>0,S4716<>0))","v":false}]
[{"$f":"A4716","v":false},null,null,null,null,{"$f":"1+F4659","v":29},{"$f":"VLOOKUP(F4717,$F$85:$J$134,5,FALSE)","v":28},{"$f":"VLOOKUP(F4717,$F$85:$I$134,4,FALSE)","v":""},null,null,null,"Type:",null,{"$f":"VLOOKUP(F4717,$L$85:$AH$134,5,FALSE)","v":"Intern"},{"$f":"VLOOKUP(F4717,$L$85:$AH$134,19,FALSE)","v":1},{"$f":"R4717&\"/time\"","v":"ha./time"},{"$f":"VLOOKUP(F4717,$L$85:$AH$134,15,FALSE)","v":0},{"$f":"VLOOKUP(F4717,$L$85:$AH$134,16,FALSE)","v":"ha."},{"$f":"VLOOKUP(F4717,$L$85:$AH$134,17,FALSE)","v":0},"timer"]
[{"$f":"A4717","v":false},null,null,null,null,null,null,null,null,null,null,"FO (faste omk.):",null,{"$f":"+S4718*S4717","v":0},"FE (faste enh. omk.):",null,{"$f":"IFERROR(N4718/Q4717,0)","v":0},{"$f":"\"kr./\"&R4717","v":"kr./ha."},{"$f":"SUMIF(A4722:A4772,TRUE,J4722:J4772)","v":0},"kr./tim."]
[false,null,null,null,null,"id",null,null,"VE/tim","FE",null,null,null,null,"Maskinstationspris",null,{"$f":"VLOOKUP(F4717,$L$85:$AH$134,23,FALSE)","v":0},{"$f":"+R4720","v":"kr./ha."}]
[{"$f":"CheckOne(H4717,F4722)","v":false},null,null,null,null,{"$f":"_xlfn.ANCHORARRAY($J$31)","v":0},null,null,{"$f":"VLOOKUP(_xlfn.ANCHORARRAY(L4722),$L$31:$AE$80,17,FALSE)","v":0},{"$f":"VLOOKUP(_xlfn.ANCHORARRAY(L4722),$L$31:$AE$80,20,FALSE)-_xlfn.ANCHORARRAY(I4722)","v":0},null,{"$f":"$L$31:$L$80","v":1},{"$f":"$M$31:$M$80","v":0},null,null,null,{"$f":"_xlfn.ANCHORARRAY(S4722)/O4717","v":0},{"$f":"+R4720","v":"kr./ha."},{"$f":"$AE$31:$AE$80","v":0},"kr./tim."]
[{"$f":"CheckOne(H4717,F4724)","v":false},null,null,null,null,5,null,null,0,0,null,3,0,null,null,null,0,{"$f":"+R4723","v":"kr./ha."},0,"kr./tim."]
[{"$f":"CheckOne(H4717,F4725)","v":false},null,null,null,null,4,null,null,0,0,null,4,0,null,null,null,0,"kr./ha.",0,"kr./tim."]
[{"$f":"CheckOne(H4717,F4728)","v":false},null,null,null,null,6,null,null,0,0,null,7,0,null,null,null,0,"kr./ha.",0,"kr./tim."]
[{"$f":"CheckOne(H4717,F4729)","v":false},null,null,null,null,7,null,null,0,0,null,8,0,null,null,null,0,"kr./ha.",0,"kr./tim."]
[{"$f":"CheckOne(H4717,F4731)","v":false},null,null,null,null,9,null,null,0,0,null,10,0,null,null,null,0,"kr./ha.",0,"kr./tim."]
[{"$f":"CheckOne(H4717,F4732)","v":false},null,null,null,null,10,null,null,0,0,null,11,0,null,null,null,0,"kr./ha.",0,"kr./tim."]
[{"$f":"CheckOne(H4717,F4735)","v":false},null,null,null,null,13,null,null,0,0,null,14,0,null,null,null,0,"kr./ha.",0,"kr./tim."]
[{"$f":"CheckOne(H4717,F4736)","v":false},null,null,null,null,14,null,null,0,0,null,15,0,null,null,null,0,"kr./ha.",0,"kr./tim."]
[{"$f":"CheckOne(H4717,F4738)","v":false},null,null,null,null,16,null,null,0,0,null,17,0,null,null,null,0,"kr./ha.",0,"kr./tim."]
[{"$f":"CheckOne(H4717,F4739)","v":false},null,null,null,null,17,null,null,0,0,null,18,0,null,null,null,0,"kr./ha.",0,"kr./tim."]
[{"$f":"CheckOne(H4717,F4742)","v":false},null,null,null,null,20,null,null,0,0,null,21,0,null,null,null,0,"kr./ha.",0,"kr./tim."]
[{"$f":"CheckOne(H4717,F4743)","v":false},null,null,null,null,21,null,null,0,0,null,22,0,null,null,null,0,"kr./ha.",0,"kr./tim."]
[{"$f":"CheckOne(H4717,F4745)","v":false},null,null,null,null,23,null,null,0,0,null,24,0,null,null,null,0,"kr./ha.",0,"kr./tim."]
[{"$f":"CheckOne(H4717,F4746)","v":false},null,null,null,null,24,null,null,0,0,null,25,0,null,null,null,0,"kr./ha.",0,"kr./tim."]
[{"$f":"CheckOne(H4717,F4749)","v":false},null,null,null,null,27,null,null,0,0,null,28,0,null,null,null,0,"kr./ha.",0,"kr./tim."]
[{"$f":"CheckOne(H4717,F4750)","v":false},null,null,null,null,28,null,null,0,0,null,29,0,null,null,null,0,"kr./ha.",0,"kr./tim."]
[{"$f":"CheckOne(H4717,F4752)","v":false},null,null,null,null,30,null,null,0,0,null,31,0,null,null,null,0,"kr./ha.",0,"kr./tim."]
[{"$f":"CheckOne(H4717,F4753)","v":false},null,null,null,null,31,null,null,0,0,null,32,0,null,null,null,0,"kr./ha.",0,"kr./tim."]
[{"$f":"CheckOne(H4717,F4756)","v":false},null,null,null,null,34,null,null,0,0,null,35,0,null,null,null,0,"kr./ha.",0,"kr./tim."]
[{"$f":"CheckOne(H4717,F4757)","v":false},null,null,null,null,35,null,null,0,0,null,36,0,null,null,null,0,"kr./ha.",0,"kr./tim."]
[{"$f":"CheckOne(H4717,F4759)","v":false},null,null,null,null,37,null,null,0,0,null,38,0,null,null,null,0,"kr./ha.",0,"kr./tim."]
[{"$f":"CheckOne(H4717,F4760)","v":false},null,null,null,null,38,null,null,0,0,null,39,0,null,null,null,0,"kr./ha.",0,"kr./tim."]
[{"$f":"CheckOne(H4717,F4763)","v":false},null,null,null,null,41,null,null,0,0,null,42,0,null,null,null,0,"kr./ha.",0,"kr./tim."]
[{"$f":"CheckOne(H4717,F4764)","v":false},null,null,null,null,42,null,null,0,0,null,43,0,null,null,null,0,"kr./ha.",0,"kr./tim."]
[{"$f":"CheckOne(H4717,F4766)","v":false},null,null,null,null,44,null,null,0,0,null,45,0,null,null,null,0,"kr./ha.",0,"kr./tim."]
[{"$f":"CheckOne(H4717,F4767)","v":false},null,null,null,null,45,null,null,0,0,null,46,0,null,null,null,0,"kr./ha.",0,"kr./tim."]
[{"$f":"CheckOne(H4717,F4770)","v":false},null,null,null,null,48,null,null,0,0,null,49,0,null,null,null,0,"kr./ha.",0,"kr./tim."]
[{"$f":"CheckOne(H4717,F4771)","v":false},null,null,null,null,49,null,null,0,0,null,50,0,null,null,null,0,"kr./ha.",0,"kr./tim."]
[{"$f":"IF(N4774=\"Maskinstation\",FALSE,OR(L4773<>0,N4777<>0,Q4774<>0,S4774<>0))","v":false}]
[{"$f":"IF(N4775=\"Maskinstation\",FALSE,OR(L4774<>0,N4778<>0,Q4775<>0,S4775<>0))","v":false},null,null,null,null,"nr.","id","Maskiner",null,null,null,{"$f":"VLOOKUP(F4775,$L$85:$AH$134,2,FALSE)","v":0}]
[false,null,null,null,null,null,null,null,null,null,null,"VO (var. omk.):",null,{"$f":"+S4775*S4777","v":0},"VE (var. enh. omk.):",null,{"$f":"IFERROR(N4777/Q4775,0)","v":0},{"$f":"+R4776","v":"kr./ha."},{"$f":"SUMIF(A4780:A4830,TRUE,I4780:I4830)","v":0},"kr./tim."]
[false,null,null,null,null,null,null,null,null,null,null,"TO (totae omk.):",null,{"$f":"+N4777+N4776","v":0},"TE (totale enh. omk.):",null,{"$f":"+Q4777+Q4776","v":0},{"$f":"+R4777","v":"kr./ha."},{"$f":"+S4777+S4776","v":0},"kr./tim."]
[{"$f":"CheckOne(H4775,F4780)","v":false},null,null,null,null,{"$f":"_xlfn.ANCHORARRAY($J$31)","v":0},null,null,{"$f":"VLOOKUP(_xlfn.ANCHORARRAY(L4780),$L$31:$AE$80,17,FALSE)","v":0},{"$f":"VLOOKUP(_xlfn.ANCHORARRAY(L4780),$L$31:$AE$80,20,FALSE)-_xlfn.ANCHORARRAY(I4780)","v":0},null,{"$f":"$L$31:$L$80","v":1},{"$f":"$M$31:$M$80","v":0},null,null,null,{"$f":"_xlfn.ANCHORARRAY(S4780)/O4775","v":0},{"$f":"+R4778","v":"kr./ha."},{"$f":"$AE$31:$AE$80","v":0},"kr./tim."]
[{"$f":"CheckOne(H4775,F4781)","v":false},null,null,null,null,3,null,null,0,0,null,2,0,null,null,null,0,{"$f":"+R4780","v":"kr./ha."},0,"kr./tim."]
[{"$f":"CheckOne(H4775,F4784)","v":false},null,null,null,null,1,null,null,0,0,null,5,0,null,null,null,0,"kr./ha.",0,"kr./tim."]
[{"$f":"CheckOne(H4775,F4785)","v":false},null,null,null,null,2,null,null,0,0,null,6,0,null,null,null,0,"kr./ha.",0,"kr./tim."]
[{"$f":"CheckOne(H4775,F4787)","v":false},null,null,null,null,7,null,null,0,0,null,8,0,null,null,null,0,"kr./ha.",0,"kr./tim."]
[{"$f":"CheckOne(H4775,F4788)","v":false},null,null,null,null,8,null,null,0,0,null,9,0,null,null,null,0,"kr./ha.",0,"kr./tim."]
[{"$f":"CheckOne(H4775,F4791)","v":false},null,null,null,null,11,null,null,0,0,null,12,0,null,null,null,0,"kr./ha.",0,"kr./tim."]
[{"$f":"CheckOne(H4775,F4792)","v":false},null,null,null,null,12,null,null,0,0,null,13,0,null,null,null,0,"kr./ha.",0,"kr./tim."]
[{"$f":"CheckOne(H4775,F4794)","v":false},null,null,null,null,14,null,null,0,0,null,15,0,null,null,null,0,"kr./ha.",0,"kr./tim."]
[{"$f":"CheckOne(H4775,F4795)","v":false},null,null,null,null,15,null,null,0,0,null,16,0,null,null,null,0,"kr./ha.",0,"kr./tim."]
[{"$f":"CheckOne(H4775,F4798)","v":false},null,null,null,null,18,null,null,0,0,null,19,0,null,null,null,0,"kr./ha.",0,"kr./tim."]
[{"$f":"CheckOne(H4775,F4799)","v":false},null,null,null,null,19,null,null,0,0,null,20,0,null,null,null,0,"kr./ha.",0,"kr./tim."]
[{"$f":"CheckOne(H4775,F4801)","v":false},null,null,null,null,21,null,null,0,0,null,22,0,null,null,null,0,"kr./ha.",0,"kr./tim."]
[{"$f":"CheckOne(H4775,F4802)","v":false},null,null,null,null,22,null,null,0,0,null,23,0,null,null,null,0,"kr./ha.",0,"kr./tim."]
[{"$f":"CheckOne(H4775,F4805)","v":false},null,null,null,null,25,null,null,0,0,null,26,0,null,null,null,0,"kr./ha.",0,"kr./tim."]
[{"$f":"CheckOne(H4775,F4806)","v":false},null,null,null,null,26,null,null,0,0,null,27,0,null,null,null,0,"kr./ha.",0,"kr./tim."]
[{"$f":"CheckOne(H4775,F4808)","v":false},null,null,null,null,28,null,null,0,0,null,29,0,null,null,null,0,"kr./ha.",0,"kr./tim."]
[{"$f":"CheckOne(H4775,F4809)","v":false},null,null,null,null,29,null,null,0,0,null,30,0,null,null,null,0,"kr./ha.",0,"kr./tim."]
[{"$f":"CheckOne(H4775,F4812)","v":false},null,null,null,null,32,null,null,0,0,null,33,0,null,null,null,0,"kr./ha.",0,"kr./tim."]
[{"$f":"CheckOne(H4775,F4813)","v":false},null,null,null,null,33,null,null,0,0,null,34,0,null,null,null,0,"kr./ha.",0,"kr./tim."]
[{"$f":"CheckOne(H4775,F4815)","v":false},null,null,null,null,35,null,null,0,0,null,36,0,null,null,null,0,"kr./ha.",0,"kr./tim."]
[{"$f":"CheckOne(H4775,F4816)","v":false},null,null,null,null,36,null,null,0,0,null,37,0,null,null,null,0,"kr./ha.",0,"kr./tim."]
[{"$f":"CheckOne(H4775,F4818)","v":false},null,null,null,null,38,null,null,0,0,null,39,0,null,null,null,0,"kr./ha.",0,"kr./tim."]
[{"$f":"CheckOne(H4775,F4819)","v":false},null,null,null,null,39,null,null,0,0,null,40,0,null,null,null,0,"kr./ha.",0,"kr./tim."]
[{"$f":"CheckOne(H4775,F4822)","v":false},null,null,null,null,42,null,null,0,0,null,43,0,null,null,null,0,"kr./ha.",0,"kr./tim."]
[{"$f":"CheckOne(H4775,F4823)","v":false},null,null,null,null,43,null,null,0,0,null,44,0,null,null,null,0,"kr./ha.",0,"kr./tim."]
[{"$f":"CheckOne(H4775,F4825)","v":false},null,null,null,null,45,null,null,0,0,null,46,0,null,null,null,0,"kr./ha.",0,"kr./tim."]
[{"$f":"CheckOne(H4775,F4826)","v":false},null,null,null,null,46,null,null,0,0,null,47,0,null,null,null,0,"kr./ha.",0,"kr./tim."]
[{"$f":"CheckOne(H4775,F4829)","v":false},null,null,null,null,49,null,null,0,0,null,50,0,null,null,null,0,"kr./ha.",0,"kr./tim."]
[{"$f":"OR(N4830>0)","v":false},null,null,null,null,null,null,null,{"$f":"+S4830","v":0},0,null,null,"Arbejdsløn:",{"$f":"VLOOKUP(F4775,$L$85:$AH$134,14,FALSE)","v":0},"medarbejder",null,{"$f":"+S4830/O4775","v":0},"kr./ha.",{"$f":"+Maskiner!$Z$17*N4830","v":0},"kr./tim."]
[{"$f":"IF(N4833=\"Maskinstation\",FALSE,OR(L4832<>0,N4836<>0,Q4833<>0,S4833<>0))","v":false},null,null,null,null,"nr.","id","Maskiner",null,null,null,{"$f":"VLOOKUP(F4833,$L$85:$AH$134,2,FALSE)","v":0}]
[{"$f":"A4832","v":false},null,null,null,null,{"$f":"1+F4775","v":31},{"$f":"VLOOKUP(F4833,$F$85:$J$134,5,FALSE)","v":30},{"$f":"VLOOKUP(F4833,$F$85:$I$134,4,FALSE)","v":""},null,null,null,"Type:",null,{"$f":"VLOOKUP(F4833,$L$85:$AH$134,5,FALSE)","v":"Intern"},{"$f":"VLOOKUP(F4833,$L$85:$AH$134,19,FALSE)","v":1},{"$f":"R4833&\"/time\"","v":"ha./time"},{"$f":"VLOOKUP(F4833,$L$85:$AH$134,15,FALSE)","v":0},{"$f":"VLOOKUP(F4833,$L$85:$AH$134,16,FALSE)","v":"ha."},{"$f":"VLOOKUP(F4833,$L$85:$AH$134,17,FALSE)","v":0},"timer"]
[false,null,null,null,null,null,null,null,null,null,null,"TO (totae omk.):",null,{"$f":"+N4835+N4834","v":0},"TE (totale enh. omk.):",null,{"$f":"+Q4835+Q4834","v":0},{"$f":"+R4835","v":"kr./ha."},{"$f":"+S4835+S4834","v":0},"kr./tim."]
[false,null,null,null,null,"id",null,null,"VE/tim","FE",null,null,null,null,"Maskinstationspris",null,{"$f":"VLOOKUP(F4833,$L$85:$AH$134,23,FALSE)","v":0},{"$f":"+R4836","v":"kr./ha."}]
[{"$f":"CheckOne(H4833,F4839)","v":false},null,null,null,null,3,null,null,0,0,null,2,0,null,null,null,0,{"$f":"+R4838","v":"kr./ha."},0,"kr./tim."]
[{"$f":"CheckOne(H4833,F4840)","v":false},null,null,null,null,5,null,null,0,0,null,3,0,null,null,null,0,{"$f":"+R4839","v":"kr./ha."},0,"kr./tim."]
[{"$f":"CheckOne(H4833,F4843)","v":false},null,null,null,null,2,null,null,0,0,null,6,0,null,null,null,0,"kr./ha.",0,"kr./tim."]
[{"$f":"CheckOne(H4833,F4844)","v":false},null,null,null,null,6,null,null,0,0,null,7,0,null,null,null,0,"kr./ha.",0,"kr./tim."]
[{"$f":"CheckOne(H4833,F4846)","v":false},null,null,null,null,8,null,null,0,0,null,9,0,null,null,null,0,"kr./ha.",0,"kr./tim."]
[{"$f":"CheckOne(H4833,F4847)","v":false},null,null,null,null,9,null,null,0,0,null,10,0,null,null,null,0,"kr./ha.",0,"kr./tim."]
[{"$f":"CheckOne(H4833,F4850)","v":false},null,null,null,null,12,null,null,0,0,null,13,0,null,null,null,0,"kr./ha.",0,"kr./tim."]
[{"$f":"CheckOne(H4833,F4851)","v":false},null,null,null,null,13,null,null,0,0,null,14,0,null,null,null,0,"kr./ha.",0,"kr./tim."]
[{"$f":"CheckOne(H4833,F4853)","v":false},null,null,null,null,15,null,null,0,0,null,16,0,null,null,null,0,"kr./ha.",0,"kr./tim."]
[{"$f":"CheckOne(H4833,F4854)","v":false},null,null,null,null,16,null,null,0,0,null,17,0,null,null,null,0,"kr./ha.",0,"kr./tim."]
[{"$f":"CheckOne(H4833,F4857)","v":false},null,null,null,null,19,null,null,0,0,null,20,0,null,null,null,0,"kr./ha.",0,"kr./tim."]
[{"$f":"CheckOne(H4833,F4858)","v":false},null,null,null,null,20,null,null,0,0,null,21,0,null,null,null,0,"kr./ha.",0,"kr./tim."]
[{"$f":"CheckOne(H4833,F4860)","v":false},null,null,null,null,22,null,null,0,0,null,23,0,null,null,null,0,"kr./ha.",0,"kr./tim."]
[{"$f":"CheckOne(H4833,F4861)","v":false},null,null,null,null,23,null,null,0,0,null,24,0,null,null,null,0,"kr./ha.",0,"kr./tim."]
[{"$f":"CheckOne(H4833,F4864)","v":false},null,null,null,null,26,null,null,0,0,null,27,0,null,null,null,0,"kr./ha.",0,"kr./tim."]
[{"$f":"CheckOne(H4833,F4865)","v":false},null,null,null,null,27,null,null,0,0,null,28,0,null,null,null,0,"kr./ha.",0,"kr./tim."]
[{"$f":"CheckOne(H4833,F4867)","v":false},null,null,null,null,29,null,null,0,0,null,30,0,null,null,null,0,"kr./ha.",0,"kr./tim."]
[{"$f":"CheckOne(H4833,F4868)","v":false},null,null,null,null,30,null,null,0,0,null,31,0,null,null,null,0,"kr./ha.",0,"kr./tim."]
[{"$f":"CheckOne(H4833,F4871)","v":false},null,null,null,null,33,null,null,0,0,null,34,0,null,null,null,0,"kr./ha.",0,"kr./tim."]
[{"$f":"CheckOne(H4833,F4872)","v":false},null,null,null,null,34,null,null,0,0,null,35,0,null,null,null,0,"kr./ha.",0,"kr./tim."]
[{"$f":"CheckOne(H4833,F4874)","v":false},null,null,null,null,36,null,null,0,0,null,37,0,null,null,null,0,"kr./ha.",0,"kr./tim."]
[{"$f":"CheckOne(H4833,F4875)","v":false},null,null,null,null,37,null,null,0,0,null,38,0,null,null,null,0,"kr./ha.",0,"kr./tim."]
[{"$f":"CheckOne(H4833,F4878)","v":false},null,null,null,null,40,null,null,0,0,null,41,0,null,null,null,0,"kr./ha.",0,"kr./tim."]
[{"$f":"CheckOne(H4833,F4879)","v":false},null,null,null,null,41,null,null,0,0,null,42,0,null,null,null,0,"kr./ha.",0,"kr./tim."]
[{"$f":"CheckOne(H4833,F4881)","v":false},null,null,null,null,43,null,null,0,0,null,44,0,null,null,null,0,"kr./ha.",0,"kr./tim."]
[{"$f":"CheckOne(H4833,F4882)","v":false},null,null,null,null,44,null,null,0,0,null,45,0,null,null,null,0,"kr./ha.",0,"kr./tim."]
[{"$f":"CheckOne(H4833,F4885)","v":false},null,null,null,null,47,null,null,0,0,null,48,0,null,null,null,0,"kr./ha.",0,"kr./tim."]
[{"$f":"CheckOne(H4833,F4886)","v":false},null,null,null,null,48,null,null,0,0,null,49,0,null,null,null,0,"kr./ha.",0,"kr./tim."]
[{"$f":"OR(N4888>0)","v":false},null,null,null,null,null,null,null,{"$f":"+S4888","v":0},0,null,null,"Arbejdsløn:",{"$f":"VLOOKUP(F4833,$L$85:$AH$134,14,FALSE)","v":0},"medarbejder",null,{"$f":"+S4888/O4833","v":0},"kr./ha.",{"$f":"+Maskiner!$Z$17*N4888","v":0},"kr./tim."]
[{"$f":"IF(N4890=\"Maskinstation\",FALSE,OR(L4889<>0,N4893<>0,Q4890<>0,S4890<>0))","v":false}]
[{"$f":"A4891","v":false},null,null,null,null,null,null,null,null,null,null,"FO (faste omk.):",null,{"$f":"+S4892*S4891","v":0},"FE (faste enh. omk.):",null,{"$f":"IFERROR(N4892/Q4891,0)","v":0},{"$f":"\"kr./\"&R4891","v":"kr./ha."},{"$f":"SUMIF(A4896:A4946,TRUE,J4896:J4946)","v":0},"kr./tim."]
[false,null,null,null,null,null,null,null,null,null,null,"VO (var. omk.):",null,{"$f":"+S4891*S4893","v":0},"VE (var. enh. omk.):",null,{"$f":"IFERROR(N4893/Q4891,0)","v":0},{"$f":"+R4892","v":"kr./ha."},{"$f":"SUMIF(A4896:A4946,TRUE,I4896:I4946)","v":0},"kr./tim."]
[false,null,null,null,null,"id",null,null,"VE/tim","FE",null,null,null,null,"Maskinstationspris",null,{"$f":"VLOOKUP(F4891,$L$85:$AH$134,23,FALSE)","v":0},{"$f":"+R4894","v":"kr./ha."}]
[{"$f":"CheckOne(H4891,F4896)","v":false},null,null,null,null,{"$f":"_xlfn.ANCHORARRAY($J$31)","v":0},null,null,{"$f":"VLOOKUP(_xlfn.ANCHORARRAY(L4896),$L$31:$AE$80,17,FALSE)","v":0},{"$f":"VLOOKUP(_xlfn.ANCHORARRAY(L4896),$L$31:$AE$80,20,FALSE)-_xlfn.ANCHORARRAY(I4896)","v":0},null,{"$f":"$L$31:$L$80","v":1},{"$f":"$M$31:$M$80","v":0},null,null,null,{"$f":"_xlfn.ANCHORARRAY(S4896)/O4891","v":0},{"$f":"+R4894","v":"kr./ha."},{"$f":"$AE$31:$AE$80","v":0},"kr./tim."]
[{"$f":"CheckOne(H4891,F4899)","v":false},null,null,null,null,4,null,null,0,0,null,4,0,null,null,null,0,"kr./ha.",0,"kr./tim."]
[{"$f":"CheckOne(H4891,F4900)","v":false},null,null,null,null,1,null,null,0,0,null,5,0,null,null,null,0,"kr./ha.",0,"kr./tim."]
[{"$f":"CheckOne(H4891,F4902)","v":false},null,null,null,null,6,null,null,0,0,null,7,0,null,null,null,0,"kr./ha.",0,"kr./tim."]
[{"$f":"CheckOne(H4891,F4903)","v":false},null,null,null,null,7,null,null,0,0,null,8,0,null,null,null,0,"kr./ha.",0,"kr./tim."]
[{"$f":"CheckOne(H4891,F4906)","v":false},null,null,null,null,10,null,null,0,0,null,11,0,null,null,null,0,"kr./ha.",0,"kr./tim."]
[{"$f":"CheckOne(H4891,F4907)","v":false},null,null,null,null,11,null,null,0,0,null,12,0,null,null,null,0,"kr./ha.",0,"kr./tim."]
[{"$f":"CheckOne(H4891,F4909)","v":false},null,null,null,null,13,null,null,0,0,null,14,0,null,null,null,0,"kr./ha.",0,"kr./tim."]
[{"$f":"CheckOne(H4891,F4910)","v":false},null,null,null,null,14,null,null,0,0,null,15,0,null,null,null,0,"kr./ha.",0,"kr./tim."]
[{"$f":"CheckOne(H4891,F4913)","v":false},null,null,null,null,17,null,null,0,0,null,18,0,null,null,null,0,"kr./ha.",0,"kr./tim."]
[{"$f":"CheckOne(H4891,F4914)","v":false},null,null,null,null,18,null,null,0,0,null,19,0,null,null,null,0,"kr./ha.",0,"kr./tim."]
[{"$f":"CheckOne(H4891,F4916)","v":false},null,null,null,null,20,null,null,0,0,null,21,0,null,null,null,0,"kr./ha.",0,"kr./tim."]
[{"$f":"CheckOne(H4891,F4917)","v":false},null,null,null,null,21,null,null,0,0,null,22,0,null,null,null,0,"kr./ha.",0,"kr./tim."]
[{"$f":"CheckOne(H4891,F4920)","v":false},null,null,null,null,24,null,null,0,0,null,25,0,null,null,null,0,"kr./ha.",0,"kr./tim."]
[{"$f":"CheckOne(H4891,F4921)","v":false},null,null,null,null,25,null,null,0,0,null,26,0,null,null,null,0,"kr./ha.",0,"kr./tim."]
[{"$f":"CheckOne(H4891,F4923)","v":false},null,null,null,null,27,null,null,0,0,null,28,0,null,null,null,0,"kr./ha.",0,"kr./tim."]
[{"$f":"CheckOne(H4891,F4924)","v":false},null,null,null,null,28,null,null,0,0,null,29,0,null,null,null,0,"kr./ha.",0,"kr./tim."]
[{"$f":"CheckOne(H4891,F4927)","v":false},null,null,null,null,31,null,null,0,0,null,32,0,null,null,null,0,"kr./ha.",0,"kr./tim."]
[{"$f":"CheckOne(H4891,F4928)","v":false},null,null,null,null,32,null,null,0,0,null,33,0,null,null,null,0,"kr./ha.",0,"kr./tim."]
[{"$f":"CheckOne(H4891,F4930)","v":false},null,null,null,null,34,null,null,0,0,null,35,0,null,null,null,0,"kr./ha.",0,"kr./tim."]
[{"$f":"CheckOne(H4891,F4931)","v":false},null,null,null,null,35,null,null,0,0,null,36,0,null,null,null,0,"kr./ha.",0,"kr./tim."]
[{"$f":"CheckOne(H4891,F4934)","v":false},null,null,null,null,38,null,null,0,0,null,39,0,null,null,null,0,"kr./ha.",0,"kr./tim."]
[{"$f":"CheckOne(H4891,F4935)","v":false},null,null,null,null,39,null,null,0,0,null,40,0,null,null,null,0,"kr./ha.",0,"kr./tim."]
[{"$f":"CheckOne(H4891,F4937)","v":false},null,null,null,null,41,null,null,0,0,null,42,0,null,null,null,0,"kr./ha.",0,"kr./tim."]
[{"$f":"CheckOne(H4891,F4938)","v":false},null,null,null,null,42,null,null,0,0,null,43,0,null,null,null,0,"kr./ha.",0,"kr./tim."]
[{"$f":"CheckOne(H4891,F4941)","v":false},null,null,null,null,45,null,null,0,0,null,46,0,null,null,null,0,"kr./ha.",0,"kr./tim."]
[{"$f":"CheckOne(H4891,F4942)","v":false},null,null,null,null,46,null,null,0,0,null,47,0,null,null,null,0,"kr./ha.",0,"kr./tim."]
[{"$f":"CheckOne(H4891,F4944)","v":false},null,null,null,null,48,null,null,0,0,null,49,0,null,null,null,0,"kr./ha.",0,"kr./tim."]
[{"$f":"CheckOne(H4891,F4945)","v":false},null,null,null,null,49,null,null,0,0,null,50,0,null,null,null,0,"kr./ha.",0,"kr./tim."]
[{"$f":"IF(N4949=\"Maskinstation\",FALSE,OR(L4948<>0,N4952<>0,Q4949<>0,S4949<>0))","v":false},null,null,null,null,"nr.","id","Maskiner",null,null,null,{"$f":"VLOOKUP(F4949,$L$85:$AH$134,2,FALSE)","v":0}]
[{"$f":"A4948","v":false},null,null,null,null,{"$f":"1+F4891","v":33},{"$f":"VLOOKUP(F4949,$F$85:$J$134,5,FALSE)","v":32},{"$f":"VLOOKUP(F4949,$F$85:$I$134,4,FALSE)","v":""},null,null,null,"Type:",null,{"$f":"VLOOKUP(F4949,$L$85:$AH$134,5,FALSE)","v":"Intern"},{"$f":"VLOOKUP(F4949,$L$85:$AH$134,19,FALSE)","v":1},{"$f":"R4949&\"/time\"","v":"ha./time"},{"$f":"VLOOKUP(F4949,$L$85:$AH$134,15,FALSE)","v":0},{"$f":"VLOOKUP(F4949,$L$85:$AH$134,16,FALSE)","v":"ha."},{"$f":"VLOOKUP(F4949,$L$85:$AH$134,17,FALSE)","v":0},"timer"]
[false,null,null,null,null,null,null,null,null,null,null,"VO (var. omk.):",null,{"$f":"+S4949*S4951","v":0},"VE (var. enh. omk.):",null,{"$f":"IFERROR(N4951/Q4949,0)","v":0},{"$f":"+R4950","v":"kr./ha."},{"$f":"SUMIF(A4954:A5004,TRUE,I4954:I5004)","v":0},"kr./tim."]
[false,null,null,null,null,null,null,null,null,null,null,"TO (totae omk.):",null,{"$f":"+N4951+N4950","v":0},"TE (totale enh. omk.):",null,{"$f":"+Q4951+Q4950","v":0},{"$f":"+R4951","v":"kr./ha."},{"$f":"+S4951+S4950","v":0},"kr./tim."]
[{"$f":"CheckOne(H4949,F4955)","v":false},null,null,null,null,3,null,null,0,0,null,2,0,null,null,null,0,{"$f":"+R4954","v":"kr./ha."},0,"kr./tim."]
[{"$f":"CheckOne(H4949,F4956)","v":false},null,null,null,null,5,null,null,0,0,null,3,0,null,null,null,0,{"$f":"+R4955","v":"kr./ha."},0,"kr./tim."]
[{"$f":"CheckOne(H4949,F4958)","v":false},null,null,null,null,1,null,null,0,0,null,5,0,null,null,null,0,"kr./ha.",0,"kr./tim."]
[{"$f":"CheckOne(H4949,F4959)","v":false},null,null,null,null,2,null,null,0,0,null,6,0,null,null,null,0,"kr./ha.",0,"kr./tim."]
[{"$f":"CheckOne(H4949,F4962)","v":false},null,null,null,null,8,null,null,0,0,null,9,0,null,null,null,0,"kr./ha.",0,"kr./tim."]
[{"$f":"CheckOne(H4949,F4963)","v":false},null,null,null,null,9,null,null,0,0,null,10,0,null,null,null,0,"kr./ha.",0,"kr./tim."]
[{"$f":"CheckOne(H4949,F4965)","v":false},null,null,null,null,11,null,null,0,0,null,12,0,null,null,null,0,"kr./ha.",0,"kr./tim."]
[{"$f":"CheckOne(H4949,F4966)","v":false},null,null,null,null,12,null,null,0,0,null,13,0,null,null,null,0,"kr./ha.",0,"kr./tim."]
[{"$f":"CheckOne(H4949,F4969)","v":false},null,null,null,null,15,null,null,0,0,null,16,0,null,null,null,0,"kr./ha.",0,"kr./tim."]
[{"$f":"CheckOne(H4949,F4970)","v":false},null,null,null,null,16,null,null,0,0,null,17,0,null,null,null,0,"kr./ha.",0,"kr./tim."]
[{"$f":"CheckOne(H4949,F4972)","v":false},null,null,null,null,18,null,null,0,0,null,19,0,null,null,null,0,"kr./ha.",0,"kr./tim."]
[{"$f":"CheckOne(H4949,F4973)","v":false},null,null,null,null,19,null,null,0,0,null,20,0,null,null,null,0,"kr./ha.",0,"kr./tim."]
[{"$f":"CheckOne(H4949,F4976)","v":false},null,null,null,null,22,null,null,0,0,null,23,0,null,null,null,0,"kr./ha.",0,"kr./tim."]
[{"$f":"CheckOne(H4949,F4977)","v":false},null,null,null,null,23,null,null,0,0,null,24,0,null,null,null,0,"kr./ha.",0,"kr./tim."]
[{"$f":"CheckOne(H4949,F4979)","v":false},null,null,null,null,25,null,null,0,0,null,26,0,null,null,null,0,"kr./ha.",0,"kr./tim."]
[{"$f":"CheckOne(H4949,F4980)","v":false},null,null,null,null,26,null,null,0,0,null,27,0,null,null,null,0,"kr./ha.",0,"kr./tim."]
[{"$f":"CheckOne(H4949,F4983)","v":false},null,null,null,null,29,null,null,0,0,null,30,0,null,null,null,0,"kr./ha.",0,"kr./tim."]
[{"$f":"CheckOne(H4949,F4984)","v":false},null,null,null,null,30,null,null,0,0,null,31,0,null,null,null,0,"kr./ha.",0,"kr./tim."]
[{"$f":"CheckOne(H4949,F4986)","v":false},null,null,null,null,32,null,null,0,0,null,33,0,null,null,null,0,"kr./ha.",0,"kr./tim."]
[{"$f":"CheckOne(H4949,F4987)","v":false},null,null,null,null,33,null,null,0,0,null,34,0,null,null,null,0,"kr./ha.",0,"kr./tim."]
[{"$f":"CheckOne(H4949,F4990)","v":false},null,null,null,null,36,null,null,0,0,null,37,0,null,null,null,0,"kr./ha.",0,"kr./tim."]
[{"$f":"CheckOne(H4949,F4991)","v":false},null,null,null,null,37,null,null,0,0,null,38,0,null,null,null,0,"kr./ha.",0,"kr./tim."]
[{"$f":"CheckOne(H4949,F4993)","v":false},null,null,null,null,39,null,null,0,0,null,40,0,null,null,null,0,"kr./ha.",0,"kr./tim."]
[{"$f":"CheckOne(H4949,F4994)","v":false},null,null,null,null,40,null,null,0,0,null,41,0,null,null,null,0,"kr./ha.",0,"kr./tim."]
[{"$f":"CheckOne(H4949,F4997)","v":false},null,null,null,null,43,null,null,0,0,null,44,0,null,null,null,0,"kr./ha.",0,"kr./tim."]
[{"$f":"CheckOne(H4949,F4998)","v":false},null,null,null,null,44,null,null,0,0,null,45,0,null,null,null,0,"kr./ha.",0,"kr./tim."]
[{"$f":"CheckOne(H4949,F5000)","v":false},null,null,null,null,46,null,null,0,0,null,47,0,null,null,null,0,"kr./ha.",0,"kr./tim."]
[{"$f":"CheckOne(H4949,F5001)","v":false},null,null,null,null,47,null,null,0,0,null,48,0,null,null,null,0,"kr./ha.",0,"kr./tim."]
[{"$f":"OR(N5004>0)","v":false},null,null,null,null,null,null,null,{"$f":"+S5004","v":0},0,null,null,"Arbejdsløn:",{"$f":"VLOOKUP(F4949,$L$85:$AH$134,14,FALSE)","v":0},"medarbejder",null,{"$f":"+S5004/O4949","v":0},"kr./ha.",{"$f":"+Maskiner!$Z$17*N5004","v":0},"kr./tim."]
[{"$f":"IF(N5006=\"Maskinstation\",FALSE,OR(L5005<>0,N5009<>0,Q5006<>0,S5006<>0))","v":false}]
[{"$f":"A5006","v":false},null,null,null,null,{"$f":"1+F4949","v":34},{"$f":"VLOOKUP(F5007,$F$85:$J$134,5,FALSE)","v":33},{"$f":"VLOOKUP(F5007,$F$85:$I$134,4,FALSE)","v":""},null,null,null,"Type:",null,{"$f":"VLOOKUP(F5007,$L$85:$AH$134,5,FALSE)","v":"Intern"},{"$f":"VLOOKUP(F5007,$L$85:$AH$134,19,FALSE)","v":1},{"$f":"R5007&\"/time\"","v":"ha./time"},{"$f":"VLOOKUP(F5007,$L$85:$AH$134,15,FALSE)","v":0},{"$f":"VLOOKUP(F5007,$L$85:$AH$134,16,FALSE)","v":"ha."},{"$f":"VLOOKUP(F5007,$L$85:$AH$134,17,FALSE)","v":0},"timer"]
[{"$f":"A5007","v":false},null,null,null,null,null,null,null,null,null,null,"FO (faste omk.):",null,{"$f":"+S5008*S5007","v":0},"FE (faste enh. omk.):",null,{"$f":"IFERROR(N5008/Q5007,0)","v":0},{"$f":"\"kr./\"&R5007","v":"kr./ha."},{"$f":"SUMIF(A5012:A5062,TRUE,J5012:J5062)","v":0},"kr./tim."]
[false,null,null,null,null,null,null,null,null,null,null,"TO (totae omk.):",null,{"$f":"+N5009+N5008","v":0},"TE (totale enh. omk.):",null,{"$f":"+Q5009+Q5008","v":0},{"$f":"+R5009","v":"kr./ha."},{"$f":"+S5009+S5008","v":0},"kr./tim."]
[false,null,null,null,null,"id",null,null,"VE/tim","FE",null,null,null,null,"Maskinstationspris",null,{"$f":"VLOOKUP(F5007,$L$85:$AH$134,23,FALSE)","v":0},{"$f":"+R5010","v":"kr./ha."}]
[{"$f":"CheckOne(H5007,F5014)","v":false},null,null,null,null,5,null,null,0,0,null,3,0,null,null,null,0,{"$f":"+R5013","v":"kr./ha."},0,"kr./tim."]
[{"$f":"CheckOne(H5007,F5015)","v":false},null,null,null,null,4,null,null,0,0,null,4,0,null,null,null,0,"kr./ha.",0,"kr./tim."]
[{"$f":"CheckOne(H5007,F5017)","v":false},null,null,null,null,2,null,null,0,0,null,6,0,null,null,null,0,"kr./ha.",0,"kr./tim."]
[{"$f":"CheckOne(H5007,F5018)","v":false},null,null,null,null,6,null,null,0,0,null,7,0,null,null,null,0,"kr./ha.",0,"kr./tim."]
[{"$f":"CheckOne(H5007,F5021)","v":false},null,null,null,null,9,null,null,0,0,null,10,0,null,null,null,0,"kr./ha.",0,"kr./tim."]
[{"$f":"CheckOne(H5007,F5022)","v":false},null,null,null,null,10,null,null,0,0,null,11,0,null,null,null,0,"kr./ha.",0,"kr./tim."]
[{"$f":"CheckOne(H5007,F5024)","v":false},null,null,null,null,12,null,null,0,0,null,13,0,null,null,null,0,"kr./ha.",0,"kr./tim."]
[{"$f":"CheckOne(H5007,F5025)","v":false},null,null,null,null,13,null,null,0,0,null,14,0,null,null,null,0,"kr./ha.",0,"kr./tim."]
[{"$f":"CheckOne(H5007,F5028)","v":false},null,null,null,null,16,null,null,0,0,null,17,0,null,null,null,0,"kr./ha.",0,"kr./tim."]
[{"$f":"CheckOne(H5007,F5029)","v":false},null,null,null,null,17,null,null,0,0,null,18,0,null,null,null,0,"kr./ha.",0,"kr./tim."]
[{"$f":"CheckOne(H5007,F5031)","v":false},null,null,null,null,19,null,null,0,0,null,20,0,null,null,null,0,"kr./ha.",0,"kr./tim."]
[{"$f":"CheckOne(H5007,F5032)","v":false},null,null,null,null,20,null,null,0,0,null,21,0,null,null,null,0,"kr./ha.",0,"kr./tim."]
[{"$f":"CheckOne(H5007,F5035)","v":false},null,null,null,null,23,null,null,0,0,null,24,0,null,null,null,0,"kr./ha.",0,"kr./tim."]
[{"$f":"CheckOne(H5007,F5036)","v":false},null,null,null,null,24,null,null,0,0,null,25,0,null,null,null,0,"kr./ha.",0,"kr./tim."]
[{"$f":"CheckOne(H5007,F5038)","v":false},null,null,null,null,26,null,null,0,0,null,27,0,null,null,null,0,"kr./ha.",0,"kr./tim."]
[{"$f":"CheckOne(H5007,F5039)","v":false},null,null,null,null,27,null,null,0,0,null,28,0,null,null,null,0,"kr./ha.",0,"kr./tim."]
[{"$f":"CheckOne(H5007,F5042)","v":false},null,null,null,null,30,null,null,0,0,null,31,0,null,null,null,0,"kr./ha.",0,"kr./tim."]
[{"$f":"CheckOne(H5007,F5043)","v":false},null,null,null,null,31,null,null,0,0,null,32,0,null,null,null,0,"kr./ha.",0,"kr./tim."]
[{"$f":"CheckOne(H5007,F5045)","v":false},null,null,null,null,33,null,null,0,0,null,34,0,null,null,null,0,"kr./ha.",0,"kr./tim."]
[{"$f":"CheckOne(H5007,F5046)","v":false},null,null,null,null,34,null,null,0,0,null,35,0,null,null,null,0,"kr./ha.",0,"kr./tim."]
[{"$f":"CheckOne(H5007,F5049)","v":false},null,null,null,null,37,null,null,0,0,null,38,0,null,null,null,0,"kr./ha.",0,"kr./tim."]
[{"$f":"CheckOne(H5007,F5050)","v":false},null,null,null,null,38,null,null,0,0,null,39,0,null,null,null,0,"kr./ha.",0,"kr./tim."]
[{"$f":"CheckOne(H5007,F5052)","v":false},null,null,null,null,40,null,null,0,0,null,41,0,null,null,null,0,"kr./ha.",0,"kr./tim."]
[{"$f":"CheckOne(H5007,F5053)","v":false},null,null,null,null,41,null,null,0,0,null,42,0,null,null,null,0,"kr./ha.",0,"kr./tim."]
[{"$f":"CheckOne(H5007,F5056)","v":false},null,null,null,null,44,null,null,0,0,null,45,0,null,null,null,0,"kr./ha.",0,"kr./tim."]
[{"$f":"CheckOne(H5007,F5057)","v":false},null,null,null,null,45,null,null,0,0,null,46,0,null,null,null,0,"kr./ha.",0,"kr./tim."]
[{"$f":"CheckOne(H5007,F5059)","v":false},null,null,null,null,47,null,null,0,0,null,48,0,null,null,null,0,"kr./ha.",0,"kr./tim."]
[{"$f":"CheckOne(H5007,F5060)","v":false},null,null,null,null,48,null,null,0,0,null,49,0,null,null,null,0,"kr./ha.",0,"kr./tim."]
[{"$f":"IF(N5064=\"Maskinstation\",FALSE,OR(L5063<>0,N5067<>0,Q5064<>0,S5064<>0))","v":false}]
[{"$f":"IF(N5065=\"Maskinstation\",FALSE,OR(L5064<>0,N5068<>0,Q5065<>0,S5065<>0))","v":false},null,null,null,null,"nr.","id","Maskiner",null,null,null,{"$f":"VLOOKUP(F5065,$L$85:$AH$134,2,FALSE)","v":0}]
[{"$f":"A5065","v":false},null,null,null,null,null,null,null,null,null,null,"FO (faste omk.):",null,{"$f":"+S5066*S5065","v":0},"FE (faste enh. omk.):",null,{"$f":"IFERROR(N5066/Q5065,0)","v":0},{"$f":"\"kr./\"&R5065","v":"kr./ha."},{"$f":"SUMIF(A5070:A5120,TRUE,J5070:J5120)","v":0},"kr./tim."]
[false,null,null,null,null,null,null,null,null,null,null,"VO (var. omk.):",null,{"$f":"+S5065*S5067","v":0},"VE (var. enh. omk.):",null,{"$f":"IFERROR(N5067/Q5065,0)","v":0},{"$f":"+R5066","v":"kr./ha."},{"$f":"SUMIF(A5070:A5120,TRUE,I5070:I5120)","v":0},"kr./tim."]
[{"$f":"CheckOne(H5065,F5070)","v":false},null,null,null,null,{"$f":"_xlfn.ANCHORARRAY($J$31)","v":0},null,null,{"$f":"VLOOKUP(_xlfn.ANCHORARRAY(L5070),$L$31:$AE$80,17,FALSE)","v":0},{"$f":"VLOOKUP(_xlfn.ANCHORARRAY(L5070),$L$31:$AE$80,20,FALSE)-_xlfn.ANCHORARRAY(I5070)","v":0},null,{"$f":"$L$31:$L$80","v":1},{"$f":"$M$31:$M$80","v":0},null,null,null,{"$f":"_xlfn.ANCHORARRAY(S5070)/O5065","v":0},{"$f":"+R5068","v":"kr./ha."},{"$f":"$AE$31:$AE$80","v":0},"kr./tim."]
[{"$f":"CheckOne(H5065,F5071)","v":false},null,null,null,null,3,null,null,0,0,null,2,0,null,null,null,0,{"$f":"+R5070","v":"kr./ha."},0,"kr./tim."]
[{"$f":"CheckOne(H5065,F5073)","v":false},null,null,null,null,4,null,null,0,0,null,4,0,null,null,null,0,"kr./ha.",0,"kr./tim."]
[{"$f":"CheckOne(H5065,F5074)","v":false},null,null,null,null,1,null,null,0,0,null,5,0,null,null,null,0,"kr./ha.",0,"kr./tim."]
[{"$f":"CheckOne(H5065,F5077)","v":false},null,null,null,null,7,null,null,0,0,null,8,0,null,null,null,0,"kr./ha.",0,"kr./tim."]
[{"$f":"CheckOne(H5065,F5078)","v":false},null,null,null,null,8,null,null,0,0,null,9,0,null,null,null,0,"kr./ha.",0,"kr./tim."]
[{"$f":"CheckOne(H5065,F5080)","v":false},null,null,null,null,10,null,null,0,0,null,11,0,null,null,null,0,"kr./ha.",0,"kr./tim."]
[{"$f":"CheckOne(H5065,F5081)","v":false},null,null,null,null,11,null,null,0,0,null,12,0,null,null,null,0,"kr./ha.",0,"kr./tim."]
[{"$f":"CheckOne(H5065,F5084)","v":false},null,null,null,null,14,null,null,0,0,null,15,0,null,null,null,0,"kr./ha.",0,"kr./tim."]
[{"$f":"CheckOne(H5065,F5085)","v":false},null,null,null,null,15,null,null,0,0,null,16,0,null,null,null,0,"kr./ha.",0,"kr./tim."]
[{"$f":"CheckOne(H5065,F5087)","v":false},null,null,null,null,17,null,null,0,0,null,18,0,null,null,null,0,"kr./ha.",0,"kr./tim."]
[{"$f":"CheckOne(H5065,F5088)","v":false},null,null,null,null,18,null,null,0,0,null,19,0,null,null,null,0,"kr./ha.",0,"kr./tim."]
[{"$f":"CheckOne(H5065,F5091)","v":false},null,null,null,null,21,null,null,0,0,null,22,0,null,null,null,0,"kr./ha.",0,"kr./tim."]
[{"$f":"CheckOne(H5065,F5092)","v":false},null,null,null,null,22,null,null,0,0,null,23,0,null,null,null,0,"kr./ha.",0,"kr./tim."]
[{"$f":"CheckOne(H5065,F5094)","v":false},null,null,null,null,24,null,null,0,0,null,25,0,null,null,null,0,"kr./ha.",0,"kr./tim."]
[{"$f":"CheckOne(H5065,F5095)","v":false},null,null,null,null,25,null,null,0,0,null,26,0,null,null,null,0,"kr./ha.",0,"kr./tim."]
[{"$f":"CheckOne(H5065,F5098)","v":false},null,null,null,null,28,null,null,0,0,null,29,0,null,null,null,0,"kr./ha.",0,"kr./tim."]
[{"$f":"CheckOne(H5065,F5099)","v":false},null,null,null,null,29,null,null,0,0,null,30,0,null,null,null,0,"kr./ha.",0,"kr./tim."]
[{"$f":"CheckOne(H5065,F5101)","v":false},null,null,null,null,31,null,null,0,0,null,32,0,null,null,null,0,"kr./ha.",0,"kr./tim."]
[{"$f":"CheckOne(H5065,F5102)","v":false},null,null,null,null,32,null,null,0,0,null,33,0,null,null,null,0,"kr./ha.",0,"kr./tim."]
[{"$f":"CheckOne(H5065,F5105)","v":false},null,null,null,null,35,null,null,0,0,null,36,0,null,null,null,0,"kr./ha.",0,"kr./tim."]
[{"$f":"CheckOne(H5065,F5106)","v":false},null,null,null,null,36,null,null,0,0,null,37,0,null,null,null,0,"kr./ha.",0,"kr./tim."]
[{"$f":"CheckOne(H5065,F5108)","v":false},null,null,null,null,38,null,null,0,0,null,39,0,null,null,null,0,"kr./ha.",0,"kr./tim."]
[{"$f":"CheckOne(H5065,F5109)","v":false},null,null,null,null,39,null,null,0,0,null,40,0,null,null,null,0,"kr./ha.",0,"kr./tim."]
[{"$f":"CheckOne(H5065,F5112)","v":false},null,null,null,null,42,null,null,0,0,null,43,0,null,null,null,0,"kr./ha.",0,"kr./tim."]
[{"$f":"CheckOne(H5065,F5113)","v":false},null,null,null,null,43,null,null,0,0,null,44,0,null,null,null,0,"kr./ha.",0,"kr./tim."]
[{"$f":"CheckOne(H5065,F5115)","v":false},null,null,null,null,45,null,null,0,0,null,46,0,null,null,null,0,"kr./ha.",0,"kr./tim."]
[{"$f":"CheckOne(H5065,F5116)","v":false},null,null,null,null,46,null,null,0,0,null,47,0,null,null,null,0,"kr./ha.",0,"kr./tim."]
[{"$f":"CheckOne(H5065,F5119)","v":false},null,null,null,null,49,null,null,0,0,null,50,0,null,null,null,0,"kr./ha.",0,"kr./tim."]
[{"$f":"OR(N5120>0)","v":false},null,null,null,null,null,null,null,{"$f":"+S5120","v":0},0,null,null,"Arbejdsløn:",{"$f":"VLOOKUP(F5065,$L$85:$AH$134,14,FALSE)","v":0},"medarbejder",null,{"$f":"+S5120/O5065","v":0},"kr./ha.",{"$f":"+Maskiner!$Z$17*N5120","v":0},"kr./tim."]
[{"$f":"IF(N5123=\"Maskinstation\",FALSE,OR(L5122<>0,N5126<>0,Q5123<>0,S5123<>0))","v":false},null,null,null,null,"nr.","id","Maskiner",null,null,null,{"$f":"VLOOKUP(F5123,$L$85:$AH$134,2,FALSE)","v":0}]
[{"$f":"A5122","v":false},null,null,null,null,{"$f":"1+F5065","v":36},{"$f":"VLOOKUP(F5123,$F$85:$J$134,5,FALSE)","v":35},{"$f":"VLOOKUP(F5123,$F$85:$I$134,4,FALSE)","v":""},null,null,null,"Type:",null,{"$f":"VLOOKUP(F5123,$L$85:$AH$134,5,FALSE)","v":"Intern"},{"$f":"VLOOKUP(F5123,$L$85:$AH$134,19,FALSE)","v":1},{"$f":"R5123&\"/time\"","v":"ha./time"},{"$f":"VLOOKUP(F5123,$L$85:$AH$134,15,FALSE)","v":0},{"$f":"VLOOKUP(F5123,$L$85:$AH$134,16,FALSE)","v":"ha."},{"$f":"VLOOKUP(F5123,$L$85:$AH$134,17,FALSE)","v":0},"timer"]
[false,null,null,null,null,null,null,null,null,null,null,"TO (totae omk.):",null,{"$f":"+N5125+N5124","v":0},"TE (totale enh. omk.):",null,{"$f":"+Q5125+Q5124","v":0},{"$f":"+R5125","v":"kr./ha."},{"$f":"+S5125+S5124","v":0},"kr./tim."]
[false,null,null,null,null,"id",null,null,"VE/tim","FE",null,null,null,null,"Maskinstationspris",null,{"$f":"VLOOKUP(F5123,$L$85:$AH$134,23,FALSE)","v":0},{"$f":"+R5126","v":"kr./ha."}]
[{"$f":"CheckOne(H5123,F5129)","v":false},null,null,null,null,3,null,null,0,0,null,2,0,null,null,null,0,{"$f":"+R5128","v":"kr./ha."},0,"kr./tim."]
[{"$f":"CheckOne(H5123,F5130)","v":false},null,null,null,null,5,null,null,0,0,null,3,0,null,null,null,0,{"$f":"+R5129","v":"kr./ha."},0,"kr./tim."]
[{"$f":"CheckOne(H5123,F5133)","v":false},null,null,null,null,2,null,null,0,0,null,6,0,null,null,null,0,"kr./ha.",0,"kr./tim."]
[{"$f":"CheckOne(H5123,F5134)","v":false},null,null,null,null,6,null,null,0,0,null,7,0,null,null,null,0,"kr./ha.",0,"kr./tim."]
[{"$f":"CheckOne(H5123,F5136)","v":false},null,null,null,null,8,null,null,0,0,null,9,0,null,null,null,0,"kr./ha.",0,"kr./tim."]
[{"$f":"CheckOne(H5123,F5137)","v":false},null,null,null,null,9,null,null,0,0,null,10,0,null,null,null,0,"kr./ha.",0,"kr./tim."]
[{"$f":"CheckOne(H5123,F5140)","v":false},null,null,null,null,12,null,null,0,0,null,13,0,null,null,null,0,"kr./ha.",0,"kr./tim."]
[{"$f":"CheckOne(H5123,F5141)","v":false},null,null,null,null,13,null,null,0,0,null,14,0,null,null,null,0,"kr./ha.",0,"kr./tim."]
[{"$f":"CheckOne(H5123,F5143)","v":false},null,null,null,null,15,null,null,0,0,null,16,0,null,null,null,0,"kr./ha.",0,"kr./tim."]
[{"$f":"CheckOne(H5123,F5144)","v":false},null,null,null,null,16,null,null,0,0,null,17,0,null,null,null,0,"kr./ha.",0,"kr./tim."]
[{"$f":"CheckOne(H5123,F5147)","v":false},null,null,null,null,19,null,null,0,0,null,20,0,null,null,null,0,"kr./ha.",0,"kr./tim."]
[{"$f":"CheckOne(H5123,F5148)","v":false},null,null,null,null,20,null,null,0,0,null,21,0,null,null,null,0,"kr./ha.",0,"kr./tim."]
[{"$f":"CheckOne(H5123,F5150)","v":false},null,null,null,null,22,null,null,0,0,null,23,0,null,null,null,0,"kr./ha.",0,"kr./tim."]
[{"$f":"CheckOne(H5123,F5151)","v":false},null,null,null,null,23,null,null,0,0,null,24,0,null,null,null,0,"kr./ha.",0,"kr./tim."]
[{"$f":"CheckOne(H5123,F5154)","v":false},null,null,null,null,26,null,null,0,0,null,27,0,null,null,null,0,"kr./ha.",0,"kr./tim."]
[{"$f":"CheckOne(H5123,F5155)","v":false},null,null,null,null,27,null,null,0,0,null,28,0,null,null,null,0,"kr./ha.",0,"kr./tim."]
[{"$f":"CheckOne(H5123,F5157)","v":false},null,null,null,null,29,null,null,0,0,null,30,0,null,null,null,0,"kr./ha.",0,"kr./tim."]
[{"$f":"CheckOne(H5123,F5158)","v":false},null,null,null,null,30,null,null,0,0,null,31,0,null,null,null,0,"kr./ha.",0,"kr./tim."]
[{"$f":"CheckOne(H5123,F5161)","v":false},null,null,null,null,33,null,null,0,0,null,34,0,null,null,null,0,"kr./ha.",0,"kr./tim."]
[{"$f":"CheckOne(H5123,F5162)","v":false},null,null,null,null,34,null,null,0,0,null,35,0,null,null,null,0,"kr./ha.",0,"kr./tim."]
[{"$f":"CheckOne(H5123,F5164)","v":false},null,null,null,null,36,null,null,0,0,null,37,0,null,null,null,0,"kr./ha.",0,"kr./tim."]
[{"$f":"CheckOne(H5123,F5165)","v":false},null,null,null,null,37,null,null,0,0,null,38,0,null,null,null,0,"kr./ha.",0,"kr./tim."]
[{"$f":"CheckOne(H5123,F5168)","v":false},null,null,null,null,40,null,null,0,0,null,41,0,null,null,null,0,"kr./ha.",0,"kr./tim."]
[{"$f":"CheckOne(H5123,F5169)","v":false},null,null,null,null,41,null,null,0,0,null,42,0,null,null,null,0,"kr./ha.",0,"kr./tim."]
[{"$f":"CheckOne(H5123,F5171)","v":false},null,null,null,null,43,null,null,0,0,null,44,0,null,null,null,0,"kr./ha.",0,"kr./tim."]
[{"$f":"CheckOne(H5123,F5172)","v":false},null,null,null,null,44,null,null,0,0,null,45,0,null,null,null,0,"kr./ha.",0,"kr./tim."]
[{"$f":"CheckOne(H5123,F5175)","v":false},null,null,null,null,47,null,null,0,0,null,48,0,null,null,null,0,"kr./ha.",0,"kr./tim."]
[{"$f":"CheckOne(H5123,F5176)","v":false},null,null,null,null,48,null,null,0,0,null,49,0,null,null,null,0,"kr./ha.",0,"kr./tim."]
[{"$f":"OR(N5178>0)","v":false},null,null,null,null,null,null,null,{"$f":"+S5178","v":0},0,null,null,"Arbejdsløn:",{"$f":"VLOOKUP(F5123,$L$85:$AH$134,14,FALSE)","v":0},"medarbejder",null,{"$f":"+S5178/O5123","v":0},"kr./ha.",{"$f":"+Maskiner!$Z$17*N5178","v":0},"kr./tim."]
[{"$f":"IF(N5180=\"Maskinstation\",FALSE,OR(L5179<>0,N5183<>0,Q5180<>0,S5180<>0))","v":false}]
[{"$f":"A5181","v":false},null,null,null,null,null,null,null,null,null,null,"FO (faste omk.):",null,{"$f":"+S5182*S5181","v":0},"FE (faste enh. omk.):",null,{"$f":"IFERROR(N5182/Q5181,0)","v":0},{"$f":"\"kr./\"&R5181","v":"kr./ha."},{"$f":"SUMIF(A5186:A5236,TRUE,J5186:J5236)","v":0},"kr./tim."]
[false,null,null,null,null,null,null,null,null,null,null,"VO (var. omk.):",null,{"$f":"+S5181*S5183","v":0},"VE (var. enh. omk.):",null,{"$f":"IFERROR(N5183/Q5181,0)","v":0},{"$f":"+R5182","v":"kr./ha."},{"$f":"SUMIF(A5186:A5236,TRUE,I5186:I5236)","v":0},"kr./tim."]
[false,null,null,null,null,"id",null,null,"VE/tim","FE",null,null,null,null,"Maskinstationspris",null,{"$f":"VLOOKUP(F5181,$L$85:$AH$134,23,FALSE)","v":0},{"$f":"+R5184","v":"kr./ha."}]
[{"$f":"CheckOne(H5181,F5186)","v":false},null,null,null,null,{"$f":"_xlfn.ANCHORARRAY($J$31)","v":0},null,null,{"$f":"VLOOKUP(_xlfn.ANCHORARRAY(L5186),$L$31:$AE$80,17,FALSE)","v":0},{"$f":"VLOOKUP(_xlfn.ANCHORARRAY(L5186),$L$31:$AE$80,20,FALSE)-_xlfn.ANCHORARRAY(I5186)","v":0},null,{"$f":"$L$31:$L$80","v":1},{"$f":"$M$31:$M$80","v":0},null,null,null,{"$f":"_xlfn.ANCHORARRAY(S5186)/O5181","v":0},{"$f":"+R5184","v":"kr./ha."},{"$f":"$AE$31:$AE$80","v":0},"kr./tim."]
[{"$f":"CheckOne(H5181,F5189)","v":false},null,null,null,null,4,null,null,0,0,null,4,0,null,null,null,0,"kr./ha.",0,"kr./tim."]
[{"$f":"CheckOne(H5181,F5190)","v":false},null,null,null,null,1,null,null,0,0,null,5,0,null,null,null,0,"kr./ha.",0,"kr./tim."]
[{"$f":"CheckOne(H5181,F5192)","v":false},null,null,null,null,6,null,null,0,0,null,7,0,null,null,null,0,"kr./ha.",0,"kr./tim."]
[{"$f":"CheckOne(H5181,F5193)","v":false},null,null,null,null,7,null,null,0,0,null,8,0,null,null,null,0,"kr./ha.",0,"kr./tim."]
[{"$f":"CheckOne(H5181,F5196)","v":false},null,null,null,null,10,null,null,0,0,null,11,0,null,null,null,0,"kr./ha.",0,"kr./tim."]
[{"$f":"CheckOne(H5181,F5197)","v":false},null,null,null,null,11,null,null,0,0,null,12,0,null,null,null,0,"kr./ha.",0,"kr./tim."]
[{"$f":"CheckOne(H5181,F5199)","v":false},null,null,null,null,13,null,null,0,0,null,14,0,null,null,null,0,"kr./ha.",0,"kr./tim."]
[{"$f":"CheckOne(H5181,F5200)","v":false},null,null,null,null,14,null,null,0,0,null,15,0,null,null,null,0,"kr./ha.",0,"kr./tim."]
[{"$f":"CheckOne(H5181,F5202)","v":false},null,null,null,null,16,null,null,0,0,null,17,0,null,null,null,0,"kr./ha.",0,"kr./tim."]
[{"$f":"CheckOne(H5181,F5203)","v":false},null,null,null,null,17,null,null,0,0,null,18,0,null,null,null,0,"kr./ha.",0,"kr./tim."]
[{"$f":"CheckOne(H5181,F5206)","v":false},null,null,null,null,20,null,null,0,0,null,21,0,null,null,null,0,"kr./ha.",0,"kr./tim."]
[{"$f":"CheckOne(H5181,F5207)","v":false},null,null,null,null,21,null,null,0,0,null,22,0,null,null,null,0,"kr./ha.",0,"kr./tim."]
[{"$f":"CheckOne(H5181,F5209)","v":false},null,null,null,null,23,null,null,0,0,null,24,0,null,null,null,0,"kr./ha.",0,"kr./tim."]
[{"$f":"CheckOne(H5181,F5210)","v":false},null,null,null,null,24,null,null,0,0,null,25,0,null,null,null,0,"kr./ha.",0,"kr./tim."]
[{"$f":"CheckOne(H5181,F5213)","v":false},null,null,null,null,27,null,null,0,0,null,28,0,null,null,null,0,"kr./ha.",0,"kr./tim."]
[{"$f":"CheckOne(H5181,F5214)","v":false},null,null,null,null,28,null,null,0,0,null,29,0,null,null,null,0,"kr./ha.",0,"kr./tim."]
[{"$f":"CheckOne(H5181,F5216)","v":false},null,null,null,null,30,null,null,0,0,null,31,0,null,null,null,0,"kr./ha.",0,"kr./tim."]
[{"$f":"CheckOne(H5181,F5217)","v":false},null,null,null,null,31,null,null,0,0,null,32,0,null,null,null,0,"kr./ha.",0,"kr./tim."]
[{"$f":"CheckOne(H5181,F5220)","v":false},null,null,null,null,34,null,null,0,0,null,35,0,null,null,null,0,"kr./ha.",0,"kr./tim."]
[{"$f":"CheckOne(H5181,F5221)","v":false},null,null,null,null,35,null,null,0,0,null,36,0,null,null,null,0,"kr./ha.",0,"kr./tim."]
[{"$f":"CheckOne(H5181,F5223)","v":false},null,null,null,null,37,null,null,0,0,null,38,0,null,null,null,0,"kr./ha.",0,"kr./tim."]
[{"$f":"CheckOne(H5181,F5224)","v":false},null,null,null,null,38,null,null,0,0,null,39,0,null,null,null,0,"kr./ha.",0,"kr./tim."]
[{"$f":"CheckOne(H5181,F5227)","v":false},null,null,null,null,41,null,null,0,0,null,42,0,null,null,null,0,"kr./ha.",0,"kr./tim."]
[{"$f":"CheckOne(H5181,F5228)","v":false},null,null,null,null,42,null,null,0,0,null,43,0,null,null,null,0,"kr./ha.",0,"kr./tim."]
[{"$f":"CheckOne(H5181,F5230)","v":false},null,null,null,null,44,null,null,0,0,null,45,0,null,null,null,0,"kr./ha.",0,"kr./tim."]
[{"$f":"CheckOne(H5181,F5231)","v":false},null,null,null,null,45,null,null,0,0,null,46,0,null,null,null,0,"kr./ha.",0,"kr./tim."]
[{"$f":"CheckOne(H5181,F5234)","v":false},null,null,null,null,48,null,null,0,0,null,49,0,null,null,null,0,"kr./ha.",0,"kr./tim."]
[{"$f":"CheckOne(H5181,F5235)","v":false},null,null,null,null,49,null,null,0,0,null,50,0,null,null,null,0,"kr./ha.",0,"kr./tim."]
[{"$f":"IF(N5238=\"Maskinstation\",FALSE,OR(L5237<>0,N5241<>0,Q5238<>0,S5238<>0))","v":false}]
[{"$f":"IF(N5239=\"Maskinstation\",FALSE,OR(L5238<>0,N5242<>0,Q5239<>0,S5239<>0))","v":false},null,null,null,null,"nr.","id","Maskiner",null,null,null,{"$f":"VLOOKUP(F5239,$L$85:$AH$134,2,FALSE)","v":0}]
[false,null,null,null,null,null,null,null,null,null,null,"VO (var. omk.):",null,{"$f":"+S5239*S5241","v":0},"VE (var. enh. omk.):",null,{"$f":"IFERROR(N5241/Q5239,0)","v":0},{"$f":"+R5240","v":"kr./ha."},{"$f":"SUMIF(A5244:A5294,TRUE,I5244:I5294)","v":0},"kr./tim."]
[false,null,null,null,null,null,null,null,null,null,null,"TO (totae omk.):",null,{"$f":"+N5241+N5240","v":0},"TE (totale enh. omk.):",null,{"$f":"+Q5241+Q5240","v":0},{"$f":"+R5241","v":"kr./ha."},{"$f":"+S5241+S5240","v":0},"kr./tim."]
[{"$f":"CheckOne(H5239,F5244)","v":false},null,null,null,null,{"$f":"_xlfn.ANCHORARRAY($J$31)","v":0},null,null,{"$f":"VLOOKUP(_xlfn.ANCHORARRAY(L5244),$L$31:$AE$80,17,FALSE)","v":0},{"$f":"VLOOKUP(_xlfn.ANCHORARRAY(L5244),$L$31:$AE$80,20,FALSE)-_xlfn.ANCHORARRAY(I5244)","v":0},null,{"$f":"$L$31:$L$80","v":1},{"$f":"$M$31:$M$80","v":0},null,null,null,{"$f":"_xlfn.ANCHORARRAY(S5244)/O5239","v":0},{"$f":"+R5242","v":"kr./ha."},{"$f":"$AE$31:$AE$80","v":0},"kr./tim."]
[{"$f":"CheckOne(H5239,F5245)","v":false},null,null,null,null,3,null,null,0,0,null,2,0,null,null,null,0,{"$f":"+R5244","v":"kr./ha."},0,"kr./tim."]
[{"$f":"CheckOne(H5239,F5248)","v":false},null,null,null,null,1,null,null,0,0,null,5,0,null,null,null,0,"kr./ha.",0,"kr./tim."]
[{"$f":"CheckOne(H5239,F5249)","v":false},null,null,null,null,2,null,null,0,0,null,6,0,null,null,null,0,"kr./ha.",0,"kr./tim."]
[{"$f":"CheckOne(H5239,F5251)","v":false},null,null,null,null,7,null,null,0,0,null,8,0,null,null,null,0,"kr./ha.",0,"kr./tim."]
[{"$f":"CheckOne(H5239,F5252)","v":false},null,null,null,null,8,null,null,0,0,null,9,0,null,null,null,0,"kr./ha.",0,"kr./tim."]
[{"$f":"CheckOne(H5239,F5255)","v":false},null,null,null,null,11,null,null,0,0,null,12,0,null,null,null,0,"kr./ha.",0,"kr./tim."]
[{"$f":"CheckOne(H5239,F5256)","v":false},null,null,null,null,12,null,null,0,0,null,13,0,null,null,null,0,"kr./ha.",0,"kr./tim."]
[{"$f":"CheckOne(H5239,F5258)","v":false},null,null,null,null,14,null,null,0,0,null,15,0,null,null,null,0,"kr./ha.",0,"kr./tim."]
[{"$f":"CheckOne(H5239,F5259)","v":false},null,null,null,null,15,null,null,0,0,null,16,0,null,null,null,0,"kr./ha.",0,"kr./tim."]
[{"$f":"CheckOne(H5239,F5262)","v":false},null,null,null,null,18,null,null,0,0,null,19,0,null,null,null,0,"kr./ha.",0,"kr./tim."]
[{"$f":"CheckOne(H5239,F5263)","v":false},null,null,null,null,19,null,null,0,0,null,20,0,null,null,null,0,"kr./ha.",0,"kr./tim."]
[{"$f":"CheckOne(H5239,F5265)","v":false},null,null,null,null,21,null,null,0,0,null,22,0,null,null,null,0,"kr./ha.",0,"kr./tim."]
[{"$f":"CheckOne(H5239,F5266)","v":false},null,null,null,null,22,null,null,0,0,null,23,0,null,null,null,0,"kr./ha.",0,"kr./tim."]
[{"$f":"CheckOne(H5239,F5269)","v":false},null,null,null,null,25,null,null,0,0,null,26,0,null,null,null,0,"kr./ha.",0,"kr./tim."]
[{"$f":"CheckOne(H5239,F5270)","v":false},null,null,null,null,26,null,null,0,0,null,27,0,null,null,null,0,"kr./ha.",0,"kr./tim."]
[{"$f":"CheckOne(H5239,F5272)","v":false},null,null,null,null,28,null,null,0,0,null,29,0,null,null,null,0,"kr./ha.",0,"kr./tim."]
[{"$f":"CheckOne(H5239,F5273)","v":false},null,null,null,null,29,null,null,0,0,null,30,0,null,null,null,0,"kr./ha.",0,"kr./tim."]
[{"$f":"CheckOne(H5239,F5276)","v":false},null,null,null,null,32,null,null,0,0,null,33,0,null,null,null,0,"kr./ha.",0,"kr./tim."]
[{"$f":"CheckOne(H5239,F5277)","v":false},null,null,null,null,33,null,null,0,0,null,34,0,null,null,null,0,"kr./ha.",0,"kr./tim."]
[{"$f":"CheckOne(H5239,F5279)","v":false},null,null,null,null,35,null,null,0,0,null,36,0,null,null,null,0,"kr./ha.",0,"kr./tim."]
[{"$f":"CheckOne(H5239,F5280)","v":false},null,null,null,null,36,null,null,0,0,null,37,0,null,null,null,0,"kr./ha.",0,"kr./tim."]
[{"$f":"CheckOne(H5239,F5283)","v":false},null,null,null,null,39,null,null,0,0,null,40,0,null,null,null,0,"kr./ha.",0,"kr./tim."]
[{"$f":"CheckOne(H5239,F5284)","v":false},null,null,null,null,40,null,null,0,0,null,41,0,null,null,null,0,"kr./ha.",0,"kr./tim."]
[{"$f":"CheckOne(H5239,F5286)","v":false},null,null,null,null,42,null,null,0,0,null,43,0,null,null,null,0,"kr./ha.",0,"kr./tim."]
[{"$f":"CheckOne(H5239,F5287)","v":false},null,null,null,null,43,null,null,0,0,null,44,0,null,null,null,0,"kr./ha.",0,"kr./tim."]
[{"$f":"CheckOne(H5239,F5290)","v":false},null,null,null,null,46,null,null,0,0,null,47,0,null,null,null,0,"kr./ha.",0,"kr./tim."]
[{"$f":"CheckOne(H5239,F5291)","v":false},null,null,null,null,47,null,null,0,0,null,48,0,null,null,null,0,"kr./ha.",0,"kr./tim."]
[{"$f":"CheckOne(H5239,F5293)","v":false},null,null,null,null,49,null,null,0,0,null,50,0,null,null,null,0,"kr./ha.",0,"kr./tim."]
[{"$f":"OR(N5294>0)","v":false},null,null,null,null,null,null,null,{"$f":"+S5294","v":0},0,null,null,"Arbejdsløn:",{"$f":"VLOOKUP(F5239,$L$85:$AH$134,14,FALSE)","v":0},"medarbejder",null,{"$f":"+S5294/O5239","v":0},"kr./ha.",{"$f":"+Maskiner!$Z$17*N5294","v":0},"kr./tim."]
[{"$f":"A5296","v":false},null,null,null,null,{"$f":"1+F5239","v":39},{"$f":"VLOOKUP(F5297,$F$85:$J$134,5,FALSE)","v":38},{"$f":"VLOOKUP(F5297,$F$85:$I$134,4,FALSE)","v":""},null,null,null,"Type:",null,{"$f":"VLOOKUP(F5297,$L$85:$AH$134,5,FALSE)","v":"Intern"},{"$f":"VLOOKUP(F5297,$L$85:$AH$134,19,FALSE)","v":1},{"$f":"R5297&\"/time\"","v":"ha./time"},{"$f":"VLOOKUP(F5297,$L$85:$AH$134,15,FALSE)","v":0},{"$f":"VLOOKUP(F5297,$L$85:$AH$134,16,FALSE)","v":"ha."},{"$f":"VLOOKUP(F5297,$L$85:$AH$134,17,FALSE)","v":0},"timer"]
[{"$f":"A5297","v":false},null,null,null,null,null,null,null,null,null,null,"FO (faste omk.):",null,{"$f":"+S5298*S5297","v":0},"FE (faste enh. omk.):",null,{"$f":"IFERROR(N5298/Q5297,0)","v":0},{"$f":"\"kr./\"&R5297","v":"kr./ha."},{"$f":"SUMIF(A5302:A5352,TRUE,J5302:J5352)","v":0},"kr./tim."]
[false,null,null,null,null,null,null,null,null,null,null,"TO (totae omk.):",null,{"$f":"+N5299+N5298","v":0},"TE (totale enh. omk.):",null,{"$f":"+Q5299+Q5298","v":0},{"$f":"+R5299","v":"kr./ha."},{"$f":"+S5299+S5298","v":0},"kr./tim."]
[false,null,null,null,null,"id",null,null,"VE/tim","FE",null,null,null,null,"Maskinstationspris",null,{"$f":"VLOOKUP(F5297,$L$85:$AH$134,23,FALSE)","v":0},{"$f":"+R5300","v":"kr./ha."}]
[{"$f":"CheckOne(H5297,F5304)","v":false},null,null,null,null,5,null,null,0,0,null,3,0,null,null,null,0,{"$f":"+R5303","v":"kr./ha."},0,"kr./tim."]
[{"$f":"CheckOne(H5297,F5305)","v":false},null,null,null,null,4,null,null,0,0,null,4,0,null,null,null,0,"kr./ha.",0,"kr./tim."]
[{"$f":"CheckOne(H5297,F5307)","v":false},null,null,null,null,2,null,null,0,0,null,6,0,null,null,null,0,"kr./ha.",0,"kr./tim."]
[{"$f":"CheckOne(H5297,F5308)","v":false},null,null,null,null,6,null,null,0,0,null,7,0,null,null,null,0,"kr./ha.",0,"kr./tim."]
[{"$f":"CheckOne(H5297,F5311)","v":false},null,null,null,null,9,null,null,0,0,null,10,0,null,null,null,0,"kr./ha.",0,"kr./tim."]
[{"$f":"CheckOne(H5297,F5312)","v":false},null,null,null,null,10,null,null,0,0,null,11,0,null,null,null,0,"kr./ha.",0,"kr./tim."]
[{"$f":"CheckOne(H5297,F5314)","v":false},null,null,null,null,12,null,null,0,0,null,13,0,null,null,null,0,"kr./ha.",0,"kr./tim."]
[{"$f":"CheckOne(H5297,F5315)","v":false},null,null,null,null,13,null,null,0,0,null,14,0,null,null,null,0,"kr./ha.",0,"kr./tim."]
[{"$f":"CheckOne(H5297,F5318)","v":false},null,null,null,null,16,null,null,0,0,null,17,0,null,null,null,0,"kr./ha.",0,"kr./tim."]
[{"$f":"CheckOne(H5297,F5319)","v":false},null,null,null,null,17,null,null,0,0,null,18,0,null,null,null,0,"kr./ha.",0,"kr./tim."]
[{"$f":"CheckOne(H5297,F5321)","v":false},null,null,null,null,19,null,null,0,0,null,20,0,null,null,null,0,"kr./ha.",0,"kr./tim."]
[{"$f":"CheckOne(H5297,F5322)","v":false},null,null,null,null,20,null,null,0,0,null,21,0,null,null,null,0,"kr./ha.",0,"kr./tim."]
[{"$f":"CheckOne(H5297,F5325)","v":false},null,null,null,null,23,null,null,0,0,null,24,0,null,null,null,0,"kr./ha.",0,"kr./tim."]
[{"$f":"CheckOne(H5297,F5326)","v":false},null,null,null,null,24,null,null,0,0,null,25,0,null,null,null,0,"kr./ha.",0,"kr./tim."]
[{"$f":"CheckOne(H5297,F5328)","v":false},null,null,null,null,26,null,null,0,0,null,27,0,null,null,null,0,"kr./ha.",0,"kr./tim."]
[{"$f":"CheckOne(H5297,F5329)","v":false},null,null,null,null,27,null,null,0,0,null,28,0,null,null,null,0,"kr./ha.",0,"kr./tim."]
[{"$f":"CheckOne(H5297,F5332)","v":false},null,null,null,null,30,null,null,0,0,null,31,0,null,null,null,0,"kr./ha.",0,"kr./tim."]
[{"$f":"CheckOne(H5297,F5333)","v":false},null,null,null,null,31,null,null,0,0,null,32,0,null,null,null,0,"kr./ha.",0,"kr./tim."]
[{"$f":"CheckOne(H5297,F5335)","v":false},null,null,null,null,33,null,null,0,0,null,34,0,null,null,null,0,"kr./ha.",0,"kr./tim."]
[{"$f":"CheckOne(H5297,F5336)","v":false},null,null,null,null,34,null,null,0,0,null,35,0,null,null,null,0,"kr./ha.",0,"kr./tim."]
[{"$f":"CheckOne(H5297,F5339)","v":false},null,null,null,null,37,null,null,0,0,null,38,0,null,null,null,0,"kr./ha.",0,"kr./tim."]
[{"$f":"CheckOne(H5297,F5340)","v":false},null,null,null,null,38,null,null,0,0,null,39,0,null,null,null,0,"kr./ha.",0,"kr./tim."]
[{"$f":"CheckOne(H5297,F5342)","v":false},null,null,null,null,40,null,null,0,0,null,41,0,null,null,null,0,"kr./ha.",0,"kr./tim."]
[{"$f":"CheckOne(H5297,F5343)","v":false},null,null,null,null,41,null,null,0,0,null,42,0,null,null,null,0,"kr./ha.",0,"kr./tim."]
[{"$f":"CheckOne(H5297,F5346)","v":false},null,null,null,null,44,null,null,0,0,null,45,0,null,null,null,0,"kr./ha.",0,"kr./tim."]
[{"$f":"CheckOne(H5297,F5347)","v":false},null,null,null,null,45,null,null,0,0,null,46,0,null,null,null,0,"kr./ha.",0,"kr./tim."]
[{"$f":"CheckOne(H5297,F5349)","v":false},null,null,null,null,47,null,null,0,0,null,48,0,null,null,null,0,"kr./ha.",0,"kr./tim."]
[{"$f":"CheckOne(H5297,F5350)","v":false},null,null,null,null,48,null,null,0,0,null,49,0,null,null,null,0,"kr./ha.",0,"kr./tim."]
[{"$f":"IF(N5354=\"Maskinstation\",FALSE,OR(L5353<>0,N5357<>0,Q5354<>0,S5354<>0))","v":false}]
[{"$f":"IF(N5355=\"Maskinstation\",FALSE,OR(L5354<>0,N5358<>0,Q5355<>0,S5355<>0))","v":false},null,null,null,null,"nr.","id","Maskiner",null,null,null,{"$f":"VLOOKUP(F5355,$L$85:$AH$134,2,FALSE)","v":0}]
[{"$f":"A5355","v":false},null,null,null,null,null,null,null,null,null,null,"FO (faste omk.):",null,{"$f":"+S5356*S5355","v":0},"FE (faste enh. omk.):",null,{"$f":"IFERROR(N5356/Q5355,0)","v":0},{"$f":"\"kr./\"&R5355","v":"kr./ha."},{"$f":"SUMIF(A5360:A5410,TRUE,J5360:J5410)","v":0},"kr./tim."]
[false,null,null,null,null,null,null,null,null,null,null,"VO (var. omk.):",null,{"$f":"+S5355*S5357","v":0},"VE (var. enh. omk.):",null,{"$f":"IFERROR(N5357/Q5355,0)","v":0},{"$f":"+R5356","v":"kr./ha."},{"$f":"SUMIF(A5360:A5410,TRUE,I5360:I5410)","v":0},"kr./tim."]
[{"$f":"CheckOne(H5355,F5360)","v":false},null,null,null,null,{"$f":"_xlfn.ANCHORARRAY($J$31)","v":0},null,null,{"$f":"VLOOKUP(_xlfn.ANCHORARRAY(L5360),$L$31:$AE$80,17,FALSE)","v":0},{"$f":"VLOOKUP(_xlfn.ANCHORARRAY(L5360),$L$31:$AE$80,20,FALSE)-_xlfn.ANCHORARRAY(I5360)","v":0},null,{"$f":"$L$31:$L$80","v":1},{"$f":"$M$31:$M$80","v":0},null,null,null,{"$f":"_xlfn.ANCHORARRAY(S5360)/O5355","v":0},{"$f":"+R5358","v":"kr./ha."},{"$f":"$AE$31:$AE$80","v":0},"kr./tim."]
[{"$f":"CheckOne(H5355,F5361)","v":false},null,null,null,null,3,null,null,0,0,null,2,0,null,null,null,0,{"$f":"+R5360","v":"kr./ha."},0,"kr./tim."]
[{"$f":"CheckOne(H5355,F5363)","v":false},null,null,null,null,4,null,null,0,0,null,4,0,null,null,null,0,"kr./ha.",0,"kr./tim."]
[{"$f":"CheckOne(H5355,F5364)","v":false},null,null,null,null,1,null,null,0,0,null,5,0,null,null,null,0,"kr./ha.",0,"kr./tim."]
[{"$f":"CheckOne(H5355,F5367)","v":false},null,null,null,null,7,null,null,0,0,null,8,0,null,null,null,0,"kr./ha.",0,"kr./tim."]
[{"$f":"CheckOne(H5355,F5368)","v":false},null,null,null,null,8,null,null,0,0,null,9,0,null,null,null,0,"kr./ha.",0,"kr./tim."]
[{"$f":"CheckOne(H5355,F5370)","v":false},null,null,null,null,10,null,null,0,0,null,11,0,null,null,null,0,"kr./ha.",0,"kr./tim."]
[{"$f":"CheckOne(H5355,F5371)","v":false},null,null,null,null,11,null,null,0,0,null,12,0,null,null,null,0,"kr./ha.",0,"kr./tim."]
[{"$f":"CheckOne(H5355,F5374)","v":false},null,null,null,null,14,null,null,0,0,null,15,0,null,null,null,0,"kr./ha.",0,"kr./tim."]
[{"$f":"CheckOne(H5355,F5375)","v":false},null,null,null,null,15,null,null,0,0,null,16,0,null,null,null,0,"kr./ha.",0,"kr./tim."]
[{"$f":"CheckOne(H5355,F5377)","v":false},null,null,null,null,17,null,null,0,0,null,18,0,null,null,null,0,"kr./ha.",0,"kr./tim."]
[{"$f":"CheckOne(H5355,F5378)","v":false},null,null,null,null,18,null,null,0,0,null,19,0,null,null,null,0,"kr./ha.",0,"kr./tim."]
[{"$f":"CheckOne(H5355,F5381)","v":false},null,null,null,null,21,null,null,0,0,null,22,0,null,null,null,0,"kr./ha.",0,"kr./tim."]
[{"$f":"CheckOne(H5355,F5382)","v":false},null,null,null,null,22,null,null,0,0,null,23,0,null,null,null,0,"kr./ha.",0,"kr./tim."]
[{"$f":"CheckOne(H5355,F5384)","v":false},null,null,null,null,24,null,null,0,0,null,25,0,null,null,null,0,"kr./ha.",0,"kr./tim."]
[{"$f":"CheckOne(H5355,F5385)","v":false},null,null,null,null,25,null,null,0,0,null,26,0,null,null,null,0,"kr./ha.",0,"kr./tim."]
[{"$f":"CheckOne(H5355,F5388)","v":false},null,null,null,null,28,null,null,0,0,null,29,0,null,null,null,0,"kr./ha.",0,"kr./tim."]
[{"$f":"CheckOne(H5355,F5389)","v":false},null,null,null,null,29,null,null,0,0,null,30,0,null,null,null,0,"kr./ha.",0,"kr./tim."]
[{"$f":"CheckOne(H5355,F5391)","v":false},null,null,null,null,31,null,null,0,0,null,32,0,null,null,null,0,"kr./ha.",0,"kr./tim."]
[{"$f":"CheckOne(H5355,F5392)","v":false},null,null,null,null,32,null,null,0,0,null,33,0,null,null,null,0,"kr./ha.",0,"kr./tim."]
[{"$f":"CheckOne(H5355,F5394)","v":false},null,null,null,null,34,null,null,0,0,null,35,0,null,null,null,0,"kr./ha.",0,"kr./tim."]
[{"$f":"CheckOne(H5355,F5395)","v":false},null,null,null,null,35,null,null,0,0,null,36,0,null,null,null,0,"kr./ha.",0,"kr./tim."]
[{"$f":"CheckOne(H5355,F5398)","v":false},null,null,null,null,38,null,null,0,0,null,39,0,null,null,null,0,"kr./ha.",0,"kr./tim."]
[{"$f":"CheckOne(H5355,F5399)","v":false},null,null,null,null,39,null,null,0,0,null,40,0,null,null,null,0,"kr./ha.",0,"kr./tim."]
[{"$f":"CheckOne(H5355,F5401)","v":false},null,null,null,null,41,null,null,0,0,null,42,0,null,null,null,0,"kr./ha.",0,"kr./tim."]
[{"$f":"CheckOne(H5355,F5402)","v":false},null,null,null,null,42,null,null,0,0,null,43,0,null,null,null,0,"kr./ha.",0,"kr./tim."]
[{"$f":"CheckOne(H5355,F5405)","v":false},null,null,null,null,45,null,null,0,0,null,46,0,null,null,null,0,"kr./ha.",0,"kr./tim."]
[{"$f":"CheckOne(H5355,F5406)","v":false},null,null,null,null,46,null,null,0,0,null,47,0,null,null,null,0,"kr./ha.",0,"kr./tim."]
[{"$f":"CheckOne(H5355,F5408)","v":false},null,null,null,null,48,null,null,0,0,null,49,0,null,null,null,0,"kr./ha.",0,"kr./tim."]
[{"$f":"CheckOne(H5355,F5409)","v":false},null,null,null,null,49,null,null,0,0,null,50,0,null,null,null,0,"kr./ha.",0,"kr./tim."]
[{"$f":"IF(N5413=\"Maskinstation\",FALSE,OR(L5412<>0,N5416<>0,Q5413<>0,S5413<>0))","v":false},null,null,null,null,"nr.","id","Maskiner",null,null,null,{"$f":"VLOOKUP(F5413,$L$85:$AH$134,2,FALSE)","v":0}]
[{"$f":"A5412","v":false},null,null,null,null,{"$f":"1+F5355","v":41},{"$f":"VLOOKUP(F5413,$F$85:$J$134,5,FALSE)","v":40},{"$f":"VLOOKUP(F5413,$F$85:$I$134,4,FALSE)","v":""},null,null,null,"Type:",null,{"$f":"VLOOKUP(F5413,$L$85:$AH$134,5,FALSE)","v":"Intern"},{"$f":"VLOOKUP(F5413,$L$85:$AH$134,19,FALSE)","v":1},{"$f":"R5413&\"/time\"","v":"ha./time"},{"$f":"VLOOKUP(F5413,$L$85:$AH$134,15,FALSE)","v":0},{"$f":"VLOOKUP(F5413,$L$85:$AH$134,16,FALSE)","v":"ha."},{"$f":"VLOOKUP(F5413,$L$85:$AH$134,17,FALSE)","v":0},"timer"]
[false,null,null,null,null,null,null,null,null,null,null,"VO (var. omk.):",null,{"$f":"+S5413*S5415","v":0},"VE (var. enh. omk.):",null,{"$f":"IFERROR(N5415/Q5413,0)","v":0},{"$f":"+R5414","v":"kr./ha."},{"$f":"SUMIF(A5418:A5468,TRUE,I5418:I5468)","v":0},"kr./tim."]
[false,null,null,null,null,null,null,null,null,null,null,"TO (totae omk.):",null,{"$f":"+N5415+N5414","v":0},"TE (totale enh. omk.):",null,{"$f":"+Q5415+Q5414","v":0},{"$f":"+R5415","v":"kr./ha."},{"$f":"+S5415+S5414","v":0},"kr./tim."]
[{"$f":"CheckOne(H5413,F5419)","v":false},null,null,null,null,3,null,null,0,0,null,2,0,null,null,null,0,{"$f":"+R5418","v":"kr./ha."},0,"kr./tim."]
[{"$f":"CheckOne(H5413,F5420)","v":false},null,null,null,null,5,null,null,0,0,null,3,0,null,null,null,0,{"$f":"+R5419","v":"kr./ha."},0,"kr./tim."]
[{"$f":"CheckOne(H5413,F5422)","v":false},null,null,null,null,1,null,null,0,0,null,5,0,null,null,null,0,"kr./ha.",0,"kr./tim."]
[{"$f":"CheckOne(H5413,F5423)","v":false},null,null,null,null,2,null,null,0,0,null,6,0,null,null,null,0,"kr./ha.",0,"kr./tim."]
[{"$f":"CheckOne(H5413,F5426)","v":false},null,null,null,null,8,null,null,0,0,null,9,0,null,null,null,0,"kr./ha.",0,"kr./tim."]
[{"$f":"CheckOne(H5413,F5427)","v":false},null,null,null,null,9,null,null,0,0,null,10,0,null,null,null,0,"kr./ha.",0,"kr./tim."]
[{"$f":"CheckOne(H5413,F5429)","v":false},null,null,null,null,11,null,null,0,0,null,12,0,null,null,null,0,"kr./ha.",0,"kr./tim."]
[{"$f":"CheckOne(H5413,F5430)","v":false},null,null,null,null,12,null,null,0,0,null,13,0,null,null,null,0,"kr./ha.",0,"kr./tim."]
[{"$f":"CheckOne(H5413,F5433)","v":false},null,null,null,null,15,null,null,0,0,null,16,0,null,null,null,0,"kr./ha.",0,"kr./tim."]
[{"$f":"CheckOne(H5413,F5434)","v":false},null,null,null,null,16,null,null,0,0,null,17,0,null,null,null,0,"kr./ha.",0,"kr./tim."]
[{"$f":"CheckOne(H5413,F5436)","v":false},null,null,null,null,18,null,null,0,0,null,19,0,null,null,null,0,"kr./ha.",0,"kr./tim."]
[{"$f":"CheckOne(H5413,F5437)","v":false},null,null,null,null,19,null,null,0,0,null,20,0,null,null,null,0,"kr./ha.",0,"kr./tim."]
[{"$f":"CheckOne(H5413,F5440)","v":false},null,null,null,null,22,null,null,0,0,null,23,0,null,null,null,0,"kr./ha.",0,"kr./tim."]
[{"$f":"CheckOne(H5413,F5441)","v":false},null,null,null,null,23,null,null,0,0,null,24,0,null,null,null,0,"kr./ha.",0,"kr./tim."]
[{"$f":"CheckOne(H5413,F5443)","v":false},null,null,null,null,25,null,null,0,0,null,26,0,null,null,null,0,"kr./ha.",0,"kr./tim."]
[{"$f":"CheckOne(H5413,F5444)","v":false},null,null,null,null,26,null,null,0,0,null,27,0,null,null,null,0,"kr./ha.",0,"kr./tim."]
[{"$f":"CheckOne(H5413,F5447)","v":false},null,null,null,null,29,null,null,0,0,null,30,0,null,null,null,0,"kr./ha.",0,"kr./tim."]
[{"$f":"CheckOne(H5413,F5448)","v":false},null,null,null,null,30,null,null,0,0,null,31,0,null,null,null,0,"kr./ha.",0,"kr./tim."]
[{"$f":"CheckOne(H5413,F5450)","v":false},null,null,null,null,32,null,null,0,0,null,33,0,null,null,null,0,"kr./ha.",0,"kr./tim."]
[{"$f":"CheckOne(H5413,F5451)","v":false},null,null,null,null,33,null,null,0,0,null,34,0,null,null,null,0,"kr./ha.",0,"kr./tim."]
[{"$f":"CheckOne(H5413,F5454)","v":false},null,null,null,null,36,null,null,0,0,null,37,0,null,null,null,0,"kr./ha.",0,"kr./tim."]
[{"$f":"CheckOne(H5413,F5455)","v":false},null,null,null,null,37,null,null,0,0,null,38,0,null,null,null,0,"kr./ha.",0,"kr./tim."]
[{"$f":"CheckOne(H5413,F5457)","v":false},null,null,null,null,39,null,null,0,0,null,40,0,null,null,null,0,"kr./ha.",0,"kr./tim."]
[{"$f":"CheckOne(H5413,F5458)","v":false},null,null,null,null,40,null,null,0,0,null,41,0,null,null,null,0,"kr./ha.",0,"kr./tim."]
[{"$f":"CheckOne(H5413,F5461)","v":false},null,null,null,null,43,null,null,0,0,null,44,0,null,null,null,0,"kr./ha.",0,"kr./tim."]
[{"$f":"CheckOne(H5413,F5462)","v":false},null,null,null,null,44,null,null,0,0,null,45,0,null,null,null,0,"kr./ha.",0,"kr./tim."]
[{"$f":"CheckOne(H5413,F5464)","v":false},null,null,null,null,46,null,null,0,0,null,47,0,null,null,null,0,"kr./ha.",0,"kr./tim."]
[{"$f":"CheckOne(H5413,F5465)","v":false},null,null,null,null,47,null,null,0,0,null,48,0,null,null,null,0,"kr./ha.",0,"kr./tim."]
[{"$f":"OR(N5468>0)","v":false},null,null,null,null,null,null,null,{"$f":"+S5468","v":0},0,null,null,"Arbejdsløn:",{"$f":"VLOOKUP(F5413,$L$85:$AH$134,14,FALSE)","v":0},"medarbejder",null,{"$f":"+S5468/O5413","v":0},"kr./ha.",{"$f":"+Maskiner!$Z$17*N5468","v":0},"kr./tim."]
[{"$f":"IF(N5470=\"Maskinstation\",FALSE,OR(L5469<>0,N5473<>0,Q5470<>0,S5470<>0))","v":false}]
[{"$f":"A5470","v":false},null,null,null,null,{"$f":"1+F5413","v":42},{"$f":"VLOOKUP(F5471,$F$85:$J$134,5,FALSE)","v":41},{"$f":"VLOOKUP(F5471,$F$85:$I$134,4,FALSE)","v":""},null,null,null,"Type:",null,{"$f":"VLOOKUP(F5471,$L$85:$AH$134,5,FALSE)","v":"Intern"},{"$f":"VLOOKUP(F5471,$L$85:$AH$134,19,FALSE)","v":1},{"$f":"R5471&\"/time\"","v":"ha./time"},{"$f":"VLOOKUP(F5471,$L$85:$AH$134,15,FALSE)","v":0},{"$f":"VLOOKUP(F5471,$L$85:$AH$134,16,FALSE)","v":"ha."},{"$f":"VLOOKUP(F5471,$L$85:$AH$134,17,FALSE)","v":0},"timer"]
[{"$f":"A5471","v":false},null,null,null,null,null,null,null,null,null,null,"FO (faste omk.):",null,{"$f":"+S5472*S5471","v":0},"FE (faste enh. omk.):",null,{"$f":"IFERROR(N5472/Q5471,0)","v":0},{"$f":"\"kr./\"&R5471","v":"kr./ha."},{"$f":"SUMIF(A5476:A5526,TRUE,J5476:J5526)","v":0},"kr./tim."]
[false,null,null,null,null,"id",null,null,"VE/tim","FE",null,null,null,null,"Maskinstationspris",null,{"$f":"VLOOKUP(F5471,$L$85:$AH$134,23,FALSE)","v":0},{"$f":"+R5474","v":"kr./ha."}]
[{"$f":"CheckOne(H5471,F5476)","v":false},null,null,null,null,{"$f":"_xlfn.ANCHORARRAY($J$31)","v":0},null,null,{"$f":"VLOOKUP(_xlfn.ANCHORARRAY(L5476),$L$31:$AE$80,17,FALSE)","v":0},{"$f":"VLOOKUP(_xlfn.ANCHORARRAY(L5476),$L$31:$AE$80,20,FALSE)-_xlfn.ANCHORARRAY(I5476)","v":0},null,{"$f":"$L$31:$L$80","v":1},{"$f":"$M$31:$M$80","v":0},null,null,null,{"$f":"_xlfn.ANCHORARRAY(S5476)/O5471","v":0},{"$f":"+R5474","v":"kr./ha."},{"$f":"$AE$31:$AE$80","v":0},"kr./tim."]
[{"$f":"CheckOne(H5471,F5478)","v":false},null,null,null,null,5,null,null,0,0,null,3,0,null,null,null,0,{"$f":"+R5477","v":"kr./ha."},0,"kr./tim."]
[{"$f":"CheckOne(H5471,F5479)","v":false},null,null,null,null,4,null,null,0,0,null,4,0,null,null,null,0,"kr./ha.",0,"kr./tim."]
[{"$f":"CheckOne(H5471,F5482)","v":false},null,null,null,null,6,null,null,0,0,null,7,0,null,null,null,0,"kr./ha.",0,"kr./tim."]
[{"$f":"CheckOne(H5471,F5483)","v":false},null,null,null,null,7,null,null,0,0,null,8,0,null,null,null,0,"kr./ha.",0,"kr./tim."]
[{"$f":"CheckOne(H5471,F5485)","v":false},null,null,null,null,9,null,null,0,0,null,10,0,null,null,null,0,"kr./ha.",0,"kr./tim."]
[{"$f":"CheckOne(H5471,F5486)","v":false},null,null,null,null,10,null,null,0,0,null,11,0,null,null,null,0,"kr./ha.",0,"kr./tim."]
[{"$f":"CheckOne(H5471,F5489)","v":false},null,null,null,null,13,null,null,0,0,null,14,0,null,null,null,0,"kr./ha.",0,"kr./tim."]
[{"$f":"CheckOne(H5471,F5490)","v":false},null,null,null,null,14,null,null,0,0,null,15,0,null,null,null,0,"kr./ha.",0,"kr./tim."]
[{"$f":"CheckOne(H5471,F5492)","v":false},null,null,null,null,16,null,null,0,0,null,17,0,null,null,null,0,"kr./ha.",0,"kr./tim."]
[{"$f":"CheckOne(H5471,F5493)","v":false},null,null,null,null,17,null,null,0,0,null,18,0,null,null,null,0,"kr./ha.",0,"kr./tim."]
[{"$f":"CheckOne(H5471,F5494)","v":false},null,null,null,null,18,null,null,0,0,null,19,0,null,null,null,0,"kr./ha.",0,"kr./tim."]
[{"$f":"CheckOne(H5471,F5495)","v":false},null,null,null,null,19,null,null,0,0,null,20,0,null,null,null,0,"kr./ha.",0,"kr./tim."]
[{"$f":"CheckOne(H5471,F5496)","v":false},null,null,null,null,20,null,null,0,0,null,21,0,null,null,null,0,"kr./ha.",0,"kr./tim."]
[{"$f":"CheckOne(H5471,F5497)","v":false},null,null,null,null,21,null,null,0,0,null,22,0,null,null,null,0,"kr./ha.",0,"kr./tim."]
[{"$f":"CheckOne(H5471,F5498)","v":false},null,null,null,null,22,null,null,0,0,null,23,0,null,null,null,0,"kr./ha.",0,"kr./tim."]
[{"$f":"CheckOne(H5471,F5499)","v":false},null,null,null,null,23,null,null,0,0,null,24,0,null,null,null,0,"kr./ha.",0,"kr./tim."]
[{"$f":"CheckOne(H5471,F5500)","v":false},null,null,null,null,24,null,null,0,0,null,25,0,null,null,null,0,"kr./ha.",0,"kr./tim."]
[{"$f":"CheckOne(H5471,F5501)","v":false},null,null,null,null,25,null,null,0,0,null,26,0,null,null,null,0,"kr./ha.",0,"kr./tim."]
[{"$f":"CheckOne(H5471,F5502)","v":false},null,null,null,null,26,null,null,0,0,null,27,0,null,null,null,0,"kr./ha.",0,"kr./tim."]
[{"$f":"CheckOne(H5471,F5503)","v":false},null,null,null,null,27,null,null,0,0,null,28,0,null,null,null,0,"kr./ha.",0,"kr./tim."]
[{"$f":"CheckOne(H5471,F5504)","v":false},null,null,null,null,28,null,null,0,0,null,29,0,null,null,null,0,"kr./ha.",0,"kr./tim."]
[{"$f":"CheckOne(H5471,F5505)","v":false},null,null,null,null,29,null,null,0,0,null,30,0,null,null,null,0,"kr./ha.",0,"kr./tim."]
[{"$f":"CheckOne(H5471,F5506)","v":false},null,null,null,null,30,null,null,0,0,null,31,0,null,null,null,0,"kr./ha.",0,"kr./tim."]
[{"$f":"CheckOne(H5471,F5507)","v":false},null,null,null,null,31,null,null,0,0,null,32,0,null,null,null,0,"kr./ha.",0,"kr./tim."]
[{"$f":"CheckOne(H5471,F5508)","v":false},null,null,null,null,32,null,null,0,0,null,33,0,null,null,null,0,"kr./ha.",0,"kr./tim."]
[{"$f":"CheckOne(H5471,F5509)","v":false},null,null,null,null,33,null,null,0,0,null,34,0,null,null,null,0,"kr./ha.",0,"kr./tim."]
[{"$f":"CheckOne(H5471,F5510)","v":false},null,null,null,null,34,null,null,0,0,null,35,0,null,null,null,0,"kr./ha.",0,"kr./tim."]
[{"$f":"CheckOne(H5471,F5511)","v":false},null,null,null,null,35,null,null,0,0,null,36,0,null,null,null,0,"kr./ha.",0,"kr./tim."]
[{"$f":"CheckOne(H5471,F5512)","v":false},null,null,null,null,36,null,null,0,0,null,37,0,null,null,null,0,"kr./ha.",0,"kr./tim."]
[{"$f":"CheckOne(H5471,F5513)","v":false},null,null,null,null,37,null,null,0,0,null,38,0,null,null,null,0,"kr./ha.",0,"kr./tim."]
[{"$f":"CheckOne(H5471,F5514)","v":false},null,null,null,null,38,null,null,0,0,null,39,0,null,null,null,0,"kr./ha.",0,"kr./tim."]
[{"$f":"CheckOne(H5471,F5515)","v":false},null,null,null,null,39,null,null,0,0,null,40,0,null,null,null,0,"kr./ha.",0,"kr./tim."]
[{"$f":"CheckOne(H5471,F5516)","v":false},null,null,null,null,40,null,null,0,0,null,41,0,null,null,null,0,"kr./ha.",0,"kr./tim."]
[{"$f":"CheckOne(H5471,F5517)","v":false},null,null,null,null,41,null,null,0,0,null,42,0,null,null,null,0,"kr./ha.",0,"kr./tim."]
[{"$f":"CheckOne(H5471,F5518)","v":false},null,null,null,null,42,null,null,0,0,null,43,0,null,null,null,0,"kr./ha.",0,"kr./tim."]
[{"$f":"CheckOne(H5471,F5519)","v":false},null,null,null,null,43,null,null,0,0,null,44,0,null,null,null,0,"kr./ha.",0,"kr./tim."]
[{"$f":"CheckOne(H5471,F5520)","v":false},null,null,null,null,44,null,null,0,0,null,45,0,null,null,null,0,"kr./ha.",0,"kr./tim."]
[{"$f":"CheckOne(H5471,F5521)","v":false},null,null,null,null,45,null,null,0,0,null,46,0,null,null,null,0,"kr./ha.",0,"kr./tim."]
[{"$f":"CheckOne(H5471,F5522)","v":false},null,null,null,null,46,null,null,0,0,null,47,0,null,null,null,0,"kr./ha.",0,"kr./tim."]
[{"$f":"CheckOne(H5471,F5523)","v":false},null,null,null,null,47,null,null,0,0,null,48,0,null,null,null,0,"kr./ha.",0,"kr./tim."]
[{"$f":"CheckOne(H5471,F5524)","v":false},null,null,null,null,48,null,null,0,0,null,49,0,null,null,null,0,"kr./ha.",0,"kr./tim."]
[{"$f":"CheckOne(H5471,F5525)","v":false},null,null,null,null,49,null,null,0,0,null,50,0,null,null,null,0,"kr./ha.",0,"kr./tim."]
[{"$f":"OR(N5526>0)","v":false},null,null,null,null,null,null,null,{"$f":"+S5526","v":0},0,null,null,"Arbejdsløn:",{"$f":"VLOOKUP(F5471,$L$85:$AH$134,14,FALSE)","v":0},"medarbejder",null,{"$f":"+S5526/O5471","v":0},"kr./ha.",{"$f":"+Maskiner!$Z$17*N5526","v":0},"kr./tim."]
[{"$f":"IF(N5528=\"Maskinstation\",FALSE,OR(L5527<>0,N5531<>0,Q5528<>0,S5528<>0))","v":false}]
[{"$f":"IF(N5529=\"Maskinstation\",FALSE,OR(L5528<>0,N5532<>0,Q5529<>0,S5529<>0))","v":false},null,null,null,null,"nr.","id","Maskiner",null,null,null,{"$f":"VLOOKUP(F5529,$L$85:$AH$134,2,FALSE)","v":0}]
[{"$f":"A5528","v":false},null,null,null,null,{"$f":"1+F5471","v":43},{"$f":"VLOOKUP(F5529,$F$85:$J$134,5,FALSE)","v":42},{"$f":"VLOOKUP(F5529,$F$85:$I$134,4,FALSE)","v":""},null,null,null,"Type:",null,{"$f":"VLOOKUP(F5529,$L$85:$AH$134,5,FALSE)","v":"Intern"},{"$f":"VLOOKUP(F5529,$L$85:$AH$134,19,FALSE)","v":1},{"$f":"R5529&\"/time\"","v":"ha./time"},{"$f":"VLOOKUP(F5529,$L$85:$AH$134,15,FALSE)","v":0},{"$f":"VLOOKUP(F5529,$L$85:$AH$134,16,FALSE)","v":"ha."},{"$f":"VLOOKUP(F5529,$L$85:$AH$134,17,FALSE)","v":0},"timer"]
[{"$f":"A5529","v":false},null,null,null,null,null,null,null,null,null,null,"FO (faste omk.):",null,{"$f":"+S5530*S5529","v":0},"FE (faste enh. omk.):",null,{"$f":"IFERROR(N5530/Q5529,0)","v":0},{"$f":"\"kr./\"&R5529","v":"kr./ha."},{"$f":"SUMIF(A5534:A5584,TRUE,J5534:J5584)","v":0},"kr./tim."]
[false,null,null,null,null,null,null,null,null,null,null,"VO (var. omk.):",null,{"$f":"+S5529*S5531","v":0},"VE (var. enh. omk.):",null,{"$f":"IFERROR(N5531/Q5529,0)","v":0},{"$f":"+R5530","v":"kr./ha."},{"$f":"SUMIF(A5534:A5584,TRUE,I5534:I5584)","v":0},"kr./tim."]
[false,null,null,null,null,null,null,null,null,null,null,"TO (totae omk.):",null,{"$f":"+N5531+N5530","v":0},"TE (totale enh. omk.):",null,{"$f":"+Q5531+Q5530","v":0},{"$f":"+R5531","v":"kr./ha."},{"$f":"+S5531+S5530","v":0},"kr./tim."]
[false,null,null,null,null,"id",null,null,"VE/tim","FE",null,null,null,null,"Maskinstationspris",null,{"$f":"VLOOKUP(F5529,$L$85:$AH$134,23,FALSE)","v":0},{"$f":"+R5532","v":"kr./ha."}]
[{"$f":"CheckOne(H5529,F5534)","v":false},null,null,null,null,{"$f":"_xlfn.ANCHORARRAY($J$31)","v":0},null,null,{"$f":"VLOOKUP(_xlfn.ANCHORARRAY(L5534),$L$31:$AE$80,17,FALSE)","v":0},{"$f":"VLOOKUP(_xlfn.ANCHORARRAY(L5534),$L$31:$AE$80,20,FALSE)-_xlfn.ANCHORARRAY(I5534)","v":0},null,{"$f":"$L$31:$L$80","v":1},{"$f":"$M$31:$M$80","v":0},null,null,null,{"$f":"_xlfn.ANCHORARRAY(S5534)/O5529","v":0},{"$f":"+R5532","v":"kr./ha."},{"$f":"$AE$31:$AE$80","v":0},"kr./tim."]
[{"$f":"CheckOne(H5529,F5535)","v":false},null,null,null,null,3,null,null,0,0,null,2,0,null,null,null,0,{"$f":"+R5534","v":"kr./ha."},0,"kr./tim."]
[{"$f":"CheckOne(H5529,F5536)","v":false},null,null,null,null,5,null,null,0,0,null,3,0,null,null,null,0,{"$f":"+R5535","v":"kr./ha."},0,"kr./tim."]
[{"$f":"CheckOne(H5529,F5537)","v":false},null,null,null,null,4,null,null,0,0,null,4,0,null,null,null,0,"kr./ha.",0,"kr./tim."]
[{"$f":"CheckOne(H5529,F5538)","v":false},null,null,null,null,1,null,null,0,0,null,5,0,null,null,null,0,"kr./ha.",0,"kr./tim."]
[{"$f":"CheckOne(H5529,F5539)","v":false},null,null,null,null,2,null,null,0,0,null,6,0,null,null,null,0,"kr./ha.",0,"kr./tim."]
[{"$f":"CheckOne(H5529,F5540)","v":false},null,null,null,null,6,null,null,0,0,null,7,0,null,null,null,0,"kr./ha.",0,"kr./tim."]
[{"$f":"CheckOne(H5529,F5541)","v":false},null,null,null,null,7,null,null,0,0,null,8,0,null,null,null,0,"kr./ha.",0,"kr./tim."]
[{"$f":"CheckOne(H5529,F5542)","v":false},null,null,null,null,8,null,null,0,0,null,9,0,null,null,null,0,"kr./ha.",0,"kr./tim."]
[{"$f":"CheckOne(H5529,F5543)","v":false},null,null,null,null,9,null,null,0,0,null,10,0,null,null,null,0,"kr./ha.",0,"kr./tim."]
[{"$f":"CheckOne(H5529,F5544)","v":false},null,null,null,null,10,null,null,0,0,null,11,0,null,null,null,0,"kr./ha.",0,"kr./tim."]
[{"$f":"CheckOne(H5529,F5545)","v":false},null,null,null,null,11,null,null,0,0,null,12,0,null,null,null,0,"kr./ha.",0,"kr./tim."]
[{"$f":"CheckOne(H5529,F5546)","v":false},null,null,null,null,12,null,null,0,0,null,13,0,null,null,null,0,"kr./ha.",0,"kr./tim."]
[{"$f":"CheckOne(H5529,F5547)","v":false},null,null,null,null,13,null,null,0,0,null,14,0,null,null,null,0,"kr./ha.",0,"kr./tim."]
[{"$f":"CheckOne(H5529,F5548)","v":false},null,null,null,null,14,null,null,0,0,null,15,0,null,null,null,0,"kr./ha.",0,"kr./tim."]
[{"$f":"CheckOne(H5529,F5549)","v":false},null,null,null,null,15,null,null,0,0,null,16,0,null,null,null,0,"kr./ha.",0,"kr./tim."]
[{"$f":"CheckOne(H5529,F5550)","v":false},null,null,null,null,16,null,null,0,0,null,17,0,null,null,null,0,"kr./ha.",0,"kr./tim."]
[{"$f":"CheckOne(H5529,F5551)","v":false},null,null,null,null,17,null,null,0,0,null,18,0,null,null,null,0,"kr./ha.",0,"kr./tim."]
[{"$f":"CheckOne(H5529,F5552)","v":false},null,null,null,null,18,null,null,0,0,null,19,0,null,null,null,0,"kr./ha.",0,"kr./tim."]
[{"$f":"CheckOne(H5529,F5553)","v":false},null,null,null,null,19,null,null,0,0,null,20,0,null,null,null,0,"kr./ha.",0,"kr./tim."]
[{"$f":"CheckOne(H5529,F5554)","v":false},null,null,null,null,20,null,null,0,0,null,21,0,null,null,null,0,"kr./ha.",0,"kr./tim."]
[{"$f":"CheckOne(H5529,F5555)","v":false},null,null,null,null,21,null,null,0,0,null,22,0,null,null,null,0,"kr./ha.",0,"kr./tim."]
[{"$f":"CheckOne(H5529,F5556)","v":false},null,null,null,null,22,null,null,0,0,null,23,0,null,null,null,0,"kr./ha.",0,"kr./tim."]
[{"$f":"CheckOne(H5529,F5557)","v":false},null,null,null,null,23,null,null,0,0,null,24,0,null,null,null,0,"kr./ha.",0,"kr./tim."]
[{"$f":"CheckOne(H5529,F5558)","v":false},null,null,null,null,24,null,null,0,0,null,25,0,null,null,null,0,"kr./ha.",0,"kr./tim."]
[{"$f":"CheckOne(H5529,F5559)","v":false},null,null,null,null,25,null,null,0,0,null,26,0,null,null,null,0,"kr./ha.",0,"kr./tim."]
[{"$f":"CheckOne(H5529,F5560)","v":false},null,null,null,null,26,null,null,0,0,null,27,0,null,null,null,0,"kr./ha.",0,"kr./tim."]
[{"$f":"CheckOne(H5529,F5561)","v":false},null,null,null,null,27,null,null,0,0,null,28,0,null,null,null,0,"kr./ha.",0,"kr./tim."]
[{"$f":"CheckOne(H5529,F5562)","v":false},null,null,null,null,28,null,null,0,0,null,29,0,null,null,null,0,"kr./ha.",0,"kr./tim."]
[{"$f":"CheckOne(H5529,F5563)","v":false},null,null,null,null,29,null,null,0,0,null,30,0,null,null,null,0,"kr./ha.",0,"kr./tim."]
[{"$f":"CheckOne(H5529,F5564)","v":false},null,null,null,null,30,null,null,0,0,null,31,0,null,null,null,0,"kr./ha.",0,"kr./tim."]
[{"$f":"CheckOne(H5529,F5565)","v":false},null,null,null,null,31,null,null,0,0,null,32,0,null,null,null,0,"kr./ha.",0,"kr./tim."]
[{"$f":"CheckOne(H5529,F5566)","v":false},null,null,null,null,32,null,null,0,0,null,33,0,null,null,null,0,"kr./ha.",0,"kr./tim."]
[{"$f":"CheckOne(H5529,F5567)","v":false},null,null,null,null,33,null,null,0,0,null,34,0,null,null,null,0,"kr./ha.",0,"kr./tim."]
[{"$f":"CheckOne(H5529,F5568)","v":false},null,null,null,null,34,null,null,0,0,null,35,0,null,null,null,0,"kr./ha.",0,"kr./tim."]
[{"$f":"CheckOne(H5529,F5569)","v":false},null,null,null,null,35,null,null,0,0,null,36,0,null,null,null,0,"kr./ha.",0,"kr./tim."]
[{"$f":"CheckOne(H5529,F5570)","v":false},null,null,null,null,36,null,null,0,0,null,37,0,null,null,null,0,"kr./ha.",0,"kr./tim."]
[{"$f":"CheckOne(H5529,F5571)","v":false},null,null,null,null,37,null,null,0,0,null,38,0,null,null,null,0,"kr./ha.",0,"kr./tim."]
[{"$f":"CheckOne(H5529,F5572)","v":false},null,null,null,null,38,null,null,0,0,null,39,0,null,null,null,0,"kr./ha.",0,"kr./tim."]
[{"$f":"CheckOne(H5529,F5573)","v":false},null,null,null,null,39,null,null,0,0,null,40,0,null,null,null,0,"kr./ha.",0,"kr./tim."]
[{"$f":"CheckOne(H5529,F5574)","v":false},null,null,null,null,40,null,null,0,0,null,41,0,null,null,null,0,"kr./ha.",0,"kr./tim."]
[{"$f":"CheckOne(H5529,F5575)","v":false},null,null,null,null,41,null,null,0,0,null,42,0,null,null,null,0,"kr./ha.",0,"kr./tim."]
[{"$f":"CheckOne(H5529,F5576)","v":false},null,null,null,null,42,null,null,0,0,null,43,0,null,null,null,0,"kr./ha.",0,"kr./tim."]
[{"$f":"CheckOne(H5529,F5577)","v":false},null,null,null,null,43,null,null,0,0,null,44,0,null,null,null,0,"kr./ha.",0,"kr./tim."]
[{"$f":"CheckOne(H5529,F5578)","v":false},null,null,null,null,44,null,null,0,0,null,45,0,null,null,null,0,"kr./ha.",0,"kr./tim."]
[{"$f":"CheckOne(H5529,F5579)","v":false},null,null,null,null,45,null,null,0,0,null,46,0,null,null,null,0,"kr./ha.",0,"kr./tim."]
[{"$f":"CheckOne(H5529,F5580)","v":false},null,null,null,null,46,null,null,0,0,null,47,0,null,null,null,0,"kr./ha.",0,"kr./tim."]
[{"$f":"CheckOne(H5529,F5581)","v":false},null,null,null,null,47,null,null,0,0,null,48,0,null,null,null,0,"kr./ha.",0,"kr./tim."]
[{"$f":"CheckOne(H5529,F5582)","v":false},null,null,null,null,48,null,null,0,0,null,49,0,null,null,null,0,"kr./ha.",0,"kr./tim."]
[{"$f":"CheckOne(H5529,F5583)","v":false},null,null,null,null,49,null,null,0,0,null,50,0,null,null,null,0,"kr./ha.",0,"kr./tim."]
[{"$f":"OR(N5584>0)","v":false},null,null,null,null,null,null,null,{"$f":"+S5584","v":0},0,null,null,"Arbejdsløn:",{"$f":"VLOOKUP(F5529,$L$85:$AH$134,14,FALSE)","v":0},"medarbejder",null,{"$f":"+S5584/O5529","v":0},"kr./ha.",{"$f":"+Maskiner!$Z$17*N5584","v":0},"kr./tim."]
[{"$f":"IF(N5586=\"Maskinstation\",FALSE,OR(L5585<>0,N5589<>0,Q5586<>0,S5586<>0))","v":false}]
[{"$f":"IF(N5587=\"Maskinstation\",FALSE,OR(L5586<>0,N5590<>0,Q5587<>0,S5587<>0))","v":false},null,null,null,null,"nr.","id","Maskiner",null,null,null,{"$f":"VLOOKUP(F5587,$L$85:$AH$134,2,FALSE)","v":0}]
[{"$f":"A5586","v":false},null,null,null,null,{"$f":"1+F5529","v":44},{"$f":"VLOOKUP(F5587,$F$85:$J$134,5,FALSE)","v":43},{"$f":"VLOOKUP(F5587,$F$85:$I$134,4,FALSE)","v":""},null,null,null,"Type:",null,{"$f":"VLOOKUP(F5587,$L$85:$AH$134,5,FALSE)","v":"Intern"},{"$f":"VLOOKUP(F5587,$L$85:$AH$134,19,FALSE)","v":1},{"$f":"R5587&\"/time\"","v":"ha./time"},{"$f":"VLOOKUP(F5587,$L$85:$AH$134,15,FALSE)","v":0},{"$f":"VLOOKUP(F5587,$L$85:$AH$134,16,FALSE)","v":"ha."},{"$f":"VLOOKUP(F5587,$L$85:$AH$134,17,FALSE)","v":0},"timer"]
[{"$f":"A5587","v":false},null,null,null,null,null,null,null,null,null,null,"FO (faste omk.):",null,{"$f":"+S5588*S5587","v":0},"FE (faste enh. omk.):",null,{"$f":"IFERROR(N5588/Q5587,0)","v":0},{"$f":"\"kr./\"&R5587","v":"kr./ha."},{"$f":"SUMIF(A5592:A5642,TRUE,J5592:J5642)","v":0},"kr./tim."]
[false,null,null,null,null,null,null,null,null,null,null,"VO (var. omk.):",null,{"$f":"+S5587*S5589","v":0},"VE (var. enh. omk.):",null,{"$f":"IFERROR(N5589/Q5587,0)","v":0},{"$f":"+R5588","v":"kr./ha."},{"$f":"SUMIF(A5592:A5642,TRUE,I5592:I5642)","v":0},"kr./tim."]
[false,null,null,null,null,null,null,null,null,null,null,"TO (totae omk.):",null,{"$f":"+N5589+N5588","v":0},"TE (totale enh. omk.):",null,{"$f":"+Q5589+Q5588","v":0},{"$f":"+R5589","v":"kr./ha."},{"$f":"+S5589+S5588","v":0},"kr./tim."]
[false,null,null,null,null,"id",null,null,"VE/tim","FE",null,null,null,null,"Maskinstationspris",null,{"$f":"VLOOKUP(F5587,$L$85:$AH$134,23,FALSE)","v":0},{"$f":"+R5590","v":"kr./ha."}]
[{"$f":"CheckOne(H5587,F5592)","v":false},null,null,null,null,{"$f":"_xlfn.ANCHORARRAY($J$31)","v":0},null,null,{"$f":"VLOOKUP(_xlfn.ANCHORARRAY(L5592),$L$31:$AE$80,17,FALSE)","v":0},{"$f":"VLOOKUP(_xlfn.ANCHORARRAY(L5592),$L$31:$AE$80,20,FALSE)-_xlfn.ANCHORARRAY(I5592)","v":0},null,{"$f":"$L$31:$L$80","v":1},{"$f":"$M$31:$M$80","v":0},null,null,null,{"$f":"_xlfn.ANCHORARRAY(S5592)/O5587","v":0},{"$f":"+R5590","v":"kr./ha."},{"$f":"$AE$31:$AE$80","v":0},"kr./tim."]
[{"$f":"CheckOne(H5587,F5593)","v":false},null,null,null,null,3,null,null,0,0,null,2,0,null,null,null,0,{"$f":"+R5592","v":"kr./ha."},0,"kr./tim."]
[{"$f":"CheckOne(H5587,F5594)","v":false},null,null,null,null,5,null,null,0,0,null,3,0,null,null,null,0,{"$f":"+R5593","v":"kr./ha."},0,"kr./tim."]
[{"$f":"CheckOne(H5587,F5595)","v":false},null,null,null,null,4,null,null,0,0,null,4,0,null,null,null,0,"kr./ha.",0,"kr./tim."]
[{"$f":"CheckOne(H5587,F5596)","v":false},null,null,null,null,1,null,null,0,0,null,5,0,null,null,null,0,"kr./ha.",0,"kr./tim."]
[{"$f":"CheckOne(H5587,F5597)","v":false},null,null,null,null,2,null,null,0,0,null,6,0,null,null,null,0,"kr./ha.",0,"kr./tim."]
[{"$f":"CheckOne(H5587,F5598)","v":false},null,null,null,null,6,null,null,0,0,null,7,0,null,null,null,0,"kr./ha.",0,"kr./tim."]
[{"$f":"CheckOne(H5587,F5599)","v":false},null,null,null,null,7,null,null,0,0,null,8,0,null,null,null,0,"kr./ha.",0,"kr./tim."]
[{"$f":"CheckOne(H5587,F5600)","v":false},null,null,null,null,8,null,null,0,0,null,9,0,null,null,null,0,"kr./ha.",0,"kr./tim."]
[{"$f":"CheckOne(H5587,F5601)","v":false},null,null,null,null,9,null,null,0,0,null,10,0,null,null,null,0,"kr./ha.",0,"kr./tim."]
[{"$f":"CheckOne(H5587,F5602)","v":false},null,null,null,null,10,null,null,0,0,null,11,0,null,null,null,0,"kr./ha.",0,"kr./tim."]
[{"$f":"CheckOne(H5587,F5603)","v":false},null,null,null,null,11,null,null,0,0,null,12,0,null,null,null,0,"kr./ha.",0,"kr./tim."]
[{"$f":"CheckOne(H5587,F5604)","v":false},null,null,null,null,12,null,null,0,0,null,13,0,null,null,null,0,"kr./ha.",0,"kr./tim."]
[{"$f":"CheckOne(H5587,F5605)","v":false},null,null,null,null,13,null,null,0,0,null,14,0,null,null,null,0,"kr./ha.",0,"kr./tim."]
[{"$f":"CheckOne(H5587,F5606)","v":false},null,null,null,null,14,null,null,0,0,null,15,0,null,null,null,0,"kr./ha.",0,"kr./tim."]
[{"$f":"CheckOne(H5587,F5607)","v":false},null,null,null,null,15,null,null,0,0,null,16,0,null,null,null,0,"kr./ha.",0,"kr./tim."]
[{"$f":"CheckOne(H5587,F5608)","v":false},null,null,null,null,16,null,null,0,0,null,17,0,null,null,null,0,"kr./ha.",0,"kr./tim."]
[{"$f":"CheckOne(H5587,F5609)","v":false},null,null,null,null,17,null,null,0,0,null,18,0,null,null,null,0,"kr./ha.",0,"kr./tim."]
[{"$f":"CheckOne(H5587,F5610)","v":false},null,null,null,null,18,null,null,0,0,null,19,0,null,null,null,0,"kr./ha.",0,"kr./tim."]
[{"$f":"CheckOne(H5587,F5611)","v":false},null,null,null,null,19,null,null,0,0,null,20,0,null,null,null,0,"kr./ha.",0,"kr./tim."]
[{"$f":"CheckOne(H5587,F5612)","v":false},null,null,null,null,20,null,null,0,0,null,21,0,null,null,null,0,"kr./ha.",0,"kr./tim."]
[{"$f":"CheckOne(H5587,F5613)","v":false},null,null,null,null,21,null,null,0,0,null,22,0,null,null,null,0,"kr./ha.",0,"kr./tim."]
[{"$f":"CheckOne(H5587,F5614)","v":false},null,null,null,null,22,null,null,0,0,null,23,0,null,null,null,0,"kr./ha.",0,"kr./tim."]
[{"$f":"CheckOne(H5587,F5615)","v":false},null,null,null,null,23,null,null,0,0,null,24,0,null,null,null,0,"kr./ha.",0,"kr./tim."]
[{"$f":"CheckOne(H5587,F5616)","v":false},null,null,null,null,24,null,null,0,0,null,25,0,null,null,null,0,"kr./ha.",0,"kr./tim."]
[{"$f":"CheckOne(H5587,F5617)","v":false},null,null,null,null,25,null,null,0,0,null,26,0,null,null,null,0,"kr./ha.",0,"kr./tim."]
[{"$f":"CheckOne(H5587,F5618)","v":false},null,null,null,null,26,null,null,0,0,null,27,0,null,null,null,0,"kr./ha.",0,"kr./tim."]
[{"$f":"CheckOne(H5587,F5619)","v":false},null,null,null,null,27,null,null,0,0,null,28,0,null,null,null,0,"kr./ha.",0,"kr./tim."]
[{"$f":"CheckOne(H5587,F5620)","v":false},null,null,null,null,28,null,null,0,0,null,29,0,null,null,null,0,"kr./ha.",0,"kr./tim."]
[{"$f":"CheckOne(H5587,F5621)","v":false},null,null,null,null,29,null,null,0,0,null,30,0,null,null,null,0,"kr./ha.",0,"kr./tim."]
[{"$f":"CheckOne(H5587,F5622)","v":false},null,null,null,null,30,null,null,0,0,null,31,0,null,null,null,0,"kr./ha.",0,"kr./tim."]
[{"$f":"CheckOne(H5587,F5623)","v":false},null,null,null,null,31,null,null,0,0,null,32,0,null,null,null,0,"kr./ha.",0,"kr./tim."]
[{"$f":"CheckOne(H5587,F5624)","v":false},null,null,null,null,32,null,null,0,0,null,33,0,null,null,null,0,"kr./ha.",0,"kr./tim."]
[{"$f":"CheckOne(H5587,F5625)","v":false},null,null,null,null,33,null,null,0,0,null,34,0,null,null,null,0,"kr./ha.",0,"kr./tim."]
[{"$f":"CheckOne(H5587,F5626)","v":false},null,null,null,null,34,null,null,0,0,null,35,0,null,null,null,0,"kr./ha.",0,"kr./tim."]
[{"$f":"CheckOne(H5587,F5627)","v":false},null,null,null,null,35,null,null,0,0,null,36,0,null,null,null,0,"kr./ha.",0,"kr./tim."]
[{"$f":"CheckOne(H5587,F5628)","v":false},null,null,null,null,36,null,null,0,0,null,37,0,null,null,null,0,"kr./ha.",0,"kr./tim."]
[{"$f":"CheckOne(H5587,F5629)","v":false},null,null,null,null,37,null,null,0,0,null,38,0,null,null,null,0,"kr./ha.",0,"kr./tim."]
[{"$f":"CheckOne(H5587,F5630)","v":false},null,null,null,null,38,null,null,0,0,null,39,0,null,null,null,0,"kr./ha.",0,"kr./tim."]
[{"$f":"CheckOne(H5587,F5631)","v":false},null,null,null,null,39,null,null,0,0,null,40,0,null,null,null,0,"kr./ha.",0,"kr./tim."]
[{"$f":"CheckOne(H5587,F5632)","v":false},null,null,null,null,40,null,null,0,0,null,41,0,null,null,null,0,"kr./ha.",0,"kr./tim."]
[{"$f":"CheckOne(H5587,F5633)","v":false},null,null,null,null,41,null,null,0,0,null,42,0,null,null,null,0,"kr./ha.",0,"kr./tim."]
[{"$f":"CheckOne(H5587,F5634)","v":false},null,null,null,null,42,null,null,0,0,null,43,0,null,null,null,0,"kr./ha.",0,"kr./tim."]
[{"$f":"CheckOne(H5587,F5635)","v":false},null,null,null,null,43,null,null,0,0,null,44,0,null,null,null,0,"kr./ha.",0,"kr./tim."]
[{"$f":"CheckOne(H5587,F5636)","v":false},null,null,null,null,44,null,null,0,0,null,45,0,null,null,null,0,"kr./ha.",0,"kr./tim."]
[{"$f":"CheckOne(H5587,F5637)","v":false},null,null,null,null,45,null,null,0,0,null,46,0,null,null,null,0,"kr./ha.",0,"kr./tim."]
[{"$f":"CheckOne(H5587,F5638)","v":false},null,null,null,null,46,null,null,0,0,null,47,0,null,null,null,0,"kr./ha.",0,"kr./tim."]
[{"$f":"CheckOne(H5587,F5639)","v":false},null,null,null,null,47,null,null,0,0,null,48,0,null,null,null,0,"kr./ha.",0,"kr./tim."]
[{"$f":"CheckOne(H5587,F5640)","v":false},null,null,null,null,48,null,null,0,0,null,49,0,null,null,null,0,"kr./ha.",0,"kr./tim."]
[{"$f":"CheckOne(H5587,F5641)","v":false},null,null,null,null,49,null,null,0,0,null,50,0,null,null,null,0,"kr./ha.",0,"kr./tim."]
[{"$f":"OR(N5642>0)","v":false},null,null,null,null,null,null,null,{"$f":"+S5642","v":0},0,null,null,"Arbejdsløn:",{"$f":"VLOOKUP(F5587,$L$85:$AH$134,14,FALSE)","v":0},"medarbejder",null,{"$f":"+S5642/O5587","v":0},"kr./ha.",{"$f":"+Maskiner!$Z$17*N5642","v":0},"kr./tim."]
[{"$f":"IF(N5644=\"Maskinstation\",FALSE,OR(L5643<>0,N5647<>0,Q5644<>0,S5644<>0))","v":false}]
[{"$f":"IF(N5645=\"Maskinstation\",FALSE,OR(L5644<>0,N5648<>0,Q5645<>0,S5645<>0))","v":false},null,null,null,null,"nr.","id","Maskiner",null,null,null,{"$f":"VLOOKUP(F5645,$L$85:$AH$134,2,FALSE)","v":0}]
[{"$f":"A5644","v":false},null,null,null,null,{"$f":"1+F5587","v":45},{"$f":"VLOOKUP(F5645,$F$85:$J$134,5,FALSE)","v":44},{"$f":"VLOOKUP(F5645,$F$85:$I$134,4,FALSE)","v":""},null,null,null,"Type:",null,{"$f":"VLOOKUP(F5645,$L$85:$AH$134,5,FALSE)","v":"Intern"},{"$f":"VLOOKUP(F5645,$L$85:$AH$134,19,FALSE)","v":1},{"$f":"R5645&\"/time\"","v":"ha./time"},{"$f":"VLOOKUP(F5645,$L$85:$AH$134,15,FALSE)","v":0},{"$f":"VLOOKUP(F5645,$L$85:$AH$134,16,FALSE)","v":"ha."},{"$f":"VLOOKUP(F5645,$L$85:$AH$134,17,FALSE)","v":0},"timer"]
[{"$f":"A5645","v":false},null,null,null,null,null,null,null,null,null,null,"FO (faste omk.):",null,{"$f":"+S5646*S5645","v":0},"FE (faste enh. omk.):",null,{"$f":"IFERROR(N5646/Q5645,0)","v":0},{"$f":"\"kr./\"&R5645","v":"kr./ha."},{"$f":"SUMIF(A5650:A5700,TRUE,J5650:J5700)","v":0},"kr./tim."]
[false,null,null,null,null,null,null,null,null,null,null,"VO (var. omk.):",null,{"$f":"+S5645*S5647","v":0},"VE (var. enh. omk.):",null,{"$f":"IFERROR(N5647/Q5645,0)","v":0},{"$f":"+R5646","v":"kr./ha."},{"$f":"SUMIF(A5650:A5700,TRUE,I5650:I5700)","v":0},"kr./tim."]
[false,null,null,null,null,null,null,null,null,null,null,"TO (totae omk.):",null,{"$f":"+N5647+N5646","v":0},"TE (totale enh. omk.):",null,{"$f":"+Q5647+Q5646","v":0},{"$f":"+R5647","v":"kr./ha."},{"$f":"+S5647+S5646","v":0},"kr./tim."]
[false,null,null,null,null,"id",null,null,"VE/tim","FE",null,null,null,null,"Maskinstationspris",null,{"$f":"VLOOKUP(F5645,$L$85:$AH$134,23,FALSE)","v":0},{"$f":"+R5648","v":"kr./ha."}]
[{"$f":"CheckOne(H5645,F5650)","v":false},null,null,null,null,{"$f":"_xlfn.ANCHORARRAY($J$31)","v":0},null,null,{"$f":"VLOOKUP(_xlfn.ANCHORARRAY(L5650),$L$31:$AE$80,17,FALSE)","v":0},{"$f":"VLOOKUP(_xlfn.ANCHORARRAY(L5650),$L$31:$AE$80,20,FALSE)-_xlfn.ANCHORARRAY(I5650)","v":0},null,{"$f":"$L$31:$L$80","v":1},{"$f":"$M$31:$M$80","v":0},null,null,null,{"$f":"_xlfn.ANCHORARRAY(S5650)/O5645","v":0},{"$f":"+R5648","v":"kr./ha."},{"$f":"$AE$31:$AE$80","v":0},"kr./tim."]
[{"$f":"CheckOne(H5645,F5651)","v":false},null,null,null,null,3,null,null,0,0,null,2,0,null,null,null,0,{"$f":"+R5650","v":"kr./ha."},0,"kr./tim."]
[{"$f":"CheckOne(H5645,F5652)","v":false},null,null,null,null,5,null,null,0,0,null,3,0,null,null,null,0,{"$f":"+R5651","v":"kr./ha."},0,"kr./tim."]
[{"$f":"CheckOne(H5645,F5653)","v":false},null,null,null,null,4,null,null,0,0,null,4,0,null,null,null,0,"kr./ha.",0,"kr./tim."]
[{"$f":"CheckOne(H5645,F5654)","v":false},null,null,null,null,1,null,null,0,0,null,5,0,null,null,null,0,"kr./ha.",0,"kr./tim."]
[{"$f":"CheckOne(H5645,F5655)","v":false},null,null,null,null,2,null,null,0,0,null,6,0,null,null,null,0,"kr./ha.",0,"kr./tim."]
[{"$f":"CheckOne(H5645,F5656)","v":false},null,null,null,null,6,null,null,0,0,null,7,0,null,null,null,0,"kr./ha.",0,"kr./tim."]
[{"$f":"CheckOne(H5645,F5657)","v":false},null,null,null,null,7,null,null,0,0,null,8,0,null,null,null,0,"kr./ha.",0,"kr./tim."]
[{"$f":"CheckOne(H5645,F5658)","v":false},null,null,null,null,8,null,null,0,0,null,9,0,null,null,null,0,"kr./ha.",0,"kr./tim."]
[{"$f":"CheckOne(H5645,F5659)","v":false},null,null,null,null,9,null,null,0,0,null,10,0,null,null,null,0,"kr./ha.",0,"kr./tim."]
[{"$f":"CheckOne(H5645,F5660)","v":false},null,null,null,null,10,null,null,0,0,null,11,0,null,null,null,0,"kr./ha.",0,"kr./tim."]
[{"$f":"CheckOne(H5645,F5661)","v":false},null,null,null,null,11,null,null,0,0,null,12,0,null,null,null,0,"kr./ha.",0,"kr./tim."]
[{"$f":"CheckOne(H5645,F5662)","v":false},null,null,null,null,12,null,null,0,0,null,13,0,null,null,null,0,"kr./ha.",0,"kr./tim."]
[{"$f":"CheckOne(H5645,F5663)","v":false},null,null,null,null,13,null,null,0,0,null,14,0,null,null,null,0,"kr./ha.",0,"kr./tim."]
[{"$f":"CheckOne(H5645,F5664)","v":false},null,null,null,null,14,null,null,0,0,null,15,0,null,null,null,0,"kr./ha.",0,"kr./tim."]
[{"$f":"CheckOne(H5645,F5665)","v":false},null,null,null,null,15,null,null,0,0,null,16,0,null,null,null,0,"kr./ha.",0,"kr./tim."]
[{"$f":"CheckOne(H5645,F5666)","v":false},null,null,null,null,16,null,null,0,0,null,17,0,null,null,null,0,"kr./ha.",0,"kr./tim."]
[{"$f":"CheckOne(H5645,F5667)","v":false},null,null,null,null,17,null,null,0,0,null,18,0,null,null,null,0,"kr./ha.",0,"kr./tim."]
[{"$f":"CheckOne(H5645,F5668)","v":false},null,null,null,null,18,null,null,0,0,null,19,0,null,null,null,0,"kr./ha.",0,"kr./tim."]
[{"$f":"CheckOne(H5645,F5669)","v":false},null,null,null,null,19,null,null,0,0,null,20,0,null,null,null,0,"kr./ha.",0,"kr./tim."]
[{"$f":"CheckOne(H5645,F5670)","v":false},null,null,null,null,20,null,null,0,0,null,21,0,null,null,null,0,"kr./ha.",0,"kr./tim."]
[{"$f":"CheckOne(H5645,F5671)","v":false},null,null,null,null,21,null,null,0,0,null,22,0,null,null,null,0,"kr./ha.",0,"kr./tim."]
[{"$f":"CheckOne(H5645,F5672)","v":false},null,null,null,null,22,null,null,0,0,null,23,0,null,null,null,0,"kr./ha.",0,"kr./tim."]
[{"$f":"CheckOne(H5645,F5673)","v":false},null,null,null,null,23,null,null,0,0,null,24,0,null,null,null,0,"kr./ha.",0,"kr./tim."]
[{"$f":"CheckOne(H5645,F5674)","v":false},null,null,null,null,24,null,null,0,0,null,25,0,null,null,null,0,"kr./ha.",0,"kr./tim."]
[{"$f":"CheckOne(H5645,F5675)","v":false},null,null,null,null,25,null,null,0,0,null,26,0,null,null,null,0,"kr./ha.",0,"kr./tim."]
[{"$f":"CheckOne(H5645,F5676)","v":false},null,null,null,null,26,null,null,0,0,null,27,0,null,null,null,0,"kr./ha.",0,"kr./tim."]
[{"$f":"CheckOne(H5645,F5677)","v":false},null,null,null,null,27,null,null,0,0,null,28,0,null,null,null,0,"kr./ha.",0,"kr./tim."]
[{"$f":"CheckOne(H5645,F5678)","v":false},null,null,null,null,28,null,null,0,0,null,29,0,null,null,null,0,"kr./ha.",0,"kr./tim."]
[{"$f":"CheckOne(H5645,F5679)","v":false},null,null,null,null,29,null,null,0,0,null,30,0,null,null,null,0,"kr./ha.",0,"kr./tim."]
[{"$f":"CheckOne(H5645,F5680)","v":false},null,null,null,null,30,null,null,0,0,null,31,0,null,null,null,0,"kr./ha.",0,"kr./tim."]
[{"$f":"CheckOne(H5645,F5681)","v":false},null,null,null,null,31,null,null,0,0,null,32,0,null,null,null,0,"kr./ha.",0,"kr./tim."]
[{"$f":"CheckOne(H5645,F5682)","v":false},null,null,null,null,32,null,null,0,0,null,33,0,null,null,null,0,"kr./ha.",0,"kr./tim."]
[{"$f":"CheckOne(H5645,F5683)","v":false},null,null,null,null,33,null,null,0,0,null,34,0,null,null,null,0,"kr./ha.",0,"kr./tim."]
[{"$f":"CheckOne(H5645,F5684)","v":false},null,null,null,null,34,null,null,0,0,null,35,0,null,null,null,0,"kr./ha.",0,"kr./tim."]
[{"$f":"CheckOne(H5645,F5685)","v":false},null,null,null,null,35,null,null,0,0,null,36,0,null,null,null,0,"kr./ha.",0,"kr./tim."]
[{"$f":"CheckOne(H5645,F5686)","v":false},null,null,null,null,36,null,null,0,0,null,37,0,null,null,null,0,"kr./ha.",0,"kr./tim."]
[{"$f":"CheckOne(H5645,F5687)","v":false},null,null,null,null,37,null,null,0,0,null,38,0,null,null,null,0,"kr./ha.",0,"kr./tim."]
[{"$f":"CheckOne(H5645,F5688)","v":false},null,null,null,null,38,null,null,0,0,null,39,0,null,null,null,0,"kr./ha.",0,"kr./tim."]
[{"$f":"CheckOne(H5645,F5689)","v":false},null,null,null,null,39,null,null,0,0,null,40,0,null,null,null,0,"kr./ha.",0,"kr./tim."]
[{"$f":"CheckOne(H5645,F5690)","v":false},null,null,null,null,40,null,null,0,0,null,41,0,null,null,null,0,"kr./ha.",0,"kr./tim."]
[{"$f":"CheckOne(H5645,F5691)","v":false},null,null,null,null,41,null,null,0,0,null,42,0,null,null,null,0,"kr./ha.",0,"kr./tim."]
[{"$f":"CheckOne(H5645,F5692)","v":false},null,null,null,null,42,null,null,0,0,null,43,0,null,null,null,0,"kr./ha.",0,"kr./tim."]
[{"$f":"CheckOne(H5645,F5693)","v":false},null,null,null,null,43,null,null,0,0,null,44,0,null,null,null,0,"kr./ha.",0,"kr./tim."]
[{"$f":"CheckOne(H5645,F5694)","v":false},null,null,null,null,44,null,null,0,0,null,45,0,null,null,null,0,"kr./ha.",0,"kr./tim."]
[{"$f":"CheckOne(H5645,F5695)","v":false},null,null,null,null,45,null,null,0,0,null,46,0,null,null,null,0,"kr./ha.",0,"kr./tim."]
[{"$f":"CheckOne(H5645,F5696)","v":false},null,null,null,null,46,null,null,0,0,null,47,0,null,null,null,0,"kr./ha.",0,"kr./tim."]
[{"$f":"CheckOne(H5645,F5697)","v":false},null,null,null,null,47,null,null,0,0,null,48,0,null,null,null,0,"kr./ha.",0,"kr./tim."]
[{"$f":"CheckOne(H5645,F5698)","v":false},null,null,null,null,48,null,null,0,0,null,49,0,null,null,null,0,"kr./ha.",0,"kr./tim."]
[{"$f":"CheckOne(H5645,F5699)","v":false},null,null,null,null,49,null,null,0,0,null,50,0,null,null,null,0,"kr./ha.",0,"kr./tim."]
[{"$f":"OR(N5700>0)","v":false},null,null,null,null,null,null,null,{"$f":"+S5700","v":0},0,null,null,"Arbejdsløn:",{"$f":"VLOOKUP(F5645,$L$85:$AH$134,14,FALSE)","v":0},"medarbejder",null,{"$f":"+S5700/O5645","v":0},"kr./ha.",{"$f":"+Maskiner!$Z$17*N5700","v":0},"kr./tim."]
[{"$f":"IF(N5702=\"Maskinstation\",FALSE,OR(L5701<>0,N5705<>0,Q5702<>0,S5702<>0))","v":false}]
[{"$f":"IF(N5703=\"Maskinstation\",FALSE,OR(L5702<>0,N5706<>0,Q5703<>0,S5703<>0))","v":false},null,null,null,null,"nr.","id","Maskiner",null,null,null,{"$f":"VLOOKUP(F5703,$L$85:$AH$134,2,FALSE)","v":0}]
[{"$f":"A5702","v":false},null,null,null,null,{"$f":"1+F5645","v":46},{"$f":"VLOOKUP(F5703,$F$85:$J$134,5,FALSE)","v":45},{"$f":"VLOOKUP(F5703,$F$85:$I$134,4,FALSE)","v":""},null,null,null,"Type:",null,{"$f":"VLOOKUP(F5703,$L$85:$AH$134,5,FALSE)","v":"Intern"},{"$f":"VLOOKUP(F5703,$L$85:$AH$134,19,FALSE)","v":1},{"$f":"R5703&\"/time\"","v":"ha./time"},{"$f":"VLOOKUP(F5703,$L$85:$AH$134,15,FALSE)","v":0},{"$f":"VLOOKUP(F5703,$L$85:$AH$134,16,FALSE)","v":"ha."},{"$f":"VLOOKUP(F5703,$L$85:$AH$134,17,FALSE)","v":0},"timer"]
[{"$f":"A5703","v":false},null,null,null,null,null,null,null,null,null,null,"FO (faste omk.):",null,{"$f":"+S5704*S5703","v":0},"FE (faste enh. omk.):",null,{"$f":"IFERROR(N5704/Q5703,0)","v":0},{"$f":"\"kr./\"&R5703","v":"kr./ha."},{"$f":"SUMIF(A5708:A5758,TRUE,J5708:J5758)","v":0},"kr./tim."]
[false,null,null,null,null,null,null,null,null,null,null,"VO (var. omk.):",null,{"$f":"+S5703*S5705","v":0},"VE (var. enh. omk.):",null,{"$f":"IFERROR(N5705/Q5703,0)","v":0},{"$f":"+R5704","v":"kr./ha."},{"$f":"SUMIF(A5708:A5758,TRUE,I5708:I5758)","v":0},"kr./tim."]
[false,null,null,null,null,null,null,null,null,null,null,"TO (totae omk.):",null,{"$f":"+N5705+N5704","v":0},"TE (totale enh. omk.):",null,{"$f":"+Q5705+Q5704","v":0},{"$f":"+R5705","v":"kr./ha."},{"$f":"+S5705+S5704","v":0},"kr./tim."]
[false,null,null,null,null,"id",null,null,"VE/tim","FE",null,null,null,null,"Maskinstationspris",null,{"$f":"VLOOKUP(F5703,$L$85:$AH$134,23,FALSE)","v":0},{"$f":"+R5706","v":"kr./ha."}]
[{"$f":"CheckOne(H5703,F5708)","v":false},null,null,null,null,{"$f":"_xlfn.ANCHORARRAY($J$31)","v":0},null,null,{"$f":"VLOOKUP(_xlfn.ANCHORARRAY(L5708),$L$31:$AE$80,17,FALSE)","v":0},{"$f":"VLOOKUP(_xlfn.ANCHORARRAY(L5708),$L$31:$AE$80,20,FALSE)-_xlfn.ANCHORARRAY(I5708)","v":0},null,{"$f":"$L$31:$L$80","v":1},{"$f":"$M$31:$M$80","v":0},null,null,null,{"$f":"_xlfn.ANCHORARRAY(S5708)/O5703","v":0},{"$f":"+R5706","v":"kr./ha."},{"$f":"$AE$31:$AE$80","v":0},"kr./tim."]
[{"$f":"CheckOne(H5703,F5709)","v":false},null,null,null,null,3,null,null,0,0,null,2,0,null,null,null,0,{"$f":"+R5708","v":"kr./ha."},0,"kr./tim."]
[{"$f":"CheckOne(H5703,F5710)","v":false},null,null,null,null,5,null,null,0,0,null,3,0,null,null,null,0,{"$f":"+R5709","v":"kr./ha."},0,"kr./tim."]
[{"$f":"CheckOne(H5703,F5711)","v":false},null,null,null,null,4,null,null,0,0,null,4,0,null,null,null,0,"kr./ha.",0,"kr./tim."]
[{"$f":"CheckOne(H5703,F5712)","v":false},null,null,null,null,1,null,null,0,0,null,5,0,null,null,null,0,"kr./ha.",0,"kr./tim."]
[{"$f":"CheckOne(H5703,F5713)","v":false},null,null,null,null,2,null,null,0,0,null,6,0,null,null,null,0,"kr./ha.",0,"kr./tim."]
[{"$f":"CheckOne(H5703,F5714)","v":false},null,null,null,null,6,null,null,0,0,null,7,0,null,null,null,0,"kr./ha.",0,"kr./tim."]
[{"$f":"CheckOne(H5703,F5715)","v":false},null,null,null,null,7,null,null,0,0,null,8,0,null,null,null,0,"kr./ha.",0,"kr./tim."]
[{"$f":"CheckOne(H5703,F5716)","v":false},null,null,null,null,8,null,null,0,0,null,9,0,null,null,null,0,"kr./ha.",0,"kr./tim."]
[{"$f":"CheckOne(H5703,F5717)","v":false},null,null,null,null,9,null,null,0,0,null,10,0,null,null,null,0,"kr./ha.",0,"kr./tim."]
[{"$f":"CheckOne(H5703,F5718)","v":false},null,null,null,null,10,null,null,0,0,null,11,0,null,null,null,0,"kr./ha.",0,"kr./tim."]
[{"$f":"CheckOne(H5703,F5719)","v":false},null,null,null,null,11,null,null,0,0,null,12,0,null,null,null,0,"kr./ha.",0,"kr./tim."]
[{"$f":"CheckOne(H5703,F5720)","v":false},null,null,null,null,12,null,null,0,0,null,13,0,null,null,null,0,"kr./ha.",0,"kr./tim."]
[{"$f":"CheckOne(H5703,F5721)","v":false},null,null,null,null,13,null,null,0,0,null,14,0,null,null,null,0,"kr./ha.",0,"kr./tim."]
[{"$f":"CheckOne(H5703,F5722)","v":false},null,null,null,null,14,null,null,0,0,null,15,0,null,null,null,0,"kr./ha.",0,"kr./tim."]
[{"$f":"CheckOne(H5703,F5723)","v":false},null,null,null,null,15,null,null,0,0,null,16,0,null,null,null,0,"kr./ha.",0,"kr./tim."]
[{"$f":"CheckOne(H5703,F5724)","v":false},null,null,null,null,16,null,null,0,0,null,17,0,null,null,null,0,"kr./ha.",0,"kr./tim."]
[{"$f":"CheckOne(H5703,F5725)","v":false},null,null,null,null,17,null,null,0,0,null,18,0,null,null,null,0,"kr./ha.",0,"kr./tim."]
[{"$f":"CheckOne(H5703,F5726)","v":false},null,null,null,null,18,null,null,0,0,null,19,0,null,null,null,0,"kr./ha.",0,"kr./tim."]
[{"$f":"CheckOne(H5703,F5727)","v":false},null,null,null,null,19,null,null,0,0,null,20,0,null,null,null,0,"kr./ha.",0,"kr./tim."]
[{"$f":"CheckOne(H5703,F5728)","v":false},null,null,null,null,20,null,null,0,0,null,21,0,null,null,null,0,"kr./ha.",0,"kr./tim."]
[{"$f":"CheckOne(H5703,F5729)","v":false},null,null,null,null,21,null,null,0,0,null,22,0,null,null,null,0,"kr./ha.",0,"kr./tim."]
[{"$f":"CheckOne(H5703,F5730)","v":false},null,null,null,null,22,null,null,0,0,null,23,0,null,null,null,0,"kr./ha.",0,"kr./tim."]
[{"$f":"CheckOne(H5703,F5731)","v":false},null,null,null,null,23,null,null,0,0,null,24,0,null,null,null,0,"kr./ha.",0,"kr./tim."]
[{"$f":"CheckOne(H5703,F5732)","v":false},null,null,null,null,24,null,null,0,0,null,25,0,null,null,null,0,"kr./ha.",0,"kr./tim."]
[{"$f":"CheckOne(H5703,F5733)","v":false},null,null,null,null,25,null,null,0,0,null,26,0,null,null,null,0,"kr./ha.",0,"kr./tim."]
[{"$f":"CheckOne(H5703,F5734)","v":false},null,null,null,null,26,null,null,0,0,null,27,0,null,null,null,0,"kr./ha.",0,"kr./tim."]
[{"$f":"CheckOne(H5703,F5735)","v":false},null,null,null,null,27,null,null,0,0,null,28,0,null,null,null,0,"kr./ha.",0,"kr./tim."]
[{"$f":"CheckOne(H5703,F5736)","v":false},null,null,null,null,28,null,null,0,0,null,29,0,null,null,null,0,"kr./ha.",0,"kr./tim."]
[{"$f":"CheckOne(H5703,F5737)","v":false},null,null,null,null,29,null,null,0,0,null,30,0,null,null,null,0,"kr./ha.",0,"kr./tim."]
[{"$f":"CheckOne(H5703,F5738)","v":false},null,null,null,null,30,null,null,0,0,null,31,0,null,null,null,0,"kr./ha.",0,"kr./tim."]
[{"$f":"CheckOne(H5703,F5739)","v":false},null,null,null,null,31,null,null,0,0,null,32,0,null,null,null,0,"kr./ha.",0,"kr./tim."]
[{"$f":"CheckOne(H5703,F5740)","v":false},null,null,null,null,32,null,null,0,0,null,33,0,null,null,null,0,"kr./ha.",0,"kr./tim."]
[{"$f":"CheckOne(H5703,F5741)","v":false},null,null,null,null,33,null,null,0,0,null,34,0,null,null,null,0,"kr./ha.",0,"kr./tim."]
[{"$f":"CheckOne(H5703,F5742)","v":false},null,null,null,null,34,null,null,0,0,null,35,0,null,null,null,0,"kr./ha.",0,"kr./tim."]
[{"$f":"CheckOne(H5703,F5743)","v":false},null,null,null,null,35,null,null,0,0,null,36,0,null,null,null,0,"kr./ha.",0,"kr./tim."]
[{"$f":"CheckOne(H5703,F5744)","v":false},null,null,null,null,36,null,null,0,0,null,37,0,null,null,null,0,"kr./ha.",0,"kr./tim."]
[{"$f":"CheckOne(H5703,F5745)","v":false},null,null,null,null,37,null,null,0,0,null,38,0,null,null,null,0,"kr./ha.",0,"kr./tim."]
[{"$f":"CheckOne(H5703,F5746)","v":false},null,null,null,null,38,null,null,0,0,null,39,0,null,null,null,0,"kr./ha.",0,"kr./tim."]
[{"$f":"CheckOne(H5703,F5747)","v":false},null,null,null,null,39,null,null,0,0,null,40,0,null,null,null,0,"kr./ha.",0,"kr./tim."]
[{"$f":"CheckOne(H5703,F5748)","v":false},null,null,null,null,40,null,null,0,0,null,41,0,null,null,null,0,"kr./ha.",0,"kr./tim."]
[{"$f":"CheckOne(H5703,F5749)","v":false},null,null,null,null,41,null,null,0,0,null,42,0,null,null,null,0,"kr./ha.",0,"kr./tim."]
[{"$f":"CheckOne(H5703,F5750)","v":false},null,null,null,null,42,null,null,0,0,null,43,0,null,null,null,0,"kr./ha.",0,"kr./tim."]
[{"$f":"CheckOne(H5703,F5751)","v":false},null,null,null,null,43,null,null,0,0,null,44,0,null,null,null,0,"kr./ha.",0,"kr./tim."]
[{"$f":"CheckOne(H5703,F5752)","v":false},null,null,null,null,44,null,null,0,0,null,45,0,null,null,null,0,"kr./ha.",0,"kr./tim."]
[{"$f":"CheckOne(H5703,F5753)","v":false},null,null,null,null,45,null,null,0,0,null,46,0,null,null,null,0,"kr./ha.",0,"kr./tim."]
[{"$f":"CheckOne(H5703,F5754)","v":false},null,null,null,null,46,null,null,0,0,null,47,0,null,null,null,0,"kr./ha.",0,"kr./tim."]
[{"$f":"CheckOne(H5703,F5755)","v":false},null,null,null,null,47,null,null,0,0,null,48,0,null,null,null,0,"kr./ha.",0,"kr./tim."]
[{"$f":"CheckOne(H5703,F5756)","v":false},null,null,null,null,48,null,null,0,0,null,49,0,null,null,null,0,"kr./ha.",0,"kr./tim."]
[{"$f":"CheckOne(H5703,F5757)","v":false},null,null,null,null,49,null,null,0,0,null,50,0,null,null,null,0,"kr./ha.",0,"kr./tim."]
[{"$f":"OR(N5758>0)","v":false},null,null,null,null,null,null,null,{"$f":"+S5758","v":0},0,null,null,"Arbejdsløn:",{"$f":"VLOOKUP(F5703,$L$85:$AH$134,14,FALSE)","v":0},"medarbejder",null,{"$f":"+S5758/O5703","v":0},"kr./ha.",{"$f":"+Maskiner!$Z$17*N5758","v":0},"kr./tim."]
[{"$f":"IF(N5760=\"Maskinstation\",FALSE,OR(L5759<>0,N5763<>0,Q5760<>0,S5760<>0))","v":false}]
[{"$f":"IF(N5761=\"Maskinstation\",FALSE,OR(L5760<>0,N5764<>0,Q5761<>0,S5761<>0))","v":false},null,null,null,null,"nr.","id","Maskiner",null,null,null,{"$f":"VLOOKUP(F5761,$L$85:$AH$134,2,FALSE)","v":0}]
[{"$f":"A5760","v":false},null,null,null,null,{"$f":"1+F5703","v":47},{"$f":"VLOOKUP(F5761,$F$85:$J$134,5,FALSE)","v":46},{"$f":"VLOOKUP(F5761,$F$85:$I$134,4,FALSE)","v":""},null,null,null,"Type:",null,{"$f":"VLOOKUP(F5761,$L$85:$AH$134,5,FALSE)","v":"Intern"},{"$f":"VLOOKUP(F5761,$L$85:$AH$134,19,FALSE)","v":1},{"$f":"R5761&\"/time\"","v":"ha./time"},{"$f":"VLOOKUP(F5761,$L$85:$AH$134,15,FALSE)","v":0},{"$f":"VLOOKUP(F5761,$L$85:$AH$134,16,FALSE)","v":"ha."},{"$f":"VLOOKUP(F5761,$L$85:$AH$134,17,FALSE)","v":0},"timer"]
[{"$f":"A5761","v":false},null,null,null,null,null,null,null,null,null,null,"FO (faste omk.):",null,{"$f":"+S5762*S5761","v":0},"FE (faste enh. omk.):",null,{"$f":"IFERROR(N5762/Q5761,0)","v":0},{"$f":"\"kr./\"&R5761","v":"kr./ha."},{"$f":"SUMIF(A5766:A5816,TRUE,J5766:J5816)","v":0},"kr./tim."]
[false,null,null,null,null,null,null,null,null,null,null,"VO (var. omk.):",null,{"$f":"+S5761*S5763","v":0},"VE (var. enh. omk.):",null,{"$f":"IFERROR(N5763/Q5761,0)","v":0},{"$f":"+R5762","v":"kr./ha."},{"$f":"SUMIF(A5766:A5816,TRUE,I5766:I5816)","v":0},"kr./tim."]
[false,null,null,null,null,null,null,null,null,null,null,"TO (totae omk.):",null,{"$f":"+N5763+N5762","v":0},"TE (totale enh. omk.):",null,{"$f":"+Q5763+Q5762","v":0},{"$f":"+R5763","v":"kr./ha."},{"$f":"+S5763+S5762","v":0},"kr./tim."]
[false,null,null,null,null,"id",null,null,"VE/tim","FE",null,null,null,null,"Maskinstationspris",null,{"$f":"VLOOKUP(F5761,$L$85:$AH$134,23,FALSE)","v":0},{"$f":"+R5764","v":"kr./ha."}]
[{"$f":"CheckOne(H5761,F5766)","v":false},null,null,null,null,{"$f":"_xlfn.ANCHORARRAY($J$31)","v":0},null,null,{"$f":"VLOOKUP(_xlfn.ANCHORARRAY(L5766),$L$31:$AE$80,17,FALSE)","v":0},{"$f":"VLOOKUP(_xlfn.ANCHORARRAY(L5766),$L$31:$AE$80,20,FALSE)-_xlfn.ANCHORARRAY(I5766)","v":0},null,{"$f":"$L$31:$L$80","v":1},{"$f":"$M$31:$M$80","v":0},null,null,null,{"$f":"_xlfn.ANCHORARRAY(S5766)/O5761","v":0},{"$f":"+R5764","v":"kr./ha."},{"$f":"$AE$31:$AE$80","v":0},"kr./tim."]
[{"$f":"CheckOne(H5761,F5767)","v":false},null,null,null,null,3,null,null,0,0,null,2,0,null,null,null,0,{"$f":"+R5766","v":"kr./ha."},0,"kr./tim."]
[{"$f":"CheckOne(H5761,F5768)","v":false},null,null,null,null,5,null,null,0,0,null,3,0,null,null,null,0,{"$f":"+R5767","v":"kr./ha."},0,"kr./tim."]
[{"$f":"CheckOne(H5761,F5769)","v":false},null,null,null,null,4,null,null,0,0,null,4,0,null,null,null,0,"kr./ha.",0,"kr./tim."]
[{"$f":"CheckOne(H5761,F5770)","v":false},null,null,null,null,1,null,null,0,0,null,5,0,null,null,null,0,"kr./ha.",0,"kr./tim."]
[{"$f":"CheckOne(H5761,F5771)","v":false},null,null,null,null,2,null,null,0,0,null,6,0,null,null,null,0,"kr./ha.",0,"kr./tim."]
[{"$f":"CheckOne(H5761,F5772)","v":false},null,null,null,null,6,null,null,0,0,null,7,0,null,null,null,0,"kr./ha.",0,"kr./tim."]
[{"$f":"CheckOne(H5761,F5773)","v":false},null,null,null,null,7,null,null,0,0,null,8,0,null,null,null,0,"kr./ha.",0,"kr./tim."]
[{"$f":"CheckOne(H5761,F5774)","v":false},null,null,null,null,8,null,null,0,0,null,9,0,null,null,null,0,"kr./ha.",0,"kr./tim."]
[{"$f":"CheckOne(H5761,F5775)","v":false},null,null,null,null,9,null,null,0,0,null,10,0,null,null,null,0,"kr./ha.",0,"kr./tim."]
[{"$f":"CheckOne(H5761,F5776)","v":false},null,null,null,null,10,null,null,0,0,null,11,0,null,null,null,0,"kr./ha.",0,"kr./tim."]
[{"$f":"CheckOne(H5761,F5777)","v":false},null,null,null,null,11,null,null,0,0,null,12,0,null,null,null,0,"kr./ha.",0,"kr./tim."]
[{"$f":"CheckOne(H5761,F5778)","v":false},null,null,null,null,12,null,null,0,0,null,13,0,null,null,null,0,"kr./ha.",0,"kr./tim."]
[{"$f":"CheckOne(H5761,F5779)","v":false},null,null,null,null,13,null,null,0,0,null,14,0,null,null,null,0,"kr./ha.",0,"kr./tim."]
[{"$f":"CheckOne(H5761,F5780)","v":false},null,null,null,null,14,null,null,0,0,null,15,0,null,null,null,0,"kr./ha.",0,"kr./tim."]
[{"$f":"CheckOne(H5761,F5781)","v":false},null,null,null,null,15,null,null,0,0,null,16,0,null,null,null,0,"kr./ha.",0,"kr./tim."]
[{"$f":"CheckOne(H5761,F5782)","v":false},null,null,null,null,16,null,null,0,0,null,17,0,null,null,null,0,"kr./ha.",0,"kr./tim."]
[{"$f":"CheckOne(H5761,F5783)","v":false},null,null,null,null,17,null,null,0,0,null,18,0,null,null,null,0,"kr./ha.",0,"kr./tim."]
[{"$f":"CheckOne(H5761,F5784)","v":false},null,null,null,null,18,null,null,0,0,null,19,0,null,null,null,0,"kr./ha.",0,"kr./tim."]
[{"$f":"CheckOne(H5761,F5785)","v":false},null,null,null,null,19,null,null,0,0,null,20,0,null,null,null,0,"kr./ha.",0,"kr./tim."]
[{"$f":"CheckOne(H5761,F5786)","v":false},null,null,null,null,20,null,null,0,0,null,21,0,null,null,null,0,"kr./ha.",0,"kr./tim."]
[{"$f":"CheckOne(H5761,F5787)","v":false},null,null,null,null,21,null,null,0,0,null,22,0,null,null,null,0,"kr./ha.",0,"kr./tim."]
[{"$f":"CheckOne(H5761,F5788)","v":false},null,null,null,null,22,null,null,0,0,null,23,0,null,null,null,0,"kr./ha.",0,"kr./tim."]
[{"$f":"CheckOne(H5761,F5789)","v":false},null,null,null,null,23,null,null,0,0,null,24,0,null,null,null,0,"kr./ha.",0,"kr./tim."]
[{"$f":"CheckOne(H5761,F5790)","v":false},null,null,null,null,24,null,null,0,0,null,25,0,null,null,null,0,"kr./ha.",0,"kr./tim."]
[{"$f":"CheckOne(H5761,F5791)","v":false},null,null,null,null,25,null,null,0,0,null,26,0,null,null,null,0,"kr./ha.",0,"kr./tim."]
[{"$f":"CheckOne(H5761,F5792)","v":false},null,null,null,null,26,null,null,0,0,null,27,0,null,null,null,0,"kr./ha.",0,"kr./tim."]
[{"$f":"CheckOne(H5761,F5793)","v":false},null,null,null,null,27,null,null,0,0,null,28,0,null,null,null,0,"kr./ha.",0,"kr./tim."]
[{"$f":"CheckOne(H5761,F5794)","v":false},null,null,null,null,28,null,null,0,0,null,29,0,null,null,null,0,"kr./ha.",0,"kr./tim."]
[{"$f":"CheckOne(H5761,F5795)","v":false},null,null,null,null,29,null,null,0,0,null,30,0,null,null,null,0,"kr./ha.",0,"kr./tim."]
[{"$f":"CheckOne(H5761,F5796)","v":false},null,null,null,null,30,null,null,0,0,null,31,0,null,null,null,0,"kr./ha.",0,"kr./tim."]
[{"$f":"CheckOne(H5761,F5797)","v":false},null,null,null,null,31,null,null,0,0,null,32,0,null,null,null,0,"kr./ha.",0,"kr./tim."]
[{"$f":"CheckOne(H5761,F5798)","v":false},null,null,null,null,32,null,null,0,0,null,33,0,null,null,null,0,"kr./ha.",0,"kr./tim."]
[{"$f":"CheckOne(H5761,F5799)","v":false},null,null,null,null,33,null,null,0,0,null,34,0,null,null,null,0,"kr./ha.",0,"kr./tim."]
[{"$f":"CheckOne(H5761,F5800)","v":false},null,null,null,null,34,null,null,0,0,null,35,0,null,null,null,0,"kr./ha.",0,"kr./tim."]
[{"$f":"CheckOne(H5761,F5801)","v":false},null,null,null,null,35,null,null,0,0,null,36,0,null,null,null,0,"kr./ha.",0,"kr./tim."]
[{"$f":"CheckOne(H5761,F5802)","v":false},null,null,null,null,36,null,null,0,0,null,37,0,null,null,null,0,"kr./ha.",0,"kr./tim."]
[{"$f":"CheckOne(H5761,F5803)","v":false},null,null,null,null,37,null,null,0,0,null,38,0,null,null,null,0,"kr./ha.",0,"kr./tim."]
[{"$f":"CheckOne(H5761,F5804)","v":false},null,null,null,null,38,null,null,0,0,null,39,0,null,null,null,0,"kr./ha.",0,"kr./tim."]
[{"$f":"CheckOne(H5761,F5805)","v":false},null,null,null,null,39,null,null,0,0,null,40,0,null,null,null,0,"kr./ha.",0,"kr./tim."]
[{"$f":"CheckOne(H5761,F5806)","v":false},null,null,null,null,40,null,null,0,0,null,41,0,null,null,null,0,"kr./ha.",0,"kr./tim."]
[{"$f":"CheckOne(H5761,F5807)","v":false},null,null,null,null,41,null,null,0,0,null,42,0,null,null,null,0,"kr./ha.",0,"kr./tim."]
[{"$f":"CheckOne(H5761,F5808)","v":false},null,null,null,null,42,null,null,0,0,null,43,0,null,null,null,0,"kr./ha.",0,"kr./tim."]
[{"$f":"CheckOne(H5761,F5809)","v":false},null,null,null,null,43,null,null,0,0,null,44,0,null,null,null,0,"kr./ha.",0,"kr./tim."]
[{"$f":"CheckOne(H5761,F5810)","v":false},null,null,null,null,44,null,null,0,0,null,45,0,null,null,null,0,"kr./ha.",0,"kr./tim."]
[{"$f":"CheckOne(H5761,F5811)","v":false},null,null,null,null,45,null,null,0,0,null,46,0,null,null,null,0,"kr./ha.",0,"kr./tim."]
[{"$f":"CheckOne(H5761,F5812)","v":false},null,null,null,null,46,null,null,0,0,null,47,0,null,null,null,0,"kr./ha.",0,"kr./tim."]
[{"$f":"CheckOne(H5761,F5813)","v":false},null,null,null,null,47,null,null,0,0,null,48,0,null,null,null,0,"kr./ha.",0,"kr./tim."]
[{"$f":"CheckOne(H5761,F5814)","v":false},null,null,null,null,48,null,null,0,0,null,49,0,null,null,null,0,"kr./ha.",0,"kr./tim."]
[{"$f":"CheckOne(H5761,F5815)","v":false},null,null,null,null,49,null,null,0,0,null,50,0,null,null,null,0,"kr./ha.",0,"kr./tim."]
[{"$f":"OR(N5816>0)","v":false},null,null,null,null,null,null,null,{"$f":"+S5816","v":0},0,null,null,"Arbejdsløn:",{"$f":"VLOOKUP(F5761,$L$85:$AH$134,14,FALSE)","v":0},"medarbejder",null,{"$f":"+S5816/O5761","v":0},"kr./ha.",{"$f":"+Maskiner!$Z$17*N5816","v":0},"kr./tim."]
[{"$f":"IF(N5818=\"Maskinstation\",FALSE,OR(L5817<>0,N5821<>0,Q5818<>0,S5818<>0))","v":false}]
[{"$f":"IF(N5819=\"Maskinstation\",FALSE,OR(L5818<>0,N5822<>0,Q5819<>0,S5819<>0))","v":false},null,null,null,null,"nr.","id","Maskiner",null,null,null,{"$f":"VLOOKUP(F5819,$L$85:$AH$134,2,FALSE)","v":0}]
[{"$f":"A5818","v":false},null,null,null,null,{"$f":"1+F5761","v":48},{"$f":"VLOOKUP(F5819,$F$85:$J$134,5,FALSE)","v":47},{"$f":"VLOOKUP(F5819,$F$85:$I$134,4,FALSE)","v":""},null,null,null,"Type:",null,{"$f":"VLOOKUP(F5819,$L$85:$AH$134,5,FALSE)","v":"Intern"},{"$f":"VLOOKUP(F5819,$L$85:$AH$134,19,FALSE)","v":1},{"$f":"R5819&\"/time\"","v":"ha./time"},{"$f":"VLOOKUP(F5819,$L$85:$AH$134,15,FALSE)","v":0},{"$f":"VLOOKUP(F5819,$L$85:$AH$134,16,FALSE)","v":"ha."},{"$f":"VLOOKUP(F5819,$L$85:$AH$134,17,FALSE)","v":0},"timer"]
[{"$f":"A5819","v":false},null,null,null,null,null,null,null,null,null,null,"FO (faste omk.):",null,{"$f":"+S5820*S5819","v":0},"FE (faste enh. omk.):",null,{"$f":"IFERROR(N5820/Q5819,0)","v":0},{"$f":"\"kr./\"&R5819","v":"kr./ha."},{"$f":"SUMIF(A5824:A5874,TRUE,J5824:J5874)","v":0},"kr./tim."]
[false,null,null,null,null,null,null,null,null,null,null,"VO (var. omk.):",null,{"$f":"+S5819*S5821","v":0},"VE (var. enh. omk.):",null,{"$f":"IFERROR(N5821/Q5819,0)","v":0},{"$f":"+R5820","v":"kr./ha."},{"$f":"SUMIF(A5824:A5874,TRUE,I5824:I5874)","v":0},"kr./tim."]
[false,null,null,null,null,null,null,null,null,null,null,"TO (totae omk.):",null,{"$f":"+N5821+N5820","v":0},"TE (totale enh. omk.):",null,{"$f":"+Q5821+Q5820","v":0},{"$f":"+R5821","v":"kr./ha."},{"$f":"+S5821+S5820","v":0},"kr./tim."]
[false,null,null,null,null,"id",null,null,"VE/tim","FE",null,null,null,null,"Maskinstationspris",null,{"$f":"VLOOKUP(F5819,$L$85:$AH$134,23,FALSE)","v":0},{"$f":"+R5822","v":"kr./ha."}]
[{"$f":"CheckOne(H5819,F5824)","v":false},null,null,null,null,{"$f":"_xlfn.ANCHORARRAY($J$31)","v":0},null,null,{"$f":"VLOOKUP(_xlfn.ANCHORARRAY(L5824),$L$31:$AE$80,17,FALSE)","v":0},{"$f":"VLOOKUP(_xlfn.ANCHORARRAY(L5824),$L$31:$AE$80,20,FALSE)-_xlfn.ANCHORARRAY(I5824)","v":0},null,{"$f":"$L$31:$L$80","v":1},{"$f":"$M$31:$M$80","v":0},null,null,null,{"$f":"_xlfn.ANCHORARRAY(S5824)/O5819","v":0},{"$f":"+R5822","v":"kr./ha."},{"$f":"$AE$31:$AE$80","v":0},"kr./tim."]
[{"$f":"CheckOne(H5819,F5825)","v":false},null,null,null,null,3,null,null,0,0,null,2,0,null,null,null,0,{"$f":"+R5824","v":"kr./ha."},0,"kr./tim."]
[{"$f":"CheckOne(H5819,F5826)","v":false},null,null,null,null,5,null,null,0,0,null,3,0,null,null,null,0,{"$f":"+R5825","v":"kr./ha."},0,"kr./tim."]
[{"$f":"CheckOne(H5819,F5827)","v":false},null,null,null,null,4,null,null,0,0,null,4,0,null,null,null,0,"kr./ha.",0,"kr./tim."]
[{"$f":"CheckOne(H5819,F5828)","v":false},null,null,null,null,1,null,null,0,0,null,5,0,null,null,null,0,"kr./ha.",0,"kr./tim."]
[{"$f":"CheckOne(H5819,F5829)","v":false},null,null,null,null,2,null,null,0,0,null,6,0,null,null,null,0,"kr./ha.",0,"kr./tim."]
[{"$f":"CheckOne(H5819,F5830)","v":false},null,null,null,null,6,null,null,0,0,null,7,0,null,null,null,0,"kr./ha.",0,"kr./tim."]
[{"$f":"CheckOne(H5819,F5831)","v":false},null,null,null,null,7,null,null,0,0,null,8,0,null,null,null,0,"kr./ha.",0,"kr./tim."]
[{"$f":"CheckOne(H5819,F5832)","v":false},null,null,null,null,8,null,null,0,0,null,9,0,null,null,null,0,"kr./ha.",0,"kr./tim."]
[{"$f":"CheckOne(H5819,F5833)","v":false},null,null,null,null,9,null,null,0,0,null,10,0,null,null,null,0,"kr./ha.",0,"kr./tim."]
[{"$f":"CheckOne(H5819,F5834)","v":false},null,null,null,null,10,null,null,0,0,null,11,0,null,null,null,0,"kr./ha.",0,"kr./tim."]
[{"$f":"CheckOne(H5819,F5835)","v":false},null,null,null,null,11,null,null,0,0,null,12,0,null,null,null,0,"kr./ha.",0,"kr./tim."]
[{"$f":"CheckOne(H5819,F5836)","v":false},null,null,null,null,12,null,null,0,0,null,13,0,null,null,null,0,"kr./ha.",0,"kr./tim."]
[{"$f":"CheckOne(H5819,F5837)","v":false},null,null,null,null,13,null,null,0,0,null,14,0,null,null,null,0,"kr./ha.",0,"kr./tim."]
[{"$f":"CheckOne(H5819,F5838)","v":false},null,null,null,null,14,null,null,0,0,null,15,0,null,null,null,0,"kr./ha.",0,"kr./tim."]
[{"$f":"CheckOne(H5819,F5839)","v":false},null,null,null,null,15,null,null,0,0,null,16,0,null,null,null,0,"kr./ha.",0,"kr./tim."]
[{"$f":"CheckOne(H5819,F5840)","v":false},null,null,null,null,16,null,null,0,0,null,17,0,null,null,null,0,"kr./ha.",0,"kr./tim."]
[{"$f":"CheckOne(H5819,F5841)","v":false},null,null,null,null,17,null,null,0,0,null,18,0,null,null,null,0,"kr./ha.",0,"kr./tim."]
[{"$f":"CheckOne(H5819,F5842)","v":false},null,null,null,null,18,null,null,0,0,null,19,0,null,null,null,0,"kr./ha.",0,"kr./tim."]
[{"$f":"CheckOne(H5819,F5843)","v":false},null,null,null,null,19,null,null,0,0,null,20,0,null,null,null,0,"kr./ha.",0,"kr./tim."]
[{"$f":"CheckOne(H5819,F5844)","v":false},null,null,null,null,20,null,null,0,0,null,21,0,null,null,null,0,"kr./ha.",0,"kr./tim."]
[{"$f":"CheckOne(H5819,F5845)","v":false},null,null,null,null,21,null,null,0,0,null,22,0,null,null,null,0,"kr./ha.",0,"kr./tim."]
[{"$f":"CheckOne(H5819,F5846)","v":false},null,null,null,null,22,null,null,0,0,null,23,0,null,null,null,0,"kr./ha.",0,"kr./tim."]
[{"$f":"CheckOne(H5819,F5847)","v":false},null,null,null,null,23,null,null,0,0,null,24,0,null,null,null,0,"kr./ha.",0,"kr./tim."]
[{"$f":"CheckOne(H5819,F5848)","v":false},null,null,null,null,24,null,null,0,0,null,25,0,null,null,null,0,"kr./ha.",0,"kr./tim."]
[{"$f":"CheckOne(H5819,F5849)","v":false},null,null,null,null,25,null,null,0,0,null,26,0,null,null,null,0,"kr./ha.",0,"kr./tim."]
[{"$f":"CheckOne(H5819,F5850)","v":false},null,null,null,null,26,null,null,0,0,null,27,0,null,null,null,0,"kr./ha.",0,"kr./tim."]
[{"$f":"CheckOne(H5819,F5851)","v":false},null,null,null,null,27,null,null,0,0,null,28,0,null,null,null,0,"kr./ha.",0,"kr./tim."]
[{"$f":"CheckOne(H5819,F5852)","v":false},null,null,null,null,28,null,null,0,0,null,29,0,null,null,null,0,"kr./ha.",0,"kr./tim."]
[{"$f":"CheckOne(H5819,F5853)","v":false},null,null,null,null,29,null,null,0,0,null,30,0,null,null,null,0,"kr./ha.",0,"kr./tim."]
[{"$f":"CheckOne(H5819,F5854)","v":false},null,null,null,null,30,null,null,0,0,null,31,0,null,null,null,0,"kr./ha.",0,"kr./tim."]
[{"$f":"CheckOne(H5819,F5855)","v":false},null,null,null,null,31,null,null,0,0,null,32,0,null,null,null,0,"kr./ha.",0,"kr./tim."]
[{"$f":"CheckOne(H5819,F5856)","v":false},null,null,null,null,32,null,null,0,0,null,33,0,null,null,null,0,"kr./ha.",0,"kr./tim."]
[{"$f":"CheckOne(H5819,F5857)","v":false},null,null,null,null,33,null,null,0,0,null,34,0,null,null,null,0,"kr./ha.",0,"kr./tim."]
[{"$f":"CheckOne(H5819,F5858)","v":false},null,null,null,null,34,null,null,0,0,null,35,0,null,null,null,0,"kr./ha.",0,"kr./tim."]
[{"$f":"CheckOne(H5819,F5859)","v":false},null,null,null,null,35,null,null,0,0,null,36,0,null,null,null,0,"kr./ha.",0,"kr./tim."]
[{"$f":"CheckOne(H5819,F5860)","v":false},null,null,null,null,36,null,null,0,0,null,37,0,null,null,null,0,"kr./ha.",0,"kr./tim."]
[{"$f":"CheckOne(H5819,F5861)","v":false},null,null,null,null,37,null,null,0,0,null,38,0,null,null,null,0,"kr./ha.",0,"kr./tim."]
[{"$f":"CheckOne(H5819,F5862)","v":false},null,null,null,null,38,null,null,0,0,null,39,0,null,null,null,0,"kr./ha.",0,"kr./tim."]
[{"$f":"CheckOne(H5819,F5863)","v":false},null,null,null,null,39,null,null,0,0,null,40,0,null,null,null,0,"kr./ha.",0,"kr./tim."]
[{"$f":"CheckOne(H5819,F5864)","v":false},null,null,null,null,40,null,null,0,0,null,41,0,null,null,null,0,"kr./ha.",0,"kr./tim."]
[{"$f":"CheckOne(H5819,F5865)","v":false},null,null,null,null,41,null,null,0,0,null,42,0,null,null,null,0,"kr./ha.",0,"kr./tim."]
[{"$f":"CheckOne(H5819,F5866)","v":false},null,null,null,null,42,null,null,0,0,null,43,0,null,null,null,0,"kr./ha.",0,"kr./tim."]
[{"$f":"CheckOne(H5819,F5867)","v":false},null,null,null,null,43,null,null,0,0,null,44,0,null,null,null,0,"kr./ha.",0,"kr./tim."]
[{"$f":"CheckOne(H5819,F5868)","v":false},null,null,null,null,44,null,null,0,0,null,45,0,null,null,null,0,"kr./ha.",0,"kr./tim."]
[{"$f":"CheckOne(H5819,F5869)","v":false},null,null,null,null,45,null,null,0,0,null,46,0,null,null,null,0,"kr./ha.",0,"kr./tim."]
[{"$f":"CheckOne(H5819,F5870)","v":false},null,null,null,null,46,null,null,0,0,null,47,0,null,null,null,0,"kr./ha.",0,"kr./tim."]
[{"$f":"CheckOne(H5819,F5871)","v":false},null,null,null,null,47,null,null,0,0,null,48,0,null,null,null,0,"kr./ha.",0,"kr./tim."]
[{"$f":"CheckOne(H5819,F5872)","v":false},null,null,null,null,48,null,null,0,0,null,49,0,null,null,null,0,"kr./ha.",0,"kr./tim."]
[{"$f":"CheckOne(H5819,F5873)","v":false},null,null,null,null,49,null,null,0,0,null,50,0,null,null,null,0,"kr./ha.",0,"kr./tim."]
[{"$f":"OR(N5874>0)","v":false},null,null,null,null,null,null,null,{"$f":"+S5874","v":0},0,null,null,"Arbejdsløn:",{"$f":"VLOOKUP(F5819,$L$85:$AH$134,14,FALSE)","v":0},"medarbejder",null,{"$f":"+S5874/O5819","v":0},"kr./ha.",{"$f":"+Maskiner!$Z$17*N5874","v":0},"kr./tim."]
[{"$f":"IF(N5876=\"Maskinstation\",FALSE,OR(L5875<>0,N5879<>0,Q5876<>0,S5876<>0))","v":false}]
[{"$f":"IF(N5877=\"Maskinstation\",FALSE,OR(L5876<>0,N5880<>0,Q5877<>0,S5877<>0))","v":false},null,null,null,null,"nr.","id","Maskiner",null,null,null,{"$f":"VLOOKUP(F5877,$L$85:$AH$134,2,FALSE)","v":0}]
[{"$f":"A5876","v":false},null,null,null,null,{"$f":"1+F5819","v":49},{"$f":"VLOOKUP(F5877,$F$85:$J$134,5,FALSE)","v":48},{"$f":"VLOOKUP(F5877,$F$85:$I$134,4,FALSE)","v":""},null,null,null,"Type:",null,{"$f":"VLOOKUP(F5877,$L$85:$AH$134,5,FALSE)","v":"Intern"},{"$f":"VLOOKUP(F5877,$L$85:$AH$134,19,FALSE)","v":1},{"$f":"R5877&\"/time\"","v":"ha./time"},{"$f":"VLOOKUP(F5877,$L$85:$AH$134,15,FALSE)","v":0},{"$f":"VLOOKUP(F5877,$L$85:$AH$134,16,FALSE)","v":"ha."},{"$f":"VLOOKUP(F5877,$L$85:$AH$134,17,FALSE)","v":0},"timer"]
[{"$f":"A5877","v":false},null,null,null,null,null,null,null,null,null,null,"FO (faste omk.):",null,{"$f":"+S5878*S5877","v":0},"FE (faste enh. omk.):",null,{"$f":"IFERROR(N5878/Q5877,0)","v":0},{"$f":"\"kr./\"&R5877","v":"kr./ha."},{"$f":"SUMIF(A5882:A5932,TRUE,J5882:J5932)","v":0},"kr./tim."]
[false,null,null,null,null,null,null,null,null,null,null,"VO (var. omk.):",null,{"$f":"+S5877*S5879","v":0},"VE (var. enh. omk.):",null,{"$f":"IFERROR(N5879/Q5877,0)","v":0},{"$f":"+R5878","v":"kr./ha."},{"$f":"SUMIF(A5882:A5932,TRUE,I5882:I5932)","v":0},"kr./tim."]
[false,null,null,null,null,null,null,null,null,null,null,"TO (totae omk.):",null,{"$f":"+N5879+N5878","v":0},"TE (totale enh. omk.):",null,{"$f":"+Q5879+Q5878","v":0},{"$f":"+R5879","v":"kr./ha."},{"$f":"+S5879+S5878","v":0},"kr./tim."]
[false,null,null,null,null,"id",null,null,"VE/tim","FE",null,null,null,null,"Maskinstationspris",null,{"$f":"VLOOKUP(F5877,$L$85:$AH$134,23,FALSE)","v":0},{"$f":"+R5880","v":"kr./ha."}]
[{"$f":"CheckOne(H5877,F5882)","v":false},null,null,null,null,{"$f":"_xlfn.ANCHORARRAY($J$31)","v":0},null,null,{"$f":"VLOOKUP(_xlfn.ANCHORARRAY(L5882),$L$31:$AE$80,17,FALSE)","v":0},{"$f":"VLOOKUP(_xlfn.ANCHORARRAY(L5882),$L$31:$AE$80,20,FALSE)-_xlfn.ANCHORARRAY(I5882)","v":0},null,{"$f":"$L$31:$L$80","v":1},{"$f":"$M$31:$M$80","v":0},null,null,null,{"$f":"_xlfn.ANCHORARRAY(S5882)/O5877","v":0},{"$f":"+R5880","v":"kr./ha."},{"$f":"$AE$31:$AE$80","v":0},"kr./tim."]
[{"$f":"CheckOne(H5877,F5883)","v":false},null,null,null,null,3,null,null,0,0,null,2,0,null,null,null,0,{"$f":"+R5882","v":"kr./ha."},0,"kr./tim."]
[{"$f":"CheckOne(H5877,F5884)","v":false},null,null,null,null,5,null,null,0,0,null,3,0,null,null,null,0,{"$f":"+R5883","v":"kr./ha."},0,"kr./tim."]
[{"$f":"CheckOne(H5877,F5885)","v":false},null,null,null,null,4,null,null,0,0,null,4,0,null,null,null,0,"kr./ha.",0,"kr./tim."]
[{"$f":"CheckOne(H5877,F5886)","v":false},null,null,null,null,1,null,null,0,0,null,5,0,null,null,null,0,"kr./ha.",0,"kr./tim."]
[{"$f":"CheckOne(H5877,F5887)","v":false},null,null,null,null,2,null,null,0,0,null,6,0,null,null,null,0,"kr./ha.",0,"kr./tim."]
[{"$f":"CheckOne(H5877,F5888)","v":false},null,null,null,null,6,null,null,0,0,null,7,0,null,null,null,0,"kr./ha.",0,"kr./tim."]
[{"$f":"CheckOne(H5877,F5889)","v":false},null,null,null,null,7,null,null,0,0,null,8,0,null,null,null,0,"kr./ha.",0,"kr./tim."]
[{"$f":"CheckOne(H5877,F5890)","v":false},null,null,null,null,8,null,null,0,0,null,9,0,null,null,null,0,"kr./ha.",0,"kr./tim."]
[{"$f":"CheckOne(H5877,F5891)","v":false},null,null,null,null,9,null,null,0,0,null,10,0,null,null,null,0,"kr./ha.",0,"kr./tim."]
[{"$f":"CheckOne(H5877,F5892)","v":false},null,null,null,null,10,null,null,0,0,null,11,0,null,null,null,0,"kr./ha.",0,"kr./tim."]
[{"$f":"CheckOne(H5877,F5893)","v":false},null,null,null,null,11,null,null,0,0,null,12,0,null,null,null,0,"kr./ha.",0,"kr./tim."]
[{"$f":"CheckOne(H5877,F5894)","v":false},null,null,null,null,12,null,null,0,0,null,13,0,null,null,null,0,"kr./ha.",0,"kr./tim."]
[{"$f":"CheckOne(H5877,F5895)","v":false},null,null,null,null,13,null,null,0,0,null,14,0,null,null,null,0,"kr./ha.",0,"kr./tim."]
[{"$f":"CheckOne(H5877,F5896)","v":false},null,null,null,null,14,null,null,0,0,null,15,0,null,null,null,0,"kr./ha.",0,"kr./tim."]
[{"$f":"CheckOne(H5877,F5897)","v":false},null,null,null,null,15,null,null,0,0,null,16,0,null,null,null,0,"kr./ha.",0,"kr./tim."]
[{"$f":"CheckOne(H5877,F5898)","v":false},null,null,null,null,16,null,null,0,0,null,17,0,null,null,null,0,"kr./ha.",0,"kr./tim."]
[{"$f":"CheckOne(H5877,F5899)","v":false},null,null,null,null,17,null,null,0,0,null,18,0,null,null,null,0,"kr./ha.",0,"kr./tim."]
[{"$f":"CheckOne(H5877,F5900)","v":false},null,null,null,null,18,null,null,0,0,null,19,0,null,null,null,0,"kr./ha.",0,"kr./tim."]
[{"$f":"CheckOne(H5877,F5901)","v":false},null,null,null,null,19,null,null,0,0,null,20,0,null,null,null,0,"kr./ha.",0,"kr./tim."]
[{"$f":"CheckOne(H5877,F5902)","v":false},null,null,null,null,20,null,null,0,0,null,21,0,null,null,null,0,"kr./ha.",0,"kr./tim."]
[{"$f":"CheckOne(H5877,F5903)","v":false},null,null,null,null,21,null,null,0,0,null,22,0,null,null,null,0,"kr./ha.",0,"kr./tim."]
[{"$f":"CheckOne(H5877,F5904)","v":false},null,null,null,null,22,null,null,0,0,null,23,0,null,null,null,0,"kr./ha.",0,"kr./tim."]
[{"$f":"CheckOne(H5877,F5905)","v":false},null,null,null,null,23,null,null,0,0,null,24,0,null,null,null,0,"kr./ha.",0,"kr./tim."]
[{"$f":"CheckOne(H5877,F5906)","v":false},null,null,null,null,24,null,null,0,0,null,25,0,null,null,null,0,"kr./ha.",0,"kr./tim."]
[{"$f":"CheckOne(H5877,F5907)","v":false},null,null,null,null,25,null,null,0,0,null,26,0,null,null,null,0,"kr./ha.",0,"kr./tim."]
[{"$f":"CheckOne(H5877,F5908)","v":false},null,null,null,null,26,null,null,0,0,null,27,0,null,null,null,0,"kr./ha.",0,"kr./tim."]
[{"$f":"CheckOne(H5877,F5909)","v":false},null,null,null,null,27,null,null,0,0,null,28,0,null,null,null,0,"kr./ha.",0,"kr./tim."]
[{"$f":"CheckOne(H5877,F5910)","v":false},null,null,null,null,28,null,null,0,0,null,29,0,null,null,null,0,"kr./ha.",0,"kr./tim."]
[{"$f":"CheckOne(H5877,F5911)","v":false},null,null,null,null,29,null,null,0,0,null,30,0,null,null,null,0,"kr./ha.",0,"kr./tim."]
[{"$f":"CheckOne(H5877,F5912)","v":false},null,null,null,null,30,null,null,0,0,null,31,0,null,null,null,0,"kr./ha.",0,"kr./tim."]
[{"$f":"CheckOne(H5877,F5913)","v":false},null,null,null,null,31,null,null,0,0,null,32,0,null,null,null,0,"kr./ha.",0,"kr./tim."]
[{"$f":"CheckOne(H5877,F5914)","v":false},null,null,null,null,32,null,null,0,0,null,33,0,null,null,null,0,"kr./ha.",0,"kr./tim."]
[{"$f":"CheckOne(H5877,F5915)","v":false},null,null,null,null,33,null,null,0,0,null,34,0,null,null,null,0,"kr./ha.",0,"kr./tim."]
[{"$f":"CheckOne(H5877,F5916)","v":false},null,null,null,null,34,null,null,0,0,null,35,0,null,null,null,0,"kr./ha.",0,"kr./tim."]
[{"$f":"CheckOne(H5877,F5917)","v":false},null,null,null,null,35,null,null,0,0,null,36,0,null,null,null,0,"kr./ha.",0,"kr./tim."]
[{"$f":"CheckOne(H5877,F5918)","v":false},null,null,null,null,36,null,null,0,0,null,37,0,null,null,null,0,"kr./ha.",0,"kr./tim."]
[{"$f":"CheckOne(H5877,F5919)","v":false},null,null,null,null,37,null,null,0,0,null,38,0,null,null,null,0,"kr./ha.",0,"kr./tim."]
[{"$f":"CheckOne(H5877,F5920)","v":false},null,null,null,null,38,null,null,0,0,null,39,0,null,null,null,0,"kr./ha.",0,"kr./tim."]
[{"$f":"CheckOne(H5877,F5921)","v":false},null,null,null,null,39,null,null,0,0,null,40,0,null,null,null,0,"kr./ha.",0,"kr./tim."]
[{"$f":"CheckOne(H5877,F5922)","v":false},null,null,null,null,40,null,null,0,0,null,41,0,null,null,null,0,"kr./ha.",0,"kr./tim."]
[{"$f":"CheckOne(H5877,F5923)","v":false},null,null,null,null,41,null,null,0,0,null,42,0,null,null,null,0,"kr./ha.",0,"kr./tim."]
[{"$f":"CheckOne(H5877,F5924)","v":false},null,null,null,null,42,null,null,0,0,null,43,0,null,null,null,0,"kr./ha.",0,"kr./tim."]
[{"$f":"CheckOne(H5877,F5925)","v":false},null,null,null,null,43,null,null,0,0,null,44,0,null,null,null,0,"kr./ha.",0,"kr./tim."]
[{"$f":"CheckOne(H5877,F5926)","v":false},null,null,null,null,44,null,null,0,0,null,45,0,null,null,null,0,"kr./ha.",0,"kr./tim."]
[{"$f":"CheckOne(H5877,F5927)","v":false},null,null,null,null,45,null,null,0,0,null,46,0,null,null,null,0,"kr./ha.",0,"kr./tim."]
[{"$f":"CheckOne(H5877,F5928)","v":false},null,null,null,null,46,null,null,0,0,null,47,0,null,null,null,0,"kr./ha.",0,"kr./tim."]
[{"$f":"CheckOne(H5877,F5929)","v":false},null,null,null,null,47,null,null,0,0,null,48,0,null,null,null,0,"kr./ha.",0,"kr./tim."]
[{"$f":"CheckOne(H5877,F5930)","v":false},null,null,null,null,48,null,null,0,0,null,49,0,null,null,null,0,"kr./ha.",0,"kr./tim."]
[{"$f":"CheckOne(H5877,F5931)","v":false},null,null,null,null,49,null,null,0,0,null,50,0,null,null,null,0,"kr./ha.",0,"kr./tim."]
[{"$f":"OR(N5932>0)","v":false},null,null,null,null,null,null,null,{"$f":"+S5932","v":0},0,null,null,"Arbejdsløn:",{"$f":"VLOOKUP(F5877,$L$85:$AH$134,14,FALSE)","v":0},"medarbejder",null,{"$f":"+S5932/O5877","v":0},"kr./ha.",{"$f":"+Maskiner!$Z$17*N5932","v":0},"kr./tim."]
[{"$f":"IF(N5934=\"Maskinstation\",FALSE,OR(L5933<>0,N5937<>0,Q5934<>0,S5934<>0))","v":false}]
[{"$f":"IF(N5935=\"Maskinstation\",FALSE,OR(L5934<>0,N5938<>0,Q5935<>0,S5935<>0))","v":false},null,null,null,null,"nr.","id","Maskiner",null,null,null,{"$f":"VLOOKUP(F5935,$L$85:$AH$134,2,FALSE)","v":0}]
[{"$f":"A5934","v":false},null,null,null,null,{"$f":"1+F5877","v":50},{"$f":"VLOOKUP(F5935,$F$85:$J$134,5,FALSE)","v":49},{"$f":"VLOOKUP(F5935,$F$85:$I$134,4,FALSE)","v":""},null,null,null,"Type:",null,{"$f":"VLOOKUP(F5935,$L$85:$AH$134,5,FALSE)","v":"Intern"},{"$f":"VLOOKUP(F5935,$L$85:$AH$134,19,FALSE)","v":1},{"$f":"R5935&\"/time\"","v":"ha./time"},{"$f":"VLOOKUP(F5935,$L$85:$AH$134,15,FALSE)","v":0},{"$f":"VLOOKUP(F5935,$L$85:$AH$134,16,FALSE)","v":"ha."},{"$f":"VLOOKUP(F5935,$L$85:$AH$134,17,FALSE)","v":0},"timer"]
[{"$f":"A5935","v":false},null,null,null,null,null,null,null,null,null,null,"FO (faste omk.):",null,{"$f":"+S5936*S5935","v":0},"FE (faste enh. omk.):",null,{"$f":"IFERROR(N5936/Q5935,0)","v":0},{"$f":"\"kr./\"&R5935","v":"kr./ha."},{"$f":"SUMIF(A5940:A5990,TRUE,J5940:J5990)","v":0},"kr./tim."]
[false,null,null,null,null,null,null,null,null,null,null,"VO (var. omk.):",null,{"$f":"+S5935*S5937","v":0},"VE (var. enh. omk.):",null,{"$f":"IFERROR(N5937/Q5935,0)","v":0},{"$f":"+R5936","v":"kr./ha."},{"$f":"SUMIF(A5940:A5990,TRUE,I5940:I5990)","v":0},"kr./tim."]
[false,null,null,null,null,null,null,null,null,null,null,"TO (totae omk.):",null,{"$f":"+N5937+N5936","v":0},"TE (totale enh. omk.):",null,{"$f":"+Q5937+Q5936","v":0},{"$f":"+R5937","v":"kr./ha."},{"$f":"+S5937+S5936","v":0},"kr./tim."]
[false,null,null,null,null,"id",null,null,"VE/tim","FE",null,null,null,null,"Maskinstationspris",null,{"$f":"VLOOKUP(F5935,$L$85:$AH$134,23,FALSE)","v":0},{"$f":"+R5938","v":"kr./ha."}]
[{"$f":"CheckOne(H5935,F5940)","v":false},null,null,null,null,{"$f":"_xlfn.ANCHORARRAY($J$31)","v":0},null,null,{"$f":"VLOOKUP(_xlfn.ANCHORARRAY(L5940),$L$31:$AE$80,17,FALSE)","v":0},{"$f":"VLOOKUP(_xlfn.ANCHORARRAY(L5940),$L$31:$AE$80,20,FALSE)-_xlfn.ANCHORARRAY(I5940)","v":0},null,{"$f":"$L$31:$L$80","v":1},{"$f":"$M$31:$M$80","v":0},null,null,null,{"$f":"_xlfn.ANCHORARRAY(S5940)/O5935","v":0},{"$f":"+R5938","v":"kr./ha."},{"$f":"$AE$31:$AE$80","v":0},"kr./tim."]
[{"$f":"CheckOne(H5935,F5941)","v":false},null,null,null,null,3,null,null,0,0,null,2,0,null,null,null,0,{"$f":"+R5940","v":"kr./ha."},0,"kr./tim."]
[{"$f":"CheckOne(H5935,F5942)","v":false},null,null,null,null,5,null,null,0,0,null,3,0,null,null,null,0,{"$f":"+R5941","v":"kr./ha."},0,"kr./tim."]
[{"$f":"CheckOne(H5935,F5943)","v":false},null,null,null,null,4,null,null,0,0,null,4,0,null,null,null,0,"kr./ha.",0,"kr./tim."]
[{"$f":"CheckOne(H5935,F5944)","v":false},null,null,null,null,1,null,null,0,0,null,5,0,null,null,null,0,"kr./ha.",0,"kr./tim."]
[{"$f":"CheckOne(H5935,F5945)","v":false},null,null,null,null,2,null,null,0,0,null,6,0,null,null,null,0,"kr./ha.",0,"kr./tim."]
[{"$f":"CheckOne(H5935,F5946)","v":false},null,null,null,null,6,null,null,0,0,null,7,0,null,null,null,0,"kr./ha.",0,"kr./tim."]
[{"$f":"CheckOne(H5935,F5947)","v":false},null,null,null,null,7,null,null,0,0,null,8,0,null,null,null,0,"kr./ha.",0,"kr./tim."]
[{"$f":"CheckOne(H5935,F5948)","v":false},null,null,null,null,8,null,null,0,0,null,9,0,null,null,null,0,"kr./ha.",0,"kr./tim."]
[{"$f":"CheckOne(H5935,F5949)","v":false},null,null,null,null,9,null,null,0,0,null,10,0,null,null,null,0,"kr./ha.",0,"kr./tim."]
[{"$f":"CheckOne(H5935,F5950)","v":false},null,null,null,null,10,null,null,0,0,null,11,0,null,null,null,0,"kr./ha.",0,"kr./tim."]
[{"$f":"CheckOne(H5935,F5951)","v":false},null,null,null,null,11,null,null,0,0,null,12,0,null,null,null,0,"kr./ha.",0,"kr./tim."]
[{"$f":"CheckOne(H5935,F5952)","v":false},null,null,null,null,12,null,null,0,0,null,13,0,null,null,null,0,"kr./ha.",0,"kr./tim."]
[{"$f":"CheckOne(H5935,F5953)","v":false},null,null,null,null,13,null,null,0,0,null,14,0,null,null,null,0,"kr./ha.",0,"kr./tim."]
[{"$f":"CheckOne(H5935,F5954)","v":false},null,null,null,null,14,null,null,0,0,null,15,0,null,null,null,0,"kr./ha.",0,"kr./tim."]
[{"$f":"CheckOne(H5935,F5955)","v":false},null,null,null,null,15,null,null,0,0,null,16,0,null,null,null,0,"kr./ha.",0,"kr./tim."]
[{"$f":"CheckOne(H5935,F5956)","v":false},null,null,null,null,16,null,null,0,0,null,17,0,null,null,null,0,"kr./ha.",0,"kr./tim."]
[{"$f":"CheckOne(H5935,F5957)","v":false},null,null,null,null,17,null,null,0,0,null,18,0,null,null,null,0,"kr./ha.",0,"kr./tim."]
[{"$f":"CheckOne(H5935,F5958)","v":false},null,null,null,null,18,null,null,0,0,null,19,0,null,null,null,0,"kr./ha.",0,"kr./tim."]
[{"$f":"CheckOne(H5935,F5959)","v":false},null,null,null,null,19,null,null,0,0,null,20,0,null,null,null,0,"kr./ha.",0,"kr./tim."]
[{"$f":"CheckOne(H5935,F5960)","v":false},null,null,null,null,20,null,null,0,0,null,21,0,null,null,null,0,"kr./ha.",0,"kr./tim."]
[{"$f":"CheckOne(H5935,F5961)","v":false},null,null,null,null,21,null,null,0,0,null,22,0,null,null,null,0,"kr./ha.",0,"kr./tim."]
[{"$f":"CheckOne(H5935,F5962)","v":false},null,null,null,null,22,null,null,0,0,null,23,0,null,null,null,0,"kr./ha.",0,"kr./tim."]
[{"$f":"CheckOne(H5935,F5963)","v":false},null,null,null,null,23,null,null,0,0,null,24,0,null,null,null,0,"kr./ha.",0,"kr./tim."]
[{"$f":"CheckOne(H5935,F5964)","v":false},null,null,null,null,24,null,null,0,0,null,25,0,null,null,null,0,"kr./ha.",0,"kr./tim."]
[{"$f":"CheckOne(H5935,F5965)","v":false},null,null,null,null,25,null,null,0,0,null,26,0,null,null,null,0,"kr./ha.",0,"kr./tim."]
[{"$f":"CheckOne(H5935,F5966)","v":false},null,null,null,null,26,null,null,0,0,null,27,0,null,null,null,0,"kr./ha.",0,"kr./tim."]
[{"$f":"CheckOne(H5935,F5967)","v":false},null,null,null,null,27,null,null,0,0,null,28,0,null,null,null,0,"kr./ha.",0,"kr./tim."]
[{"$f":"CheckOne(H5935,F5968)","v":false},null,null,null,null,28,null,null,0,0,null,29,0,null,null,null,0,"kr./ha.",0,"kr./tim."]
[{"$f":"CheckOne(H5935,F5969)","v":false},null,null,null,null,29,null,null,0,0,null,30,0,null,null,null,0,"kr./ha.",0,"kr./tim."]
[{"$f":"CheckOne(H5935,F5970)","v":false},null,null,null,null,30,null,null,0,0,null,31,0,null,null,null,0,"kr./ha.",0,"kr./tim."]
[{"$f":"CheckOne(H5935,F5971)","v":false},null,null,null,null,31,null,null,0,0,null,32,0,null,null,null,0,"kr./ha.",0,"kr./tim."]
[{"$f":"CheckOne(H5935,F5972)","v":false},null,null,null,null,32,null,null,0,0,null,33,0,null,null,null,0,"kr./ha.",0,"kr./tim."]
[{"$f":"CheckOne(H5935,F5973)","v":false},null,null,null,null,33,null,null,0,0,null,34,0,null,null,null,0,"kr./ha.",0,"kr./tim."]
[{"$f":"CheckOne(H5935,F5974)","v":false},null,null,null,null,34,null,null,0,0,null,35,0,null,null,null,0,"kr./ha.",0,"kr./tim."]
[{"$f":"CheckOne(H5935,F5975)","v":false},null,null,null,null,35,null,null,0,0,null,36,0,null,null,null,0,"kr./ha.",0,"kr./tim."]
[{"$f":"CheckOne(H5935,F5976)","v":false},null,null,null,null,36,null,null,0,0,null,37,0,null,null,null,0,"kr./ha.",0,"kr./tim."]
[{"$f":"CheckOne(H5935,F5977)","v":false},null,null,null,null,37,null,null,0,0,null,38,0,null,null,null,0,"kr./ha.",0,"kr./tim."]
[{"$f":"CheckOne(H5935,F5978)","v":false},null,null,null,null,38,null,null,0,0,null,39,0,null,null,null,0,"kr./ha.",0,"kr./tim."]
[{"$f":"CheckOne(H5935,F5979)","v":false},null,null,null,null,39,null,null,0,0,null,40,0,null,null,null,0,"kr./ha.",0,"kr./tim."]
[{"$f":"CheckOne(H5935,F5980)","v":false},null,null,null,null,40,null,null,0,0,null,41,0,null,null,null,0,"kr./ha.",0,"kr./tim."]
[{"$f":"CheckOne(H5935,F5981)","v":false},null,null,null,null,41,null,null,0,0,null,42,0,null,null,null,0,"kr./ha.",0,"kr./tim."]
[{"$f":"CheckOne(H5935,F5982)","v":false},null,null,null,null,42,null,null,0,0,null,43,0,null,null,null,0,"kr./ha.",0,"kr./tim."]
[{"$f":"CheckOne(H5935,F5983)","v":false},null,null,null,null,43,null,null,0,0,null,44,0,null,null,null,0,"kr./ha.",0,"kr./tim."]
[{"$f":"CheckOne(H5935,F5984)","v":false},null,null,null,null,44,null,null,0,0,null,45,0,null,null,null,0,"kr./ha.",0,"kr./tim."]
[{"$f":"CheckOne(H5935,F5985)","v":false},null,null,null,null,45,null,null,0,0,null,46,0,null,null,null,0,"kr./ha.",0,"kr./tim."]
[{"$f":"CheckOne(H5935,F5986)","v":false},null,null,null,null,46,null,null,0,0,null,47,0,null,null,null,0,"kr./ha.",0,"kr./tim."]
[{"$f":"CheckOne(H5935,F5987)","v":false},null,null,null,null,47,null,null,0,0,null,48,0,null,null,null,0,"kr./ha.",0,"kr./tim."]
[{"$f":"CheckOne(H5935,F5988)","v":false},null,null,null,null,48,null,null,0,0,null,49,0,null,null,null,0,"kr./ha.",0,"kr./tim."]
[{"$f":"CheckOne(H5935,F5989)","v":false},null,null,null,null,49,null,null,0,0,null,50,0,null,null,null,0,"kr./ha.",0,"kr./tim."]
[{"$f":"OR(N5990>0)","v":false},null,null,null,null,null,null,null,{"$f":"+S5990","v":0},0,null,null,"Arbejdsløn:",{"$f":"VLOOKUP(F5935,$L$85:$AH$134,14,FALSE)","v":0},"medarbejder",null,{"$f":"+S5990/O5935","v":0},"kr./ha.",{"$f":"+Maskiner!$Z$17*N5990","v":0},"kr./tim."]
[{"$f":"A5934","v":false}]

{"sheet":"Budget grise, hjælpeark","index":7,"n_rows":136,"n_cols":31,"rows_kept":136,"cut":false,"hidden":false,"merged":[[124,15,124,17],[124,18,124,20],[124,21,124,23],[124,24,124,26],[111,12,111,31],[113,15,113,17],[113,18,113,20],[113,21,113,23],[113,24,113,26],[93,15,93,17],[93,18,93,20],[93,21,93,23],[93,24,93,26],[94,16,94,17],[94,19,94,20],[94,22,94,23],[94,25,94,26],[87,16,87,17],[87,19,87,20],[87,22,87,23],[87,25,87,26],[71,15,71,17],[71,18,71,20],[71,21,71,23],[71,24,71,26],[86,15,86,17],[86,18,86,20],[86,21,86,23],[86,24,86,26],[84,18,84,21],[82,12,82,31],[77,15,77,20],[47,12,47,31],[51,15,51,17],[51,18,51,20],[51,21,51,23],[51,24,51,26],[49,22,49,25],[65,15,65,17],[65,18,65,20],[65,21,65,23],[65,24,65,26],[59,15,59,17],[59,18,59,20],[59,21,59,23],[59,24,59,26],[37,24,37,26],[37,21,37,23],[37,18,37,20],[37,15,37,17],[12,12,12,31],[15,24,15,26],[15,21,15,23],[15,18,15,20],[15,15,15,17],[102,19,102,20],[103,19,103,20],[95,16,95,17],[96,16,96,17],[97,16,97,17],[100,16,100,17],[101,16,101,17],[102,16,102,17],[103,16,103,17],[95,19,95,20],[96,19,96,20],[100,19,100,20],[97,19,97,20],[101,19,101,20],[102,22,102,23],[103,22,103,23],[95,25,95,26],[96,25,96,26],[97,25,97,26],[100,25,100,26],[101,25,101,26],[102,25,102,26],[103,25,103,26],[95,22,95,23],[96,22,96,23],[97,22,97,23],[100,22,100,23],[101,22,101,23]]}
[null,null,null,null,"Skjul tomme kolonner",null,null,null,"Vis/skjul 1",1,true]
[null,null,null,null,null,null,null,null,"Vis/skjul 2",2,true]
[null,null,null,null,null,null,null,null,"Vis/skjul 3",3,true]
[null,null,null,null,null,null,null,null,"Markør1",4]
["Skjul tomme rækker",null,null,null,null,null,null,null,"Markør2",5]
[null,null,null,null,null,null,null,null,"Min. bredde",6,null,null,null,null,null,"xxxxxxxx","xxx",{"$f":"P6","v":"xxxxxxxx"},{"$f":"P6","v":"xxxxxxxx"},{"$f":"Q6","v":"xxx"},"xxxxxxxx","xxxxxxxx","xxx","xxxxxxxx","xxxxxxxx","xxx","xxxxxxxx"]
[null,null,null,null,null,null,null,null,null,7]
[null,null,null,null,null,null,null,null,null,8]
["Vis tomme rækker","Vis/skjul 2","Vis/skjul 3","Markør1","Markør2",null,null,null,"Kol. nr",9,11,null,13,14,15,16,17,18,19,20,21,22,23,24,25,26,27,28,29,30,31]
[1,2,3,4,5,6,7,8,9,10]
[null,null,true]
[]
[true,null,null,1,null,null,null,null,null,null,null,null,"Dyreomsætning"]
[true]
[true]
[true,null,null,null,null,null,null,null,null,null,null,null,null,null,null,{"$f":"\"Regnskab \"&År0","v":"Regnskab 2023"},null,null,{"$f":"\"Budget \"&År1","v":"Budget 2024"},null,null,{"$f":"\"Budget \"&År2","v":"Budget 2025"},null,null,{"$f":"\"Budget \"&År3","v":"Budget 2026"}]
[true,null,null,null,null,null,null,null,null,null,null,null,"Søer",null,null,"pr. årsso",null,{"$f":"ÅrssøerAntal","v":0},"pr. årsso",null,null,"pr. årsso",null,null,"pr. årsso"]
[{"$f":"IF(SUM(P18:AA18)=0,FALSE,TRUE)","v":false},null,null,null,null,null,null,null,null,null,null,null,"Salg søer, gylde, polte og orner",null,null,{"$f":"R18:R26/divnul(R17)","v":0},null,{"$f":"Grise!P44+Grise!P45","v":0},null,null,{"$f":"S18:S19*U17","v":0},null,null,{"$f":"V18:V19*X17","v":0},null,null,{"$f":"Y18:Y19*AA17","v":0}]
[{"$f":"IF(SUM(P19:AA19)=0,FALSE,TRUE)","v":false},null,null,null,null,null,null,null,null,null,null,null,"Søer og gylte, døde/kasserede",null,null,0,null,{"$f":"+Grise!P46","v":0},null,null,0,null,null,0,null,null,0]
[{"$f":"IF(SUM(P20:AA20)=0,FALSE,TRUE)","v":false},null,null,null,null,null,null,null,null,null,null,null,"Overførte polte",null,null,0,null,{"$f":"Grise!P49","v":0},{"$f":"IF(ISERROR(U20:U23/U17),0,U20:U23/U17)","v":0},null,{"$f":"-U34-U43","v":0},{"$f":"IF(ISERROR(X20:X23/X17),0,X20:X23/X17)","v":0},null,{"$f":"-X34-X43","v":0},{"$f":"IF(ISERROR(AA20:AA23/AA17),0,AA20:AA23/AA17)","v":0},null,{"$f":"-AA34-AA43","v":0}]
[{"$f":"IF(SUM(P21:AA21)=0,FALSE,TRUE)","v":false},null,null,null,null,null,null,null,null,null,null,null,"Indkøbte polte",null,null,0,null,{"$f":"Grise!P50","v":0},0,null,{"$f":"-U18-U19-U20-U22","v":0},0,null,{"$f":"-X18-X19-X20-X22","v":0},0,null,{"$f":"-AA18-AA19-AA20-AA22","v":0}]
[{"$f":"IF(SUM(P22:AA22)=0,FALSE,TRUE)","v":false},null,null,null,null,null,null,null,null,null,null,null,"Forskydning avlsdyr",null,null,0,null,{"$f":"Grise!P52","v":0},0,null,null,0,null,null,0]
[{"$f":"IF(COUNTIF(A18:A22,TRUE)>0,TRUE,FALSE)","v":false},null,null,null,null,null,null,null,null,null,null,null,"Tilvækst avlsdyr",null,null,0,null,{"$f":"SUM(R18:R22)","v":0},0,null,0,0,null,0,0,null,0]
[{"$f":"A23","v":false},null,null,null,null,null,null,null,null,null,null,null,"",null,null,0]
[{"$f":"IF(SUM(P25:AA25)=0,FALSE,TRUE)","v":false},null,null,null,null,null,null,null,null,null,null,null,"Fravænnede grise, salg",null,null,0,null,{"$f":"+Grise!P54","v":0},{"$f":"IF(ISERROR(U25:U26/U17),0,U25:U26/U17)","v":0},null,{"$f":"+U27-U26","v":0},{"$f":"IF(ISERROR(X25:X26/X17),0,X25:X26/X17)","v":0},null,{"$f":"X27-X26","v":0},{"$f":"IF(ISERROR(AA25:AA26/AA17),0,AA25:AA26/AA17)","v":0},null,{"$f":"AA27-AA26","v":0}]
[{"$f":"IF(SUM(P26:AA26)=0,FALSE,TRUE)","v":false},null,null,null,null,null,null,null,null,null,null,null,"Frav. grise, overført til klima",null,null,0,null,{"$f":"+Grise!P55","v":0},0,null,null,0,null,null,0]
[{"$f":"IF(COUNTIF(A24:A26,TRUE)>0,TRUE,FALSE)","v":false},null,null,null,null,null,null,null,null,null,null,null,"Fravænnede grise",null,null,{"$f":"P26+P25","v":0},null,{"$f":"SUM(R25:R26)","v":0},null,"(frav. grise)",{"$f":"+S27*U17","v":0},null,"(frav. grise)",{"$f":"+V27*X17","v":0},null,"(frav. grise)",{"$f":"+Y27*AA17","v":0}]
[{"$f":"A36","v":false}]
[{"$f":"IF(SUM(P29:AA29)=0,FALSE,TRUE)","v":false},null,null,null,null,null,null,null,null,null,null,null,"fravænnede grise indkøbt",null,null,{"$f":"R29:R32/divnul(R17)","v":0},null,{"$f":"Grise!P59","v":0},{"$f":"IF(ISERROR(U29:U32/U17),0,U29:U32/U17)","v":0},null,null,{"$f":"IF(ISERROR(X29:X32/X17),0,X29:X32/X17)","v":0},null,null,{"$f":"IF(ISERROR(AA29:AA32/AA17),0,AA29:AA32/AA17)","v":0}]
[false,null,null,null,null,null,null,null,null,null,null,null,"fravænnede grise overført fra søer",null,null,0,null,{"$f":"Grise!P60","v":0},0,null,{"$f":"-U26","v":0},0,null,{"$f":"-X26","v":0},0,null,{"$f":"-AA26","v":0}]
[false,null,null,null,null,null,null,null,null,null,null,null,"30 kg. grise, overført til sl. svin",null,null,0,null,{"$f":"SmågriseOverførtTilSlagtAntal","v":0},0,null,null,0,null,null,0]
[false,null,null,null,null,null,null,null,null,null,null,null,"30 kg. grise, solgt",null,null,0,null,{"$f":"SmågriseSolgtAntal","v":0},0,null,{"$f":"U36-U29-U30-U31-U33-U34","v":0},0,null,{"$f":"X36-X29-X30-X31-X33-X34","v":0},0,null,{"$f":"AA36-AA29-AA30-AA31-AA33-AA34","v":0}]
[false,null,null,null,null,null,null,null,null,null,null,null,"Døde smågrise",null,null,{"$f":"IF(ISERROR(R33/ProdSmågriseAntal),0,R33/ProdSmågriseAntal)","v":0},"af grise",{"$f":"Grise!P63","v":0},null,"af grise",{"$f":"-(U29+U30)*S33","v":0},null,"af grise",{"$f":"-(X29+X30)*V33","v":0},null,"af grise",{"$f":"-(AA29+AA30)*Y33","v":0}]
[false,null,null,null,null,null,null,null,null,null,null,null,"Polte overført til søer",null,null,{"$f":"R34/divnul(R17)","v":0},null,{"$f":"Grise!P64","v":0},{"$f":"IF(ISERROR(U34:U36/U17),0,U34:U36/U17)","v":0},null,null,{"$f":"IF(ISERROR(X34:X36/X17),0,X34:X36/X17)","v":0},null,null,{"$f":"IF(ISERROR(AA34:AA36/AA17),0,AA34:AA36/AA17)","v":0}]
[null,null,null,null,null,null,null,null,null,null,null,null,"Forskydning, grise",null,null,null,null,{"$f":"+SmågriseForskydningAntal","v":0},0,null,null,0,null,null,0]
[{"$f":"IF(COUNTIF(A29:A34,TRUE)>0,TRUE,FALSE)","v":false},null,null,null,null,null,null,null,null,null,null,null,"Tilvækst grise 7-30 kg.",null,null,null,null,{"$f":"SUM(R29:R35)","v":0},0,null,0,0,null,0,0,null,0]
[true]
[true,null,null,null,null,null,null,null,null,null,null,null,null,null,null,{"$f":"\"Regnskab \"&År0","v":"Regnskab 2023"},null,null,{"$f":"\"Budget \"&År1","v":"Budget 2024"},null,null,{"$f":"\"Budget \"&År2","v":"Budget 2025"},null,null,{"$f":"\"Budget \"&År3","v":"Budget 2026"}]
[true,null,null,null,null,null,null,null,null,null,null,null,"Slagtegrise",null,null,"pr. prod. gris",null,{"$f":"ProdSlagtesvinAntal","v":0},"pr. slagtegris",null,{"$f":"(-U40-U41+U42+U43)/2","v":0},"pr. slagtegris",null,{"$f":"(-X40-X41+X42+X43)/2","v":0},"pr. slagtegris",null,{"$f":"(-AA40-AA41+AA42+AA43)/2","v":0}]
[{"$f":"IF(SUM(P40:AA40)=0,FALSE,TRUE)","v":false},null,null,null,null,null,null,null,null,null,null,null,"30. kg. grise indkøbt",null,null,{"$f":"_xludf.IFERROR(R40/$R$39)","v":0},null,{"$f":"Grise!P67","v":0},{"$f":"IF(ISERROR(U40:U43/U39),0,U40:U43/U39)","v":0},null,null,{"$f":"IF(ISERROR(X40:X43/X39),0,X40:X43/X39)","v":0},null,null,{"$f":"IF(ISERROR(AA40:AA43/AA39),0,AA40:AA43/AA39)","v":0}]
[false,null,null,null,null,null,null,null,null,null,null,null,"30. kg. grise overf. fra smågrise",null,null,{"$f":"_xludf.IFERROR(R41/$R$39)","v":0},null,{"$f":"+Grise!P68","v":0},0,null,{"$f":"-U31","v":0},0,null,{"$f":"-X31","v":0},0,null,{"$f":"-AA31","v":0}]
[false,null,null,null,null,null,null,null,null,null,null,null,"Slagtegrise solgt",null,null,{"$f":"_xludf.IFERROR(R42/$R$39)","v":0},null,{"$f":"+Grise!P69+Grise!P70","v":0},0,null,{"$f":"+U46-U40-U41-U43-U44-U45","v":0},0,null,{"$f":"+X46-X40-X41-X43-X44-X45","v":0},0,null,{"$f":"+AA46-AA40-AA41-AA43-AA44-AA45","v":0}]
[false,null,null,null,null,null,null,null,null,null,null,null,"Polte overført til søer",null,null,{"$f":"_xludf.IFERROR(R43/$R$39)","v":0},null,{"$f":"+Grise!P71","v":0},0,null,null,0,null,null,0]
[false,null,null,null,null,null,null,null,null,null,null,null,"Døde slagtegrise",null,null,{"$f":"IF(ISERROR(R44/R39),0,R44/R39)","v":0},null,{"$f":"+Grise!P72","v":0},null,null,{"$f":"-(U40+U41)*S44","v":0},null,null,{"$f":"-(X40+X41)*V44","v":0},null,null,{"$f":"-(AA40+AA41)*Y44","v":0}]
[false,null,null,null,null,null,null,null,null,null,null,null,"Forskydning, slagtegrise",null,null,null,null,{"$f":"+Grise!P75","v":0}]
[{"$f":"IF(COUNTIF(A40:A44,TRUE)>0,TRUE,FALSE)","v":false},null,null,null,null,null,null,null,null,null,null,null,"Tilvækst slagtegrise",null,null,null,null,{"$f":"SUM(R40:R45)","v":0},null,null,0,null,null,0,null,null,0]
[true]
[true,null,null,null,null,null,null,null,null,null,null,null,"Grisepriser"]
[true]
[true,null,null,null,null,null,null,null,null,null,null,null,"Indtastning af tal fra farmtal eller prognoser. Opdateret 28 okt. 2024",null,null,null,null,null,null,null,null,null,"Indtastning af bedriftens egne tal"]
[true]
[true,null,null,null,null,null,null,null,null,null,null,null,"Slagtegrisepriser",null,null,{"$f":"\"Regnskab \"&År0","v":"Regnskab 2023"},null,null,{"$f":"\"Budget \"&År1","v":"Budget 2024"},null,null,{"$f":"\"Budget \"&År2","v":"Budget 2025"},null,null,{"$f":"\"Budget \"&År3","v":"Budget 2026"}]
[true,null,null,null,null,null,null,null,null,null,null,null,"Slagtegrisenotering",null,null,null,null,null,null,null,11.52,null,null,11.19,null,null,11.5]
[true,null,null,null,null,null,null,null,null,null,null,null,"Tillæg/fradrag"]
[true,null,null,null,null,null,null,null,null,null,null,null,"Efterbetaling",null,null,null,null,null,null,null,1.07,null,null,1.06,null,null,1]
[true,null,null,null,null,null,null,null,null,null,null,null,"Afregningspris pr. kg.",null,null,null,null,null,null,null,{"$f":"SUM(U53:U55)","v":12.59},null,null,{"$f":"SUM(X53:X55)","v":12.25},null,null,{"$f":"SUM(AA53:AA55)","v":12.5}]
[true,null,null,null,null,null,null,null,null,null,null,null,null,null,null,"Slagtevægt:",null,null,"Slagtevægt:",null,null,"Slagtevægt:",null,null,"Slagtevægt:"]
[true,null,null,null,null,null,null,null,null,null,null,null,"Pris pr. solgt gris. (før efterbetaling)",null,null,{"$f":"Grise!U512/1.31","v":0},null,null,87.5,null,{"$f":"(U53+U54)*S58","v":1008},87.5,null,{"$f":"(X53+X54)*V58","v":979.125},87.5,null,{"$f":"(AA53+AA54)*Y58","v":1006.25}]
[true]
[true,null,null,null,null,null,null,null,null,null,null,null,"Vægtregulering smågrise",null,null,null,null,null,{"$f":"\"Budget \"&År1","v":"Budget 2024"},null,null,{"$f":"\"Budget \"&År2","v":"Budget 2025"},null,null,{"$f":"\"Budget \"&År3","v":"Budget 2026"}]
[true,null,null,null,null,null,null,null,null,null,null,null,"5-7 kg.",null,null,null,null,null,null,null,15.75,null,null,15.19,null,null,15.71]
[true,null,null,null,null,null,null,null,null,null,null,null,"7-9 kg.",null,null,null,null,null,null,null,12.75,null,null,12.19,null,null,12.71]
[true,null,null,null,null,null,null,null,null,null,null,null,"25-30 kg.",null,null,null,null,null,null,null,6.38,null,null,6.29,null,null,6.37]
[true,null,null,null,null,null,null,null,null,null,null,null,"30-40 kg.",null,null,null,null,null,null,null,6.33,null,null,6.23,null,null,6.32]
[true]
[true,null,null,null,null,null,null,null,null,null,null,null,"Smågrisepris (ca. 30 kg.)",null,null,{"$f":"\"Regnskab \"&År0","v":"Regnskab 2023"},null,null,{"$f":"\"Budget \"&År1","v":"Budget 2024"},null,null,{"$f":"\"Budget \"&År2","v":"Budget 2025"},null,null,{"$f":"\"Budget \"&År3","v":"Budget 2026"}]
[true,null,null,null,null,null,null,null,null,null,null,null,"Basispris (fra kalkule)",null,null,null,null,null,null,null,445,null,null,432,null,null,450]
[true,null,null,null,null,null,null,null,null,null,null,null,"Tillæg/fradrag",null,null,"Afgangsvægt",null,null,"Afgangsvægt","Effekt",null,"Afgangsvægt","Effekt",null,"Afgangsvægt","Effekt"]
[true,null,null,null,null,null,null,null,null,null,null,null,"Vægtregulering",null,null,{"$f":"AfgangsvægtSmågriseGnsKg","v":{"$error":"#DIV/0!"}},null,null,32,{"$f":"IF(S69>30,U64,U63)","v":6.33},{"$f":"(S69-30)*T69","v":12.66},32,{"$f":"IF(V69>30,X64,X63)","v":6.23},{"$f":"(V69-30)*W69","v":12.46},null,{"$f":"IF(Y69>30,AA64,AA63)","v":6.37},{"$f":"(Y69-30)*Z69","v":-191.1}]
[true,null,null,null,null,null,null,null,null,null,null,null,"Salgspris:",null,null,null,null,null,null,null,{"$f":"SUM(U67:U69)","v":457.66},null,null,{"$f":"SUM(X67:X69)","v":444.46},null,null,{"$f":"SUM(AA67:AA69)","v":258.89999999999998}]
[true]
[true,null,null,null,null,null,null,null,null,null,null,null,"Smågrisepris (ca. 7 kg.)",null,null,{"$f":"\"Regnskab \"&År0","v":"Regnskab 2023"},null,null,{"$f":"\"Budget \"&År1","v":"Budget 2024"},null,null,{"$f":"\"Budget \"&År2","v":"Budget 2025"},null,null,{"$f":"\"Budget \"&År3","v":"Budget 2026"}]
[true,null,null,null,null,null,null,null,null,null,null,null,"Basispris (fra kalkule)",null,null,null,null,null,null,null,255,null,null,246,null,null,275]
[true,null,null,null,null,null,null,null,null,null,null,null,"Tillæg/fradrag",null,null,"Afgangsvægt",null,null,"Afgangsvægt","Effekt",null,"Afgangsvægt","Effekt",null,"Afgangsvægt","Effekt"]
[true,null,null,null,null,null,null,null,null,null,null,null,"Vægtregulering",null,null,{"$f":"(Grise!T55+Grise!T54)/(Grise!P55+Grise!P54)","v":{"$error":"#DIV/0!"}},null,null,7,{"$f":"IF(S75>7,U62,U61)","v":15.75},{"$f":"(S75-7)*T75","v":0},7,{"$f":"IF(V75>7,X62,X61)","v":15.19},{"$f":"(V75-7)*W75","v":0},null,5.75,{"$f":"(Y75-7)*Z75","v":-40.25}]
[true,null,null,null,null,null,null,null,null,null,null,null,"Salgspris:",null,null,null,null,null,null,null,{"$f":"SUM(U73:U75)","v":255},null,null,{"$f":"SUM(X73:X75)","v":246},null,null,{"$f":"SUM(AA73:AA75)","v":234.75}]
[true]
[true,null,null,null,null,null,null,null,null,null,null,null,"Link til SEGES langtidsprognose.",null,null,"OBS: Langtidtprognosen er indregnet i det sidste budgetår."]
[true]
[true,null,null,null,null,null,null,null,null,null,null,null,"Link til prisberegneren"]
[true]
[true]
[true,null,null,null,null,null,null,null,null,null,null,null,"Foderforbrug grise"]
[true]
[true,null,null,null,null,null,null,null,null,null,null,null,"Indtastning af tal fra farmtal eller prognoser.",null,null,null,null,null,"Indtastning af bedriftens egne tal"]
[true]
[true,null,null,null,null,null,null,null,null,null,null,null,"Slagtegrise",null,null,{"$f":"\"Regnskab \"&År0","v":"Regnskab 2023"},null,null,{"$f":"\"Budget \"&År1","v":"Budget 2024"},null,null,{"$f":"\"Budget \"&År2","v":"Budget 2025"},null,null,{"$f":"\"Budget \"&År3","v":"Budget 2026"}]
[true,null,null,null,null,null,null,null,null,null,null,null,"Fe pr. kg. tilvækst",null,null,{"$f":"Grise!Q638","v":{"$error":"#DIV/0!"}},"fe pr. kg. tilv.",null,null,"fe pr. kg. tilv.",null,null,"fe pr. kg. tilv.",null,null,"fe pr. kg. tilv."]
[true,null,null,null,null,null,null,null,null,null,null,null,"Kg. tilvækst",null,null,{"$f":"Grise!U514","v":0},"kg.",null,{"$f":"S58*1.31-S69","v":82.625},"kg.",null,{"$f":"V58*1.31-V69","v":82.625},"kg.",null,{"$f":"Y58*1.31-Y69","v":114.625},"kg."]
[true,null,null,null,null,null,null,null,null,null,null,null,"Fodermængde i alt pr. prod. gris",null,null,{"$f":"+P88*P89","v":{"$error":"#DIV/0!"}},"fe.",null,{"$f":"+S88*S89","v":0},"fe.",null,{"$f":"+V88*V89","v":0},"fe.",null,{"$f":"+Y88*Y89","v":0},"fe."]
[true,null,null,null,null,null,null,null,null,null,null,null,"Fodermængde standardkalkule",null,null,null,null,null,219,"fe.",null,219,"fe.",null,219,"fe."]
[true,null,null,null,null,null,null,null,null,null,null,null,"Procent korrektion",null,null,null,null,null,{"$f":"S90/S91-1","v":-1},null,null,{"$f":"V90/V91-1","v":-1},null,null,{"$f":"Y90/Y91-1","v":-1}]
[true]
[true,null,null,null,null,null,null,null,null,null,null,null,"Søer",null,null,{"$f":"\"Regnskab \"&År0","v":"Regnskab 2023"},null,null,{"$f":"\"Budget \"&År1","v":"Budget 2024"},null,null,{"$f":"\"Budget \"&År2","v":"Budget 2025"},null,null,{"$f":"\"Budget \"&År3","v":"Budget 2026"}]
[true,null,null,null,null,null,null,null,null,null,null,null,"Sofoder pr. årsso, standardkalkule",null,null,1526,"fe pr. årsso",null,1514,"fe pr. årsso",null,1514,"fe pr. årsso",null,1514,"fe pr. årsso"]
[true,null,null,null,null,null,null,null,null,null,null,null,"Smågrisefoder pr. årsso, standardkalkule",null,null,1505,"fe pr. årsso",null,1446,"fe pr. årsso",null,1446,"fe pr. årsso",null,1446,"fe pr. årsso"]
[true,null,null,null,null,null,null,null,null,null,null,null,"Foder i alt, standardkalkule",null,null,{"$f":"SUM(P95:P96)","v":3031},"fe pr. årsso",null,{"$f":"SUM(S95:S96)","v":2960},"fe pr. årsso",null,{"$f":"SUM(V95:V96)","v":2960},"fe pr. årsso",null,{"$f":"SUM(Y95:Y96)","v":2960},"fe pr. årsso"]
[true,null,null,null,null,null,null,null,null,null,null,null,"Solgte smågrise pr. årsso, farmtal",null,null,33.06,"grise",null,32.83,"grise",null,32.83,"grise",null,32.83,"grise"]
[true,null,null,null,null,null,null,null,null,null,null,null,"Afgangsvægt smågrise, farmtal",null,null,32,"kg.",null,32,"kg.",null,32,"kg.",null,32,"kg."]
[true,null,null,null,null,null,null,null,null,null,null,null,"Smågrisefoder pr. prod. smågris, standardkalkule",null,null,{"$f":"P96/P98","v":45.523290986085904},"fe.",null,{"$f":"S96/S98","v":44.045080718854706},"fe.",null,{"$f":"V96/V98","v":44.045080718854706},"fe.",null,{"$f":"Y96/Y98","v":44.045080718854706},"fe."]
[true,null,null,null,null,null,null,null,null,null,null,null,"Sofoder pr. årsso",null,null,{"$f":"+P106-P105","v":{"$error":"#DIV/0!"}},"fe pr. årsso",null,1526,"fe pr. årsso",null,1522,"fe pr. årsso",null,1522,"fe pr. årsso"]
[true,null,null,null,null,null,null,null,null,null,null,null,{"$f":"\"Smågrisefoder pr. smågris ved \"&S99&\" kg.\"","v":"Smågrisefoder pr. smågris ved 32 kg."},null,null,47,"fe. pr. gris",null,46,"fe. pr. gris",null,46,"fe. pr. gris",null,46,"fe. pr. gris"]
[true,null,null,null,null,null,null,null,null,null,null,null,"Smågrisefoder pr. kg. afgangsvægt",null,null,2,"fe. pr. gris",null,2,"fe. pr. gris",null,2,"fe. pr. gris",null,2,"fe. pr. gris"]
[true,null,null,null,null,null,null,null,null,null,null,null,"Smågrisefoder pr. smågris i alt",null,null,{"$f":"+P102+P103*(P69-P99)","v":{"$error":"#DIV/0!"}},"fe. pr. gris",null,{"$f":"+S102+S103*(S69-S99)","v":46},"fe. pr. gris",null,{"$f":"+V102+V103*(V69-V99)","v":46},"fe. pr. gris",null,{"$f":"+Y102+Y103*(Y69-Y99)","v":-18},"fe. pr. gris"]
[true,null,null,null,null,null,null,null,null,null,null,null,"Smågrisefoder i alt",null,null,{"$f":"(P31+P32)*P104","v":{"$error":"#DIV/0!"}},null,null,{"$f":"(S31+S32)*S104","v":0},null,null,{"$f":"(V31+V32)*V104","v":0},null,null,{"$f":"(Y31+Y32)*Y104","v":0}]
[true,null,null,null,null,null,null,null,null,null,null,null,"Foder i alt",null,null,{"$f":"Grise!R278","v":{"$error":"#DIV/0!"}},null,null,{"$f":"+S101+S105","v":1526},null,null,{"$f":"+V101+V105","v":1522},null,null,{"$f":"+Y101+Y105","v":1522}]
[true]
[true,null,null,null,null,null,null,null,null,null,null,null,"Korrektion til budget:",null,null,null,null,null,"fe.","korrektion",null,"fe.","korrektion",null,"fe.","korrektion"]
[true,null,null,null,null,null,null,null,null,null,null,null,"Sofoder:",null,null,null,null,null,{"$f":"S101","v":1526},{"$f":"S109/S95-1","v":7.9260237780713894E-3},null,{"$f":"V101","v":1522},{"$f":"V109/V95-1","v":5.2840158520475189E-3},null,{"$f":"Y101","v":1522},{"$f":"Y109/Y95-1","v":5.2840158520475189E-3}]
[true,null,null,null,null,null,null,null,null,null,null,null,"Smågrisefoder",null,null,null,null,null,{"$f":"S105","v":0},{"$f":"S110/S96-1","v":-1},null,{"$f":"V105","v":0},{"$f":"V110/V96-1","v":-1},null,{"$f":"Y105","v":0},{"$f":"Y110/Y96-1","v":-1}]
[true]
[true,null,null,null,null,null,null,null,null,null,null,null,"Indtastning i Ø90"]
[true]
[true,null,null,null,null,null,null,null,null,null,null,null,"Søer",null,null,null,null,null,{"$f":"\"Budget \"&År1","v":"Budget 2024"},null,null,{"$f":"\"Budget \"&År2","v":"Budget 2025"},null,null,{"$f":"\"Budget \"&År3","v":"Budget 2026"}]
[true,null,null,null,null,null,null,null,null,null,null,null,"Årssøer",null,null,null,null,null,null,null,{"$f":"+U17","v":0},null,null,{"$f":"+X17","v":0},null,null,{"$f":"+AA17","v":0}]
[null,null,null,null,null,null,null,null,null,null,null,null,"30 kg. grise, overført til slagtegrise",null,null,null,null,null,null,null,{"$f":"+S31","v":0},null,null,{"$f":"+V31","v":0},null,null,{"$f":"+Y31","v":0}]
[null,null,null,null,null,null,null,null,null,null,null,null,"30 kg. grise, solgt",null,null,null,null,null,null,null,{"$f":"+S32","v":0},null,null,{"$f":"+V32","v":0},null,null,{"$f":"+Y32","v":0}]
[true,null,null,null,null,null,null,null,null,null,null,null,"Salg søer, gylde, polte og orner",null,null,null,null,null,null,null,{"$f":"+S18","v":0},null,null,{"$f":"+V18","v":0},null,null,{"$f":"+Y18","v":0}]
[null,null,null,null,null,null,null,null,null,null,null,null,"Indkøbte polte",null,null,null,null,null,null,null,{"$f":"+S21","v":0},null,null,{"$f":"+V21","v":0},null,null,{"$f":"+Y21","v":0}]
[true,null,null,null,null,null,null,null,null,null,null,null,"Smågrisepris (ca. 30 kg.)",null,null,null,null,null,null,null,{"$f":"U70","v":457.66},null,null,{"$f":"X70","v":444.46},null,null,{"$f":"AA70","v":258.89999999999998}]
[true,null,null,null,null,null,null,null,null,null,null,null,"Smågrisepris (ca. 7 kg.)",null,null,null,null,null,null,null,{"$f":"+U76","v":255},null,null,{"$f":"+X76","v":246},null,null,{"$f":"+AA76","v":234.75}]
[true,null,null,null,null,null,null,null,null,null,null,null,"Foderkorrektion, sofoder",null,null,null,null,null,null,null,{"$f":"T109","v":7.9260237780713894E-3},null,null,{"$f":"W109","v":5.2840158520475189E-3},null,null,{"$f":"Z109","v":5.2840158520475189E-3}]
[true,null,null,null,null,null,null,null,null,null,null,null,"Foderkorrektion, smågrisefoder",null,null,null,null,null,null,null,{"$f":"T110","v":-1},null,null,{"$f":"W110","v":-1},null,null,{"$f":"Z110","v":-1}]
[true]
[true,null,null,null,null,null,null,null,null,null,null,null,"Slagtegrise",null,null,null,null,null,{"$f":"\"Budget \"&År1","v":"Budget 2024"},null,null,{"$f":"\"Budget \"&År2","v":"Budget 2025"},null,null,{"$f":"\"Budget \"&År3","v":"Budget 2026"}]
[null,null,null,null,null,null,null,null,null,null,null,null,"Producerede grise",null,null,null,null,null,null,null,{"$f":"U39","v":0},null,null,{"$f":"X39","v":0},null,null,{"$f":"AA39","v":0}]
[null,null,null,null,null,null,null,null,null,null,null,null,"Indgangsvægt",null,null,null,null,null,null,null,{"$f":"S69","v":32},null,null,{"$f":"V69","v":32},null,null,{"$f":"Y69","v":0}]
[null,null,null,null,null,null,null,null,null,null,null,null,"Afgangsvægt",null,null,null,null,null,null,null,{"$f":"S58","v":87.5},null,null,{"$f":"V58","v":87.5},null,null,{"$f":"Y58","v":87.5}]
[true,null,null,null,null,null,null,null,null,null,null,null,"30. kg. grise indkøbt",null,null,null,null,null,null,null,{"$f":"+S40","v":0},null,null,{"$f":"+V40","v":0},null,null,{"$f":"+Y40","v":0}]
[true,null,null,null,null,null,null,null,null,null,null,null,"30. kg. grise overf. fra smågrise",null,null,null,null,null,null,null,{"$f":"+S41","v":0},null,null,{"$f":"+V41","v":0},null,null,{"$f":"+Y41","v":0}]
[true,null,null,null,null,null,null,null,null,null,null,null,"Slagtegrise solgt",null,null,null,null,null,null,null,{"$f":"+S42","v":0},null,null,{"$f":"+V42","v":0},null,null,{"$f":"+Y42","v":0}]
[true,null,null,null,null,null,null,null,null,null,null,null,"Polte overført til søer",null,null,null,null,null,null,null,{"$f":"+S43","v":0},null,null,{"$f":"+V43","v":0},null,null,{"$f":"+Y43","v":0}]
[true,null,null,null,null,null,null,null,null,null,null,null,"Pris pr. solgt slagtegris. (før efterbetaling)",null,null,null,null,null,null,null,{"$f":"U58","v":1008},null,null,{"$f":"X58","v":979.125},null,null,{"$f":"AA58","v":1006.25}]
[true,null,null,null,null,null,null,null,null,null,null,null,"Efterbetaling , kr. pr. kg.",null,null,null,null,null,{"$f":"S58","v":87.5},"kg. a.",{"$f":"U55","v":1.07},{"$f":"V58","v":87.5},"kg. a.",{"$f":"X55","v":1.06},{"$f":"Y58","v":87.5},"kg. a.",{"$f":"AA55","v":1}]
[true,null,null,null,null,null,null,null,null,null,null,null,"Pris pr. indsat smågris",null,null,null,null,null,null,null,{"$f":"U70","v":457.66},null,null,{"$f":"X70","v":444.46},null,null,{"$f":"AA70","v":258.89999999999998}]
[true,null,null,null,null,null,null,null,null,null,null,null,"Foderkorrektion",null,null,null,null,null,null,null,{"$f":"S92","v":-1},null,null,{"$f":"V92","v":-1},null,null,{"$f":"Y92","v":-1}]

{"sheet":"Budget kvæg, hjælpeark","index":8,"n_rows":55,"n_cols":31,"rows_kept":55,"cut":false,"hidden":false,"merged":[[27,13,27,14],[33,15,33,17],[41,15,41,24],[12,12,12,31],[15,15,15,17],[15,18,15,20],[15,21,15,23],[15,24,15,26],[25,22,25,25],[27,15,27,17],[27,18,27,20],[27,21,27,23],[27,24,27,26],[43,12,43,31],[45,15,45,17],[45,18,45,20],[45,21,45,23],[45,24,45,26]]}
[null,null,null,null,"Skjul tomme kolonner",null,null,null,"Vis/skjul 1",1,true]
[null,null,null,null,null,null,null,null,"Vis/skjul 2",2,true]
[null,null,null,null,null,null,null,null,"Vis/skjul 3",3,true]
[null,null,null,null,null,null,null,null,"Markør1",4]
["Skjul tomme rækker",null,null,null,null,null,null,null,"Markør2",5]
[null,null,null,null,null,null,null,null,"Min. bredde",6,null,null,null,null,null,"xxxxxxxx","xxx",{"$f":"P6","v":"xxxxxxxx"},{"$f":"P6","v":"xxxxxxxx"},{"$f":"Q6","v":"xxx"},"xxxxxxxx","xxxxxxxx","xxx","xxxxxxxx","xxxxxxxx","xxx","xxxxxxxx"]
[null,null,null,null,null,null,null,null,null,7]
[null,null,null,null,null,null,null,null,null,8]
["Vis tomme rækker","Vis/skjul 2","Vis/skjul 3","Markør1","Markør2",null,null,null,"Kol. nr",9,11,null,13,14,15,16,17,18,19,20,21,22,23,24,25,26,27,28,29,30,31]
[1,2,3,4,5,6,7,8,9,10]
[null,null,true]
[]
[true,null,null,1,null,null,null,null,null,null,null,null,"Mælkeydelse"]
[true]
[true]
[true,null,null,null,null,null,null,null,null,null,null,null,null,null,null,{"$f":"\"Regnskab \"&År0","v":"Regnskab 2023"},null,null,{"$f":"\"Budget \"&År1","v":"Budget 2024"},null,null,{"$f":"\"Budget \"&År2","v":"Budget 2025"},null,null,{"$f":"\"Budget \"&År3","v":"Budget 2026"}]
[true,null,null,null,null,null,null,null,null,null,null,null,"Malkekvæg",null,null,null,null,"pr. årsko",null,null,"pr. årsko",null,null,"pr. årsko",null,null,"pr. årsko"]
[null,null,null,null,null,null,null,null,null,null,null,null,"Kg. mælk leveret pr. årsko",null,null,null,null,{"$f":"Kvæg!Q266","v":{"$error":"#DIV/0!"}}]
[null,null,null,null,null,null,null,null,null,null,null,null,"Fedtindhold",null,null,null,null,{"$f":"Kvæg!Q275","v":0},null,null,4.2000000000000003E-2,null,null,4.2000000000000003E-2,null,null,4.2000000000000003E-2]
[null,null,null,null,null,null,null,null,null,null,null,null,"Proteinindhold",null,null,null,null,{"$f":"Kvæg!Q276","v":0},null,null,3.4000000000000002E-2,null,null,3.4000000000000002E-2,null,null,3.4000000000000002E-2]
[null,null,null,null,null,null,null,null,null,null,null,null,"Kg. EKM leveret pr. årsko",null,null,null,null,{"$f":"Kvæg!R281","v":{"$error":"#DIV/0!"}},null,null,{"$f":"U18*((0.383*U19*100+0.242*U20*100+0.7832)/3.14)","v":0},null,null,{"$f":"X18*((0.383*X19*100+0.242*X20*100+0.7832)/3.14)","v":0},null,null,{"$f":"AA18*((0.383*AA19*100+0.242*AA20*100+0.7832)/3.14)","v":0}]
[null,null,null,null,null,null,null,null,null,null,null,null,"Leveringsprocent",null,null,null,null,null,null,null,0.94889999999999997,null,null,0.94889999999999997,null,null,0.94889999999999997]
[null,null,null,null,null,null,null,null,null,null,null,null,"Produceret mælk, kg.",null,null,null,null,null,null,null,{"$f":"U18/U22","v":0},null,null,{"$f":"X18/X22","v":0},null,null,{"$f":"AA18/AA22","v":0}]
[null,null,null,null,null,null,null,null,null,null,null,null,"Produceret mælk, kg. EKM",null,null,null,null,null,null,null,{"$f":"U21/U22","v":0},null,null,{"$f":"X21/X22","v":0},null,null,{"$f":"AA21/AA22","v":0}]
[true]
[true,null,null,null,null,null,null,null,null,null,null,null,"Indtastning af tal fra farmtal eller prognoser. Opdateret 28 okt. 2024",null,null,null,null,null,null,null,null,null,"Indtastning af bedriftens egne tal"]
[true]
[true,null,null,null,null,null,null,null,null,null,null,null,"Mælkepris",null,null,"Seneste",null,null,{"$f":"\"Budget \"&År1","v":"Budget 2024"},null,null,{"$f":"\"Budget \"&År2","v":"Budget 2025"},null,null,{"$f":"\"Budget \"&År3","v":"Budget 2026"}]
[null,null,null,null,null,null,null,null,null,null,null,null,null,null,null,"Indhold, pct.",null,"pris, øre",null,null,"pris, øre",null,null,"pris, øre",null,null,"pris, øre"]
[true,null,null,null,null,null,null,null,null,null,null,null,"Pris for fedt, øre",null,null,4.2000000000000003E-2,null,36.28,null,null,{"$f":"$R30/($R$33-$R$32)*(U$33-U$32)","v":46.355328913111386},null,null,{"$f":"$R30/($R$33-$R$32)*(X$33-X$32)","v":49.00010275280313},null,null,{"$f":"$R30/($R$33-$R$32)*(AA$33-AA$32)","v":38.043182559794488}]
[true,null,null,null,null,null,null,null,null,null,null,null,"Pris for protein, øre",null,null,3.4000000000000002E-2,null,39.909999999999997,null,null,{"$f":"$R31/($R$33-$R$32)*(U$33-U$32)","v":50.993417224980028},null,null,{"$f":"$R31/($R$33-$R$32)*(X$33-X$32)","v":53.902814246537282},null,null,{"$f":"$R31/($R$33-$R$32)*(AA$33-AA$32)","v":41.849598014371495}]
[true,null,null,null,null,null,null,null,null,null,null,null,"Fradrag",null,null,null,null,-13.07,null,null,{"$f":"R32","v":-13.07},null,null,{"$f":"U32","v":-13.07},null,null,{"$f":"X32","v":-13.07}]
[true,null,null,null,null,null,null,null,null,null,null,null,"Basispris, øre",null,null,null,null,{"$f":"P30*$R$30*100+P31*$R$31*100+$R$32","v":275.00000000000006},null,null,355,null,null,376,null,null,289]
[true,null,null,null,null,null,null,null,null,null,null,null,null,null,null,{"$f":"\"Regnskab \"&År0","v":"Regnskab 2023"}]
[null,null,null,null,null,null,null,null,null,null,null,null,"Fedtindhold",null,null,null,null,{"$f":"Kvæg!Q275","v":0},null,null,{"$f":"U19","v":4.2000000000000003E-2},null,null,{"$f":"X19","v":4.2000000000000003E-2},null,null,{"$f":"AA19","v":4.2000000000000003E-2}]
[null,null,null,null,null,null,null,null,null,null,null,null,"Proteinindhold",null,null,null,null,{"$f":"Kvæg!Q276","v":0},null,null,{"$f":"U20","v":3.4000000000000002E-2},null,null,{"$f":"X20","v":3.4000000000000002E-2},null,null,{"$f":"AA20","v":3.4000000000000002E-2}]
[null,null,null,null,null,null,null,null,null,null,null,null,"Mælkepris, kr. pr. kg.",null,null,null,null,{"$f":"Kvæg!V165","v":0},null,null,{"$f":"U35*U30+U36*U31+U32/100","v":3.5499999999999994},null,null,{"$f":"X35*X30+X36*X31+X32/100","v":3.7599999999999989},null,null,{"$f":"AA35*AA30+AA36*AA31+AA32/100","v":2.8899999999999997}]
[null,null,null,null,null,null,null,null,null,null,null,null,"Tillæg/fradrag",null,null,null,null,{"$f":"Kvæg!V166","v":0}]
[null,null,null,null,null,null,null,null,null,null,null,null,"Efterbetaling",null,null,null,null,{"$f":"Kvæg!V167","v":0},null,null,0.11,null,null,0.11,null,null,0.11]
[null,null,null,null,null,null,null,null,null,null,null,null,"Afregningspris",null,null,null,null,{"$f":"SUM(R37:R39)","v":0},null,null,{"$f":"SUM(U37:U39)","v":3.6599999999999993},null,null,{"$f":"SUM(X37:X39)","v":3.8699999999999988},null,null,{"$f":"SUM(AA37:AA39)","v":2.9999999999999996}]
[true]
[true,null,null,null,null,null,null,null,null,null,null,null,"Link til SEGES langtidsprognose.",null,null,"OBS: Langtidtprognosen er indregnet i det sidste budgetår."]
[true]
[true,null,null,null,null,null,null,null,null,null,null,null,"Indtastning i Ø90"]
[true]
[true,null,null,null,null,null,null,null,null,null,null,null,"Mælkekvæg",null,null,null,null,null,{"$f":"\"Budget \"&År1","v":"Budget 2024"},null,null,{"$f":"\"Budget \"&År2","v":"Budget 2025"},null,null,{"$f":"\"Budget \"&År3","v":"Budget 2026"}]
[true,null,null,null,null,null,null,null,null,null,null,null,"Produceret mælk, kg. EKM",null,null,null,null,null,null,null,{"$f":"U24","v":0},null,null,{"$f":"X24","v":0},null,null,{"$f":"AA24","v":0}]
[null,null,null,null,null,null,null,null,null,null,null,null,"Produceret mælk, kg. mælk",null,null,null,null,null,null,null,{"$f":"U23","v":0},null,null,{"$f":"X23","v":0},null,null,{"$f":"AA23","v":0}]
[null,null,null,null,null,null,null,null,null,null,null,null,"Leveret mælk, kg. mælk",null,null,null,null,null,null,null,{"$f":"U18","v":0},null,null,{"$f":"X18","v":0},null,null,{"$f":"AA18","v":0}]
[null,null,null,null,null,null,null,null,null,null,null,null,"Fedtprocent",null,null,null,null,null,null,null,{"$f":"U35","v":4.2000000000000003E-2},null,null,{"$f":"X35","v":4.2000000000000003E-2},null,null,{"$f":"AA35","v":4.2000000000000003E-2}]
[null,null,null,null,null,null,null,null,null,null,null,null,"Proteinprocent",null,null,null,null,null,null,null,{"$f":"U36","v":3.4000000000000002E-2},null,null,{"$f":"X36","v":3.4000000000000002E-2},null,null,{"$f":"AA36","v":3.4000000000000002E-2}]
[true,null,null,null,null,null,null,null,null,null,null,null,"Mælkepris pr. kg.",null,null,null,null,null,null,null,{"$f":"U37","v":3.5499999999999994},null,null,{"$f":"X37","v":3.7599999999999989},null,null,{"$f":"AA37","v":2.8899999999999997}]
[null,null,null,null,null,null,null,null,null,null,null,null,"Sum af tillæg/fradrag pr. kg.",null,null,null,null,null,null,null,{"$f":"U38","v":0},null,null,{"$f":"X38","v":0},null,null,{"$f":"AA38","v":0}]
[true,null,null,null,null,null,null,null,null,null,null,null,"Efterbetaling pr. kg.",null,null,null,null,null,null,null,{"$f":"U39","v":0.11},null,null,{"$f":"X39","v":0.11},null,null,{"$f":"AA39","v":0.11}]
[null,null,null,null,null,null,null,null,null,null,null,null,"Mælkesalg i alt (til kontrol)",null,null,null,null,null,null,null,{"$f":"(U52+U53+U54)*U49","v":0},null,null,{"$f":"(X52+X53+X54)*X49","v":0},null,null,{"$f":"(AA52+AA53+AA54)*AA49","v":0}]

{"sheet":"#Lister","index":9,"n_rows":1816,"n_cols":21,"rows_kept":1816,"cut":false,"hidden":true,"merged":[]}
[null,null,null,null,"Skjul tomme kolonner",null,null,null,"Vis/skjul 1",1]
[null,null,null,null,null,null,null,null,"Vis/skjul 2",2]
[null,null,null,null,null,null,null,null,"Vis/skjul 3",3]
[null,null,null,null,null,null,null,null,null,4]
["Skjul tomme rækker",null,null,null,null,null,null,null,null,5]
[null,null,null,null,null,null,null,null,null,6]
[null,null,null,null,null,null,null,null,null,7]
[null,null,null,null,null,null,null,null,null,8]
["Vis tomme rækker","Vis/skjul 2","Vis/skjul 3",null,null,null,null,null,null,9]
[1,2,3,4,5,6,7,8,9,10]
[]
[null,null,null,null,null,null,null,null,null,null,null,"Valg svin:",null,null,null,null,"Kvantum "]
[null,null,null,null,null,null,null,null,null,null,null,"Søer inkl. smågrise",null,null,null,null,"kg."]
[null,null,null,null,null,null,null,null,null,null,null,"Søer og smågrise opdelt i to produktionsgrene",null,null,null,null,"FEN"]
[]
[]
[]
[null,null,null,null,null,null,null,null,null,null,null,"Produktionsgrene"]
[null,null,null,null,null,null,null,null,null,null,null,"ProdGrenNr","ProdGren","Benævnelse","Benævnelse, flertal"]
[null,null,null,null,null,null,null,null,null,null,null,1,"Søer med smågrise","årsso","årssøer"]
[null,null,null,null,null,null,null,null,null,null,null,2,"Søer","årsso","årssøer"]
[null,null,null,null,null,null,null,null,null,null,null,3,"Smågrise","prod. smågris","prod. smågrise"]
[null,null,null,null,null,null,null,null,null,null,null,4,"Slagtesvin","prod. sl. svin","prod. slagtesvin"]
[null,null,null,null,null,null,null,null,null,null,null,5,"Malkekvæg","årsko","årskøer"]
[null,null,null,null,null,null,null,null,null,null,null,6,"Slagtekalve","prod. sl. kalv","prod sl. kalve"]
[]
[]
[]
[]
[]
[]
[]
[]
[null,null,null,null,null,null,null,null,null,null,null,"Sæt kryds"]
[null,null,null,null,null,null,null,null,null,null,null,"x"]
[]
[]
[]
[]
[]
[null,null,null,null,null,null,null,null,null,null,null,null,null,null,null,null,null,null,null,"tblEnhMask.DataBodyRange.Value"]
[null,null,null,null,null,null,null,null,null,null,null,"Visning, mark"]
[null,null,null,null,null,null,null,null,null,null,null,"Vis sum"]
[null,null,null,null,null,null,null,null,null,null,null,"Vis detaljer"]
[null,null,null,null,null,null,null,null,null,null,null,"Vis ikke"]
[]
[]
[]
[]
[]
[]
[]
[]
[null,null,null,null,null,null,null,null,null,null,null,"Enheder, maskiner",null,null,null,null,"tblMaskintype",null,null,"Opgavetyp Maskiner"]
[null,null,null,null,null,null,null,null,null,null,null,"Id","Betegnelse","b",null,null,"Id","Betegnelse",null,null,"Betegnelse"]
[null,null,null,null,null,null,null,null,null,null,null,0,"ha.","ha./time",null,null,0,"Traktor",null,null,"Intern"]
[null,null,null,null,null,null,null,null,null,null,null,1,"timer","timer",null,null,1,"Maskine",null,null,"For andre"]
[null,null,null,null,null,null,null,null,null,null,null,2,"tons","tons/time",null,null,2,"Motorredskab",null,null,"Maskinstation"]
[null,null,null,null,null,null,null,null,null,null,null,3]
[null,null,null,null,null,null,null,null,null,null,null,4]
[]
[null,null,null,null,null,null,null,null,null,null,null,null,{"$f":"tblEnhMask[Betegnelse]","v":"ha."}]
[null,null,null,null,null,null,null,null,null,null,null,null,"timer"]
[null,null,null,null,null,null,null,null,null,null,null,null,"tons"]
[null,null,null,null,null,null,null,null,null,null,null,null,0]
[null,null,null,null,null,null,null,null,null,null,null,null,0]
[]
[]
[]
[]
[null,null,null,null,null,null,null,null,null,null,null,"Maskinvalg"]
[null,null,null,null,null,null,null,null,null,null,null,"Opgave","Maskine"]
[null,null,null,null,null,null,null,null,null,null,null,1,1]
[null,null,null,null,null,null,null,null,null,null,null,1,3]
[null,null,null,null,null,null,null,null,null,null,null,1,4]
[]
[]
[]
[]
[]
[]
[]
[]
[]
[]
[]
[]
[]
[]
[]
[]
[]
[]
[]
[]
[]
[]
[]
[]
[]
[]
[]
[]
[]
[]
[]
[]
[]
[]
[]
[]
[]
[]
[]
[]
[]
[]
[]
[]
[]
[]
[]
[]
[]
[]
[]
[]
[]
[]
[]
[]
[]
[]
[]
[]
[]
[]
[]
[]
[]
[]
[]
[]
[]
[]
[]
[]
[]
[]
[]
[]
[]
[]
[]
[]
[]
[]
[]
[]
[]
[]
[]
[]
[]
[]
[]
[]
[]
[]
[]
[]
[]
[]
[]
[]
[]
[]
[]
[]
[]
[]
[]
[]
[]
[]
[]
[]
[]
[]
[]
[]
[]
[]
[]
[]
[]
[]
[]
[]
[]
[]
[]
[]
[]
[]
[]
[]
[]
[]
[]
[]
[]
[]
[]
[]
[]
[]
[]
[]
[]
[]
[]
[]
[]
[]
[]
[]
[]
[]
[]
[]
[]
[]
[]
[]
[]
[]
[]
[]
[]
[]
[]
[]
[]
[]
[]
[]
[]
[]
[]
[]
[]
[]
[]
[]
[]
[]
[]
[]
[]
[]
[]
[]
[]
[]
[]
[]
[]
[]
[]
[]
[]
[]
[]
[]
[]
[]
[]
[]
[]
[]
[]
[]
[]
[]
[]
[]
[]
[]
[]
[]
[]
[]
[]
[]
[]
[]
[]
[]
[]
[]
[]
[]
[]
[]
[]
[]
[]
[]
[]
[]
[]
[]
[]
[]
[]
[]
[]
[]
[]
[]
[]
[]
[]
[]
[]
[]
[]
[]
[]
[]
[]
[]
[]
[]
[]
[]
[]
[]
[]
[]
[]
[]
[]
[]
[]
[]
[]
[]
[]
[]
[]
[]
[]
[]
[]
[]
[]
[]
[]
[]
[]
[]
[]
[]
[]
[]
[]
[]
[]
[]
[]
[]
[]
[]
[]
[]
[]
[]
[]
[]
[]
[]
[]
[]
[]
[]
[]
[]
[]
[]
[]
[]
[]
[]
[]
[]
[]
[]
[]
[]
[]
[]
[]
[]
[]
[]
[]
[]
[]
[]
[]
[]
[]
[]
[]
[]
[]
[]
[]
[]
[]
[]
[]
[]
[]
[]
[]
[]
[]
[]
[]
[]
[]
[]
[]
[]
[]
[]
[]
[]
[]
[]
[]
[]
[]
[]
[]
[]
[]
[]
[]
[]
[]
[]
[]
[]
[]
[]
[]
[]
[]
[]
[]
[]
[]
[]
[]
[]
[]
[]
[]
[]
[]
[]
[]
[]
[]
[]
[]
[]
[]
[]
[]
[]
[]
[]
[]
[]
[]
[]
[]
[]
[]
[]
[]
[]
[]
[]
[]
[]
[]
[]
[]
[]
[]
[]
[]
[]
[]
[]
[]
[]
[]
[]
[]
[]
[]
[]
[]
[]
[]
[]
[]
[]
[]
[]
[]
[]
[]
[]
[]
[]
[]
[]
[]
[]
[]
[]
[]
[]
[]
[]
[]
[]
[]
[]
[]
[]
[]
[]
[]
[]
[]
[]
[]
[]
[]
[]
[]
[]
[]
[]
[]
[]
[]
[]
[]
[]
[]
[]
[]
[]
[]
[]
[]
[]
[]
[]
[]
[]
[]
[]
[]
[]
[]
[]
[]
[]
[]
[]
[]
[]
[]
[]
[]
[]
[]
[]
[]
[]
[]
[]
[]
[]
[]
[]
[]
[]
[]
[]
[]
[]
[]
[]
[]
[]
[]
[]
[]
[]
[]
[]
[]
[]
[]
[]
[]
[]
[]
[]
[]
[]
[]
[]
[]
[]
[]
[]
[]
[]
[]
[]
[]
[]
[]
[]
[]
[]
[]
[]
[]
[]
[]
[]
[]
[]
[]
[]
[]
[]
[]
[]
[]
[]
[]
[]
[]
[]
[]
[]
[]
[]
[]
[]
[]
[]
[]
[]
[]
[]
[]
[]
[]
[]
[]
[]
[]
[]
[]
[]
[]
[]
[]
[]
[]
[]
[]
[]
[]
[]
[]
[]
[]
[]
[]
[]
[]
[]
[]
[]
[]
[]
[]
[]
[]
[]
[]
[]
[]
[]
[]
[]
[]
[]
[]
[]
[]
[]
[]
[]
[]
[]
[]
[]
[]
[]
[]
[]
[]
[]
[]
[]
[]
[]
[]
[]
[]
[]
[]
[]
[]
[]
[]
[]
[]
[]
[]
[]
[]
[]
[]
[]
[]
[]
[]
[]
[]
[]
[]
[]
[]
[]
[]
[]
[]
[]
[]
[]
[]
[]
[]
[]
[]
[]
[]
[]
[]
[]
[]
[]
[]
[]
[]
[]
[]
[]
[]
[]
[]
[]
[]
[]
[]
[]
[]
[]
[]
[]
[]
[]
[]
[]
[]
[]
[]
[]
[]
[]
[]
[]
[]
[]
[]
[]
[]
[]
[]
[]
[]
[]
[]
[]
[]
[]
[]
[]
[]
[]
[]
[]
[]
[]
[]
[]
[]
[]
[]
[]
[]
[]
[]
[]
[]
[]
[]
[]
[]
[]
[]
[]
[]
[]
[]
[]
[]
[]
[]
[]
[]
[]
[]
[]
[]
[]
[]
[]
[]
[]
[]
[]
[]
[]
[]
[]
[]
[]
[]
[]
[]
[]
[]
[]
[]
[]
[]
[]
[]
[]
[]
[]
[]
[]
[]
[]
[]
[]
[]
[]
[]
[]
[]
[]
[]
[]
[]
[]
[]
[]
[]
[]
[]
[]
[]
[]
[]
[]
[]
[]
[]
[]
[]
[]
[]
[]
[]
[]
[]
[]
[]
[]
[]
[]
[]
[]
[]
[]
[]
[]
[]
[]
[]
[]
[]
[]
[]
[]
[]
[]
[]
[]
[]
[]
[]
[]
[]
[]
[]
[]
[]
[]
[]
[]
[]
[]
[]
[]
[]
[]
[]
[]
[]
[]
[]
[]
[]
[]
[]
[]
[]
[]
[]
[]
[]
[]
[]
[]
[]
[]
[]
[]
[]
[]
[]
[]
[]
[]
[]
[]
[]
[]
[]
[]
[]
[]
[]
[]
[]
[]
[]
[]
[]
[]
[]
[]
[]
[]
[]
[]
[]
[]
[]
[]
[]
[]
[]
[]
[]
[]
[]
[]
[]
[]
[]
[]
[]
[]
[]
[]
[]
[]
[]
[]
[]
[]
[]
[]
[]
[]
[]
[]
[]
[]
[]
[]
[]
[]
[]
[]
[]
[]
[]
[]
[]
[]
[]
[]
[]
[]
[]
[]
[]
[]
[]
[]
[]
[]
[]
[]
[]
[]
[]
[]
[]
[]
[]
[]
[]
[]
[]
[]
[]
[]
[]
[]
[]
[]
[]
[]
[]
[]
[]
[]
[]
[]
[]
[]
[]
[]
[]
[]
[]
[]
[]
[]
[]
[]
[]
[]
[]
[]
[]
[]
[]
[]
[]
[]
[]
[]
[]
[]
[]
[]
[]
[]
[]
[]
[]
[]
[]
[]
[]
[]
[]
[]
[]
[]
[]
[]
[]
[]
[]
[]
[]
[]
[]
[]
[]
[]
[]
[]
[]
[]
[]
[]
[]
[]
[]
[]
[]
[]
[]
[]
[]
[]
[]
[]
[]
[]
[]
[]
[]
[]
[]
[]
[]
[]
[]
[]
[]
[]
[]
[]
[]
[]
[]
[]
[]
[]
[]
[]
[]
[]
[]
[]
[]
[]
[]
[]
[]
[]
[]
[]
[]
[]
[]
[]
[]
[]
[]
[]
[]
[]
[]
[]
[]
[]
[]
[]
[]
[]
[]
[]
[]
[]
[]
[]
[]
[]
[]
[]
[]
[]
[]
[]
[]
[]
[]
[]
[]
[]
[]
[]
[]
[]
[]
[]
[]
[]
[]
[]
[]
[]
[]
[]
[]
[]
[]
[]
[]
[]
[]
[]
[]
[]
[]
[]
[]
[]
[]
[]
[]
[]
[]
[]
[]
[]
[]
[]
[]
[]
[]
[]
[]
[]
[]
[]
[]
[]
[]
[]
[]
[]
[]
[]
[]
[]
[]
[]
[]
[]
[]
[]
[]
[]
[]
[]
[]
[]
[]
[]
[]
[]
[]
[]
[]
[]
[]
[]
[]
[]
[]
[]
[]
[]
[]
[]
[]
[]
[]
[]
[]
[]
[]
[]
[]
[]
[]
[]
[]
[]
[]
[]
[]
[]
[]
[]
[]
[]
[]
[]
[]
[]
[]
[]
[]
[]
[]
[]
[]
[]
[]
[]
[]
[]
[]
[]
[]
[]
[]
[]
[]
[]
[]
[]
[]
[]
[]
[]
[]
[]
[]
[]
[]
[]
[]
[]
[]
[]
[]
[]
[]
[]
[]
[]
[]
[]
[]
[]
[]
[]
[]
[]
[]
[]
[]
[]
[]
[]
[]
[]
[]
[]
[]
[]
[]
[]
[]
[]
[]
[]
[]
[]
[]
[]
[]
[]
[]
[]
[]
[]
[]
[]
[]
[]
[]
[]
[]
[]
[]
[]
[]
[]
[]
[]
[]
[]
[]
[]
[]
[]
[]
[]
[]
[]
[]
[]
[]
[]
[]
[]
[]
[]
[]
[]
[]
[]
[]
[]
[]
[]
[]
[]
[]
[]
[]
[]
[]
[]
[]
[]
[]
[]
[]
[]
[]
[]
[]
[]
[]
[]
[]
[]
[]
[]
[]
[]
[]
[]
[]
[]
[]
[]
[]
[]
[]
[]
[]
[]
[]
[]
[]
[]
[]
[]
[]
[]
[]
[]
[]
[]
[]
[]
[]
[]
[]
[]
[]
[]
[]
[]
[]
[]
[]
[]
[]
[]
[]
[]
[]
[]
[]
[]
[]
[]
[]
[]
[]
[]
[]
[]
[]
[]
[]
[]
[]
[]
[]
[]
[]
[]
[]
[]
[]
[]
[]
[]
[]
[]
[]
[]
[]
[]
[]
[]
[]
[]
[]
[]
[]
[]
[]
[]
[]
[]
[]
[]
[]
[]
[]
[]
[]
[]
[]
[]
[]
[]
[]
[]
[]
[]
[]
[]
[]
[]
[]
[]
[]
[]
[]
[]
[]
[]
[]
[]
[]
[]
[]
[]
[]
[]
[]
[]
[]
[]
[]
[]
[]
[]
[]
[]
[]
[]
[]
[]
[]
[]
[]
[]
[]
[]
[]
[]
[]
[]
[]
[]
[]
[]
[]
[]
[]
[]
[]
[]
[]
[]
[]
[]
[]
[]
[]
[]
[]
[]
[]
[]
[]
[]
[]
[]
[]
[]
[]
[]
[]
[]
[]
[]
[]
[]
[]
[]
[]
[]
[]
[]
[]
[]
[]
[]
[]
[]
[]
[]
[]
[]
[]
[]
[]
[]
[]
[]
[]
[]
[]
[]
[]
[]
[]
[null,true]
[null,true]
[null,true]
[null,true]
[null,true]
[null,true]
[null,true]
[null,true]
[null,true]
[null,true]
[null,true]
[null,true]
[null,true]
[null,true]
[null,true]
[null,true]
[null,true]
[null,true]
[null,true]
[null,true]
[null,true]
[null,true]
[null,false]
[null,false]
[null,false]
[null,false]
[null,false]
[null,false]
[null,false]
[null,false]
[null,false]
[null,false]
[null,false]
[null,false]
[null,false]
[null,false]
[null,false]
[null,false,true]
[null,false,true]
[null,false,true]
[null,false,true]
[null,false,true]
[null,false,true]
[null,false,true]
[null,false,true]
[null,false,true]
[null,false,true]
[null,false,true]
[null,false,true]
[null,null,true]
[null,null,true]
[null,null,true]
[null,null,true]
[null,null,true]
[null,null,true]
[null,null,true]
[null,null,true]
[null,null,true]
[null,null,true]
[null,null,false]
[null,null,false]
[null,null,false]
[null,null,false]
[null,null,false]
[null,null,false]
[null,null,false]
[null,null,false]
[null,null,false]
[null,null,false]
[null,null,false]
[null,null,false]
[null,null,false]
[null,null,false]
[null,null,false]
[null,null,false]
[null,null,false]
[null,null,false]
[null,null,false]
[null,null,false]
[null,null,false]
[null,null,false]
[null,null,false]
[null,null,false]
[null,null,false]
[null,null,false]
[null,null,false]

{"sheet":"#Log","index":10,"n_rows":25,"n_cols":6,"rows_kept":25,"cut":false,"hidden":true,"merged":[]}
[]
[null,"Version","Startdato","Ønsket ændring","Bem.","Løst dato"]
[null,"2.24","2022-01-07","Rettelse af fejl i markkalkuler. Sidste to maskinbehandlinger var ikke med i kalkulen.",null,"2022-01-07"]
[null,"2.24","2022-01-07","Automatisk kolonnetilpasning i planteavl",null,"2022-01-07"]
["Skjul tomme rækker","2.24","2022-01-07","Versionsnummer gemt i regneark. Der skal være en celle der indeholder versionsnummeret, så en makro kan indhente data fra et tidligere ark.","Ligger på \"Start\" fanen og feltet er kaldt \"Version\"","2022-01-07"]
[null,"2.24","2022-01-07","Mulighed for at hente data fra tidligere udgave","Mangler at identificere versionsnummer.","2022-01-14"]
[null,"2.24","2022-02-18","Tilføjet 6 ekstra maskinbehandlinger",null,"2022-02-18"]
[null,"2.24",null,"Versionen offentliggjort",null,"2022-02-18"]
[null,"2.25",null,"Dataimport skal korrigere for versionsnummer"]
[null,"3.36","2022-11-17","Rettelse af fejl i funktionen \"Maskinanvendelsessum\"",null,"2022-11-17"]
[null,"3.37","2022-11-17","Rette frmMaskinvalg, så den har korrekt størrelse og placering","Stadig problemer med udseende på ekstern skærm. Hvis man flytter formen, retter det sig.","2022-11-17"]
[null,"3.38","2022-11-21","Lave udskrifter til maskinanalyse",null,"2022-12-01"]
[null,"4.0","2023-05-01","Rette fordeling af driftsgrene","Der skal være bedre fordeling, så der kommer formler til fordeling af restværdier.","2023-05-15"]
[null,"4.0","2023-05-01","Rette fordeling af driftsgrene","Der skal være bedre fordeling, så der kommer formler til fordeling af restværdier.","2023-05-15"]
[null,"4.0","2023-05-01","Rette fordeling af driftsgrene","Der skal være bedre fordeling, så der kommer formler til fordeling af restværdier.","2023-05-15"]
[null,"4.0","2023-05-30","Rette småfejl","Slettefunktion virker ikke. m.m.","2023-05-15"]
[null,2023.2,"2023-10-16","Rette fejl","Fejl i DB kalkule mark\nFejl i ufordelt foder grise\nFejl i slat alt, grise","2023-10-16"]
[null,null,"2023-10-16","I maskinark skal man kunne taste enter afskrivningsprocent eller scrapværdi."]
[null,2023.3,"2023-10-17","Betinget formattering, foder kvæg rest",null,"2023-10-17"]
[null,2023.3,"2023-10-17","Bedre fordeling af driftsgren. Må ikke slette formler.",null,"2023-10-17"]
[null,2023.3,"2023-10-17","Udskiftningsprocent køer kun en celle.",null,"2023-10-17"]
[null,2023.3,"2023-10-17","Opdater alle slettemakroer",null,"2023-10-17"]
[null,2023.4,"2023-11-01","Ret fejl i besætning svin",null,"2023-11-01"]
[null,2023.4,"2023-11-01","Dobbeltklik dur ikke","Der skal findes et alternativ."]
[null,2024.1,"2024-08-15","Diverse fejl rettet",null,"2024-08-15"]

{"sheet":"#Import","index":11,"n_rows":3215,"n_cols":10,"rows_kept":3215,"cut":false,"hidden":true,"merged":[]}
[null,null,null,null,"Skjul tomme kolonner",null,null,null,null,"$L$27"]
[null,"Kopiering",null,null,null,null,null,null,null,"$M$27"]
[null,"Fra fane","Fra celle","Til fane","Til celle",null,null,null,null,"$N$27"]
[null,"Start","m13","Start","m13",null,null,null,null,"$O$27"]
["Skjul tomme rækker","Start","m17","Start","m17",null,null,null,null,"$P$27"]
[null,"Driftsgrensopdeling","$R$19","Driftsgrensopdeling","$R$19",null,null,null,null,"$Q$27"]
[null,"Driftsgrensopdeling","$S$19","Driftsgrensopdeling","$S$19",null,null,null,null,"$U$27"]
[null,"Driftsgrensopdeling","$N$20","Driftsgrensopdeling","$N$20",null,null,null,null,"$W$27"]
[null,"Driftsgrensopdeling","$O$20","Driftsgrensopdeling","$O$20",null,null,null,null,"$X$27"]
[null,"Driftsgrensopdeling","$P$20","Driftsgrensopdeling","$P$20",null,null,null,null,"$L$28"]
[null,"Driftsgrensopdeling","$Q$20","Driftsgrensopdeling","$Q$20",null,null,null,null,"$M$28"]
[null,"Driftsgrensopdeling","$R$20","Driftsgrensopdeling","$R$20",null,null,null,null,"$N$28"]
[null,"Driftsgrensopdeling","$S$20","Driftsgrensopdeling","$S$20",null,null,null,null,"$O$28"]
[null,"Driftsgrensopdeling","$N$21","Driftsgrensopdeling","$N$21",null,null,null,null,"$P$28"]
[null,"Driftsgrensopdeling","$O$21","Driftsgrensopdeling","$O$21",null,null,null,null,"$Q$28"]
[null,"Driftsgrensopdeling","$P$21","Driftsgrensopdeling","$P$21",null,null,null,null,"$U$28"]
[null,"Driftsgrensopdeling","$Q$21","Driftsgrensopdeling","$Q$21",null,null,null,null,"$W$28"]
[null,"Driftsgrensopdeling","$R$21","Driftsgrensopdeling","$R$21",null,null,null,null,"$X$28"]
[null,"Driftsgrensopdeling","$S$21","Driftsgrensopdeling","$S$21",null,null,null,null,"$L$29"]
[null,"Driftsgrensopdeling","$N$22","Driftsgrensopdeling","$N$22",null,null,null,null,"$M$29"]
[null,"Driftsgrensopdeling","$O$22","Driftsgrensopdeling","$O$22",null,null,null,null,"$N$29"]
[null,"Driftsgrensopdeling","$P$22","Driftsgrensopdeling","$P$22",null,null,null,null,"$O$29"]
[null,"Driftsgrensopdeling","$Q$22","Driftsgrensopdeling","$Q$22",null,null,null,null,"$P$29"]
[null,"Driftsgrensopdeling","$R$22","Driftsgrensopdeling","$R$22",null,null,null,null,"$Q$29"]
[null,"Driftsgrensopdeling","$S$22","Driftsgrensopdeling","$S$22",null,null,null,null,"$U$29"]
[null,"Driftsgrensopdeling","$N$23","Driftsgrensopdeling","$N$23",null,null,null,null,"$W$29"]
[null,"Driftsgrensopdeling","$O$23","Driftsgrensopdeling","$O$23",null,null,null,null,"$L$30"]
[null,"Driftsgrensopdeling","$P$23","Driftsgrensopdeling","$P$23",null,null,null,null,"$M$30"]
[null,"Driftsgrensopdeling","$Q$23","Driftsgrensopdeling","$Q$23",null,null,null,null,"$N$30"]
[null,"Driftsgrensopdeling","$R$23","Driftsgrensopdeling","$R$23",null,null,null,null,"$O$30"]
[null,"Driftsgrensopdeling","$S$23","Driftsgrensopdeling","$S$23",null,null,null,null,"$P$30"]
[null,"Driftsgrensopdeling","$N$24","Driftsgrensopdeling","$N$24",null,null,null,null,"$Q$30"]
[null,"Driftsgrensopdeling","$O$24","Driftsgrensopdeling","$O$24",null,null,null,null,"$U$30"]
[null,"Driftsgrensopdeling","$P$24","Driftsgrensopdeling","$P$24",null,null,null,null,"$W$30"]
[null,"Driftsgrensopdeling","$Q$24","Driftsgrensopdeling","$Q$24",null,null,null,null,"$L$31"]
[null,"Driftsgrensopdeling","$R$24","Driftsgrensopdeling","$R$24",null,null,null,null,"$M$31"]
[null,"Driftsgrensopdeling","$S$24","Driftsgrensopdeling","$S$24",null,null,null,null,"$N$31"]
[null,"Driftsgrensopdeling","$N$25","Driftsgrensopdeling","$N$25",null,null,null,null,"$O$31"]
[null,"Driftsgrensopdeling","$O$25","Driftsgrensopdeling","$O$25",null,null,null,null,"$P$31"]
[null,"Driftsgrensopdeling","$P$25","Driftsgrensopdeling","$P$25",null,null,null,null,"$Q$31"]
[null,"Driftsgrensopdeling","$Q$25","Driftsgrensopdeling","$Q$25",null,null,null,null,"$U$31"]
[null,"Driftsgrensopdeling","$R$25","Driftsgrensopdeling","$R$25",null,null,null,null,"$W$31"]
[null,"Driftsgrensopdeling","$S$25","Driftsgrensopdeling","$S$25",null,null,null,null,"$L$32"]
[null,"Driftsgrensopdeling","$N$26","Driftsgrensopdeling","$N$26",null,null,null,null,"$M$32"]
[null,"Driftsgrensopdeling","$O$26","Driftsgrensopdeling","$O$26",null,null,null,null,"$N$32"]
[null,"Driftsgrensopdeling","$P$26","Driftsgrensopdeling","$P$26",null,null,null,null,"$O$32"]
[null,"Driftsgrensopdeling","$Q$26","Driftsgrensopdeling","$Q$26",null,null,null,null,"$P$32"]
[null,"Driftsgrensopdeling","$R$26","Driftsgrensopdeling","$R$26",null,null,null,null,"$Q$32"]
[null,"Driftsgrensopdeling","$S$26","Driftsgrensopdeling","$S$26",null,null,null,null,"$U$32"]
[null,"Driftsgrensopdeling","$N$27","Driftsgrensopdeling","$N$27",null,null,null,null,"$W$32"]
[null,"Driftsgrensopdeling","$O$27","Driftsgrensopdeling","$O$27",null,null,null,null,"$L$33"]
[null,"Driftsgrensopdeling","$P$27","Driftsgrensopdeling","$P$27",null,null,null,null,"$M$33"]
[null,"Driftsgrensopdeling","$Q$27","Driftsgrensopdeling","$Q$27",null,null,null,null,"$N$33"]
[null,"Driftsgrensopdeling","$R$27","Driftsgrensopdeling","$R$27",null,null,null,null,"$O$33"]
[null,"Driftsgrensopdeling","$S$27","Driftsgrensopdeling","$S$27",null,null,null,null,"$P$33"]
[null,"Driftsgrensopdeling","$N$28","Driftsgrensopdeling","$N$28",null,null,null,null,"$Q$33"]
[null,"Driftsgrensopdeling","$O$28","Driftsgrensopdeling","$O$28",null,null,null,null,"$U$33"]
[null,"Driftsgrensopdeling","$P$28","Driftsgrensopdeling","$P$28",null,null,null,null,"$W$33"]
[null,"Driftsgrensopdeling","$Q$28","Driftsgrensopdeling","$Q$28",null,null,null,null,"$L$34"]
[null,"Driftsgrensopdeling","$R$28","Driftsgrensopdeling","$R$28",null,null,null,null,"$M$34"]
[null,"Driftsgrensopdeling","$S$28","Driftsgrensopdeling","$S$28",null,null,null,null,"$N$34"]
[null,"Driftsgrensopdeling","$N$29","Driftsgrensopdeling","$N$29",null,null,null,null,"$O$34"]
[null,"Driftsgrensopdeling","$O$29","Driftsgrensopdeling","$O$29",null,null,null,null,"$P$34"]
[null,"Driftsgrensopdeling","$P$29","Driftsgrensopdeling","$P$29",null,null,null,null,"$Q$34"]
[null,"Driftsgrensopdeling","$Q$29","Driftsgrensopdeling","$Q$29",null,null,null,null,"$U$34"]
[null,"Driftsgrensopdeling","$R$29","Driftsgrensopdeling","$R$29",null,null,null,null,"$W$34"]
[null,"Driftsgrensopdeling","$S$29","Driftsgrensopdeling","$S$29",null,null,null,null,"$L$35"]
[null,"Driftsgrensopdeling","$N$30","Driftsgrensopdeling","$N$30",null,null,null,null,"$M$35"]
[null,"Driftsgrensopdeling","$O$30","Driftsgrensopdeling","$O$30",null,null,null,null,"$N$35"]
[null,"Driftsgrensopdeling","$P$30","Driftsgrensopdeling","$P$30",null,null,null,null,"$O$35"]
[null,"Driftsgrensopdeling","$Q$30","Driftsgrensopdeling","$Q$30",null,null,null,null,"$P$35"]
[null,"Driftsgrensopdeling","$R$30","Driftsgrensopdeling","$R$30",null,null,null,null,"$Q$35"]
[null,"Driftsgrensopdeling","$S$30","Driftsgrensopdeling","$S$30",null,null,null,null,"$U$35"]
[null,"Driftsgrensopdeling","$N$32","Driftsgrensopdeling","$N$32",null,null,null,null,"$W$35"]
[null,"Driftsgrensopdeling","$O$32","Driftsgrensopdeling","$O$32",null,null,null,null,"$L$36"]
[null,"Driftsgrensopdeling","$P$32","Driftsgrensopdeling","$P$32",null,null,null,null,"$M$36"]
[null,"Driftsgrensopdeling","$Q$32","Driftsgrensopdeling","$Q$32",null,null,null,null,"$N$36"]
[null,"Driftsgrensopdeling","$R$32","Driftsgrensopdeling","$R$32",null,null,null,null,"$O$36"]
[null,"Driftsgrensopdeling","$S$32","Driftsgrensopdeling","$S$32",null,null,null,null,"$P$36"]
[null,"Driftsgrensopdeling","$N$33","Driftsgrensopdeling","$N$33",null,null,null,null,"$Q$36"]
[null,"Driftsgrensopdeling","$O$33","Driftsgrensopdeling","$O$33",null,null,null,null,"$U$36"]
[null,"Driftsgrensopdeling","$P$33","Driftsgrensopdeling","$P$33",null,null,null,null,"$W$36"]
[null,"Driftsgrensopdeling","$Q$33","Driftsgrensopdeling","$Q$33",null,null,null,null,"$L$37"]
[null,"Driftsgrensopdeling","$R$33","Driftsgrensopdeling","$R$33",null,null,null,null,"$M$37"]
[null,"Driftsgrensopdeling","$S$33","Driftsgrensopdeling","$S$33",null,null,null,null,"$N$37"]
[null,"Driftsgrensopdeling","$N$34","Driftsgrensopdeling","$N$34",null,null,null,null,"$O$37"]
[null,"Driftsgrensopdeling","$O$34","Driftsgrensopdeling","$O$34",null,null,null,null,"$P$37"]
[null,"Driftsgrensopdeling","$P$34","Driftsgrensopdeling","$P$34",null,null,null,null,"$Q$37"]
[null,"Driftsgrensopdeling","$Q$34","Driftsgrensopdeling","$Q$34",null,null,null,null,"$U$37"]
[null,"Driftsgrensopdeling","$R$34","Driftsgrensopdeling","$R$34",null,null,null,null,"$W$37"]
[null,"Driftsgrensopdeling","$S$34","Driftsgrensopdeling","$S$34",null,null,null,null,"$L$38"]
[null,"Driftsgrensopdeling","$N$35","Driftsgrensopdeling","$N$35",null,null,null,null,"$M$38"]
[null,"Driftsgrensopdeling","$O$35","Driftsgrensopdeling","$O$35",null,null,null,null,"$N$38"]
[null,"Driftsgrensopdeling","$P$35","Driftsgrensopdeling","$P$35",null,null,null,null,"$O$38"]
[null,"Driftsgrensopdeling","$Q$35","Driftsgrensopdeling","$Q$35",null,null,null,null,"$P$38"]
[null,"Driftsgrensopdeling","$R$35","Driftsgrensopdeling","$R$35",null,null,null,null,"$Q$38"]
[null,"Driftsgrensopdeling","$S$35","Driftsgrensopdeling","$S$35",null,null,null,null,"$U$38"]
[null,"Driftsgrensopdeling","$N$36","Driftsgrensopdeling","$N$36",null,null,null,null,"$W$38"]
[null,"Driftsgrensopdeling","$O$36","Driftsgrensopdeling","$O$36",null,null,null,null,"$L$39"]
[null,"Driftsgrensopdeling","$P$36","Driftsgrensopdeling","$P$36",null,null,null,null,"$M$39"]
[null,"Driftsgrensopdeling","$Q$36","Driftsgrensopdeling","$Q$36",null,null,null,null,"$N$39"]
[null,"Driftsgrensopdeling","$R$36","Driftsgrensopdeling","$R$36",null,null,null,null,"$O$39"]
[null,"Driftsgrensopdeling","$S$36","Driftsgrensopdeling","$S$36",null,null,null,null,"$P$39"]
[null,"Driftsgrensopdeling","$N$37","Driftsgrensopdeling","$N$37",null,null,null,null,"$Q$39"]
[null,"Driftsgrensopdeling","$O$37","Driftsgrensopdeling","$O$37",null,null,null,null,"$U$39"]
[null,"Driftsgrensopdeling","$P$37","Driftsgrensopdeling","$P$37",null,null,null,null,"$W$39"]
[null,"Driftsgrensopdeling","$Q$37","Driftsgrensopdeling","$Q$37",null,null,null,null,"$L$40"]
[null,"Driftsgrensopdeling","$R$37","Driftsgrensopdeling","$R$37",null,null,null,null,"$M$40"]
[null,"Driftsgrensopdeling","$S$37","Driftsgrensopdeling","$S$37",null,null,null,null,"$N$40"]
[null,"Driftsgrensopdeling","$N$38","Driftsgrensopdeling","$N$38",null,null,null,null,"$O$40"]
[null,"Driftsgrensopdeling","$O$38","Driftsgrensopdeling","$O$38",null,null,null,null,"$P$40"]
[null,"Driftsgrensopdeling","$P$38","Driftsgrensopdeling","$P$38",null,null,null,null,"$Q$40"]
[null,"Driftsgrensopdeling","$Q$38","Driftsgrensopdeling","$Q$38",null,null,null,null,"$U$40"]
[null,"Driftsgrensopdeling","$R$38","Driftsgrensopdeling","$R$38",null,null,null,null,"$W$40"]
[null,"Driftsgrensopdeling","$S$38","Driftsgrensopdeling","$S$38",null,null,null,null,"$L$41"]
[null,"Driftsgrensopdeling","$N$39","Driftsgrensopdeling","$N$39",null,null,null,null,"$M$41"]
[null,"Driftsgrensopdeling","$O$39","Driftsgrensopdeling","$O$39",null,null,null,null,"$N$41"]
[null,"Driftsgrensopdeling","$P$39","Driftsgrensopdeling","$P$39",null,null,null,null,"$O$41"]
[null,"Driftsgrensopdeling","$Q$39","Driftsgrensopdeling","$Q$39",null,null,null,null,"$P$41"]
[null,"Driftsgrensopdeling","$R$39","Driftsgrensopdeling","$R$39",null,null,null,null,"$Q$41"]
[null,"Driftsgrensopdeling","$S$39","Driftsgrensopdeling","$S$39",null,null,null,null,"$U$41"]
[null,"Driftsgrensopdeling","$N$40","Driftsgrensopdeling","$N$40",null,null,null,null,"$W$41"]
[null,"Driftsgrensopdeling","$O$40","Driftsgrensopdeling","$O$40",null,null,null,null,"$L$42"]
[null,"Driftsgrensopdeling","$P$40","Driftsgrensopdeling","$P$40",null,null,null,null,"$M$42"]
[null,"Driftsgrensopdeling","$Q$40","Driftsgrensopdeling","$Q$40",null,null,null,null,"$N$42"]
[null,"Driftsgrensopdeling","$R$40","Driftsgrensopdeling","$R$40",null,null,null,null,"$O$42"]
[null,"Driftsgrensopdeling","$S$40","Driftsgrensopdeling","$S$40",null,null,null,null,"$P$42"]
[null,"Driftsgrensopdeling","$N$41","Driftsgrensopdeling","$N$41",null,null,null,null,"$Q$42"]
[null,"Driftsgrensopdeling","$O$41","Driftsgrensopdeling","$O$41",null,null,null,null,"$U$42"]
[null,"Driftsgrensopdeling","$P$41","Driftsgrensopdeling","$P$41",null,null,null,null,"$W$42"]
[null,"Driftsgrensopdeling","$Q$41","Driftsgrensopdeling","$Q$41",null,null,null,null,"$L$43"]
[null,"Driftsgrensopdeling","$R$41","Driftsgrensopdeling","$R$41",null,null,null,null,"$M$43"]
[null,"Driftsgrensopdeling","$S$41","Driftsgrensopdeling","$S$41",null,null,null,null,"$N$43"]
[null,"Driftsgrensopdeling","$N$42","Driftsgrensopdeling","$N$42",null,null,null,null,"$O$43"]
[null,"Driftsgrensopdeling","$O$42","Driftsgrensopdeling","$O$42",null,null,null,null,"$P$43"]
[null,"Driftsgrensopdeling","$P$42","Driftsgrensopdeling","$P$42",null,null,null,null,"$Q$43"]
[null,"Driftsgrensopdeling","$Q$42","Driftsgrensopdeling","$Q$42",null,null,null,null,"$U$43"]
[null,"Driftsgrensopdeling","$R$42","Driftsgrensopdeling","$R$42",null,null,null,null,"$W$43"]
[null,"Driftsgrensopdeling","$S$42","Driftsgrensopdeling","$S$42",null,null,null,null,"$L$44"]
[null,"Driftsgrensopdeling","$N$43","Driftsgrensopdeling","$N$43",null,null,null,null,"$M$44"]
[null,"Driftsgrensopdeling","$O$43","Driftsgrensopdeling","$O$43",null,null,null,null,"$N$44"]
[null,"Driftsgrensopdeling","$P$43","Driftsgrensopdeling","$P$43",null,null,null,null,"$O$44"]
[null,"Driftsgrensopdeling","$Q$43","Driftsgrensopdeling","$Q$43",null,null,null,null,"$P$44"]
[null,"Driftsgrensopdeling","$R$43","Driftsgrensopdeling","$R$43",null,null,null,null,"$Q$44"]
[null,"Driftsgrensopdeling","$S$43","Driftsgrensopdeling","$S$43",null,null,null,null,"$U$44"]
[null,"Grise","$M$18","Grise","$M$18",null,null,null,null,"$W$44"]
[null,"Grise","$N$18","Grise","$N$18",null,null,null,null,"$L$45"]
[null,"Grise","$O$18","Grise","$O$18",null,null,null,null,"$M$45"]
[null,"Grise","$P$18","Grise","$P$18",null,null,null,null,"$N$45"]
[null,"Grise","$Q$18","Grise","$Q$18",null,null,null,null,"$O$45"]
[null,"Grise","$P$25","Grise","$P$25",null,null,null,null,"$P$45"]
[null,"Grise","$S$25","Grise","$S$25",null,null,null,null,"$Q$45"]
[null,"Grise","$T$25","Grise","$T$25",null,null,null,null,"$U$45"]
[null,"Grise","$W$25","Grise","$W$25",null,null,null,null,"$W$45"]
[null,"Grise","$P$26","Grise","$P$26",null,null,null,null,"$L$46"]
[null,"Grise","$S$26","Grise","$S$26",null,null,null,null,"$M$46"]
[null,"Grise","$T$26","Grise","$T$26",null,null,null,null,"$N$46"]
[null,"Grise","$W$26","Grise","$W$26",null,null,null,null,"$O$46"]
[null,"Grise","$P$27","Grise","$P$27",null,null,null,null,"$P$46"]
[null,"Grise","$S$27","Grise","$S$27",null,null,null,null,"$Q$46"]
[null,"Grise","$T$27","Grise","$T$27",null,null,null,null,"$U$46"]
[null,"Grise","$W$27","Grise","$W$27",null,null,null,null,"$W$46"]
[null,"Grise","$O$28","Grise","$O$28",null,null,null,null,"$L$47"]
[null,"Grise","$P$28","Grise","$P$28",null,null,null,null,"$M$47"]
[null,"Grise","$S$28","Grise","$S$28",null,null,null,null,"$N$47"]
[null,"Grise","$T$28","Grise","$T$28",null,null,null,null,"$O$47"]
[null,"Grise","$W$28","Grise","$W$28",null,null,null,null,"$P$47"]
[null,"Grise","$O$29","Grise","$O$29",null,null,null,null,"$Q$47"]
[null,"Grise","$P$29","Grise","$P$29",null,null,null,null,"$U$47"]
[null,"Grise","$S$29","Grise","$S$29",null,null,null,null,"$W$47"]
[null,"Grise","$T$29","Grise","$T$29",null,null,null,null,"$L$48"]
[null,"Grise","$W$29","Grise","$W$29",null,null,null,null,"$M$48"]
[null,"Grise","$O$30","Grise","$O$30",null,null,null,null,"$N$48"]
[null,"Grise","$P$30","Grise","$P$30",null,null,null,null,"$O$48"]
[null,"Grise","$S$30","Grise","$S$30",null,null,null,null,"$P$48"]
[null,"Grise","$T$30","Grise","$T$30",null,null,null,null,"$Q$48"]
[null,"Grise","$W$30","Grise","$W$30",null,null,null,null,"$U$48"]
[null,"Grise","$O$31","Grise","$O$31",null,null,null,null,"$W$48"]
[null,"Grise","$P$31","Grise","$P$31",null,null,null,null,"$L$49"]
[null,"Grise","$S$31","Grise","$S$31",null,null,null,null,"$M$49"]
[null,"Grise","$T$31","Grise","$T$31",null,null,null,null,"$N$49"]
[null,"Grise","$W$31","Grise","$W$31",null,null,null,null,"$O$49"]
[null,"Grise","$O$32","Grise","$O$32",null,null,null,null,"$P$49"]
[null,"Grise","$P$32","Grise","$P$32",null,null,null,null,"$Q$49"]
[null,"Grise","$S$32","Grise","$S$32",null,null,null,null,"$U$49"]
[null,"Grise","$T$32","Grise","$T$32",null,null,null,null,"$W$49"]
[null,"Grise","$W$32","Grise","$W$32",null,null,null,null,"$L$50"]
[null,"Grise","$O$33","Grise","$O$33",null,null,null,null,"$M$50"]
[null,"Grise","$P$33","Grise","$P$33",null,null,null,null,"$N$50"]
[null,"Grise","$S$33","Grise","$S$33",null,null,null,null,"$O$50"]
[null,"Grise","$T$33","Grise","$T$33",null,null,null,null,"$P$50"]
[null,"Grise","$W$33","Grise","$W$33",null,null,null,null,"$Q$50"]
[null,"Grise","$O$34","Grise","$O$34",null,null,null,null,"$U$50"]
[null,"Grise","$P$34","Grise","$P$34",null,null,null,null,"$W$50"]
[null,"Grise","$S$34","Grise","$S$34",null,null,null,null,"$L$51"]
[null,"Grise","$T$34","Grise","$T$34",null,null,null,null,"$M$51"]
[null,"Grise","$W$34","Grise","$W$34",null,null,null,null,"$N$51"]
[null,"Grise","$O$35","Grise","$O$35",null,null,null,null,"$O$51"]
[null,"Grise","$P$35","Grise","$P$35",null,null,null,null,"$P$51"]
[null,"Grise","$S$35","Grise","$S$35",null,null,null,null,"$Q$51"]
[null,"Grise","$T$35","Grise","$T$35",null,null,null,null,"$U$51"]
[null,"Grise","$W$35","Grise","$W$35",null,null,null,null,"$W$51"]
[null,"Grise","$O$36","Grise","$O$36",null,null,null,null,"$L$52"]
[null,"Grise","$P$36","Grise","$P$36",null,null,null,null,"$M$52"]
[null,"Grise","$S$36","Grise","$S$36",null,null,null,null,"$N$52"]
[null,"Grise","$T$36","Grise","$T$36",null,null,null,null,"$O$52"]
[null,"Grise","$W$36","Grise","$W$36",null,null,null,null,"$P$52"]
[null,"Grise","$P$44","Grise","$P$44",null,null,null,null,"$Q$52"]
[null,"Grise","$R$44","Grise","$R$44",null,null,null,null,"$U$52"]
[null,"Grise","$P$45","Grise","$P$45",null,null,null,null,"$W$52"]
[null,"Grise","$R$45","Grise","$R$45",null,null,null,null,"$L$53"]
[null,"Grise","$P$46","Grise","$P$46",null,null,null,null,"$M$53"]
[null,"Grise","$R$46","Grise","$R$46",null,null,null,null,"$N$53"]
[null,"Grise","$P$47","Grise","$P$47",null,null,null,null,"$O$53"]
[null,"Grise","$R$47","Grise","$R$47",null,null,null,null,"$P$53"]
[null,"Grise","$P$48","Grise","$P$48",null,null,null,null,"$Q$53"]
[null,"Grise","$R$48","Grise","$R$48",null,null,null,null,"$U$53"]
[null,"Grise","$P$50","Grise","$P$50",null,null,null,null,"$W$53"]
[null,"Grise","$R$50","Grise","$R$50",null,null,null,null,"$L$54"]
[null,"Grise","$P$51","Grise","$P$51",null,null,null,null,"$M$54"]
[null,"Grise","$R$51","Grise","$R$51",null,null,null,null,"$N$54"]
[null,"Grise","$P$54","Grise","$P$54",null,null,null,null,"$O$54"]
[null,"Grise","$R$54","Grise","$R$54",null,null,null,null,"$P$54"]
[null,"Grise","$S$54","Grise","$S$54",null,null,null,null,"$Q$54"]
[null,"Grise","$R$55","Grise","$R$55",null,null,null,null,"$U$54"]
[null,"Grise","$S$55","Grise","$S$55",null,null,null,null,"$W$54"]
[null,"Grise","$P$56","Grise","$P$56",null,null,null,null,"$L$55"]
[null,"Grise","$R$56","Grise","$R$56",null,null,null,null,"$M$55"]
[null,"Grise","$S$56","Grise","$S$56",null,null,null,null,"$N$55"]
[null,"Grise","$P$59","Grise","$P$59",null,null,null,null,"$O$55"]
[null,"Grise","$R$59","Grise","$R$59",null,null,null,null,"$P$55"]
[null,"Grise","$S$59","Grise","$S$59",null,null,null,null,"$Q$55"]
[null,"Grise","$P$61","Grise","$P$61",null,null,null,null,"$U$55"]
[null,"Grise","$R$61","Grise","$R$61",null,null,null,null,"$W$55"]
[null,"Grise","$S$61","Grise","$S$61",null,null,null,null,"$L$56"]
[null,"Grise","$P$62","Grise","$P$62",null,null,null,null,"$M$56"]
[null,"Grise","$R$62","Grise","$R$62",null,null,null,null,"$N$56"]
[null,"Grise","$S$62","Grise","$S$62",null,null,null,null,"$O$56"]
[null,"Grise","$P$63","Grise","$P$63",null,null,null,null,"$P$56"]
[null,"Grise","$R$63","Grise","$R$63",null,null,null,null,"$Q$56"]
[null,"Grise","$S$63","Grise","$S$63",null,null,null,null,"$U$56"]
[null,"Grise","$P$64","Grise","$P$64",null,null,null,null,"$W$56"]
[null,"Grise","$R$64","Grise","$R$64",null,null,null,null,"$L$57"]
[null,"Grise","$S$64","Grise","$S$64",null,null,null,null,"$M$57"]
[null,"Grise","$P$67","Grise","$P$67",null,null,null,null,"$N$57"]
[null,"Grise","$R$67","Grise","$R$67",null,null,null,null,"$O$57"]
[null,"Grise","$S$67","Grise","$S$67",null,null,null,null,"$P$57"]
[null,"Grise","$P$69","Grise","$P$69",null,null,null,null,"$Q$57"]
[null,"Grise","$R$69","Grise","$R$69",null,null,null,null,"$U$57"]
[null,"Grise","$S$69","Grise","$S$69",null,null,null,null,"$W$57"]
[null,"Grise","$P$70","Grise","$P$70",null,null,null,null,"$L$58"]
[null,"Grise","$R$70","Grise","$R$70",null,null,null,null,"$M$58"]
[null,"Grise","$S$70","Grise","$S$70",null,null,null,null,"$N$58"]
[null,"Grise","$P$71","Grise","$P$71",null,null,null,null,"$O$58"]
[null,"Grise","$R$71","Grise","$R$71",null,null,null,null,"$P$58"]
[null,"Grise","$S$71","Grise","$S$71",null,null,null,null,"$Q$58"]
[null,"Grise","$P$72","Grise","$P$72",null,null,null,null,"$U$58"]
[null,"Grise","$R$72","Grise","$R$72",null,null,null,null,"$W$58"]
[null,"Grise","$S$72","Grise","$S$72",null,null,null,null,"$L$59"]
[null,"Grise","$R$73","Grise","$R$73",null,null,null,null,"$M$59"]
[null,"Grise","$P$74","Grise","$P$74",null,null,null,null,"$N$59"]
[null,"Grise","$R$74","Grise","$R$74",null,null,null,null,"$O$59"]
[null,"Grise","$S$74","Grise","$S$74",null,null,null,null,"$P$59"]
[null,"Grise","$R$77","Grise","$R$77",null,null,null,null,"$Q$59"]
[null,"Grise","$R$78","Grise","$R$78",null,null,null,null,"$U$59"]
[null,"Grise","$R$79","Grise","$R$79",null,null,null,null,"$W$59"]
[null,"Grise","$M$89","Grise","$M$89",null,null,null,null,"$L$60"]
[null,"Grise","$P$89","Grise","$P$89",null,null,null,null,"$M$60"]
[null,"Grise","$Q$89","Grise","$Q$89",null,null,null,null,"$N$60"]
[null,"Grise","$R$89","Grise","$R$89",null,null,null,null,"$O$60"]
[null,"Grise","$T$89","Grise","$T$89",null,null,null,null,"$P$60"]
[null,"Grise","$U$89","Grise","$U$89",null,null,null,null,"$Q$60"]
[null,"Grise","$W$89","Grise","$W$89",null,null,null,null,"$U$60"]
[null,"Grise","$X$89","Grise","$X$89",null,null,null,null,"$W$60"]
[null,"Grise","$Z$89","Grise","$Z$89",null,null,null,null,"$L$61"]
[null,"Grise","$AA$89","Grise","$AA$89",null,null,null,null,"$M$61"]
[null,"Grise","$AC$89","Grise","$AC$89",null,null,null,null,"$N$61"]
[null,"Grise","$M$90","Grise","$M$90",null,null,null,null,"$O$61"]
[null,"Grise","$P$90","Grise","$P$90",null,null,null,null,"$P$61"]
[null,"Grise","$Q$90","Grise","$Q$90",null,null,null,null,"$Q$61"]
[null,"Grise","$R$90","Grise","$R$90",null,null,null,null,"$U$61"]
[null,"Grise","$T$90","Grise","$T$90",null,null,null,null,"$W$61"]
[null,"Grise","$U$90","Grise","$U$90",null,null,null,null,"$L$62"]
[null,"Grise","$W$90","Grise","$W$90",null,null,null,null,"$M$62"]
[null,"Grise","$X$90","Grise","$X$90",null,null,null,null,"$N$62"]
[null,"Grise","$Z$90","Grise","$Z$90",null,null,null,null,"$O$62"]
[null,"Grise","$AA$90","Grise","$AA$90",null,null,null,null,"$P$62"]
[null,"Grise","$AC$90","Grise","$AC$90",null,null,null,null,"$Q$62"]
[null,"Grise","$M$91","Grise","$M$91",null,null,null,null,"$U$62"]
[null,"Grise","$P$91","Grise","$P$91",null,null,null,null,"$W$62"]
[null,"Grise","$Q$91","Grise","$Q$91",null,null,null,null,"$L$63"]
[null,"Grise","$R$91","Grise","$R$91",null,null,null,null,"$M$63"]
[null,"Grise","$T$91","Grise","$T$91",null,null,null,null,"$N$63"]
[null,"Grise","$U$91","Grise","$U$91",null,null,null,null,"$O$63"]
[null,"Grise","$W$91","Grise","$W$91",null,null,null,null,"$P$63"]
[null,"Grise","$X$91","Grise","$X$91",null,null,null,null,"$Q$63"]
[null,"Grise","$Z$91","Grise","$Z$91",null,null,null,null,"$U$63"]
[null,"Grise","$AA$91","Grise","$AA$91",null,null,null,null,"$W$63"]
[null,"Grise","$AC$91","Grise","$AC$91",null,null,null,null,"$L$64"]
[null,"Grise","$M$92","Grise","$M$92",null,null,null,null,"$M$64"]
[null,"Grise","$P$92","Grise","$P$92",null,null,null,null,"$N$64"]
[null,"Grise","$Q$92","Grise","$Q$92",null,null,null,null,"$O$64"]
[null,"Grise","$R$92","Grise","$R$92",null,null,null,null,"$P$64"]
[null,"Grise","$T$92","Grise","$T$92",null,null,null,null,"$Q$64"]
[null,"Grise","$U$92","Grise","$U$92",null,null,null,null,"$U$64"]
[null,"Grise","$W$92","Grise","$W$92",null,null,null,null,"$W$64"]
[null,"Grise","$X$92","Grise","$X$92",null,null,null,null,"$L$65"]
[null,"Grise","$Z$92","Grise","$Z$92",null,null,null,null,"$M$65"]
[null,"Grise","$AA$92","Grise","$AA$92",null,null,null,null,"$N$65"]
[null,"Grise","$AC$92","Grise","$AC$92",null,null,null,null,"$O$65"]
[null,"Grise","$M$93","Grise","$M$93",null,null,null,null,"$P$65"]
[null,"Grise","$P$93","Grise","$P$93",null,null,null,null,"$Q$65"]
[null,"Grise","$Q$93","Grise","$Q$93",null,null,null,null,"$U$65"]
[null,"Grise","$R$93","Grise","$R$93",null,null,null,null,"$W$65"]
[null,"Grise","$T$93","Grise","$T$93",null,null,null,null,"$L$66"]
[null,"Grise","$U$93","Grise","$U$93",null,null,null,null,"$M$66"]
[null,"Grise","$W$93","Grise","$W$93",null,null,null,null,"$N$66"]
[null,"Grise","$X$93","Grise","$X$93",null,null,null,null,"$O$66"]
[null,"Grise","$Z$93","Grise","$Z$93",null,null,null,null,"$P$66"]
[null,"Grise","$AA$93","Grise","$AA$93",null,null,null,null,"$Q$66"]
[null,"Grise","$AC$93","Grise","$AC$93",null,null,null,null,"$U$66"]
[null,"Grise","$M$94","Grise","$M$94",null,null,null,null,"$W$66"]
[null,"Grise","$P$94","Grise","$P$94",null,null,null,null,"$L$67"]
[null,"Grise","$Q$94","Grise","$Q$94",null,null,null,null,"$M$67"]
[null,"Grise","$R$94","Grise","$R$94",null,null,null,null,"$N$67"]
[null,"Grise","$T$94","Grise","$T$94",null,null,null,null,"$O$67"]
[null,"Grise","$U$94","Grise","$U$94",null,null,null,null,"$P$67"]
[null,"Grise","$W$94","Grise","$W$94",null,null,null,null,"$Q$67"]
[null,"Grise","$X$94","Grise","$X$94",null,null,null,null,"$U$67"]
[null,"Grise","$Z$94","Grise","$Z$94",null,null,null,null,"$W$67"]
[null,"Grise","$AA$94","Grise","$AA$94",null,null,null,null,"$L$68"]
[null,"Grise","$AC$94","Grise","$AC$94",null,null,null,null,"$M$68"]
[null,"Grise","$M$95","Grise","$M$95",null,null,null,null,"$N$68"]
[null,"Grise","$P$95","Grise","$P$95",null,null,null,null,"$O$68"]
[null,"Grise","$Q$95","Grise","$Q$95",null,null,null,null,"$P$68"]
[null,"Grise","$R$95","Grise","$R$95",null,null,null,null,"$Q$68"]
[null,"Grise","$T$95","Grise","$T$95",null,null,null,null,"$U$68"]
[null,"Grise","$U$95","Grise","$U$95",null,null,null,null,"$W$68"]
[null,"Grise","$W$95","Grise","$W$95",null,null,null,null,"$L$69"]
[null,"Grise","$X$95","Grise","$X$95",null,null,null,null,"$M$69"]
[null,"Grise","$Z$95","Grise","$Z$95",null,null,null,null,"$N$69"]
[null,"Grise","$AA$95","Grise","$AA$95",null,null,null,null,"$O$69"]
[null,"Grise","$AC$95","Grise","$AC$95",null,null,null,null,"$P$69"]
[null,"Grise","$M$96","Grise","$M$96",null,null,null,null,"$Q$69"]
[null,"Grise","$P$96","Grise","$P$96",null,null,null,null,"$U$69"]
[null,"Grise","$Q$96","Grise","$Q$96",null,null,null,null,"$W$69"]
[null,"Grise","$R$96","Grise","$R$96",null,null,null,null,"$L$70"]
[null,"Grise","$T$96","Grise","$T$96",null,null,null,null,"$M$70"]
[null,"Grise","$U$96","Grise","$U$96",null,null,null,null,"$N$70"]
[null,"Grise","$W$96","Grise","$W$96",null,null,null,null,"$O$70"]
[null,"Grise","$X$96","Grise","$X$96",null,null,null,null,"$P$70"]
[null,"Grise","$Z$96","Grise","$Z$96",null,null,null,null,"$Q$70"]
[null,"Grise","$AA$96","Grise","$AA$96",null,null,null,null,"$U$70"]
[null,"Grise","$AC$96","Grise","$AC$96",null,null,null,null,"$W$70"]
[null,"Grise","$M$97","Grise","$M$97",null,null,null,null,"$L$71"]
[null,"Grise","$P$97","Grise","$P$97",null,null,null,null,"$M$71"]
[null,"Grise","$Q$97","Grise","$Q$97",null,null,null,null,"$N$71"]
[null,"Grise","$R$97","Grise","$R$97",null,null,null,null,"$O$71"]
[null,"Grise","$T$97","Grise","$T$97",null,null,null,null,"$P$71"]
[null,"Grise","$U$97","Grise","$U$97",null,null,null,null,"$Q$71"]
[null,"Grise","$W$97","Grise","$W$97",null,null,null,null,"$U$71"]
[null,"Grise","$X$97","Grise","$X$97",null,null,null,null,"$W$71"]
[null,"Grise","$Z$97","Grise","$Z$97",null,null,null,null,"$L$72"]
[null,"Grise","$AA$97","Grise","$AA$97",null,null,null,null,"$M$72"]
[null,"Grise","$AC$97","Grise","$AC$97",null,null,null,null,"$N$72"]
[null,"Grise","$M$98","Grise","$M$98",null,null,null,null,"$O$72"]
[null,"Grise","$P$98","Grise","$P$98",null,null,null,null,"$P$72"]
[null,"Grise","$Q$98","Grise","$Q$98",null,null,null,null,"$Q$72"]
[null,"Grise","$R$98","Grise","$R$98",null,null,null,null,"$U$72"]
[null,"Grise","$T$98","Grise","$T$98",null,null,null,null,"$W$72"]
[null,"Grise","$U$98","Grise","$U$98",null,null,null,null,"$L$73"]
[null,"Grise","$W$98","Grise","$W$98",null,null,null,null,"$M$73"]
[null,"Grise","$X$98","Grise","$X$98",null,null,null,null,"$N$73"]
[null,"Grise","$Z$98","Grise","$Z$98",null,null,null,null,"$O$73"]
[null,"Grise","$AA$98","Grise","$AA$98",null,null,null,null,"$P$73"]
[null,"Grise","$AC$98","Grise","$AC$98",null,null,null,null,"$Q$73"]
[null,"Grise","$M$99","Grise","$M$99",null,null,null,null,"$U$73"]
[null,"Grise","$P$99","Grise","$P$99",null,null,null,null,"$W$73"]
[null,"Grise","$Q$99","Grise","$Q$99",null,null,null,null,"$L$74"]
[null,"Grise","$R$99","Grise","$R$99",null,null,null,null,"$M$74"]
[null,"Grise","$T$99","Grise","$T$99",null,null,null,null,"$N$74"]
[null,"Grise","$U$99","Grise","$U$99",null,null,null,null,"$O$74"]
[null,"Grise","$W$99","Grise","$W$99",null,null,null,null,"$P$74"]
[null,"Grise","$X$99","Grise","$X$99",null,null,null,null,"$Q$74"]
[null,"Grise","$Z$99","Grise","$Z$99",null,null,null,null,"$U$74"]
[null,"Grise","$AA$99","Grise","$AA$99",null,null,null,null,"$W$74"]
[null,"Grise","$AC$99","Grise","$AC$99",null,null,null,null,"$L$75"]
[null,"Grise","$M$100","Grise","$M$100",null,null,null,null,"$M$75"]
[null,"Grise","$P$100","Grise","$P$100",null,null,null,null,"$N$75"]
[null,"Grise","$Q$100","Grise","$Q$100",null,null,null,null,"$O$75"]
[null,"Grise","$R$100","Grise","$R$100",null,null,null,null,"$P$75"]
[null,"Grise","$T$100","Grise","$T$100",null,null,null,null,"$Q$75"]
[null,"Grise","$U$100","Grise","$U$100",null,null,null,null,"$U$75"]
[null,"Grise","$W$100","Grise","$W$100",null,null,null,null,"$W$75"]
[null,"Grise","$X$100","Grise","$X$100",null,null,null,null,"$L$76"]
[null,"Grise","$Z$100","Grise","$Z$100",null,null,null,null,"$M$76"]
[null,"Grise","$AA$100","Grise","$AA$100",null,null,null,null,"$N$76"]
[null,"Grise","$AC$100","Grise","$AC$100",null,null,null,null,"$O$76"]
[null,"Grise","$M$101","Grise","$M$101",null,null,null,null,"$P$76"]
[null,"Grise","$P$101","Grise","$P$101",null,null,null,null,"$Q$76"]
[null,"Grise","$Q$101","Grise","$Q$101",null,null,null,null,"$U$76"]
[null,"Grise","$R$101","Grise","$R$101",null,null,null,null,"$W$76"]
[null,"Grise","$T$101","Grise","$T$101",null,null,null,null,"$T$77"]
[null,"Grise","$U$101","Grise","$U$101",null,null,null,null,"$L$86"]
[null,"Grise","$W$101","Grise","$W$101",null,null,null,null,"$M$86"]
[null,"Grise","$X$101","Grise","$X$101",null,null,null,null,"$N$86"]
[null,"Grise","$Z$101","Grise","$Z$101",null,null,null,null,"$O$86"]
[null,"Grise","$AA$101","Grise","$AA$101",null,null,null,null,"$P$86"]
[null,"Grise","$AC$101","Grise","$AC$101",null,null,null,null,"$W$86"]
[null,"Grise","$M$102","Grise","$M$102",null,null,null,null,"$Z$86"]
[null,"Grise","$P$102","Grise","$P$102",null,null,null,null,"$AA$86"]
[null,"Grise","$Q$102","Grise","$Q$102",null,null,null,null,"$AB$86"]
[null,"Grise","$R$102","Grise","$R$102",null,null,null,null,"$AC$86"]
[null,"Grise","$T$102","Grise","$T$102",null,null,null,null,"$AD$86"]
[null,"Grise","$U$102","Grise","$U$102",null,null,null,null,"$AE$86"]
[null,"Grise","$W$102","Grise","$W$102",null,null,null,null,"$AF$86"]
[null,"Grise","$X$102","Grise","$X$102",null,null,null,null,"$AG$86"]
[null,"Grise","$Z$102","Grise","$Z$102",null,null,null,null,"$AH$86"]
[null,"Grise","$AA$102","Grise","$AA$102",null,null,null,null,"$AI$86"]
[null,"Grise","$AC$102","Grise","$AC$102",null,null,null,null,"$AJ$86"]
[null,"Grise","$M$103","Grise","$M$103",null,null,null,null,"$AK$86"]
[null,"Grise","$P$103","Grise","$P$103",null,null,null,null,"$AP$86"]
[null,"Grise","$Q$103","Grise","$Q$103",null,null,null,null,"$L$87"]
[null,"Grise","$R$103","Grise","$R$103",null,null,null,null,"$M$87"]
[null,"Grise","$T$103","Grise","$T$103",null,null,null,null,"$N$87"]
[null,"Grise","$U$103","Grise","$U$103",null,null,null,null,"$O$87"]
[null,"Grise","$W$103","Grise","$W$103",null,null,null,null,"$P$87"]
[null,"Grise","$X$103","Grise","$X$103",null,null,null,null,"$W$87"]
[null,"Grise","$Z$103","Grise","$Z$103",null,null,null,null,"$Z$87"]
[null,"Grise","$AA$103","Grise","$AA$103",null,null,null,null,"$AA$87"]
[null,"Grise","$AC$103","Grise","$AC$103",null,null,null,null,"$AB$87"]
[null,"Grise","$M$104","Grise","$M$104",null,null,null,null,"$AC$87"]
[null,"Grise","$P$104","Grise","$P$104",null,null,null,null,"$AD$87"]
[null,"Grise","$Q$104","Grise","$Q$104",null,null,null,null,"$AE$87"]
[null,"Grise","$R$104","Grise","$R$104",null,null,null,null,"$AF$87"]
[null,"Grise","$T$104","Grise","$T$104",null,null,null,null,"$AG$87"]
[null,"Grise","$U$104","Grise","$U$104",null,null,null,null,"$AH$87"]
[null,"Grise","$W$104","Grise","$W$104",null,null,null,null,"$AI$87"]
[null,"Grise","$X$104","Grise","$X$104",null,null,null,null,"$AJ$87"]
[null,"Grise","$Z$104","Grise","$Z$104",null,null,null,null,"$AK$87"]
[null,"Grise","$AA$104","Grise","$AA$104",null,null,null,null,"$AP$87"]
[null,"Grise","$AC$104","Grise","$AC$104",null,null,null,null,"$L$88"]
[null,"Grise","$M$105","Grise","$M$105",null,null,null,null,"$M$88"]
[null,"Grise","$P$105","Grise","$P$105",null,null,null,null,"$N$88"]
[null,"Grise","$Q$105","Grise","$Q$105",null,null,null,null,"$O$88"]
[null,"Grise","$R$105","Grise","$R$105",null,null,null,null,"$P$88"]
[null,"Grise","$T$105","Grise","$T$105",null,null,null,null,"$W$88"]
[null,"Grise","$U$105","Grise","$U$105",null,null,null,null,"$Z$88"]
[null,"Grise","$W$105","Grise","$W$105",null,null,null,null,"$AA$88"]
[null,"Grise","$X$105","Grise","$X$105",null,null,null,null,"$AB$88"]
[null,"Grise","$Z$105","Grise","$Z$105",null,null,null,null,"$AC$88"]
[null,"Grise","$AA$105","Grise","$AA$105",null,null,null,null,"$AD$88"]
[null,"Grise","$AC$105","Grise","$AC$105",null,null,null,null,"$AE$88"]
[null,"Grise","$M$106","Grise","$M$106",null,null,null,null,"$AF$88"]
[null,"Grise","$P$106","Grise","$P$106",null,null,null,null,"$AG$88"]
[null,"Grise","$Q$106","Grise","$Q$106",null,null,null,null,"$AH$88"]
[null,"Grise","$R$106","Grise","$R$106",null,null,null,null,"$AI$88"]
[null,"Grise","$T$106","Grise","$T$106",null,null,null,null,"$AJ$88"]
[null,"Grise","$U$106","Grise","$U$106",null,null,null,null,"$AK$88"]
[null,"Grise","$W$106","Grise","$W$106",null,null,null,null,"$AP$88"]
[null,"Grise","$X$106","Grise","$X$106",null,null,null,null,"$L$89"]
[null,"Grise","$Z$106","Grise","$Z$106",null,null,null,null,"$M$89"]
[null,"Grise","$AA$106","Grise","$AA$106",null,null,null,null,"$N$89"]
[null,"Grise","$AC$106","Grise","$AC$106",null,null,null,null,"$O$89"]
[null,"Grise","$M$107","Grise","$M$107",null,null,null,null,"$P$89"]
[null,"Grise","$P$107","Grise","$P$107",null,null,null,null,"$W$89"]
[null,"Grise","$Q$107","Grise","$Q$107",null,null,null,null,"$Z$89"]
[null,"Grise","$R$107","Grise","$R$107",null,null,null,null,"$AA$89"]
[null,"Grise","$T$107","Grise","$T$107",null,null,null,null,"$AB$89"]
[null,"Grise","$U$107","Grise","$U$107",null,null,null,null,"$AC$89"]
[null,"Grise","$W$107","Grise","$W$107",null,null,null,null,"$AD$89"]
[null,"Grise","$X$107","Grise","$X$107",null,null,null,null,"$AE$89"]
[null,"Grise","$Z$107","Grise","$Z$107",null,null,null,null,"$AF$89"]
[null,"Grise","$AA$107","Grise","$AA$107",null,null,null,null,"$AG$89"]
[null,"Grise","$AC$107","Grise","$AC$107",null,null,null,null,"$AH$89"]
[null,"Grise","$M$108","Grise","$M$108",null,null,null,null,"$AI$89"]
[null,"Grise","$P$108","Grise","$P$108",null,null,null,null,"$AJ$89"]
[null,"Grise","$Q$108","Grise","$Q$108",null,null,null,null,"$AK$89"]
[null,"Grise","$R$108","Grise","$R$108",null,null,null,null,"$AP$89"]
[null,"Grise","$T$108","Grise","$T$108",null,null,null,null,"$L$90"]
[null,"Grise","$U$108","Grise","$U$108",null,null,null,null,"$M$90"]
[null,"Grise","$W$108","Grise","$W$108",null,null,null,null,"$N$90"]
[null,"Grise","$X$108","Grise","$X$108",null,null,null,null,"$O$90"]
[null,"Grise","$Z$108","Grise","$Z$108",null,null,null,null,"$P$90"]
[null,"Grise","$AA$108","Grise","$AA$108",null,null,null,null,"$W$90"]
[null,"Grise","$AC$108","Grise","$AC$108",null,null,null,null,"$Z$90"]
[null,"Grise","$M$109","Grise","$M$109",null,null,null,null,"$AA$90"]
[null,"Grise","$P$109","Grise","$P$109",null,null,null,null,"$AB$90"]
[null,"Grise","$Q$109","Grise","$Q$109",null,null,null,null,"$AC$90"]
[null,"Grise","$R$109","Grise","$R$109",null,null,null,null,"$AD$90"]
[null,"Grise","$T$109","Grise","$T$109",null,null,null,null,"$AE$90"]
[null,"Grise","$U$109","Grise","$U$109",null,null,null,null,"$AF$90"]
[null,"Grise","$W$109","Grise","$W$109",null,null,null,null,"$AG$90"]
[null,"Grise","$X$109","Grise","$X$109",null,null,null,null,"$AH$90"]
[null,"Grise","$Z$109","Grise","$Z$109",null,null,null,null,"$AI$90"]
[null,"Grise","$AA$109","Grise","$AA$109",null,null,null,null,"$AJ$90"]
[null,"Grise","$AC$109","Grise","$AC$109",null,null,null,null,"$AK$90"]
[null,"Grise","$M$110","Grise","$M$110",null,null,null,null,"$AP$90"]
[null,"Grise","$P$110","Grise","$P$110",null,null,null,null,"$L$91"]
[null,"Grise","$Q$110","Grise","$Q$110",null,null,null,null,"$M$91"]
[null,"Grise","$R$110","Grise","$R$110",null,null,null,null,"$N$91"]
[null,"Grise","$T$110","Grise","$T$110",null,null,null,null,"$O$91"]
[null,"Grise","$U$110","Grise","$U$110",null,null,null,null,"$P$91"]
[null,"Grise","$W$110","Grise","$W$110",null,null,null,null,"$W$91"]
[null,"Grise","$X$110","Grise","$X$110",null,null,null,null,"$Z$91"]
[null,"Grise","$Z$110","Grise","$Z$110",null,null,null,null,"$AA$91"]
[null,"Grise","$AA$110","Grise","$AA$110",null,null,null,null,"$AB$91"]
[null,"Grise","$AC$110","Grise","$AC$110",null,null,null,null,"$AC$91"]
[null,"Grise","$M$111","Grise","$M$111",null,null,null,null,"$AD$91"]
[null,"Grise","$P$111","Grise","$P$111",null,null,null,null,"$AE$91"]
[null,"Grise","$Q$111","Grise","$Q$111",null,null,null,null,"$AF$91"]
[null,"Grise","$R$111","Grise","$R$111",null,null,null,null,"$AG$91"]
[null,"Grise","$T$111","Grise","$T$111",null,null,null,null,"$AH$91"]
[null,"Grise","$U$111","Grise","$U$111",null,null,null,null,"$AI$91"]
[null,"Grise","$W$111","Grise","$W$111",null,null,null,null,"$AJ$91"]
[null,"Grise","$X$111","Grise","$X$111",null,null,null,null,"$AK$91"]
[null,"Grise","$Z$111","Grise","$Z$111",null,null,null,null,"$AP$91"]
[null,"Grise","$AA$111","Grise","$AA$111",null,null,null,null,"$L$92"]
[null,"Grise","$AC$111","Grise","$AC$111",null,null,null,null,"$M$92"]
[null,"Grise","$M$112","Grise","$M$112",null,null,null,null,"$N$92"]
[null,"Grise","$P$112","Grise","$P$112",null,null,null,null,"$O$92"]
[null,"Grise","$Q$112","Grise","$Q$112",null,null,null,null,"$P$92"]
[null,"Grise","$R$112","Grise","$R$112",null,null,null,null,"$W$92"]
[null,"Grise","$T$112","Grise","$T$112",null,null,null,null,"$Z$92"]
[null,"Grise","$U$112","Grise","$U$112",null,null,null,null,"$AA$92"]
[null,"Grise","$W$112","Grise","$W$112",null,null,null,null,"$AB$92"]
[null,"Grise","$X$112","Grise","$X$112",null,null,null,null,"$AC$92"]
[null,"Grise","$Z$112","Grise","$Z$112",null,null,null,null,"$AD$92"]
[null,"Grise","$AA$112","Grise","$AA$112",null,null,null,null,"$AE$92"]
[null,"Grise","$AC$112","Grise","$AC$112",null,null,null,null,"$AF$92"]
[null,"Grise","$M$113","Grise","$M$113",null,null,null,null,"$AG$92"]
[null,"Grise","$P$113","Grise","$P$113",null,null,null,null,"$AH$92"]
[null,"Grise","$Q$113","Grise","$Q$113",null,null,null,null,"$AI$92"]
[null,"Grise","$R$113","Grise","$R$113",null,null,null,null,"$AJ$92"]
[null,"Grise","$T$113","Grise","$T$113",null,null,null,null,"$AK$92"]
[null,"Grise","$U$113","Grise","$U$113",null,null,null,null,"$AP$92"]
[null,"Grise","$W$113","Grise","$W$113",null,null,null,null,"$L$93"]
[null,"Grise","$X$113","Grise","$X$113",null,null,null,null,"$M$93"]
[null,"Grise","$Z$113","Grise","$Z$113",null,null,null,null,"$N$93"]
[null,"Grise","$AA$113","Grise","$AA$113",null,null,null,null,"$O$93"]
[null,"Grise","$AC$113","Grise","$AC$113",null,null,null,null,"$P$93"]
[null,"Grise","$M$114","Grise","$M$114",null,null,null,null,"$W$93"]
[null,"Grise","$P$114","Grise","$P$114",null,null,null,null,"$Z$93"]
[null,"Grise","$Q$114","Grise","$Q$114",null,null,null,null,"$AA$93"]
[null,"Grise","$R$114","Grise","$R$114",null,null,null,null,"$AB$93"]
[null,"Grise","$T$114","Grise","$T$114",null,null,null,null,"$AC$93"]
[null,"Grise","$U$114","Grise","$U$114",null,null,null,null,"$AD$93"]
[null,"Grise","$W$114","Grise","$W$114",null,null,null,null,"$AE$93"]
[null,"Grise","$X$114","Grise","$X$114",null,null,null,null,"$AF$93"]
[null,"Grise","$Z$114","Grise","$Z$114",null,null,null,null,"$AG$93"]
[null,"Grise","$AA$114","Grise","$AA$114",null,null,null,null,"$AH$93"]
[null,"Grise","$AC$114","Grise","$AC$114",null,null,null,null,"$AI$93"]
[null,"Grise","$M$115","Grise","$M$115",null,null,null,null,"$AJ$93"]
[null,"Grise","$P$115","Grise","$P$115",null,null,null,null,"$AK$93"]
[null,"Grise","$Q$115","Grise","$Q$115",null,null,null,null,"$AP$93"]
[null,"Grise","$R$115","Grise","$R$115",null,null,null,null,"$L$94"]
[null,"Grise","$T$115","Grise","$T$115",null,null,null,null,"$M$94"]
[null,"Grise","$U$115","Grise","$U$115",null,null,null,null,"$N$94"]
[null,"Grise","$W$115","Grise","$W$115",null,null,null,null,"$O$94"]
[null,"Grise","$X$115","Grise","$X$115",null,null,null,null,"$P$94"]
[null,"Grise","$Z$115","Grise","$Z$115",null,null,null,null,"$W$94"]
[null,"Grise","$AA$115","Grise","$AA$115",null,null,null,null,"$Z$94"]
[null,"Grise","$AC$115","Grise","$AC$115",null,null,null,null,"$AA$94"]
[null,"Grise","$M$116","Grise","$M$116",null,null,null,null,"$AB$94"]
[null,"Grise","$P$116","Grise","$P$116",null,null,null,null,"$AC$94"]
[null,"Grise","$Q$116","Grise","$Q$116",null,null,null,null,"$AD$94"]
[null,"Grise","$R$116","Grise","$R$116",null,null,null,null,"$AE$94"]
[null,"Grise","$T$116","Grise","$T$116",null,null,null,null,"$AF$94"]
[null,"Grise","$U$116","Grise","$U$116",null,null,null,null,"$AG$94"]
[null,"Grise","$W$116","Grise","$W$116",null,null,null,null,"$AH$94"]
[null,"Grise","$X$116","Grise","$X$116",null,null,null,null,"$AI$94"]
[null,"Grise","$Z$116","Grise","$Z$116",null,null,null,null,"$AJ$94"]
[null,"Grise","$AA$116","Grise","$AA$116",null,null,null,null,"$AK$94"]
[null,"Grise","$AC$116","Grise","$AC$116",null,null,null,null,"$AP$94"]
[null,"Grise","$M$117","Grise","$M$117",null,null,null,null,"$L$95"]
[null,"Grise","$P$117","Grise","$P$117",null,null,null,null,"$M$95"]
[null,"Grise","$Q$117","Grise","$Q$117",null,null,null,null,"$N$95"]
[null,"Grise","$R$117","Grise","$R$117",null,null,null,null,"$O$95"]
[null,"Grise","$T$117","Grise","$T$117",null,null,null,null,"$P$95"]
[null,"Grise","$U$117","Grise","$U$117",null,null,null,null,"$W$95"]
[null,"Grise","$W$117","Grise","$W$117",null,null,null,null,"$Z$95"]
[null,"Grise","$X$117","Grise","$X$117",null,null,null,null,"$AA$95"]
[null,"Grise","$Z$117","Grise","$Z$117",null,null,null,null,"$AB$95"]
[null,"Grise","$AA$117","Grise","$AA$117",null,null,null,null,"$AC$95"]
[null,"Grise","$AC$117","Grise","$AC$117",null,null,null,null,"$AD$95"]
[null,"Grise","$M$118","Grise","$M$118",null,null,null,null,"$AE$95"]
[null,"Grise","$P$118","Grise","$P$118",null,null,null,null,"$AF$95"]
[null,"Grise","$Q$118","Grise","$Q$118",null,null,null,null,"$AG$95"]
[null,"Grise","$R$118","Grise","$R$118",null,null,null,null,"$AH$95"]
[null,"Grise","$T$118","Grise","$T$118",null,null,null,null,"$AI$95"]
[null,"Grise","$U$118","Grise","$U$118",null,null,null,null,"$AJ$95"]
[null,"Grise","$W$118","Grise","$W$118",null,null,null,null,"$AK$95"]
[null,"Grise","$X$118","Grise","$X$118",null,null,null,null,"$AP$95"]
[null,"Grise","$Z$118","Grise","$Z$118",null,null,null,null,"$L$96"]
[null,"Grise","$AA$118","Grise","$AA$118",null,null,null,null,"$M$96"]
[null,"Grise","$AC$118","Grise","$AC$118",null,null,null,null,"$N$96"]
[null,"Grise","$M$119","Grise","$M$119",null,null,null,null,"$O$96"]
[null,"Grise","$P$119","Grise","$P$119",null,null,null,null,"$P$96"]
[null,"Grise","$Q$119","Grise","$Q$119",null,null,null,null,"$W$96"]
[null,"Grise","$R$119","Grise","$R$119",null,null,null,null,"$Z$96"]
[null,"Grise","$T$119","Grise","$T$119",null,null,null,null,"$AA$96"]
[null,"Grise","$U$119","Grise","$U$119",null,null,null,null,"$AB$96"]
[null,"Grise","$W$119","Grise","$W$119",null,null,null,null,"$AC$96"]
[null,"Grise","$X$119","Grise","$X$119",null,null,null,null,"$AD$96"]
[null,"Grise","$Z$119","Grise","$Z$119",null,null,null,null,"$AE$96"]
[null,"Grise","$AA$119","Grise","$AA$119",null,null,null,null,"$AF$96"]
[null,"Grise","$AC$119","Grise","$AC$119",null,null,null,null,"$AG$96"]
[null,"Grise","$M$120","Grise","$M$120",null,null,null,null,"$AH$96"]
[null,"Grise","$P$120","Grise","$P$120",null,null,null,null,"$AI$96"]
[null,"Grise","$Q$120","Grise","$Q$120",null,null,null,null,"$AJ$96"]
[null,"Grise","$R$120","Grise","$R$120",null,null,null,null,"$AK$96"]
[null,"Grise","$T$120","Grise","$T$120",null,null,null,null,"$AP$96"]
[null,"Grise","$U$120","Grise","$U$120",null,null,null,null,"$L$97"]
[null,"Grise","$W$120","Grise","$W$120",null,null,null,null,"$M$97"]
[null,"Grise","$X$120","Grise","$X$120",null,null,null,null,"$N$97"]
[null,"Grise","$Z$120","Grise","$Z$120",null,null,null,null,"$O$97"]
[null,"Grise","$AA$120","Grise","$AA$120",null,null,null,null,"$P$97"]
[null,"Grise","$AC$120","Grise","$AC$120",null,null,null,null,"$W$97"]
[null,"Grise","$M$121","Grise","$M$121",null,null,null,null,"$Z$97"]
[null,"Grise","$P$121","Grise","$P$121",null,null,null,null,"$AA$97"]
[null,"Grise","$Q$121","Grise","$Q$121",null,null,null,null,"$AB$97"]
[null,"Grise","$R$121","Grise","$R$121",null,null,null,null,"$AC$97"]
[null,"Grise","$T$121","Grise","$T$121",null,null,null,null,"$AD$97"]
[null,"Grise","$U$121","Grise","$U$121",null,null,null,null,"$AE$97"]
[null,"Grise","$W$121","Grise","$W$121",null,null,null,null,"$AF$97"]
[null,"Grise","$X$121","Grise","$X$121",null,null,null,null,"$AG$97"]
[null,"Grise","$Z$121","Grise","$Z$121",null,null,null,null,"$AH$97"]
[null,"Grise","$AA$121","Grise","$AA$121",null,null,null,null,"$AI$97"]
[null,"Grise","$AC$121","Grise","$AC$121",null,null,null,null,"$AJ$97"]
[null,"Grise","$M$122","Grise","$M$122",null,null,null,null,"$AK$97"]
[null,"Grise","$P$122","Grise","$P$122",null,null,null,null,"$AP$97"]
[null,"Grise","$Q$122","Grise","$Q$122",null,null,null,null,"$L$98"]
[null,"Grise","$R$122","Grise","$R$122",null,null,null,null,"$M$98"]
[null,"Grise","$T$122","Grise","$T$122",null,null,null,null,"$N$98"]
[null,"Grise","$U$122","Grise","$U$122",null,null,null,null,"$O$98"]
[null,"Grise","$W$122","Grise","$W$122",null,null,null,null,"$P$98"]
[null,"Grise","$X$122","Grise","$X$122",null,null,null,null,"$W$98"]
[null,"Grise","$Z$122","Grise","$Z$122",null,null,null,null,"$Z$98"]
[null,"Grise","$AA$122","Grise","$AA$122",null,null,null,null,"$AA$98"]
[null,"Grise","$AC$122","Grise","$AC$122",null,null,null,null,"$AB$98"]
[null,"Grise","$M$123","Grise","$M$123",null,null,null,null,"$AC$98"]
[null,"Grise","$P$123","Grise","$P$123",null,null,null,null,"$AD$98"]
[null,"Grise","$Q$123","Grise","$Q$123",null,null,null,null,"$AE$98"]
[null,"Grise","$R$123","Grise","$R$123",null,null,null,null,"$AF$98"]
[null,"Grise","$T$123","Grise","$T$123",null,null,null,null,"$AG$98"]
[null,"Grise","$U$123","Grise","$U$123",null,null,null,null,"$AH$98"]
[null,"Grise","$W$123","Grise","$W$123",null,null,null,null,"$AI$98"]
[null,"Grise","$X$123","Grise","$X$123",null,null,null,null,"$AJ$98"]
[null,"Grise","$Z$123","Grise","$Z$123",null,null,null,null,"$AK$98"]
[null,"Grise","$AA$123","Grise","$AA$123",null,null,null,null,"$AP$98"]
[null,"Grise","$AC$123","Grise","$AC$123",null,null,null,null,"$L$99"]
[null,"Grise","$M$124","Grise","$M$124",null,null,null,null,"$M$99"]
[null,"Grise","$P$124","Grise","$P$124",null,null,null,null,"$N$99"]
[null,"Grise","$Q$124","Grise","$Q$124",null,null,null,null,"$O$99"]
[null,"Grise","$R$124","Grise","$R$124",null,null,null,null,"$P$99"]
[null,"Grise","$T$124","Grise","$T$124",null,null,null,null,"$W$99"]
[null,"Grise","$U$124","Grise","$U$124",null,null,null,null,"$Z$99"]
[null,"Grise","$W$124","Grise","$W$124",null,null,null,null,"$AA$99"]
[null,"Grise","$X$124","Grise","$X$124",null,null,null,null,"$AB$99"]
[null,"Grise","$Z$124","Grise","$Z$124",null,null,null,null,"$AC$99"]
[null,"Grise","$AA$124","Grise","$AA$124",null,null,null,null,"$AD$99"]
[null,"Grise","$AC$124","Grise","$AC$124",null,null,null,null,"$AE$99"]
[null,"Grise","$M$125","Grise","$M$125",null,null,null,null,"$AF$99"]
[null,"Grise","$P$125","Grise","$P$125",null,null,null,null,"$AG$99"]
[null,"Grise","$Q$125","Grise","$Q$125",null,null,null,null,"$AH$99"]
[null,"Grise","$R$125","Grise","$R$125",null,null,null,null,"$AI$99"]
[null,"Grise","$T$125","Grise","$T$125",null,null,null,null,"$AJ$99"]
[null,"Grise","$U$125","Grise","$U$125",null,null,null,null,"$AK$99"]
[null,"Grise","$W$125","Grise","$W$125",null,null,null,null,"$AP$99"]
[null,"Grise","$X$125","Grise","$X$125",null,null,null,null,"$L$100"]
[null,"Grise","$Z$125","Grise","$Z$125",null,null,null,null,"$M$100"]
[null,"Grise","$AA$125","Grise","$AA$125",null,null,null,null,"$N$100"]
[null,"Grise","$AC$125","Grise","$AC$125",null,null,null,null,"$O$100"]
[null,"Grise","$M$126","Grise","$M$126",null,null,null,null,"$P$100"]
[null,"Grise","$P$126","Grise","$P$126",null,null,null,null,"$W$100"]
[null,"Grise","$Q$126","Grise","$Q$126",null,null,null,null,"$Z$100"]
[null,"Grise","$R$126","Grise","$R$126",null,null,null,null,"$AA$100"]
[null,"Grise","$T$126","Grise","$T$126",null,null,null,null,"$AB$100"]
[null,"Grise","$U$126","Grise","$U$126",null,null,null,null,"$AC$100"]
[null,"Grise","$W$126","Grise","$W$126",null,null,null,null,"$AD$100"]
[null,"Grise","$X$126","Grise","$X$126",null,null,null,null,"$AE$100"]
[null,"Grise","$Z$126","Grise","$Z$126",null,null,null,null,"$AF$100"]
[null,"Grise","$AA$126","Grise","$AA$126",null,null,null,null,"$AG$100"]
[null,"Grise","$AC$126","Grise","$AC$126",null,null,null,null,"$AH$100"]
[null,"Grise","$M$127","Grise","$M$127",null,null,null,null,"$AI$100"]
[null,"Grise","$P$127","Grise","$P$127",null,null,null,null,"$AJ$100"]
[null,"Grise","$Q$127","Grise","$Q$127",null,null,null,null,"$AK$100"]
[null,"Grise","$R$127","Grise","$R$127",null,null,null,null,"$AP$100"]
[null,"Grise","$T$127","Grise","$T$127",null,null,null,null,"$L$101"]
[null,"Grise","$U$127","Grise","$U$127",null,null,null,null,"$M$101"]
[null,"Grise","$W$127","Grise","$W$127",null,null,null,null,"$N$101"]
[null,"Grise","$X$127","Grise","$X$127",null,null,null,null,"$O$101"]
[null,"Grise","$Z$127","Grise","$Z$127",null,null,null,null,"$P$101"]
[null,"Grise","$AA$127","Grise","$AA$127",null,null,null,null,"$W$101"]
[null,"Grise","$AC$127","Grise","$AC$127",null,null,null,null,"$Z$101"]
[null,"Grise","$M$128","Grise","$M$128",null,null,null,null,"$AA$101"]
[null,"Grise","$P$128","Grise","$P$128",null,null,null,null,"$AB$101"]
[null,"Grise","$Q$128","Grise","$Q$128",null,null,null,null,"$AC$101"]
[null,"Grise","$R$128","Grise","$R$128",null,null,null,null,"$AD$101"]
[null,"Grise","$T$128","Grise","$T$128",null,null,null,null,"$AE$101"]
[null,"Grise","$U$128","Grise","$U$128",null,null,null,null,"$AF$101"]
[null,"Grise","$W$128","Grise","$W$128",null,null,null,null,"$AG$101"]
[null,"Grise","$X$128","Grise","$X$128",null,null,null,null,"$AH$101"]
[null,"Grise","$Z$128","Grise","$Z$128",null,null,null,null,"$AI$101"]
[null,"Grise","$AA$128","Grise","$AA$128",null,null,null,null,"$AJ$101"]
[null,"Grise","$AC$128","Grise","$AC$128",null,null,null,null,"$AK$101"]
[null,"Grise","$M$129","Grise","$M$129",null,null,null,null,"$AP$101"]
[null,"Grise","$P$129","Grise","$P$129",null,null,null,null,"$L$102"]
[null,"Grise","$Q$129","Grise","$Q$129",null,null,null,null,"$M$102"]
[null,"Grise","$R$129","Grise","$R$129",null,null,null,null,"$N$102"]
[null,"Grise","$T$129","Grise","$T$129",null,null,null,null,"$O$102"]
[null,"Grise","$U$129","Grise","$U$129",null,null,null,null,"$P$102"]
[null,"Grise","$W$129","Grise","$W$129",null,null,null,null,"$W$102"]
[null,"Grise","$X$129","Grise","$X$129",null,null,null,null,"$Z$102"]
[null,"Grise","$Z$129","Grise","$Z$129",null,null,null,null,"$AA$102"]
[null,"Grise","$AA$129","Grise","$AA$129",null,null,null,null,"$AB$102"]
[null,"Grise","$AC$129","Grise","$AC$129",null,null,null,null,"$AC$102"]
[null,"Grise","$M$130","Grise","$M$130",null,null,null,null,"$AD$102"]
[null,"Grise","$P$130","Grise","$P$130",null,null,null,null,"$AE$102"]
[null,"Grise","$Q$130","Grise","$Q$130",null,null,null,null,"$AF$102"]
[null,"Grise","$R$130","Grise","$R$130",null,null,null,null,"$AG$102"]
[null,"Grise","$T$130","Grise","$T$130",null,null,null,null,"$AH$102"]
[null,"Grise","$U$130","Grise","$U$130",null,null,null,null,"$AI$102"]
[null,"Grise","$W$130","Grise","$W$130",null,null,null,null,"$AJ$102"]
[null,"Grise","$X$130","Grise","$X$130",null,null,null,null,"$AK$102"]
[null,"Grise","$Z$130","Grise","$Z$130",null,null,null,null,"$AP$102"]
[null,"Grise","$AA$130","Grise","$AA$130",null,null,null,null,"$L$103"]
[null,"Grise","$AC$130","Grise","$AC$130",null,null,null,null,"$M$103"]
[null,"Grise","$M$131","Grise","$M$131",null,null,null,null,"$N$103"]
[null,"Grise","$P$131","Grise","$P$131",null,null,null,null,"$O$103"]
[null,"Grise","$Q$131","Grise","$Q$131",null,null,null,null,"$P$103"]
[null,"Grise","$R$131","Grise","$R$131",null,null,null,null,"$W$103"]
[null,"Grise","$T$131","Grise","$T$131",null,null,null,null,"$Z$103"]
[null,"Grise","$U$131","Grise","$U$131",null,null,null,null,"$AA$103"]
[null,"Grise","$W$131","Grise","$W$131",null,null,null,null,"$AB$103"]
[null,"Grise","$X$131","Grise","$X$131",null,null,null,null,"$AC$103"]
[null,"Grise","$Z$131","Grise","$Z$131",null,null,null,null,"$AD$103"]
[null,"Grise","$AA$131","Grise","$AA$131",null,null,null,null,"$AE$103"]
[null,"Grise","$AC$131","Grise","$AC$131",null,null,null,null,"$AF$103"]
[null,"Grise","$M$132","Grise","$M$132",null,null,null,null,"$AG$103"]
[null,"Grise","$P$132","Grise","$P$132",null,null,null,null,"$AH$103"]
[null,"Grise","$Q$132","Grise","$Q$132",null,null,null,null,"$AI$103"]
[null,"Grise","$R$132","Grise","$R$132",null,null,null,null,"$AJ$103"]
[null,"Grise","$T$132","Grise","$T$132",null,null,null,null,"$AK$103"]
[null,"Grise","$U$132","Grise","$U$132",null,null,null,null,"$AP$103"]
[null,"Grise","$W$132","Grise","$W$132",null,null,null,null,"$L$104"]
[null,"Grise","$X$132","Grise","$X$132",null,null,null,null,"$M$104"]
[null,"Grise","$Z$132","Grise","$Z$132",null,null,null,null,"$N$104"]
[null,"Grise","$AA$132","Grise","$AA$132",null,null,null,null,"$O$104"]
[null,"Grise","$AC$132","Grise","$AC$132",null,null,null,null,"$P$104"]
[null,"Grise","$M$133","Grise","$M$133",null,null,null,null,"$W$104"]
[null,"Grise","$P$133","Grise","$P$133",null,null,null,null,"$Z$104"]
[null,"Grise","$Q$133","Grise","$Q$133",null,null,null,null,"$AA$104"]
[null,"Grise","$R$133","Grise","$R$133",null,null,null,null,"$AB$104"]
[null,"Grise","$T$133","Grise","$T$133",null,null,null,null,"$AC$104"]
[null,"Grise","$U$133","Grise","$U$133",null,null,null,null,"$AD$104"]
[null,"Grise","$W$133","Grise","$W$133",null,null,null,null,"$AE$104"]
[null,"Grise","$X$133","Grise","$X$133",null,null,null,null,"$AF$104"]
[null,"Grise","$Z$133","Grise","$Z$133",null,null,null,null,"$AG$104"]
[null,"Grise","$AA$133","Grise","$AA$133",null,null,null,null,"$AH$104"]
[null,"Grise","$AC$133","Grise","$AC$133",null,null,null,null,"$AI$104"]
[null,"Grise","$M$134","Grise","$M$134",null,null,null,null,"$AJ$104"]
[null,"Grise","$P$134","Grise","$P$134",null,null,null,null,"$AK$104"]
[null,"Grise","$Q$134","Grise","$Q$134",null,null,null,null,"$AP$104"]
[null,"Grise","$R$134","Grise","$R$134",null,null,null,null,"$L$105"]
[null,"Grise","$T$134","Grise","$T$134",null,null,null,null,"$M$105"]
[null,"Grise","$U$134","Grise","$U$134",null,null,null,null,"$N$105"]
[null,"Grise","$W$134","Grise","$W$134",null,null,null,null,"$O$105"]
[null,"Grise","$X$134","Grise","$X$134",null,null,null,null,"$P$105"]
[null,"Grise","$Z$134","Grise","$Z$134",null,null,null,null,"$W$105"]
[null,"Grise","$AA$134","Grise","$AA$134",null,null,null,null,"$Z$105"]
[null,"Grise","$AC$134","Grise","$AC$134",null,null,null,null,"$AA$105"]
[null,"Grise","$M$135","Grise","$M$135",null,null,null,null,"$AB$105"]
[null,"Grise","$P$135","Grise","$P$135",null,null,null,null,"$AC$105"]
[null,"Grise","$Q$135","Grise","$Q$135",null,null,null,null,"$AD$105"]
[null,"Grise","$R$135","Grise","$R$135",null,null,null,null,"$AE$105"]
[null,"Grise","$T$135","Grise","$T$135",null,null,null,null,"$AF$105"]
[null,"Grise","$U$135","Grise","$U$135",null,null,null,null,"$AG$105"]
[null,"Grise","$W$135","Grise","$W$135",null,null,null,null,"$AH$105"]
[null,"Grise","$X$135","Grise","$X$135",null,null,null,null,"$AI$105"]
[null,"Grise","$Z$135","Grise","$Z$135",null,null,null,null,"$AJ$105"]
[null,"Grise","$AA$135","Grise","$AA$135",null,null,null,null,"$AK$105"]
[null,"Grise","$AC$135","Grise","$AC$135",null,null,null,null,"$AP$105"]
[null,"Grise","$M$136","Grise","$M$136",null,null,null,null,"$L$106"]
[null,"Grise","$P$136","Grise","$P$136",null,null,null,null,"$M$106"]
[null,"Grise","$Q$136","Grise","$Q$136",null,null,null,null,"$N$106"]
[null,"Grise","$R$136","Grise","$R$136",null,null,null,null,"$O$106"]
[null,"Grise","$T$136","Grise","$T$136",null,null,null,null,"$P$106"]
[null,"Grise","$U$136","Grise","$U$136",null,null,null,null,"$W$106"]
[null,"Grise","$W$136","Grise","$W$136",null,null,null,null,"$Z$106"]
[null,"Grise","$X$136","Grise","$X$136",null,null,null,null,"$AA$106"]
[null,"Grise","$Z$136","Grise","$Z$136",null,null,null,null,"$AB$106"]
[null,"Grise","$AA$136","Grise","$AA$136",null,null,null,null,"$AC$106"]
[null,"Grise","$AC$136","Grise","$AC$136",null,null,null,null,"$AD$106"]
[null,"Grise","$M$137","Grise","$M$137",null,null,null,null,"$AE$106"]
[null,"Grise","$P$137","Grise","$P$137",null,null,null,null,"$AF$106"]
[null,"Grise","$Q$137","Grise","$Q$137",null,null,null,null,"$AG$106"]
[null,"Grise","$R$137","Grise","$R$137",null,null,null,null,"$AH$106"]
[null,"Grise","$T$137","Grise","$T$137",null,null,null,null,"$AI$106"]
[null,"Grise","$U$137","Grise","$U$137",null,null,null,null,"$AJ$106"]
[null,"Grise","$W$137","Grise","$W$137",null,null,null,null,"$AK$106"]
[null,"Grise","$X$137","Grise","$X$137",null,null,null,null,"$AP$106"]
[null,"Grise","$Z$137","Grise","$Z$137",null,null,null,null,"$L$107"]
[null,"Grise","$AA$137","Grise","$AA$137",null,null,null,null,"$M$107"]
[null,"Grise","$AC$137","Grise","$AC$137",null,null,null,null,"$N$107"]
[null,"Grise","$T$142","Grise","$T$142",null,null,null,null,"$O$107"]
[null,"Grise","$W$142","Grise","$W$142",null,null,null,null,"$P$107"]
[null,"Grise","$Z$142","Grise","$Z$142",null,null,null,null,"$W$107"]
[null,"Grise","$AC$142","Grise","$AC$142",null,null,null,null,"$Z$107"]
[null,"Grise","$T$143","Grise","$T$143",null,null,null,null,"$AA$107"]
[null,"Grise","$W$143","Grise","$W$143",null,null,null,null,"$AB$107"]
[null,"Grise","$Z$143","Grise","$Z$143",null,null,null,null,"$AC$107"]
[null,"Grise","$AC$143","Grise","$AC$143",null,null,null,null,"$AD$107"]
[null,"Grise","$Q$169","Grise","$Q$169",null,null,null,null,"$AE$107"]
[null,"Kvæg","$P$21","Kvæg","$P$21",null,null,null,null,"$AF$107"]
[null,"Kvæg","$S$21","Kvæg","$S$21",null,null,null,null,"$AG$107"]
[null,"Kvæg","$T$21","Kvæg","$T$21",null,null,null,null,"$AH$107"]
[null,"Kvæg","$W$21","Kvæg","$W$21",null,null,null,null,"$AI$107"]
[null,"Kvæg","$P$22","Kvæg","$P$22",null,null,null,null,"$AJ$107"]
[null,"Kvæg","$S$22","Kvæg","$S$22",null,null,null,null,"$AK$107"]
[null,"Kvæg","$T$22","Kvæg","$T$22",null,null,null,null,"$AP$107"]
[null,"Kvæg","$W$22","Kvæg","$W$22",null,null,null,null,"$L$108"]
[null,"Kvæg","$P$23","Kvæg","$P$23",null,null,null,null,"$M$108"]
[null,"Kvæg","$S$23","Kvæg","$S$23",null,null,null,null,"$N$108"]
[null,"Kvæg","$T$23","Kvæg","$T$23",null,null,null,null,"$O$108"]
[null,"Kvæg","$W$23","Kvæg","$W$23",null,null,null,null,"$P$108"]
[null,"Kvæg","$P$24","Kvæg","$P$24",null,null,null,null,"$W$108"]
[null,"Kvæg","$S$24","Kvæg","$S$24",null,null,null,null,"$Z$108"]
[null,"Kvæg","$T$24","Kvæg","$T$24",null,null,null,null,"$AA$108"]
[null,"Kvæg","$W$24","Kvæg","$W$24",null,null,null,null,"$AB$108"]
[null,"Kvæg","$O$25","Kvæg","$O$25",null,null,null,null,"$AC$108"]
[null,"Kvæg","$P$25","Kvæg","$P$25",null,null,null,null,"$AD$108"]
[null,"Kvæg","$S$25","Kvæg","$S$25",null,null,null,null,"$AE$108"]
[null,"Kvæg","$T$25","Kvæg","$T$25",null,null,null,null,"$AF$108"]
[null,"Kvæg","$W$25","Kvæg","$W$25",null,null,null,null,"$AG$108"]
[null,"Kvæg","$O$26","Kvæg","$O$26",null,null,null,null,"$AH$108"]
[null,"Kvæg","$P$26","Kvæg","$P$26",null,null,null,null,"$AI$108"]
[null,"Kvæg","$S$26","Kvæg","$S$26",null,null,null,null,"$AJ$108"]
[null,"Kvæg","$T$26","Kvæg","$T$26",null,null,null,null,"$AK$108"]
[null,"Kvæg","$W$26","Kvæg","$W$26",null,null,null,null,"$AP$108"]
[null,"Kvæg","$O$27","Kvæg","$O$27",null,null,null,null,"$L$109"]
[null,"Kvæg","$P$27","Kvæg","$P$27",null,null,null,null,"$M$109"]
[null,"Kvæg","$S$27","Kvæg","$S$27",null,null,null,null,"$N$109"]
[null,"Kvæg","$T$27","Kvæg","$T$27",null,null,null,null,"$O$109"]
[null,"Kvæg","$W$27","Kvæg","$W$27",null,null,null,null,"$P$109"]
[null,"Kvæg","$O$28","Kvæg","$O$28",null,null,null,null,"$W$109"]
[null,"Kvæg","$P$28","Kvæg","$P$28",null,null,null,null,"$Z$109"]
[null,"Kvæg","$S$28","Kvæg","$S$28",null,null,null,null,"$AA$109"]
[null,"Kvæg","$T$28","Kvæg","$T$28",null,null,null,null,"$AB$109"]
[null,"Kvæg","$W$28","Kvæg","$W$28",null,null,null,null,"$AC$109"]
[null,"Kvæg","$O$29","Kvæg","$O$29",null,null,null,null,"$AD$109"]
[null,"Kvæg","$P$29","Kvæg","$P$29",null,null,null,null,"$AE$109"]
[null,"Kvæg","$S$29","Kvæg","$S$29",null,null,null,null,"$AF$109"]
[null,"Kvæg","$T$29","Kvæg","$T$29",null,null,null,null,"$AG$109"]
[null,"Kvæg","$W$29","Kvæg","$W$29",null,null,null,null,"$AH$109"]
[null,"Kvæg","$P$30","Kvæg","$P$30",null,null,null,null,"$AI$109"]
[null,"Kvæg","$S$30","Kvæg","$S$30",null,null,null,null,"$AJ$109"]
[null,"Kvæg","$T$30","Kvæg","$T$30",null,null,null,null,"$AK$109"]
[null,"Kvæg","$W$30","Kvæg","$W$30",null,null,null,null,"$AP$109"]
[null,"Kvæg","$P$31","Kvæg","$P$31",null,null,null,null,"$L$110"]
[null,"Kvæg","$S$31","Kvæg","$S$31",null,null,null,null,"$M$110"]
[null,"Kvæg","$T$31","Kvæg","$T$31",null,null,null,null,"$N$110"]
[null,"Kvæg","$W$31","Kvæg","$W$31",null,null,null,null,"$O$110"]
[null,"Kvæg","$P$32","Kvæg","$P$32",null,null,null,null,"$P$110"]
[null,"Kvæg","$S$32","Kvæg","$S$32",null,null,null,null,"$W$110"]
[null,"Kvæg","$T$32","Kvæg","$T$32",null,null,null,null,"$Z$110"]
[null,"Kvæg","$W$32","Kvæg","$W$32",null,null,null,null,"$AA$110"]
[null,"Kvæg","$P$33","Kvæg","$P$33",null,null,null,null,"$AB$110"]
[null,"Kvæg","$S$33","Kvæg","$S$33",null,null,null,null,"$AC$110"]
[null,"Kvæg","$T$33","Kvæg","$T$33",null,null,null,null,"$AD$110"]
[null,"Kvæg","$W$33","Kvæg","$W$33",null,null,null,null,"$AE$110"]
[null,"Kvæg","$P$41","Kvæg","$P$41",null,null,null,null,"$AF$110"]
[null,"Kvæg","$R$41","Kvæg","$R$41",null,null,null,null,"$AG$110"]
[null,"Kvæg","$R$42","Kvæg","$R$42",null,null,null,null,"$AH$110"]
[null,"Kvæg","$R$43","Kvæg","$R$43",null,null,null,null,"$AI$110"]
[null,"Kvæg","$P$44","Kvæg","$P$44",null,null,null,null,"$AJ$110"]
[null,"Kvæg","$R$44","Kvæg","$R$44",null,null,null,null,"$AK$110"]
[null,"Kvæg","$P$46","Kvæg","$P$46",null,null,null,null,"$AP$110"]
[null,"Kvæg","$R$46","Kvæg","$R$46",null,null,null,null,"$L$111"]
[null,"Kvæg","$P$47","Kvæg","$P$47",null,null,null,null,"$M$111"]
[null,"Kvæg","$R$47","Kvæg","$R$47",null,null,null,null,"$N$111"]
[null,"Kvæg","$P$48","Kvæg","$P$48",null,null,null,null,"$O$111"]
[null,"Kvæg","$R$48","Kvæg","$R$48",null,null,null,null,"$P$111"]
[null,"Kvæg","$P$49","Kvæg","$P$49",null,null,null,null,"$W$111"]
[null,"Kvæg","$R$49","Kvæg","$R$49",null,null,null,null,"$Z$111"]
[null,"Kvæg","$P$50","Kvæg","$P$50",null,null,null,null,"$AA$111"]
[null,"Kvæg","$R$50","Kvæg","$R$50",null,null,null,null,"$AB$111"]
[null,"Kvæg","$P$51","Kvæg","$P$51",null,null,null,null,"$AC$111"]
[null,"Kvæg","$R$51","Kvæg","$R$51",null,null,null,null,"$AD$111"]
[null,"Kvæg","$P$52","Kvæg","$P$52",null,null,null,null,"$AE$111"]
[null,"Kvæg","$R$52","Kvæg","$R$52",null,null,null,null,"$AF$111"]
[null,"Kvæg","$P$53","Kvæg","$P$53",null,null,null,null,"$AG$111"]
[null,"Kvæg","$R$53","Kvæg","$R$53",null,null,null,null,"$AH$111"]
[null,"Kvæg","$P$54","Kvæg","$P$54",null,null,null,null,"$AI$111"]
[null,"Kvæg","$R$54","Kvæg","$R$54",null,null,null,null,"$AJ$111"]
[null,"Kvæg","$P$55","Kvæg","$P$55",null,null,null,null,"$AK$111"]
[null,"Kvæg","$R$55","Kvæg","$R$55",null,null,null,null,"$AP$111"]
[null,"Kvæg","$S$55","Kvæg","$S$55",null,null,null,null,"$L$112"]
[null,"Kvæg","$R$56","Kvæg","$R$56",null,null,null,null,"$M$112"]
[null,"Kvæg","$P$59","Kvæg","$P$59",null,null,null,null,"$N$112"]
[null,"Kvæg","$R$59","Kvæg","$R$59",null,null,null,null,"$O$112"]
[null,"Kvæg","$S$59","Kvæg","$S$59",null,null,null,null,"$P$112"]
[null,"Kvæg","$P$61","Kvæg","$P$61",null,null,null,null,"$W$112"]
[null,"Kvæg","$R$61","Kvæg","$R$61",null,null,null,null,"$Z$112"]
[null,"Kvæg","$S$61","Kvæg","$S$61",null,null,null,null,"$AA$112"]
[null,"Kvæg","$P$62","Kvæg","$P$62",null,null,null,null,"$AB$112"]
[null,"Kvæg","$R$62","Kvæg","$R$62",null,null,null,null,"$AC$112"]
[null,"Kvæg","$S$62","Kvæg","$S$62",null,null,null,null,"$AD$112"]
[null,"Kvæg","$P$63","Kvæg","$P$63",null,null,null,null,"$AE$112"]
[null,"Kvæg","$R$63","Kvæg","$R$63",null,null,null,null,"$AF$112"]
[null,"Kvæg","$S$63","Kvæg","$S$63",null,null,null,null,"$AG$112"]
[null,"Kvæg","$R$64","Kvæg","$R$64",null,null,null,null,"$AH$112"]
[null,"Kvæg","$R$67","Kvæg","$R$67",null,null,null,null,"$AI$112"]
[null,"Kvæg","$R$68","Kvæg","$R$68",null,null,null,null,"$AJ$112"]
[null,"Kvæg","$M$78","Kvæg","$M$78",null,null,null,null,"$AK$112"]
[null,"Kvæg","$Q$78","Kvæg","$Q$78",null,null,null,null,"$AP$112"]
[null,"Kvæg","$R$78","Kvæg","$R$78",null,null,null,null,"$L$113"]
[null,"Kvæg","$T$78","Kvæg","$T$78",null,null,null,null,"$M$113"]
[null,"Kvæg","$U$78","Kvæg","$U$78",null,null,null,null,"$N$113"]
[null,"Kvæg","$W$78","Kvæg","$W$78",null,null,null,null,"$O$113"]
[null,"Kvæg","$X$78","Kvæg","$X$78",null,null,null,null,"$P$113"]
[null,"Kvæg","$Z$78","Kvæg","$Z$78",null,null,null,null,"$W$113"]
[null,"Kvæg","$AA$78","Kvæg","$AA$78",null,null,null,null,"$Z$113"]
[null,"Kvæg","$AC$78","Kvæg","$AC$78",null,null,null,null,"$AA$113"]
[null,"Kvæg","$M$79","Kvæg","$M$79",null,null,null,null,"$AB$113"]
[null,"Kvæg","$Q$79","Kvæg","$Q$79",null,null,null,null,"$AC$113"]
[null,"Kvæg","$R$79","Kvæg","$R$79",null,null,null,null,"$AD$113"]
[null,"Kvæg","$T$79","Kvæg","$T$79",null,null,null,null,"$AE$113"]
[null,"Kvæg","$U$79","Kvæg","$U$79",null,null,null,null,"$AF$113"]
[null,"Kvæg","$W$79","Kvæg","$W$79",null,null,null,null,"$AG$113"]
[null,"Kvæg","$X$79","Kvæg","$X$79",null,null,null,null,"$AH$113"]
[null,"Kvæg","$Z$79","Kvæg","$Z$79",null,null,null,null,"$AI$113"]
[null,"Kvæg","$AA$79","Kvæg","$AA$79",null,null,null,null,"$AJ$113"]
[null,"Kvæg","$AC$79","Kvæg","$AC$79",null,null,null,null,"$AK$113"]
[null,"Kvæg","$M$80","Kvæg","$M$80",null,null,null,null,"$AP$113"]
[null,"Kvæg","$Q$80","Kvæg","$Q$80",null,null,null,null,"$L$114"]
[null,"Kvæg","$R$80","Kvæg","$R$80",null,null,null,null,"$M$114"]
[null,"Kvæg","$T$80","Kvæg","$T$80",null,null,null,null,"$N$114"]
[null,"Kvæg","$U$80","Kvæg","$U$80",null,null,null,null,"$O$114"]
[null,"Kvæg","$W$80","Kvæg","$W$80",null,null,null,null,"$P$114"]
[null,"Kvæg","$X$80","Kvæg","$X$80",null,null,null,null,"$W$114"]
[null,"Kvæg","$Z$80","Kvæg","$Z$80",null,null,null,null,"$Z$114"]
[null,"Kvæg","$AA$80","Kvæg","$AA$80",null,null,null,null,"$AA$114"]
[null,"Kvæg","$AC$80","Kvæg","$AC$80",null,null,null,null,"$AB$114"]
[null,"Kvæg","$M$81","Kvæg","$M$81",null,null,null,null,"$AC$114"]
[null,"Kvæg","$Q$81","Kvæg","$Q$81",null,null,null,null,"$AD$114"]
[null,"Kvæg","$R$81","Kvæg","$R$81",null,null,null,null,"$AE$114"]
[null,"Kvæg","$T$81","Kvæg","$T$81",null,null,null,null,"$AF$114"]
[null,"Kvæg","$U$81","Kvæg","$U$81",null,null,null,null,"$AG$114"]
[null,"Kvæg","$W$81","Kvæg","$W$81",null,null,null,null,"$AH$114"]
[null,"Kvæg","$X$81","Kvæg","$X$81",null,null,null,null,"$AI$114"]
[null,"Kvæg","$Z$81","Kvæg","$Z$81",null,null,null,null,"$AJ$114"]
[null,"Kvæg","$AA$81","Kvæg","$AA$81",null,null,null,null,"$AK$114"]
[null,"Kvæg","$AC$81","Kvæg","$AC$81",null,null,null,null,"$AP$114"]
[null,"Kvæg","$M$82","Kvæg","$M$82",null,null,null,null,"$L$115"]
[null,"Kvæg","$Q$82","Kvæg","$Q$82",null,null,null,null,"$M$115"]
[null,"Kvæg","$R$82","Kvæg","$R$82",null,null,null,null,"$N$115"]
[null,"Kvæg","$T$82","Kvæg","$T$82",null,null,null,null,"$O$115"]
[null,"Kvæg","$U$82","Kvæg","$U$82",null,null,null,null,"$P$115"]
[null,"Kvæg","$W$82","Kvæg","$W$82",null,null,null,null,"$W$115"]
[null,"Kvæg","$X$82","Kvæg","$X$82",null,null,null,null,"$Z$115"]
[null,"Kvæg","$Z$82","Kvæg","$Z$82",null,null,null,null,"$AA$115"]
[null,"Kvæg","$AA$82","Kvæg","$AA$82",null,null,null,null,"$AB$115"]
[null,"Kvæg","$AC$82","Kvæg","$AC$82",null,null,null,null,"$AC$115"]
[null,"Kvæg","$M$83","Kvæg","$M$83",null,null,null,null,"$AD$115"]
[null,"Kvæg","$Q$83","Kvæg","$Q$83",null,null,null,null,"$AE$115"]
[null,"Kvæg","$R$83","Kvæg","$R$83",null,null,null,null,"$AF$115"]
[null,"Kvæg","$T$83","Kvæg","$T$83",null,null,null,null,"$AG$115"]
[null,"Kvæg","$U$83","Kvæg","$U$83",null,null,null,null,"$AH$115"]
[null,"Kvæg","$W$83","Kvæg","$W$83",null,null,null,null,"$AI$115"]
[null,"Kvæg","$X$83","Kvæg","$X$83",null,null,null,null,"$AJ$115"]
[null,"Kvæg","$Z$83","Kvæg","$Z$83",null,null,null,null,"$AK$115"]
[null,"Kvæg","$AA$83","Kvæg","$AA$83",null,null,null,null,"$AP$115"]
[null,"Kvæg","$AC$83","Kvæg","$AC$83",null,null,null,null,"$L$116"]
[null,"Kvæg","$M$84","Kvæg","$M$84",null,null,null,null,"$M$116"]
[null,"Kvæg","$Q$84","Kvæg","$Q$84",null,null,null,null,"$N$116"]
[null,"Kvæg","$R$84","Kvæg","$R$84",null,null,null,null,"$O$116"]
[null,"Kvæg","$T$84","Kvæg","$T$84",null,null,null,null,"$P$116"]
[null,"Kvæg","$U$84","Kvæg","$U$84",null,null,null,null,"$W$116"]
[null,"Kvæg","$W$84","Kvæg","$W$84",null,null,null,null,"$Z$116"]
[null,"Kvæg","$X$84","Kvæg","$X$84",null,null,null,null,"$AA$116"]
[null,"Kvæg","$Z$84","Kvæg","$Z$84",null,null,null,null,"$AB$116"]
[null,"Kvæg","$AA$84","Kvæg","$AA$84",null,null,null,null,"$AC$116"]
[null,"Kvæg","$AC$84","Kvæg","$AC$84",null,null,null,null,"$AD$116"]
[null,"Kvæg","$M$85","Kvæg","$M$85",null,null,null,null,"$AE$116"]
[null,"Kvæg","$Q$85","Kvæg","$Q$85",null,null,null,null,"$AF$116"]
[null,"Kvæg","$R$85","Kvæg","$R$85",null,null,null,null,"$AG$116"]
[null,"Kvæg","$T$85","Kvæg","$T$85",null,null,null,null,"$AH$116"]
[null,"Kvæg","$U$85","Kvæg","$U$85",null,null,null,null,"$AI$116"]
[null,"Kvæg","$W$85","Kvæg","$W$85",null,null,null,null,"$AJ$116"]
[null,"Kvæg","$X$85","Kvæg","$X$85",null,null,null,null,"$AK$116"]
[null,"Kvæg","$Z$85","Kvæg","$Z$85",null,null,null,null,"$AP$116"]
[null,"Kvæg","$AA$85","Kvæg","$AA$85",null,null,null,null,"$L$117"]
[null,"Kvæg","$AC$85","Kvæg","$AC$85",null,null,null,null,"$M$117"]
[null,"Kvæg","$M$86","Kvæg","$M$86",null,null,null,null,"$N$117"]
[null,"Kvæg","$Q$86","Kvæg","$Q$86",null,null,null,null,"$O$117"]
[null,"Kvæg","$R$86","Kvæg","$R$86",null,null,null,null,"$P$117"]
[null,"Kvæg","$T$86","Kvæg","$T$86",null,null,null,null,"$W$117"]
[null,"Kvæg","$U$86","Kvæg","$U$86",null,null,null,null,"$Z$117"]
[null,"Kvæg","$W$86","Kvæg","$W$86",null,null,null,null,"$AA$117"]
[null,"Kvæg","$X$86","Kvæg","$X$86",null,null,null,null,"$AB$117"]
[null,"Kvæg","$Z$86","Kvæg","$Z$86",null,null,null,null,"$AC$117"]
[null,"Kvæg","$AA$86","Kvæg","$AA$86",null,null,null,null,"$AD$117"]
[null,"Kvæg","$AC$86","Kvæg","$AC$86",null,null,null,null,"$AE$117"]
[null,"Kvæg","$M$87","Kvæg","$M$87",null,null,null,null,"$AF$117"]
[null,"Kvæg","$Q$87","Kvæg","$Q$87",null,null,null,null,"$AG$117"]
[null,"Kvæg","$R$87","Kvæg","$R$87",null,null,null,null,"$AH$117"]
[null,"Kvæg","$T$87","Kvæg","$T$87",null,null,null,null,"$AI$117"]
[null,"Kvæg","$U$87","Kvæg","$U$87",null,null,null,null,"$AJ$117"]
[null,"Kvæg","$W$87","Kvæg","$W$87",null,null,null,null,"$AK$117"]
[null,"Kvæg","$X$87","Kvæg","$X$87",null,null,null,null,"$AP$117"]
[null,"Kvæg","$Z$87","Kvæg","$Z$87",null,null,null,null,"$L$118"]
[null,"Kvæg","$AA$87","Kvæg","$AA$87",null,null,null,null,"$M$118"]
[null,"Kvæg","$AC$87","Kvæg","$AC$87",null,null,null,null,"$N$118"]
[null,"Kvæg","$M$88","Kvæg","$M$88",null,null,null,null,"$O$118"]
[null,"Kvæg","$Q$88","Kvæg","$Q$88",null,null,null,null,"$P$118"]
[null,"Kvæg","$R$88","Kvæg","$R$88",null,null,null,null,"$W$118"]
[null,"Kvæg","$T$88","Kvæg","$T$88",null,null,null,null,"$Z$118"]
[null,"Kvæg","$U$88","Kvæg","$U$88",null,null,null,null,"$AA$118"]
[null,"Kvæg","$W$88","Kvæg","$W$88",null,null,null,null,"$AB$118"]
[null,"Kvæg","$X$88","Kvæg","$X$88",null,null,null,null,"$AC$118"]
[null,"Kvæg","$Z$88","Kvæg","$Z$88",null,null,null,null,"$AD$118"]
[null,"Kvæg","$AA$88","Kvæg","$AA$88",null,null,null,null,"$AE$118"]
[null,"Kvæg","$AC$88","Kvæg","$AC$88",null,null,null,null,"$AF$118"]
[null,"Kvæg","$M$89","Kvæg","$M$89",null,null,null,null,"$AG$118"]
[null,"Kvæg","$Q$89","Kvæg","$Q$89",null,null,null,null,"$AH$118"]
[null,"Kvæg","$R$89","Kvæg","$R$89",null,null,null,null,"$AI$118"]
[null,"Kvæg","$T$89","Kvæg","$T$89",null,null,null,null,"$AJ$118"]
[null,"Kvæg","$U$89","Kvæg","$U$89",null,null,null,null,"$AK$118"]
[null,"Kvæg","$W$89","Kvæg","$W$89",null,null,null,null,"$AP$118"]
[null,"Kvæg","$X$89","Kvæg","$X$89",null,null,null,null,"$L$119"]
[null,"Kvæg","$Z$89","Kvæg","$Z$89",null,null,null,null,"$M$119"]
[null,"Kvæg","$AA$89","Kvæg","$AA$89",null,null,null,null,"$N$119"]
[null,"Kvæg","$AC$89","Kvæg","$AC$89",null,null,null,null,"$O$119"]
[null,"Kvæg","$M$90","Kvæg","$M$90",null,null,null,null,"$P$119"]
[null,"Kvæg","$Q$90","Kvæg","$Q$90",null,null,null,null,"$W$119"]
[null,"Kvæg","$R$90","Kvæg","$R$90",null,null,null,null,"$Z$119"]
[null,"Kvæg","$T$90","Kvæg","$T$90",null,null,null,null,"$AA$119"]
[null,"Kvæg","$U$90","Kvæg","$U$90",null,null,null,null,"$AB$119"]
[null,"Kvæg","$W$90","Kvæg","$W$90",null,null,null,null,"$AC$119"]
[null,"Kvæg","$X$90","Kvæg","$X$90",null,null,null,null,"$AD$119"]
[null,"Kvæg","$Z$90","Kvæg","$Z$90",null,null,null,null,"$AE$119"]
[null,"Kvæg","$AA$90","Kvæg","$AA$90",null,null,null,null,"$AF$119"]
[null,"Kvæg","$AC$90","Kvæg","$AC$90",null,null,null,null,"$AG$119"]
[null,"Kvæg","$M$91","Kvæg","$M$91",null,null,null,null,"$AH$119"]
[null,"Kvæg","$Q$91","Kvæg","$Q$91",null,null,null,null,"$AI$119"]
[null,"Kvæg","$R$91","Kvæg","$R$91",null,null,null,null,"$AJ$119"]
[null,"Kvæg","$T$91","Kvæg","$T$91",null,null,null,null,"$AK$119"]
[null,"Kvæg","$U$91","Kvæg","$U$91",null,null,null,null,"$AP$119"]
[null,"Kvæg","$W$91","Kvæg","$W$91",null,null,null,null,"$L$120"]
[null,"Kvæg","$X$91","Kvæg","$X$91",null,null,null,null,"$M$120"]
[null,"Kvæg","$Z$91","Kvæg","$Z$91",null,null,null,null,"$N$120"]
[null,"Kvæg","$AA$91","Kvæg","$AA$91",null,null,null,null,"$O$120"]
[null,"Kvæg","$AC$91","Kvæg","$AC$91",null,null,null,null,"$P$120"]
[null,"Kvæg","$M$92","Kvæg","$M$92",null,null,null,null,"$W$120"]
[null,"Kvæg","$Q$92","Kvæg","$Q$92",null,null,null,null,"$Z$120"]
[null,"Kvæg","$R$92","Kvæg","$R$92",null,null,null,null,"$AA$120"]
[null,"Kvæg","$T$92","Kvæg","$T$92",null,null,null,null,"$AB$120"]
[null,"Kvæg","$U$92","Kvæg","$U$92",null,null,null,null,"$AC$120"]
[null,"Kvæg","$W$92","Kvæg","$W$92",null,null,null,null,"$AD$120"]
[null,"Kvæg","$X$92","Kvæg","$X$92",null,null,null,null,"$AE$120"]
[null,"Kvæg","$Z$92","Kvæg","$Z$92",null,null,null,null,"$AF$120"]
[null,"Kvæg","$AA$92","Kvæg","$AA$92",null,null,null,null,"$AG$120"]
[null,"Kvæg","$AC$92","Kvæg","$AC$92",null,null,null,null,"$AH$120"]
[null,"Kvæg","$M$93","Kvæg","$M$93",null,null,null,null,"$AI$120"]
[null,"Kvæg","$Q$93","Kvæg","$Q$93",null,null,null,null,"$AJ$120"]
[null,"Kvæg","$R$93","Kvæg","$R$93",null,null,null,null,"$AK$120"]
[null,"Kvæg","$T$93","Kvæg","$T$93",null,null,null,null,"$AP$120"]
[null,"Kvæg","$U$93","Kvæg","$U$93",null,null,null,null,"$L$121"]
[null,"Kvæg","$W$93","Kvæg","$W$93",null,null,null,null,"$M$121"]
[null,"Kvæg","$X$93","Kvæg","$X$93",null,null,null,null,"$N$121"]
[null,"Kvæg","$Z$93","Kvæg","$Z$93",null,null,null,null,"$O$121"]
[null,"Kvæg","$AA$93","Kvæg","$AA$93",null,null,null,null,"$P$121"]
[null,"Kvæg","$AC$93","Kvæg","$AC$93",null,null,null,null,"$W$121"]
[null,"Kvæg","$M$94","Kvæg","$M$94",null,null,null,null,"$Z$121"]
[null,"Kvæg","$Q$94","Kvæg","$Q$94",null,null,null,null,"$AA$121"]
[null,"Kvæg","$R$94","Kvæg","$R$94",null,null,null,null,"$AB$121"]
[null,"Kvæg","$T$94","Kvæg","$T$94",null,null,null,null,"$AC$121"]
[null,"Kvæg","$U$94","Kvæg","$U$94",null,null,null,null,"$AD$121"]
[null,"Kvæg","$W$94","Kvæg","$W$94",null,null,null,null,"$AE$121"]
[null,"Kvæg","$X$94","Kvæg","$X$94",null,null,null,null,"$AF$121"]
[null,"Kvæg","$Z$94","Kvæg","$Z$94",null,null,null,null,"$AG$121"]
[null,"Kvæg","$AA$94","Kvæg","$AA$94",null,null,null,null,"$AH$121"]
[null,"Kvæg","$AC$94","Kvæg","$AC$94",null,null,null,null,"$AI$121"]
[null,"Kvæg","$M$95","Kvæg","$M$95",null,null,null,null,"$AJ$121"]
[null,"Kvæg","$Q$95","Kvæg","$Q$95",null,null,null,null,"$AK$121"]
[null,"Kvæg","$R$95","Kvæg","$R$95",null,null,null,null,"$AP$121"]
[null,"Kvæg","$T$95","Kvæg","$T$95",null,null,null,null,"$L$122"]
[null,"Kvæg","$U$95","Kvæg","$U$95",null,null,null,null,"$M$122"]
[null,"Kvæg","$W$95","Kvæg","$W$95",null,null,null,null,"$N$122"]
[null,"Kvæg","$X$95","Kvæg","$X$95",null,null,null,null,"$O$122"]
[null,"Kvæg","$Z$95","Kvæg","$Z$95",null,null,null,null,"$P$122"]
[null,"Kvæg","$AA$95","Kvæg","$AA$95",null,null,null,null,"$W$122"]
[null,"Kvæg","$AC$95","Kvæg","$AC$95",null,null,null,null,"$Z$122"]
[null,"Kvæg","$M$96","Kvæg","$M$96",null,null,null,null,"$AA$122"]
[null,"Kvæg","$Q$96","Kvæg","$Q$96",null,null,null,null,"$AB$122"]
[null,"Kvæg","$R$96","Kvæg","$R$96",null,null,null,null,"$AC$122"]
[null,"Kvæg","$T$96","Kvæg","$T$96",null,null,null,null,"$AD$122"]
[null,"Kvæg","$U$96","Kvæg","$U$96",null,null,null,null,"$AE$122"]
[null,"Kvæg","$W$96","Kvæg","$W$96",null,null,null,null,"$AF$122"]
[null,"Kvæg","$X$96","Kvæg","$X$96",null,null,null,null,"$AG$122"]
[null,"Kvæg","$Z$96","Kvæg","$Z$96",null,null,null,null,"$AH$122"]
[null,"Kvæg","$AA$96","Kvæg","$AA$96",null,null,null,null,"$AI$122"]
[null,"Kvæg","$AC$96","Kvæg","$AC$96",null,null,null,null,"$AJ$122"]
[null,"Kvæg","$M$97","Kvæg","$M$97",null,null,null,null,"$AK$122"]
[null,"Kvæg","$Q$97","Kvæg","$Q$97",null,null,null,null,"$AP$122"]
[null,"Kvæg","$R$97","Kvæg","$R$97",null,null,null,null,"$L$123"]
[null,"Kvæg","$T$97","Kvæg","$T$97",null,null,null,null,"$M$123"]
[null,"Kvæg","$U$97","Kvæg","$U$97",null,null,null,null,"$N$123"]
[null,"Kvæg","$W$97","Kvæg","$W$97",null,null,null,null,"$O$123"]
[null,"Kvæg","$X$97","Kvæg","$X$97",null,null,null,null,"$P$123"]
[null,"Kvæg","$Z$97","Kvæg","$Z$97",null,null,null,null,"$W$123"]
[null,"Kvæg","$AA$97","Kvæg","$AA$97",null,null,null,null,"$Z$123"]
[null,"Kvæg","$AC$97","Kvæg","$AC$97",null,null,null,null,"$AA$123"]
[null,"Kvæg","$M$98","Kvæg","$M$98",null,null,null,null,"$AB$123"]
[null,"Kvæg","$Q$98","Kvæg","$Q$98",null,null,null,null,"$AC$123"]
[null,"Kvæg","$R$98","Kvæg","$R$98",null,null,null,null,"$AD$123"]
[null,"Kvæg","$T$98","Kvæg","$T$98",null,null,null,null,"$AE$123"]
[null,"Kvæg","$U$98","Kvæg","$U$98",null,null,null,null,"$AF$123"]
[null,"Kvæg","$W$98","Kvæg","$W$98",null,null,null,null,"$AG$123"]
[null,"Kvæg","$X$98","Kvæg","$X$98",null,null,null,null,"$AH$123"]
[null,"Kvæg","$Z$98","Kvæg","$Z$98",null,null,null,null,"$AI$123"]
[null,"Kvæg","$AA$98","Kvæg","$AA$98",null,null,null,null,"$AJ$123"]
[null,"Kvæg","$AC$98","Kvæg","$AC$98",null,null,null,null,"$AK$123"]
[null,"Kvæg","$M$99","Kvæg","$M$99",null,null,null,null,"$AP$123"]
[null,"Kvæg","$Q$99","Kvæg","$Q$99",null,null,null,null,"$L$124"]
[null,"Kvæg","$R$99","Kvæg","$R$99",null,null,null,null,"$M$124"]
[null,"Kvæg","$T$99","Kvæg","$T$99",null,null,null,null,"$N$124"]
[null,"Kvæg","$U$99","Kvæg","$U$99",null,null,null,null,"$O$124"]
[null,"Kvæg","$W$99","Kvæg","$W$99",null,null,null,null,"$P$124"]
[null,"Kvæg","$X$99","Kvæg","$X$99",null,null,null,null,"$W$124"]
[null,"Kvæg","$Z$99","Kvæg","$Z$99",null,null,null,null,"$Z$124"]
[null,"Kvæg","$AA$99","Kvæg","$AA$99",null,null,null,null,"$AA$124"]
[null,"Kvæg","$AC$99","Kvæg","$AC$99",null,null,null,null,"$AB$124"]
[null,"Kvæg","$M$100","Kvæg","$M$100",null,null,null,null,"$AC$124"]
[null,"Kvæg","$Q$100","Kvæg","$Q$100",null,null,null,null,"$AD$124"]
[null,"Kvæg","$R$100","Kvæg","$R$100",null,null,null,null,"$AE$124"]
[null,"Kvæg","$T$100","Kvæg","$T$100",null,null,null,null,"$AF$124"]
[null,"Kvæg","$U$100","Kvæg","$U$100",null,null,null,null,"$AG$124"]
[null,"Kvæg","$W$100","Kvæg","$W$100",null,null,null,null,"$AH$124"]
[null,"Kvæg","$X$100","Kvæg","$X$100",null,null,null,null,"$AI$124"]
[null,"Kvæg","$Z$100","Kvæg","$Z$100",null,null,null,null,"$AJ$124"]
[null,"Kvæg","$AA$100","Kvæg","$AA$100",null,null,null,null,"$AK$124"]
[null,"Kvæg","$AC$100","Kvæg","$AC$100",null,null,null,null,"$AP$124"]
[null,"Kvæg","$M$101","Kvæg","$M$101",null,null,null,null,"$L$125"]
[null,"Kvæg","$Q$101","Kvæg","$Q$101",null,null,null,null,"$M$125"]
[null,"Kvæg","$R$101","Kvæg","$R$101",null,null,null,null,"$N$125"]
[null,"Kvæg","$T$101","Kvæg","$T$101",null,null,null,null,"$O$125"]
[null,"Kvæg","$U$101","Kvæg","$U$101",null,null,null,null,"$P$125"]
[null,"Kvæg","$W$101","Kvæg","$W$101",null,null,null,null,"$W$125"]
[null,"Kvæg","$X$101","Kvæg","$X$101",null,null,null,null,"$Z$125"]
[null,"Kvæg","$Z$101","Kvæg","$Z$101",null,null,null,null,"$AA$125"]
[null,"Kvæg","$AA$101","Kvæg","$AA$101",null,null,null,null,"$AB$125"]
[null,"Kvæg","$AC$101","Kvæg","$AC$101",null,null,null,null,"$AC$125"]
[null,"Kvæg","$M$102","Kvæg","$M$102",null,null,null,null,"$AD$125"]
[null,"Kvæg","$Q$102","Kvæg","$Q$102",null,null,null,null,"$AE$125"]
[null,"Kvæg","$R$102","Kvæg","$R$102",null,null,null,null,"$AF$125"]
[null,"Kvæg","$T$102","Kvæg","$T$102",null,null,null,null,"$AG$125"]
[null,"Kvæg","$U$102","Kvæg","$U$102",null,null,null,null,"$AH$125"]
[null,"Kvæg","$W$102","Kvæg","$W$102",null,null,null,null,"$AI$125"]
[null,"Kvæg","$X$102","Kvæg","$X$102",null,null,null,null,"$AJ$125"]
[null,"Kvæg","$Z$102","Kvæg","$Z$102",null,null,null,null,"$AK$125"]
[null,"Kvæg","$AA$102","Kvæg","$AA$102",null,null,null,null,"$AP$125"]
[null,"Kvæg","$AC$102","Kvæg","$AC$102",null,null,null,null,"$L$126"]
[null,"Kvæg","$M$103","Kvæg","$M$103",null,null,null,null,"$M$126"]
[null,"Kvæg","$Q$103","Kvæg","$Q$103",null,null,null,null,"$N$126"]
[null,"Kvæg","$R$103","Kvæg","$R$103",null,null,null,null,"$O$126"]
[null,"Kvæg","$T$103","Kvæg","$T$103",null,null,null,null,"$P$126"]
[null,"Kvæg","$U$103","Kvæg","$U$103",null,null,null,null,"$W$126"]
[null,"Kvæg","$W$103","Kvæg","$W$103",null,null,null,null,"$Z$126"]
[null,"Kvæg","$X$103","Kvæg","$X$103",null,null,null,null,"$AA$126"]
[null,"Kvæg","$Z$103","Kvæg","$Z$103",null,null,null,null,"$AB$126"]
[null,"Kvæg","$AA$103","Kvæg","$AA$103",null,null,null,null,"$AC$126"]
[null,"Kvæg","$AC$103","Kvæg","$AC$103",null,null,null,null,"$AD$126"]
[null,"Kvæg","$M$104","Kvæg","$M$104",null,null,null,null,"$AE$126"]
[null,"Kvæg","$Q$104","Kvæg","$Q$104",null,null,null,null,"$AF$126"]
[null,"Kvæg","$R$104","Kvæg","$R$104",null,null,null,null,"$AG$126"]
[null,"Kvæg","$T$104","Kvæg","$T$104",null,null,null,null,"$AH$126"]
[null,"Kvæg","$U$104","Kvæg","$U$104",null,null,null,null,"$AI$126"]
[null,"Kvæg","$W$104","Kvæg","$W$104",null,null,null,null,"$AJ$126"]
[null,"Kvæg","$X$104","Kvæg","$X$104",null,null,null,null,"$AK$126"]
[null,"Kvæg","$Z$104","Kvæg","$Z$104",null,null,null,null,"$AP$126"]
[null,"Kvæg","$AA$104","Kvæg","$AA$104",null,null,null,null,"$L$127"]
[null,"Kvæg","$AC$104","Kvæg","$AC$104",null,null,null,null,"$M$127"]
[null,"Kvæg","$M$105","Kvæg","$M$105",null,null,null,null,"$N$127"]
[null,"Kvæg","$Q$105","Kvæg","$Q$105",null,null,null,null,"$O$127"]
[null,"Kvæg","$R$105","Kvæg","$R$105",null,null,null,null,"$P$127"]
[null,"Kvæg","$T$105","Kvæg","$T$105",null,null,null,null,"$W$127"]
[null,"Kvæg","$U$105","Kvæg","$U$105",null,null,null,null,"$Z$127"]
[null,"Kvæg","$W$105","Kvæg","$W$105",null,null,null,null,"$AA$127"]
[null,"Kvæg","$X$105","Kvæg","$X$105",null,null,null,null,"$AB$127"]
[null,"Kvæg","$Z$105","Kvæg","$Z$105",null,null,null,null,"$AC$127"]
[null,"Kvæg","$AA$105","Kvæg","$AA$105",null,null,null,null,"$AD$127"]
[null,"Kvæg","$AC$105","Kvæg","$AC$105",null,null,null,null,"$AE$127"]
[null,"Kvæg","$M$106","Kvæg","$M$106",null,null,null,null,"$AF$127"]
[null,"Kvæg","$Q$106","Kvæg","$Q$106",null,null,null,null,"$AG$127"]
[null,"Kvæg","$R$106","Kvæg","$R$106",null,null,null,null,"$AH$127"]
[null,"Kvæg","$T$106","Kvæg","$T$106",null,null,null,null,"$AI$127"]
[null,"Kvæg","$U$106","Kvæg","$U$106",null,null,null,null,"$AJ$127"]
[null,"Kvæg","$W$106","Kvæg","$W$106",null,null,null,null,"$AK$127"]
[null,"Kvæg","$X$106","Kvæg","$X$106",null,null,null,null,"$AP$127"]
[null,"Kvæg","$Z$106","Kvæg","$Z$106",null,null,null,null,"$L$128"]
[null,"Kvæg","$AA$106","Kvæg","$AA$106",null,null,null,null,"$M$128"]
[null,"Kvæg","$AC$106","Kvæg","$AC$106",null,null,null,null,"$N$128"]
[null,"Kvæg","$M$107","Kvæg","$M$107",null,null,null,null,"$O$128"]
[null,"Kvæg","$Q$107","Kvæg","$Q$107",null,null,null,null,"$P$128"]
[null,"Kvæg","$R$107","Kvæg","$R$107",null,null,null,null,"$W$128"]
[null,"Kvæg","$T$107","Kvæg","$T$107",null,null,null,null,"$Z$128"]
[null,"Kvæg","$U$107","Kvæg","$U$107",null,null,null,null,"$AA$128"]
[null,"Kvæg","$W$107","Kvæg","$W$107",null,null,null,null,"$AB$128"]
[null,"Kvæg","$X$107","Kvæg","$X$107",null,null,null,null,"$AC$128"]
[null,"Kvæg","$Z$107","Kvæg","$Z$107",null,null,null,null,"$AD$128"]
[null,"Kvæg","$AA$107","Kvæg","$AA$107",null,null,null,null,"$AE$128"]
[null,"Kvæg","$AC$107","Kvæg","$AC$107",null,null,null,null,"$AF$128"]
[null,"Kvæg","$M$108","Kvæg","$M$108",null,null,null,null,"$AG$128"]
[null,"Kvæg","$Q$108","Kvæg","$Q$108",null,null,null,null,"$AH$128"]
[null,"Kvæg","$R$108","Kvæg","$R$108",null,null,null,null,"$AI$128"]
[null,"Kvæg","$T$108","Kvæg","$T$108",null,null,null,null,"$AJ$128"]
[null,"Kvæg","$U$108","Kvæg","$U$108",null,null,null,null,"$AK$128"]
[null,"Kvæg","$W$108","Kvæg","$W$108",null,null,null,null,"$AP$128"]
[null,"Kvæg","$X$108","Kvæg","$X$108",null,null,null,null,"$L$129"]
[null,"Kvæg","$Z$108","Kvæg","$Z$108",null,null,null,null,"$M$129"]
[null,"Kvæg","$AA$108","Kvæg","$AA$108",null,null,null,null,"$N$129"]
[null,"Kvæg","$AC$108","Kvæg","$AC$108",null,null,null,null,"$O$129"]
[null,"Kvæg","$M$109","Kvæg","$M$109",null,null,null,null,"$P$129"]
[null,"Kvæg","$Q$109","Kvæg","$Q$109",null,null,null,null,"$W$129"]
[null,"Kvæg","$R$109","Kvæg","$R$109",null,null,null,null,"$Z$129"]
[null,"Kvæg","$T$109","Kvæg","$T$109",null,null,null,null,"$AA$129"]
[null,"Kvæg","$U$109","Kvæg","$U$109",null,null,null,null,"$AB$129"]
[null,"Kvæg","$W$109","Kvæg","$W$109",null,null,null,null,"$AC$129"]
[null,"Kvæg","$X$109","Kvæg","$X$109",null,null,null,null,"$AD$129"]
[null,"Kvæg","$Z$109","Kvæg","$Z$109",null,null,null,null,"$AE$129"]
[null,"Kvæg","$AA$109","Kvæg","$AA$109",null,null,null,null,"$AF$129"]
[null,"Kvæg","$AC$109","Kvæg","$AC$109",null,null,null,null,"$AG$129"]
[null,"Kvæg","$M$110","Kvæg","$M$110",null,null,null,null,"$AH$129"]
[null,"Kvæg","$Q$110","Kvæg","$Q$110",null,null,null,null,"$AI$129"]
[null,"Kvæg","$R$110","Kvæg","$R$110",null,null,null,null,"$AJ$129"]
[null,"Kvæg","$T$110","Kvæg","$T$110",null,null,null,null,"$AK$129"]
[null,"Kvæg","$U$110","Kvæg","$U$110",null,null,null,null,"$AP$129"]
[null,"Kvæg","$W$110","Kvæg","$W$110",null,null,null,null,"$L$130"]
[null,"Kvæg","$X$110","Kvæg","$X$110",null,null,null,null,"$M$130"]
[null,"Kvæg","$Z$110","Kvæg","$Z$110",null,null,null,null,"$N$130"]
[null,"Kvæg","$AA$110","Kvæg","$AA$110",null,null,null,null,"$O$130"]
[null,"Kvæg","$AC$110","Kvæg","$AC$110",null,null,null,null,"$P$130"]
[null,"Kvæg","$M$111","Kvæg","$M$111",null,null,null,null,"$W$130"]
[null,"Kvæg","$Q$111","Kvæg","$Q$111",null,null,null,null,"$Z$130"]
[null,"Kvæg","$R$111","Kvæg","$R$111",null,null,null,null,"$AA$130"]
[null,"Kvæg","$T$111","Kvæg","$T$111",null,null,null,null,"$AB$130"]
[null,"Kvæg","$U$111","Kvæg","$U$111",null,null,null,null,"$AC$130"]
[null,"Kvæg","$W$111","Kvæg","$W$111",null,null,null,null,"$AD$130"]
[null,"Kvæg","$X$111","Kvæg","$X$111",null,null,null,null,"$AE$130"]
[null,"Kvæg","$Z$111","Kvæg","$Z$111",null,null,null,null,"$AF$130"]
[null,"Kvæg","$AA$111","Kvæg","$AA$111",null,null,null,null,"$AG$130"]
[null,"Kvæg","$AC$111","Kvæg","$AC$111",null,null,null,null,"$AH$130"]
[null,"Kvæg","$M$112","Kvæg","$M$112",null,null,null,null,"$AI$130"]
[null,"Kvæg","$Q$112","Kvæg","$Q$112",null,null,null,null,"$AJ$130"]
[null,"Kvæg","$R$112","Kvæg","$R$112",null,null,null,null,"$AK$130"]
[null,"Kvæg","$T$112","Kvæg","$T$112",null,null,null,null,"$AP$130"]
[null,"Kvæg","$U$112","Kvæg","$U$112",null,null,null,null,"$L$131"]
[null,"Kvæg","$W$112","Kvæg","$W$112",null,null,null,null,"$M$131"]
[null,"Kvæg","$X$112","Kvæg","$X$112",null,null,null,null,"$N$131"]
[null,"Kvæg","$Z$112","Kvæg","$Z$112",null,null,null,null,"$O$131"]
[null,"Kvæg","$AA$112","Kvæg","$AA$112",null,null,null,null,"$P$131"]
[null,"Kvæg","$AC$112","Kvæg","$AC$112",null,null,null,null,"$W$131"]
[null,"Kvæg","$M$113","Kvæg","$M$113",null,null,null,null,"$Z$131"]
[null,"Kvæg","$Q$113","Kvæg","$Q$113",null,null,null,null,"$AA$131"]
[null,"Kvæg","$R$113","Kvæg","$R$113",null,null,null,null,"$AB$131"]
[null,"Kvæg","$T$113","Kvæg","$T$113",null,null,null,null,"$AC$131"]
[null,"Kvæg","$U$113","Kvæg","$U$113",null,null,null,null,"$AD$131"]
[null,"Kvæg","$W$113","Kvæg","$W$113",null,null,null,null,"$AE$131"]
[null,"Kvæg","$X$113","Kvæg","$X$113",null,null,null,null,"$AF$131"]
[null,"Kvæg","$Z$113","Kvæg","$Z$113",null,null,null,null,"$AG$131"]
[null,"Kvæg","$AA$113","Kvæg","$AA$113",null,null,null,null,"$AH$131"]
[null,"Kvæg","$AC$113","Kvæg","$AC$113",null,null,null,null,"$AI$131"]
[null,"Kvæg","$M$114","Kvæg","$M$114",null,null,null,null,"$AJ$131"]
[null,"Kvæg","$Q$114","Kvæg","$Q$114",null,null,null,null,"$AK$131"]
[null,"Kvæg","$R$114","Kvæg","$R$114",null,null,null,null,"$AP$131"]
[null,"Kvæg","$T$114","Kvæg","$T$114",null,null,null,null,"$L$132"]
[null,"Kvæg","$U$114","Kvæg","$U$114",null,null,null,null,"$M$132"]
[null,"Kvæg","$W$114","Kvæg","$W$114",null,null,null,null,"$N$132"]
[null,"Kvæg","$X$114","Kvæg","$X$114",null,null,null,null,"$O$132"]
[null,"Kvæg","$Z$114","Kvæg","$Z$114",null,null,null,null,"$P$132"]
[null,"Kvæg","$AA$114","Kvæg","$AA$114",null,null,null,null,"$W$132"]
[null,"Kvæg","$AC$114","Kvæg","$AC$114",null,null,null,null,"$Z$132"]
[null,"Kvæg","$M$115","Kvæg","$M$115",null,null,null,null,"$AA$132"]
[null,"Kvæg","$Q$115","Kvæg","$Q$115",null,null,null,null,"$AB$132"]
[null,"Kvæg","$R$115","Kvæg","$R$115",null,null,null,null,"$AC$132"]
[null,"Kvæg","$T$115","Kvæg","$T$115",null,null,null,null,"$AD$132"]
[null,"Kvæg","$U$115","Kvæg","$U$115",null,null,null,null,"$AE$132"]
[null,"Kvæg","$W$115","Kvæg","$W$115",null,null,null,null,"$AF$132"]
[null,"Kvæg","$X$115","Kvæg","$X$115",null,null,null,null,"$AG$132"]
[null,"Kvæg","$Z$115","Kvæg","$Z$115",null,null,null,null,"$AH$132"]
[null,"Kvæg","$AA$115","Kvæg","$AA$115",null,null,null,null,"$AI$132"]
[null,"Kvæg","$AC$115","Kvæg","$AC$115",null,null,null,null,"$AJ$132"]
[null,"Kvæg","$M$116","Kvæg","$M$116",null,null,null,null,"$AK$132"]
[null,"Kvæg","$Q$116","Kvæg","$Q$116",null,null,null,null,"$AP$132"]
[null,"Kvæg","$R$116","Kvæg","$R$116",null,null,null,null,"$L$133"]
[null,"Kvæg","$T$116","Kvæg","$T$116",null,null,null,null,"$M$133"]
[null,"Kvæg","$U$116","Kvæg","$U$116",null,null,null,null,"$N$133"]
[null,"Kvæg","$W$116","Kvæg","$W$116",null,null,null,null,"$O$133"]
[null,"Kvæg","$X$116","Kvæg","$X$116",null,null,null,null,"$P$133"]
[null,"Kvæg","$Z$116","Kvæg","$Z$116",null,null,null,null,"$W$133"]
[null,"Kvæg","$AA$116","Kvæg","$AA$116",null,null,null,null,"$Z$133"]
[null,"Kvæg","$AC$116","Kvæg","$AC$116",null,null,null,null,"$AA$133"]
[null,"Kvæg","$M$117","Kvæg","$M$117",null,null,null,null,"$AB$133"]
[null,"Kvæg","$Q$117","Kvæg","$Q$117",null,null,null,null,"$AC$133"]
[null,"Kvæg","$R$117","Kvæg","$R$117",null,null,null,null,"$AD$133"]
[null,"Kvæg","$T$117","Kvæg","$T$117",null,null,null,null,"$AE$133"]
[null,"Kvæg","$U$117","Kvæg","$U$117",null,null,null,null,"$AF$133"]
[null,"Kvæg","$W$117","Kvæg","$W$117",null,null,null,null,"$AG$133"]
[null,"Kvæg","$X$117","Kvæg","$X$117",null,null,null,null,"$AH$133"]
[null,"Kvæg","$Z$117","Kvæg","$Z$117",null,null,null,null,"$AI$133"]
[null,"Kvæg","$AA$117","Kvæg","$AA$117",null,null,null,null,"$AJ$133"]
[null,"Kvæg","$AC$117","Kvæg","$AC$117",null,null,null,null,"$AK$133"]
[null,"Kvæg","$M$118","Kvæg","$M$118",null,null,null,null,"$AP$133"]
[null,"Kvæg","$Q$118","Kvæg","$Q$118",null,null,null,null,"$L$134"]
[null,"Kvæg","$R$118","Kvæg","$R$118",null,null,null,null,"$M$134"]
[null,"Kvæg","$T$118","Kvæg","$T$118",null,null,null,null,"$N$134"]
[null,"Kvæg","$U$118","Kvæg","$U$118",null,null,null,null,"$O$134"]
[null,"Kvæg","$W$118","Kvæg","$W$118",null,null,null,null,"$P$134"]
[null,"Kvæg","$X$118","Kvæg","$X$118",null,null,null,null,"$W$134"]
[null,"Kvæg","$Z$118","Kvæg","$Z$118",null,null,null,null,"$Z$134"]
[null,"Kvæg","$AA$118","Kvæg","$AA$118",null,null,null,null,"$AA$134"]
[null,"Kvæg","$AC$118","Kvæg","$AC$118",null,null,null,null,"$AB$134"]
[null,"Kvæg","$M$119","Kvæg","$M$119",null,null,null,null,"$AC$134"]
[null,"Kvæg","$Q$119","Kvæg","$Q$119",null,null,null,null,"$AD$134"]
[null,"Kvæg","$R$119","Kvæg","$R$119",null,null,null,null,"$AE$134"]
[null,"Kvæg","$T$119","Kvæg","$T$119",null,null,null,null,"$AF$134"]
[null,"Kvæg","$U$119","Kvæg","$U$119",null,null,null,null,"$AG$134"]
[null,"Kvæg","$W$119","Kvæg","$W$119",null,null,null,null,"$AH$134"]
[null,"Kvæg","$X$119","Kvæg","$X$119",null,null,null,null,"$AI$134"]
[null,"Kvæg","$Z$119","Kvæg","$Z$119",null,null,null,null,"$AJ$134"]
[null,"Kvæg","$AA$119","Kvæg","$AA$119",null,null,null,null,"$AK$134"]
[null,"Kvæg","$AC$119","Kvæg","$AC$119",null,null,null,null,"$AP$134"]
[null,"Kvæg","$M$120","Kvæg","$M$120",null,null,null,null,"$L$135"]
[null,"Kvæg","$Q$120","Kvæg","$Q$120",null,null,null,null,"$M$135"]
[null,"Kvæg","$R$120","Kvæg","$R$120",null,null,null,null,"$N$135"]
[null,"Kvæg","$T$120","Kvæg","$T$120",null,null,null,null,"$O$135"]
[null,"Kvæg","$U$120","Kvæg","$U$120",null,null,null,null,"$P$135"]
[null,"Kvæg","$W$120","Kvæg","$W$120",null,null,null,null,"$W$135"]
[null,"Kvæg","$X$120","Kvæg","$X$120",null,null,null,null,"$Z$135"]
[null,"Kvæg","$Z$120","Kvæg","$Z$120",null,null,null,null,"$AA$135"]
[null,"Kvæg","$AA$120","Kvæg","$AA$120",null,null,null,null,"$AB$135"]
[null,"Kvæg","$AC$120","Kvæg","$AC$120",null,null,null,null,"$AC$135"]
[null,"Kvæg","$M$121","Kvæg","$M$121",null,null,null,null,"$AD$135"]
[null,"Kvæg","$Q$121","Kvæg","$Q$121",null,null,null,null,"$AE$135"]
[null,"Kvæg","$R$121","Kvæg","$R$121",null,null,null,null,"$AF$135"]
[null,"Kvæg","$T$121","Kvæg","$T$121",null,null,null,null,"$AG$135"]
[null,"Kvæg","$U$121","Kvæg","$U$121",null,null,null,null,"$AH$135"]
[null,"Kvæg","$W$121","Kvæg","$W$121",null,null,null,null,"$AI$135"]
[null,"Kvæg","$X$121","Kvæg","$X$121",null,null,null,null,"$AJ$135"]
[null,"Kvæg","$Z$121","Kvæg","$Z$121",null,null,null,null,"$AK$135"]
[null,"Kvæg","$AA$121","Kvæg","$AA$121",null,null,null,null,"$AP$135"]
[null,"Kvæg","$AC$121","Kvæg","$AC$121"]
[null,"Kvæg","$M$122","Kvæg","$M$122"]
[null,"Kvæg","$Q$122","Kvæg","$Q$122"]
[null,"Kvæg","$R$122","Kvæg","$R$122"]
[null,"Kvæg","$T$122","Kvæg","$T$122"]
[null,"Kvæg","$U$122","Kvæg","$U$122"]
[null,"Kvæg","$W$122","Kvæg","$W$122"]
[null,"Kvæg","$X$122","Kvæg","$X$122"]
[null,"Kvæg","$Z$122","Kvæg","$Z$122"]
[null,"Kvæg","$AA$122","Kvæg","$AA$122"]
[null,"Kvæg","$AC$122","Kvæg","$AC$122"]
[null,"Kvæg","$M$123","Kvæg","$M$123"]
[null,"Kvæg","$Q$123","Kvæg","$Q$123"]
[null,"Kvæg","$R$123","Kvæg","$R$123"]
[null,"Kvæg","$T$123","Kvæg","$T$123"]
[null,"Kvæg","$U$123","Kvæg","$U$123"]
[null,"Kvæg","$W$123","Kvæg","$W$123"]
[null,"Kvæg","$X$123","Kvæg","$X$123"]
[null,"Kvæg","$Z$123","Kvæg","$Z$123"]
[null,"Kvæg","$AA$123","Kvæg","$AA$123"]
[null,"Kvæg","$AC$123","Kvæg","$AC$123"]
[null,"Kvæg","$M$124","Kvæg","$M$124"]
[null,"Kvæg","$Q$124","Kvæg","$Q$124"]
[null,"Kvæg","$R$124","Kvæg","$R$124"]
[null,"Kvæg","$T$124","Kvæg","$T$124"]
[null,"Kvæg","$U$124","Kvæg","$U$124"]
[null,"Kvæg","$W$124","Kvæg","$W$124"]
[null,"Kvæg","$X$124","Kvæg","$X$124"]
[null,"Kvæg","$Z$124","Kvæg","$Z$124"]
[null,"Kvæg","$AA$124","Kvæg","$AA$124"]
[null,"Kvæg","$AC$124","Kvæg","$AC$124"]
[null,"Kvæg","$M$125","Kvæg","$M$125"]
[null,"Kvæg","$Q$125","Kvæg","$Q$125"]
[null,"Kvæg","$R$125","Kvæg","$R$125"]
[null,"Kvæg","$T$125","Kvæg","$T$125"]
[null,"Kvæg","$U$125","Kvæg","$U$125"]
[null,"Kvæg","$W$125","Kvæg","$W$125"]
[null,"Kvæg","$X$125","Kvæg","$X$125"]
[null,"Kvæg","$Z$125","Kvæg","$Z$125"]
[null,"Kvæg","$AA$125","Kvæg","$AA$125"]
[null,"Kvæg","$AC$125","Kvæg","$AC$125"]
[null,"Kvæg","$U$126","Kvæg","$U$126"]
[null,"Kvæg","$W$126","Kvæg","$W$126"]
[null,"Kvæg","$X$126","Kvæg","$X$126"]
[null,"Kvæg","$Z$126","Kvæg","$Z$126"]
[null,"Kvæg","$AA$126","Kvæg","$AA$126"]
[null,"Kvæg","$AC$126","Kvæg","$AC$126"]
[null,"Kvæg","$T$131","Kvæg","$T$131"]
[null,"Kvæg","$W$131","Kvæg","$W$131"]
[null,"Kvæg","$Z$131","Kvæg","$Z$131"]
[null,"Kvæg","$AC$131","Kvæg","$AC$131"]
[null,"Kvæg","$T$132","Kvæg","$T$132"]
[null,"Kvæg","$W$132","Kvæg","$W$132"]
[null,"Kvæg","$Z$132","Kvæg","$Z$132"]
[null,"Kvæg","$AC$132","Kvæg","$AC$132"]
[null,"Kvæg","$P$155","Kvæg","$P$155"]
[null,"Kvæg","$P$158","Kvæg","$P$158"]
[null,"Kvæg","$Q$275","Kvæg","$Q$275"]
[null,"Kvæg","$Q$276","Kvæg","$Q$276"]
[null,"Kvæg","$P$394","Kvæg","$P$394"]
[null,"Kvæg","$Q$405","Kvæg","$Q$405"]
[null,"Planteavl","$L$18","Planteavl","$L$18"]
[null,"Planteavl","$M$18","Planteavl","$M$18"]
[null,"Planteavl","$L$19","Planteavl","$L$19"]
[null,"Planteavl","$M$19","Planteavl","$M$19"]
[null,"Planteavl","$L$20","Planteavl","$L$20"]
[null,"Planteavl","$M$20","Planteavl","$M$20"]
[null,"Planteavl","$L$21","Planteavl","$L$21"]
[null,"Planteavl","$M$21","Planteavl","$M$21"]
[null,"Planteavl","$L$22","Planteavl","$L$22"]
[null,"Planteavl","$M$22","Planteavl","$M$22"]
[null,"Planteavl","$L$23","Planteavl","$L$23"]
[null,"Planteavl","$M$23","Planteavl","$M$23"]
[null,"Planteavl","$L$24","Planteavl","$L$24"]
[null,"Planteavl","$M$24","Planteavl","$M$24"]
[null,"Planteavl","$L$25","Planteavl","$L$25"]
[null,"Planteavl","$M$25","Planteavl","$M$25"]
[null,"Planteavl","$L$26","Planteavl","$L$26"]
[null,"Planteavl","$M$26","Planteavl","$M$26"]
[null,"Planteavl","$L$27","Planteavl","$L$27"]
[null,"Planteavl","$M$27","Planteavl","$M$27"]
[null,"Planteavl","$N$35","Planteavl","$N$35"]
[null,"Planteavl","$R$35","Planteavl","$R$35"]
[null,"Planteavl","$V$35","Planteavl","$V$35"]
[null,"Planteavl","$N$37","Planteavl","$N$37"]
[null,"Planteavl","$Q$37","Planteavl","$Q$37"]
[null,"Planteavl","$R$37","Planteavl","$R$37"]
[null,"Planteavl","$U$37","Planteavl","$U$37"]
[null,"Planteavl","$V$37","Planteavl","$V$37"]
[null,"Planteavl","$Y$37","Planteavl","$Y$37"]
[null,"Planteavl","$N$38","Planteavl","$N$38"]
[null,"Planteavl","$Q$38","Planteavl","$Q$38"]
[null,"Planteavl","$R$38","Planteavl","$R$38"]
[null,"Planteavl","$U$38","Planteavl","$U$38"]
[null,"Planteavl","$V$38","Planteavl","$V$38"]
[null,"Planteavl","$Y$38","Planteavl","$Y$38"]
[null,"Planteavl","$N$39","Planteavl","$N$39"]
[null,"Planteavl","$Q$39","Planteavl","$Q$39"]
[null,"Planteavl","$R$39","Planteavl","$R$39"]
[null,"Planteavl","$U$39","Planteavl","$U$39"]
[null,"Planteavl","$V$39","Planteavl","$V$39"]
[null,"Planteavl","$Y$39","Planteavl","$Y$39"]
[null,"Planteavl","$N$40","Planteavl","$N$40"]
[null,"Planteavl","$Q$40","Planteavl","$Q$40"]
[null,"Planteavl","$R$40","Planteavl","$R$40"]
[null,"Planteavl","$U$40","Planteavl","$U$40"]
[null,"Planteavl","$V$40","Planteavl","$V$40"]
[null,"Planteavl","$Y$40","Planteavl","$Y$40"]
[null,"Planteavl","$N$41","Planteavl","$N$41"]
[null,"Planteavl","$Q$41","Planteavl","$Q$41"]
[null,"Planteavl","$R$41","Planteavl","$R$41"]
[null,"Planteavl","$U$41","Planteavl","$U$41"]
[null,"Planteavl","$V$41","Planteavl","$V$41"]
[null,"Planteavl","$Y$41","Planteavl","$Y$41"]
[null,"Planteavl","$N$42","Planteavl","$N$42"]
[null,"Planteavl","$Q$42","Planteavl","$Q$42"]
[null,"Planteavl","$R$42","Planteavl","$R$42"]
[null,"Planteavl","$U$42","Planteavl","$U$42"]
[null,"Planteavl","$V$42","Planteavl","$V$42"]
[null,"Planteavl","$Y$42","Planteavl","$Y$42"]
[null,"Planteavl","$N$43","Planteavl","$N$43"]
[null,"Planteavl","$Q$43","Planteavl","$Q$43"]
[null,"Planteavl","$R$43","Planteavl","$R$43"]
[null,"Planteavl","$U$43","Planteavl","$U$43"]
[null,"Planteavl","$V$43","Planteavl","$V$43"]
[null,"Planteavl","$Y$43","Planteavl","$Y$43"]
[null,"Planteavl","$N$44","Planteavl","$N$44"]
[null,"Planteavl","$Q$44","Planteavl","$Q$44"]
[null,"Planteavl","$R$44","Planteavl","$R$44"]
[null,"Planteavl","$U$44","Planteavl","$U$44"]
[null,"Planteavl","$V$44","Planteavl","$V$44"]
[null,"Planteavl","$Y$44","Planteavl","$Y$44"]
[null,"Planteavl","$N$45","Planteavl","$N$45"]
[null,"Planteavl","$Q$45","Planteavl","$Q$45"]
[null,"Planteavl","$R$45","Planteavl","$R$45"]
[null,"Planteavl","$U$45","Planteavl","$U$45"]
[null,"Planteavl","$V$45","Planteavl","$V$45"]
[null,"Planteavl","$Y$45","Planteavl","$Y$45"]
[null,"Planteavl","$N$46","Planteavl","$N$46"]
[null,"Planteavl","$Q$46","Planteavl","$Q$46"]
[null,"Planteavl","$R$46","Planteavl","$R$46"]
[null,"Planteavl","$U$46","Planteavl","$U$46"]
[null,"Planteavl","$V$46","Planteavl","$V$46"]
[null,"Planteavl","$Y$46","Planteavl","$Y$46"]
[null,"Planteavl","$N$47","Planteavl","$N$47"]
[null,"Planteavl","$Q$47","Planteavl","$Q$47"]
[null,"Planteavl","$R$47","Planteavl","$R$47"]
[null,"Planteavl","$U$47","Planteavl","$U$47"]
[null,"Planteavl","$V$47","Planteavl","$V$47"]
[null,"Planteavl","$Y$47","Planteavl","$Y$47"]
[null,"Planteavl","$N$58","Planteavl","$N$58"]
[null,"Planteavl","$N$59","Planteavl","$N$59"]
[null,"Planteavl","$P$59","Planteavl","$P$59"]
[null,"Planteavl","$N$60","Planteavl","$N$60"]
[null,"Planteavl","$P$60","Planteavl","$P$60"]
[null,"Planteavl","$N$61","Planteavl","$N$61"]
[null,"Planteavl","$P$61","Planteavl","$P$61"]
[null,"Planteavl","$N$62","Planteavl","$N$62"]
[null,"Planteavl","$P$62","Planteavl","$P$62"]
[null,"Planteavl","$N$63","Planteavl","$N$63"]
[null,"Planteavl","$P$63","Planteavl","$P$63"]
[null,"Planteavl","$N$64","Planteavl","$N$64"]
[null,"Planteavl","$P$64","Planteavl","$P$64"]
[null,"Planteavl","$N$65","Planteavl","$N$65"]
[null,"Planteavl","$P$65","Planteavl","$P$65"]
[null,"Planteavl","$N$66","Planteavl","$N$66"]
[null,"Planteavl","$P$66","Planteavl","$P$66"]
[null,"Planteavl","$N$67","Planteavl","$N$67"]
[null,"Planteavl","$P$67","Planteavl","$P$67"]
[null,"Planteavl","$N$68","Planteavl","$N$68"]
[null,"Planteavl","$P$68","Planteavl","$P$68"]
[null,"Planteavl","$N$73","Planteavl","$N$73"]
[null,"Planteavl","$N$74","Planteavl","$N$74"]
[null,"Planteavl","$P$74","Planteavl","$P$74"]
[null,"Planteavl","$N$75","Planteavl","$N$75"]
[null,"Planteavl","$P$75","Planteavl","$P$75"]
[null,"Planteavl","$N$76","Planteavl","$N$76"]
[null,"Planteavl","$P$76","Planteavl","$P$76"]
[null,"Planteavl","$N$77","Planteavl","$N$77"]
[null,"Planteavl","$P$77","Planteavl","$P$77"]
[null,"Planteavl","$N$78","Planteavl","$N$78"]
[null,"Planteavl","$P$78","Planteavl","$P$78"]
[null,"Planteavl","$N$79","Planteavl","$N$79"]
[null,"Planteavl","$P$79","Planteavl","$P$79"]
[null,"Planteavl","$N$80","Planteavl","$N$80"]
[null,"Planteavl","$P$80","Planteavl","$P$80"]
[null,"Planteavl","$N$81","Planteavl","$N$81"]
[null,"Planteavl","$P$81","Planteavl","$P$81"]
[null,"Planteavl","$N$82","Planteavl","$N$82"]
[null,"Planteavl","$P$82","Planteavl","$P$82"]
[null,"Planteavl","$N$83","Planteavl","$N$83"]
[null,"Planteavl","$P$83","Planteavl","$P$83"]
[null,"Planteavl","$P$89","Planteavl","$P$89"]
[null,"Planteavl","$P$90","Planteavl","$P$90"]
[null,"Planteavl","$P$91","Planteavl","$P$91"]
[null,"Planteavl","$P$92","Planteavl","$P$92"]
[null,"Planteavl","$P$93","Planteavl","$P$93"]
[null,"Planteavl","$P$94","Planteavl","$P$94"]
[null,"Planteavl","$P$95","Planteavl","$P$95"]
[null,"Planteavl","$P$96","Planteavl","$P$96"]
[null,"Planteavl","$P$97","Planteavl","$P$97"]
[null,"Planteavl","$P$98","Planteavl","$P$98"]
[null,"Planteavl","$N$104","Planteavl","$N$104"]
[null,"Planteavl","$N$105","Planteavl","$N$105"]
[null,"Planteavl","$N$106","Planteavl","$N$106"]
[null,"Planteavl","$N$107","Planteavl","$N$107"]
[null,"Planteavl","$N$108","Planteavl","$N$108"]
[null,"Planteavl","$N$109","Planteavl","$N$109"]
[null,"Planteavl","$N$110","Planteavl","$N$110"]
[null,"Planteavl","$N$111","Planteavl","$N$111"]
[null,"Planteavl","$N$112","Planteavl","$N$112"]
[null,"Planteavl","$N$113","Planteavl","$N$113"]
[null,"Planteavl","$N$118","Planteavl","$N$118"]
[null,"Planteavl","$O$118","Planteavl","$O$118"]
[null,"Planteavl","$P$118","Planteavl","$P$118"]
[null,"Planteavl","$Q$118","Planteavl","$Q$118"]
[null,"Planteavl","$R$118","Planteavl","$R$118"]
[null,"Planteavl","$S$118","Planteavl","$S$118"]
[null,"Planteavl","$T$118","Planteavl","$T$118"]
[null,"Planteavl","$U$118","Planteavl","$U$118"]
[null,"Planteavl","$V$118","Planteavl","$V$118"]
[null,"Planteavl","$W$118","Planteavl","$W$118"]
[null,"Planteavl","$X$118","Planteavl","$X$118"]
[null,"Planteavl","$Y$118","Planteavl","$Y$118"]
[null,"Planteavl","$N$119","Planteavl","$N$119"]
[null,"Planteavl","$O$119","Planteavl","$O$119"]
[null,"Planteavl","$P$119","Planteavl","$P$119"]
[null,"Planteavl","$Q$119","Planteavl","$Q$119"]
[null,"Planteavl","$R$119","Planteavl","$R$119"]
[null,"Planteavl","$S$119","Planteavl","$S$119"]
[null,"Planteavl","$T$119","Planteavl","$T$119"]
[null,"Planteavl","$U$119","Planteavl","$U$119"]
[null,"Planteavl","$V$119","Planteavl","$V$119"]
[null,"Planteavl","$W$119","Planteavl","$W$119"]
[null,"Planteavl","$X$119","Planteavl","$X$119"]
[null,"Planteavl","$Y$119","Planteavl","$Y$119"]
[null,"Planteavl","$N$120","Planteavl","$N$120"]
[null,"Planteavl","$O$120","Planteavl","$O$120"]
[null,"Planteavl","$P$120","Planteavl","$P$120"]
[null,"Planteavl","$Q$120","Planteavl","$Q$120"]
[null,"Planteavl","$R$120","Planteavl","$R$120"]
[null,"Planteavl","$S$120","Planteavl","$S$120"]
[null,"Planteavl","$T$120","Planteavl","$T$120"]
[null,"Planteavl","$U$120","Planteavl","$U$120"]
[null,"Planteavl","$V$120","Planteavl","$V$120"]
[null,"Planteavl","$W$120","Planteavl","$W$120"]
[null,"Planteavl","$X$120","Planteavl","$X$120"]
[null,"Planteavl","$Y$120","Planteavl","$Y$120"]
[null,"Planteavl","$N$122","Planteavl","$N$122"]
[null,"Planteavl","$O$122","Planteavl","$O$122"]
[null,"Planteavl","$P$122","Planteavl","$P$122"]
[null,"Planteavl","$Q$122","Planteavl","$Q$122"]
[null,"Planteavl","$R$122","Planteavl","$R$122"]
[null,"Planteavl","$S$122","Planteavl","$S$122"]
[null,"Planteavl","$T$122","Planteavl","$T$122"]
[null,"Planteavl","$U$122","Planteavl","$U$122"]
[null,"Planteavl","$V$122","Planteavl","$V$122"]
[null,"Planteavl","$W$122","Planteavl","$W$122"]
[null,"Planteavl","$X$122","Planteavl","$X$122"]
[null,"Planteavl","$Y$122","Planteavl","$Y$122"]
[null,"Planteavl","$N$123","Planteavl","$N$123"]
[null,"Planteavl","$O$123","Planteavl","$O$123"]
[null,"Planteavl","$P$123","Planteavl","$P$123"]
[null,"Planteavl","$Q$123","Planteavl","$Q$123"]
[null,"Planteavl","$R$123","Planteavl","$R$123"]
[null,"Planteavl","$S$123","Planteavl","$S$123"]
[null,"Planteavl","$T$123","Planteavl","$T$123"]
[null,"Planteavl","$U$123","Planteavl","$U$123"]
[null,"Planteavl","$V$123","Planteavl","$V$123"]
[null,"Planteavl","$W$123","Planteavl","$W$123"]
[null,"Planteavl","$X$123","Planteavl","$X$123"]
[null,"Planteavl","$Y$123","Planteavl","$Y$123"]
[null,"Planteavl","$N$124","Planteavl","$N$124"]
[null,"Planteavl","$O$124","Planteavl","$O$124"]
[null,"Planteavl","$P$124","Planteavl","$P$124"]
[null,"Planteavl","$Q$124","Planteavl","$Q$124"]
[null,"Planteavl","$R$124","Planteavl","$R$124"]
[null,"Planteavl","$S$124","Planteavl","$S$124"]
[null,"Planteavl","$T$124","Planteavl","$T$124"]
[null,"Planteavl","$U$124","Planteavl","$U$124"]
[null,"Planteavl","$V$124","Planteavl","$V$124"]
[null,"Planteavl","$W$124","Planteavl","$W$124"]
[null,"Planteavl","$X$124","Planteavl","$X$124"]
[null,"Planteavl","$Y$124","Planteavl","$Y$124"]
[null,"Planteavl","$N$125","Planteavl","$N$125"]
[null,"Planteavl","$O$125","Planteavl","$O$125"]
[null,"Planteavl","$P$125","Planteavl","$P$125"]
[null,"Planteavl","$Q$125","Planteavl","$Q$125"]
[null,"Planteavl","$R$125","Planteavl","$R$125"]
[null,"Planteavl","$S$125","Planteavl","$S$125"]
[null,"Planteavl","$T$125","Planteavl","$T$125"]
[null,"Planteavl","$U$125","Planteavl","$U$125"]
[null,"Planteavl","$V$125","Planteavl","$V$125"]
[null,"Planteavl","$W$125","Planteavl","$W$125"]
[null,"Planteavl","$X$125","Planteavl","$X$125"]
[null,"Planteavl","$Y$125","Planteavl","$Y$125"]
[null,"Planteavl","$N$126","Planteavl","$N$126"]
[null,"Planteavl","$O$126","Planteavl","$O$126"]
[null,"Planteavl","$P$126","Planteavl","$P$126"]
[null,"Planteavl","$Q$126","Planteavl","$Q$126"]
[null,"Planteavl","$R$126","Planteavl","$R$126"]
[null,"Planteavl","$S$126","Planteavl","$S$126"]
[null,"Planteavl","$T$126","Planteavl","$T$126"]
[null,"Planteavl","$U$126","Planteavl","$U$126"]
[null,"Planteavl","$V$126","Planteavl","$V$126"]
[null,"Planteavl","$W$126","Planteavl","$W$126"]
[null,"Planteavl","$X$126","Planteavl","$X$126"]
[null,"Planteavl","$Y$126","Planteavl","$Y$126"]
[null,"Planteavl","$N$127","Planteavl","$N$127"]
[null,"Planteavl","$O$127","Planteavl","$O$127"]
[null,"Planteavl","$P$127","Planteavl","$P$127"]
[null,"Planteavl","$Q$127","Planteavl","$Q$127"]
[null,"Planteavl","$R$127","Planteavl","$R$127"]
[null,"Planteavl","$S$127","Planteavl","$S$127"]
[null,"Planteavl","$T$127","Planteavl","$T$127"]
[null,"Planteavl","$U$127","Planteavl","$U$127"]
[null,"Planteavl","$V$127","Planteavl","$V$127"]
[null,"Planteavl","$W$127","Planteavl","$W$127"]
[null,"Planteavl","$X$127","Planteavl","$X$127"]
[null,"Planteavl","$Y$127","Planteavl","$Y$127"]
[null,"Planteavl","$N$128","Planteavl","$N$128"]
[null,"Planteavl","$O$128","Planteavl","$O$128"]
[null,"Planteavl","$P$128","Planteavl","$P$128"]
[null,"Planteavl","$Q$128","Planteavl","$Q$128"]
[null,"Planteavl","$R$128","Planteavl","$R$128"]
[null,"Planteavl","$S$128","Planteavl","$S$128"]
[null,"Planteavl","$T$128","Planteavl","$T$128"]
[null,"Planteavl","$U$128","Planteavl","$U$128"]
[null,"Planteavl","$V$128","Planteavl","$V$128"]
[null,"Planteavl","$W$128","Planteavl","$W$128"]
[null,"Planteavl","$X$128","Planteavl","$X$128"]
[null,"Planteavl","$Y$128","Planteavl","$Y$128"]
[null,"Planteavl","$N$129","Planteavl","$N$129"]
[null,"Planteavl","$O$129","Planteavl","$O$129"]
[null,"Planteavl","$P$129","Planteavl","$P$129"]
[null,"Planteavl","$Q$129","Planteavl","$Q$129"]
[null,"Planteavl","$R$129","Planteavl","$R$129"]
[null,"Planteavl","$S$129","Planteavl","$S$129"]
[null,"Planteavl","$T$129","Planteavl","$T$129"]
[null,"Planteavl","$U$129","Planteavl","$U$129"]
[null,"Planteavl","$V$129","Planteavl","$V$129"]
[null,"Planteavl","$W$129","Planteavl","$W$129"]
[null,"Planteavl","$X$129","Planteavl","$X$129"]
[null,"Planteavl","$Y$129","Planteavl","$Y$129"]
[null,"Planteavl","$N$130","Planteavl","$N$130"]
[null,"Planteavl","$O$130","Planteavl","$O$130"]
[null,"Planteavl","$P$130","Planteavl","$P$130"]
[null,"Planteavl","$Q$130","Planteavl","$Q$130"]
[null,"Planteavl","$R$130","Planteavl","$R$130"]
[null,"Planteavl","$S$130","Planteavl","$S$130"]
[null,"Planteavl","$T$130","Planteavl","$T$130"]
[null,"Planteavl","$U$130","Planteavl","$U$130"]
[null,"Planteavl","$V$130","Planteavl","$V$130"]
[null,"Planteavl","$W$130","Planteavl","$W$130"]
[null,"Planteavl","$X$130","Planteavl","$X$130"]
[null,"Planteavl","$Y$130","Planteavl","$Y$130"]
[null,"Planteavl","$N$131","Planteavl","$N$131"]
[null,"Planteavl","$O$131","Planteavl","$O$131"]
[null,"Planteavl","$P$131","Planteavl","$P$131"]
[null,"Planteavl","$Q$131","Planteavl","$Q$131"]
[null,"Planteavl","$R$131","Planteavl","$R$131"]
[null,"Planteavl","$S$131","Planteavl","$S$131"]
[null,"Planteavl","$T$131","Planteavl","$T$131"]
[null,"Planteavl","$U$131","Planteavl","$U$131"]
[null,"Planteavl","$V$131","Planteavl","$V$131"]
[null,"Planteavl","$W$131","Planteavl","$W$131"]
[null,"Planteavl","$X$131","Planteavl","$X$131"]
[null,"Planteavl","$Y$131","Planteavl","$Y$131"]
[null,"Planteavl","$M$134","Planteavl","$M$134"]
[null,"Budget svin, hjælpeark","$S$18","Budget svin, hjælpeark","$S$18"]
[null,"Budget svin, hjælpeark","$V$18","Budget svin, hjælpeark","$V$18"]
[null,"Budget svin, hjælpeark","$Y$18","Budget svin, hjælpeark","$Y$18"]
[null,"Budget svin, hjælpeark","$S$19","Budget svin, hjælpeark","$S$19"]
[null,"Budget svin, hjælpeark","$V$19","Budget svin, hjælpeark","$V$19"]
[null,"Budget svin, hjælpeark","$Y$19","Budget svin, hjælpeark","$Y$19"]
[null,"Budget svin, hjælpeark","$U$22","Budget svin, hjælpeark","$U$22"]
[null,"Budget svin, hjælpeark","$X$22","Budget svin, hjælpeark","$X$22"]
[null,"Budget svin, hjælpeark","$AA$22","Budget svin, hjælpeark","$AA$22"]
[null,"Budget svin, hjælpeark","$U$26","Budget svin, hjælpeark","$U$26"]
[null,"Budget svin, hjælpeark","$X$26","Budget svin, hjælpeark","$X$26"]
[null,"Budget svin, hjælpeark","$AA$26","Budget svin, hjælpeark","$AA$26"]
[null,"Budget svin, hjælpeark","$S$27","Budget svin, hjælpeark","$S$27"]
[null,"Budget svin, hjælpeark","$V$27","Budget svin, hjælpeark","$V$27"]
[null,"Budget svin, hjælpeark","$Y$27","Budget svin, hjælpeark","$Y$27"]
[null,"Budget svin, hjælpeark","$U$29","Budget svin, hjælpeark","$U$29"]
[null,"Budget svin, hjælpeark","$X$29","Budget svin, hjælpeark","$X$29"]
[null,"Budget svin, hjælpeark","$AA$29","Budget svin, hjælpeark","$AA$29"]
[null,"Budget svin, hjælpeark","$U$31","Budget svin, hjælpeark","$U$31"]
[null,"Budget svin, hjælpeark","$X$31","Budget svin, hjælpeark","$X$31"]
[null,"Budget svin, hjælpeark","$AA$31","Budget svin, hjælpeark","$AA$31"]
[null,"Budget svin, hjælpeark","$S$33","Budget svin, hjælpeark","$S$33"]
[null,"Budget svin, hjælpeark","$V$33","Budget svin, hjælpeark","$V$33"]
[null,"Budget svin, hjælpeark","$Y$33","Budget svin, hjælpeark","$Y$33"]
[null,"Budget svin, hjælpeark","$U$34","Budget svin, hjælpeark","$U$34"]
[null,"Budget svin, hjælpeark","$X$34","Budget svin, hjælpeark","$X$34"]
[null,"Budget svin, hjælpeark","$AA$34","Budget svin, hjælpeark","$AA$34"]
[null,"Budget svin, hjælpeark","$U$35","Budget svin, hjælpeark","$U$35"]
[null,"Budget svin, hjælpeark","$X$35","Budget svin, hjælpeark","$X$35"]
[null,"Budget svin, hjælpeark","$AA$35","Budget svin, hjælpeark","$AA$35"]
[null,"Budget svin, hjælpeark","$U$40","Budget svin, hjælpeark","$U$40"]
[null,"Budget svin, hjælpeark","$X$40","Budget svin, hjælpeark","$X$40"]
[null,"Budget svin, hjælpeark","$AA$40","Budget svin, hjælpeark","$AA$40"]
[null,"Budget svin, hjælpeark","$U$43","Budget svin, hjælpeark","$U$43"]
[null,"Budget svin, hjælpeark","$X$43","Budget svin, hjælpeark","$X$43"]
[null,"Budget svin, hjælpeark","$AA$43","Budget svin, hjælpeark","$AA$43"]
[null,"Budget svin, hjælpeark","$S$44","Budget svin, hjælpeark","$S$44"]
[null,"Budget svin, hjælpeark","$V$44","Budget svin, hjælpeark","$V$44"]
[null,"Budget svin, hjælpeark","$Y$44","Budget svin, hjælpeark","$Y$44"]
[null,"Budget svin, hjælpeark","$U$52","Budget svin, hjælpeark","$U$52"]
[null,"Budget svin, hjælpeark","$X$52","Budget svin, hjælpeark","$X$52"]
[null,"Budget svin, hjælpeark","$AA$52","Budget svin, hjælpeark","$AA$52"]
[null,"Budget svin, hjælpeark","$U$53","Budget svin, hjælpeark","$U$53"]
[null,"Budget svin, hjælpeark","$X$53","Budget svin, hjælpeark","$X$53"]
[null,"Budget svin, hjælpeark","$AA$53","Budget svin, hjælpeark","$AA$53"]
[null,"Budget svin, hjælpeark","$U$54","Budget svin, hjælpeark","$U$54"]
[null,"Budget svin, hjælpeark","$X$54","Budget svin, hjælpeark","$X$54"]
[null,"Budget svin, hjælpeark","$AA$54","Budget svin, hjælpeark","$AA$54"]
[null,"Budget svin, hjælpeark","$S$57","Budget svin, hjælpeark","$S$57"]
[null,"Budget svin, hjælpeark","$V$57","Budget svin, hjælpeark","$V$57"]
[null,"Budget svin, hjælpeark","$Y$57","Budget svin, hjælpeark","$Y$57"]
[null,"Budget svin, hjælpeark","$U$60","Budget svin, hjælpeark","$U$60"]
[null,"Budget svin, hjælpeark","$X$60","Budget svin, hjælpeark","$X$60"]
[null,"Budget svin, hjælpeark","$AA$60","Budget svin, hjælpeark","$AA$60"]
[null,"Budget svin, hjælpeark","$U$61","Budget svin, hjælpeark","$U$61"]
[null,"Budget svin, hjælpeark","$X$61","Budget svin, hjælpeark","$X$61"]
[null,"Budget svin, hjælpeark","$AA$61","Budget svin, hjælpeark","$AA$61"]
[null,"Budget svin, hjælpeark","$U$62","Budget svin, hjælpeark","$U$62"]
[null,"Budget svin, hjælpeark","$X$62","Budget svin, hjælpeark","$X$62"]
[null,"Budget svin, hjælpeark","$AA$62","Budget svin, hjælpeark","$AA$62"]
[null,"Budget svin, hjælpeark","$U$63","Budget svin, hjælpeark","$U$63"]
[null,"Budget svin, hjælpeark","$X$63","Budget svin, hjælpeark","$X$63"]
[null,"Budget svin, hjælpeark","$AA$63","Budget svin, hjælpeark","$AA$63"]
[null,"Budget svin, hjælpeark","$U$66","Budget svin, hjælpeark","$U$66"]
[null,"Budget svin, hjælpeark","$X$66","Budget svin, hjælpeark","$X$66"]
[null,"Budget svin, hjælpeark","$AA$66","Budget svin, hjælpeark","$AA$66"]
[null,"Budget svin, hjælpeark","$U$67","Budget svin, hjælpeark","$U$67"]
[null,"Budget svin, hjælpeark","$X$67","Budget svin, hjælpeark","$X$67"]
[null,"Budget svin, hjælpeark","$AA$67","Budget svin, hjælpeark","$AA$67"]
[null,"Budget svin, hjælpeark","$S$68","Budget svin, hjælpeark","$S$68"]
[null,"Budget svin, hjælpeark","$V$68","Budget svin, hjælpeark","$V$68"]
[null,"Budget svin, hjælpeark","$Y$68","Budget svin, hjælpeark","$Y$68"]
[null,"Budget svin, hjælpeark","$U$72","Budget svin, hjælpeark","$U$72"]
[null,"Budget svin, hjælpeark","$X$72","Budget svin, hjælpeark","$X$72"]
[null,"Budget svin, hjælpeark","$AA$72","Budget svin, hjælpeark","$AA$72"]
[null,"Budget svin, hjælpeark","$U$73","Budget svin, hjælpeark","$U$73"]
[null,"Budget svin, hjælpeark","$X$73","Budget svin, hjælpeark","$X$73"]
[null,"Budget svin, hjælpeark","$AA$73","Budget svin, hjælpeark","$AA$73"]
[null,"Budget svin, hjælpeark","$S$74","Budget svin, hjælpeark","$S$74"]
[null,"Budget svin, hjælpeark","$V$74","Budget svin, hjælpeark","$V$74"]
[null,"Budget svin, hjælpeark","$Y$74","Budget svin, hjælpeark","$Y$74"]
[null,"Budget svin, hjælpeark","$S$87","Budget svin, hjælpeark","$S$87"]
[null,"Budget svin, hjælpeark","$V$87","Budget svin, hjælpeark","$V$87"]
[null,"Budget svin, hjælpeark","$Y$87","Budget svin, hjælpeark","$Y$87"]
[null,"Budget svin, hjælpeark","$S$90","Budget svin, hjælpeark","$S$90"]
[null,"Budget svin, hjælpeark","$V$90","Budget svin, hjælpeark","$V$90"]
[null,"Budget svin, hjælpeark","$Y$90","Budget svin, hjælpeark","$Y$90"]
[null,"Budget svin, hjælpeark","$P$94","Budget svin, hjælpeark","$P$94"]
[null,"Budget svin, hjælpeark","$S$94","Budget svin, hjælpeark","$S$94"]
[null,"Budget svin, hjælpeark","$V$94","Budget svin, hjælpeark","$V$94"]
[null,"Budget svin, hjælpeark","$Y$94","Budget svin, hjælpeark","$Y$94"]
[null,"Budget svin, hjælpeark","$P$95","Budget svin, hjælpeark","$P$95"]
[null,"Budget svin, hjælpeark","$S$95","Budget svin, hjælpeark","$S$95"]
[null,"Budget svin, hjælpeark","$V$95","Budget svin, hjælpeark","$V$95"]
[null,"Budget svin, hjælpeark","$Y$95","Budget svin, hjælpeark","$Y$95"]
[null,"Budget svin, hjælpeark","$P$97","Budget svin, hjælpeark","$P$97"]
[null,"Budget svin, hjælpeark","$S$97","Budget svin, hjælpeark","$S$97"]
[null,"Budget svin, hjælpeark","$V$97","Budget svin, hjælpeark","$V$97"]
[null,"Budget svin, hjælpeark","$Y$97","Budget svin, hjælpeark","$Y$97"]
[null,"Budget svin, hjælpeark","$P$98","Budget svin, hjælpeark","$P$98"]
[null,"Budget svin, hjælpeark","$S$98","Budget svin, hjælpeark","$S$98"]
[null,"Budget svin, hjælpeark","$V$98","Budget svin, hjælpeark","$V$98"]
[null,"Budget svin, hjælpeark","$Y$98","Budget svin, hjælpeark","$Y$98"]
[null,"Budget svin, hjælpeark","$S$100","Budget svin, hjælpeark","$S$100"]
[null,"Budget svin, hjælpeark","$V$100","Budget svin, hjælpeark","$V$100"]
[null,"Budget svin, hjælpeark","$Y$100","Budget svin, hjælpeark","$Y$100"]
[null,"Budget svin, hjælpeark","$P$101","Budget svin, hjælpeark","$P$101"]
[null,"Budget svin, hjælpeark","$S$101","Budget svin, hjælpeark","$S$101"]
[null,"Budget svin, hjælpeark","$V$101","Budget svin, hjælpeark","$V$101"]
[null,"Budget svin, hjælpeark","$Y$101","Budget svin, hjælpeark","$Y$101"]
[null,"Budget svin, hjælpeark","$P$102","Budget svin, hjælpeark","$P$102"]
[null,"Budget svin, hjælpeark","$S$102","Budget svin, hjælpeark","$S$102"]
[null,"Budget svin, hjælpeark","$V$102","Budget svin, hjælpeark","$V$102"]
[null,"Budget svin, hjælpeark","$Y$102","Budget svin, hjælpeark","$Y$102"]
[null,"Budget kvæg, hjælpeark","$U$18","Budget kvæg, hjælpeark","$U$18"]
[null,"Budget kvæg, hjælpeark","$X$18","Budget kvæg, hjælpeark","$X$18"]
[null,"Budget kvæg, hjælpeark","$AA$18","Budget kvæg, hjælpeark","$AA$18"]
[null,"Budget kvæg, hjælpeark","$U$19","Budget kvæg, hjælpeark","$U$19"]
[null,"Budget kvæg, hjælpeark","$X$19","Budget kvæg, hjælpeark","$X$19"]
[null,"Budget kvæg, hjælpeark","$AA$19","Budget kvæg, hjælpeark","$AA$19"]
[null,"Budget kvæg, hjælpeark","$U$20","Budget kvæg, hjælpeark","$U$20"]
[null,"Budget kvæg, hjælpeark","$X$20","Budget kvæg, hjælpeark","$X$20"]
[null,"Budget kvæg, hjælpeark","$AA$20","Budget kvæg, hjælpeark","$AA$20"]
[null,"Budget kvæg, hjælpeark","$U$22","Budget kvæg, hjælpeark","$U$22"]
[null,"Budget kvæg, hjælpeark","$X$22","Budget kvæg, hjælpeark","$X$22"]
[null,"Budget kvæg, hjælpeark","$AA$22","Budget kvæg, hjælpeark","$AA$22"]
[null,"Budget kvæg, hjælpeark","$P$30","Budget kvæg, hjælpeark","$P$30"]
[null,"Budget kvæg, hjælpeark","$R$30","Budget kvæg, hjælpeark","$R$30"]
[null,"Budget kvæg, hjælpeark","$P$31","Budget kvæg, hjælpeark","$P$31"]
[null,"Budget kvæg, hjælpeark","$R$31","Budget kvæg, hjælpeark","$R$31"]
[null,"Budget kvæg, hjælpeark","$R$32","Budget kvæg, hjælpeark","$R$32"]
[null,"Budget kvæg, hjælpeark","$U$33","Budget kvæg, hjælpeark","$U$33"]
[null,"Budget kvæg, hjælpeark","$X$33","Budget kvæg, hjælpeark","$X$33"]
[null,"Budget kvæg, hjælpeark","$AA$33","Budget kvæg, hjælpeark","$AA$33"]
[null,"Budget kvæg, hjælpeark","$U$38","Budget kvæg, hjælpeark","$U$38"]
[null,"Budget kvæg, hjælpeark","$X$38","Budget kvæg, hjælpeark","$X$38"]
[null,"Budget kvæg, hjælpeark","$AA$38","Budget kvæg, hjælpeark","$AA$38"]
[null,"Budget kvæg, hjælpeark","$U$39","Budget kvæg, hjælpeark","$U$39"]
[null,"Budget kvæg, hjælpeark","$X$39","Budget kvæg, hjælpeark","$X$39"]
[null,"Budget kvæg, hjælpeark","$AA$39","Budget kvæg, hjælpeark","$AA$39"]
[null,"Maskiner","$L$27","Maskiner","$L$27"]
[null,"Maskiner","$M$27","Maskiner","$M$27"]
[null,"Maskiner","$N$27","Maskiner","$N$27"]
[null,"Maskiner","$O$27","Maskiner","$O$27"]
[null,"Maskiner","$P$27","Maskiner","$P$27"]
[null,"Maskiner","$Q$27","Maskiner","$Q$27"]
[null,"Maskiner","$U$27","Maskiner","$U$27"]
[null,"Maskiner","$W$27","Maskiner","$W$27"]
[null,"Maskiner","$X$27","Maskiner","$X$27"]
[null,"Maskiner","$L$28","Maskiner","$L$28"]
[null,"Maskiner","$M$28","Maskiner","$M$28"]
[null,"Maskiner","$N$28","Maskiner","$N$28"]
[null,"Maskiner","$O$28","Maskiner","$O$28"]
[null,"Maskiner","$P$28","Maskiner","$P$28"]
[null,"Maskiner","$Q$28","Maskiner","$Q$28"]
[null,"Maskiner","$U$28","Maskiner","$U$28"]
[null,"Maskiner","$W$28","Maskiner","$W$28"]
[null,"Maskiner","$X$28","Maskiner","$X$28"]
[null,"Maskiner","$L$29","Maskiner","$L$29"]
[null,"Maskiner","$M$29","Maskiner","$M$29"]
[null,"Maskiner","$N$29","Maskiner","$N$29"]
[null,"Maskiner","$O$29","Maskiner","$O$29"]
[null,"Maskiner","$P$29","Maskiner","$P$29"]
[null,"Maskiner","$Q$29","Maskiner","$Q$29"]
[null,"Maskiner","$U$29","Maskiner","$U$29"]
[null,"Maskiner","$W$29","Maskiner","$W$29"]
[null,"Maskiner","$L$30","Maskiner","$L$30"]
[null,"Maskiner","$M$30","Maskiner","$M$30"]
[null,"Maskiner","$N$30","Maskiner","$N$30"]
[null,"Maskiner","$O$30","Maskiner","$O$30"]
[null,"Maskiner","$P$30","Maskiner","$P$30"]
[null,"Maskiner","$Q$30","Maskiner","$Q$30"]
[null,"Maskiner","$U$30","Maskiner","$U$30"]
[null,"Maskiner","$W$30","Maskiner","$W$30"]
[null,"Maskiner","$L$31","Maskiner","$L$31"]
[null,"Maskiner","$M$31","Maskiner","$M$31"]
[null,"Maskiner","$N$31","Maskiner","$N$31"]
[null,"Maskiner","$O$31","Maskiner","$O$31"]
[null,"Maskiner","$P$31","Maskiner","$P$31"]
[null,"Maskiner","$Q$31","Maskiner","$Q$31"]
[null,"Maskiner","$U$31","Maskiner","$U$31"]
[null,"Maskiner","$W$31","Maskiner","$W$31"]
[null,"Maskiner","$L$32","Maskiner","$L$32"]
[null,"Maskiner","$M$32","Maskiner","$M$32"]
[null,"Maskiner","$N$32","Maskiner","$N$32"]
[null,"Maskiner","$O$32","Maskiner","$O$32"]
[null,"Maskiner","$P$32","Maskiner","$P$32"]
[null,"Maskiner","$Q$32","Maskiner","$Q$32"]
[null,"Maskiner","$U$32","Maskiner","$U$32"]
[null,"Maskiner","$W$32","Maskiner","$W$32"]
[null,"Maskiner","$L$33","Maskiner","$L$33"]
[null,"Maskiner","$M$33","Maskiner","$M$33"]
[null,"Maskiner","$N$33","Maskiner","$N$33"]
[null,"Maskiner","$O$33","Maskiner","$O$33"]
[null,"Maskiner","$P$33","Maskiner","$P$33"]
[null,"Maskiner","$Q$33","Maskiner","$Q$33"]
[null,"Maskiner","$U$33","Maskiner","$U$33"]
[null,"Maskiner","$W$33","Maskiner","$W$33"]
[null,"Maskiner","$L$34","Maskiner","$L$34"]
[null,"Maskiner","$M$34","Maskiner","$M$34"]
[null,"Maskiner","$N$34","Maskiner","$N$34"]
[null,"Maskiner","$O$34","Maskiner","$O$34"]
[null,"Maskiner","$P$34","Maskiner","$P$34"]
[null,"Maskiner","$Q$34","Maskiner","$Q$34"]
[null,"Maskiner","$U$34","Maskiner","$U$34"]
[null,"Maskiner","$W$34","Maskiner","$W$34"]
[null,"Maskiner","$L$35","Maskiner","$L$35"]
[null,"Maskiner","$M$35","Maskiner","$M$35"]
[null,"Maskiner","$N$35","Maskiner","$N$35"]
[null,"Maskiner","$O$35","Maskiner","$O$35"]
[null,"Maskiner","$P$35","Maskiner","$P$35"]
[null,"Maskiner","$Q$35","Maskiner","$Q$35"]
[null,"Maskiner","$U$35","Maskiner","$U$35"]
[null,"Maskiner","$W$35","Maskiner","$W$35"]
[null,"Maskiner","$L$36","Maskiner","$L$36"]
[null,"Maskiner","$M$36","Maskiner","$M$36"]
[null,"Maskiner","$N$36","Maskiner","$N$36"]
[null,"Maskiner","$O$36","Maskiner","$O$36"]
[null,"Maskiner","$P$36","Maskiner","$P$36"]
[null,"Maskiner","$Q$36","Maskiner","$Q$36"]
[null,"Maskiner","$U$36","Maskiner","$U$36"]
[null,"Maskiner","$W$36","Maskiner","$W$36"]
[null,"Maskiner","$L$37","Maskiner","$L$37"]
[null,"Maskiner","$M$37","Maskiner","$M$37"]
[null,"Maskiner","$N$37","Maskiner","$N$37"]
[null,"Maskiner","$O$37","Maskiner","$O$37"]
[null,"Maskiner","$P$37","Maskiner","$P$37"]
[null,"Maskiner","$Q$37","Maskiner","$Q$37"]
[null,"Maskiner","$U$37","Maskiner","$U$37"]
[null,"Maskiner","$W$37","Maskiner","$W$37"]
[null,"Maskiner","$L$38","Maskiner","$L$38"]
[null,"Maskiner","$M$38","Maskiner","$M$38"]
[null,"Maskiner","$N$38","Maskiner","$N$38"]
[null,"Maskiner","$O$38","Maskiner","$O$38"]
[null,"Maskiner","$P$38","Maskiner","$P$38"]
[null,"Maskiner","$Q$38","Maskiner","$Q$38"]
[null,"Maskiner","$U$38","Maskiner","$U$38"]
[null,"Maskiner","$W$38","Maskiner","$W$38"]
[null,"Maskiner","$L$39","Maskiner","$L$39"]
[null,"Maskiner","$M$39","Maskiner","$M$39"]
[null,"Maskiner","$N$39","Maskiner","$N$39"]
[null,"Maskiner","$O$39","Maskiner","$O$39"]
[null,"Maskiner","$P$39","Maskiner","$P$39"]
[null,"Maskiner","$Q$39","Maskiner","$Q$39"]
[null,"Maskiner","$U$39","Maskiner","$U$39"]
[null,"Maskiner","$W$39","Maskiner","$W$39"]
[null,"Maskiner","$L$40","Maskiner","$L$40"]
[null,"Maskiner","$M$40","Maskiner","$M$40"]
[null,"Maskiner","$N$40","Maskiner","$N$40"]
[null,"Maskiner","$O$40","Maskiner","$O$40"]
[null,"Maskiner","$P$40","Maskiner","$P$40"]
[null,"Maskiner","$Q$40","Maskiner","$Q$40"]
[null,"Maskiner","$U$40","Maskiner","$U$40"]
[null,"Maskiner","$W$40","Maskiner","$W$40"]
[null,"Maskiner","$L$41","Maskiner","$L$41"]
[null,"Maskiner","$M$41","Maskiner","$M$41"]
[null,"Maskiner","$N$41","Maskiner","$N$41"]
[null,"Maskiner","$O$41","Maskiner","$O$41"]
[null,"Maskiner","$P$41","Maskiner","$P$41"]
[null,"Maskiner","$Q$41","Maskiner","$Q$41"]
[null,"Maskiner","$U$41","Maskiner","$U$41"]
[null,"Maskiner","$W$41","Maskiner","$W$41"]
[null,"Maskiner","$L$42","Maskiner","$L$42"]
[null,"Maskiner","$M$42","Maskiner","$M$42"]
[null,"Maskiner","$N$42","Maskiner","$N$42"]
[null,"Maskiner","$O$42","Maskiner","$O$42"]
[null,"Maskiner","$P$42","Maskiner","$P$42"]
[null,"Maskiner","$Q$42","Maskiner","$Q$42"]
[null,"Maskiner","$U$42","Maskiner","$U$42"]
[null,"Maskiner","$W$42","Maskiner","$W$42"]
[null,"Maskiner","$L$43","Maskiner","$L$43"]
[null,"Maskiner","$M$43","Maskiner","$M$43"]
[null,"Maskiner","$N$43","Maskiner","$N$43"]
[null,"Maskiner","$O$43","Maskiner","$O$43"]
[null,"Maskiner","$P$43","Maskiner","$P$43"]
[null,"Maskiner","$Q$43","Maskiner","$Q$43"]
[null,"Maskiner","$U$43","Maskiner","$U$43"]
[null,"Maskiner","$W$43","Maskiner","$W$43"]
[null,"Maskiner","$L$44","Maskiner","$L$44"]
[null,"Maskiner","$M$44","Maskiner","$M$44"]
[null,"Maskiner","$N$44","Maskiner","$N$44"]
[null,"Maskiner","$O$44","Maskiner","$O$44"]
[null,"Maskiner","$P$44","Maskiner","$P$44"]
[null,"Maskiner","$Q$44","Maskiner","$Q$44"]
[null,"Maskiner","$U$44","Maskiner","$U$44"]
[null,"Maskiner","$W$44","Maskiner","$W$44"]
[null,"Maskiner","$L$45","Maskiner","$L$45"]
[null,"Maskiner","$M$45","Maskiner","$M$45"]
[null,"Maskiner","$N$45","Maskiner","$N$45"]
[null,"Maskiner","$O$45","Maskiner","$O$45"]
[null,"Maskiner","$P$45","Maskiner","$P$45"]
[null,"Maskiner","$Q$45","Maskiner","$Q$45"]
[null,"Maskiner","$U$45","Maskiner","$U$45"]
[null,"Maskiner","$W$45","Maskiner","$W$45"]
[null,"Maskiner","$L$46","Maskiner","$L$46"]
[null,"Maskiner","$M$46","Maskiner","$M$46"]
[null,"Maskiner","$N$46","Maskiner","$N$46"]
[null,"Maskiner","$O$46","Maskiner","$O$46"]
[null,"Maskiner","$P$46","Maskiner","$P$46"]
[null,"Maskiner","$Q$46","Maskiner","$Q$46"]
[null,"Maskiner","$U$46","Maskiner","$U$46"]
[null,"Maskiner","$W$46","Maskiner","$W$46"]
[null,"Maskiner","$L$47","Maskiner","$L$47"]
[null,"Maskiner","$M$47","Maskiner","$M$47"]
[null,"Maskiner","$N$47","Maskiner","$N$47"]
[null,"Maskiner","$O$47","Maskiner","$O$47"]
[null,"Maskiner","$P$47","Maskiner","$P$47"]
[null,"Maskiner","$Q$47","Maskiner","$Q$47"]
[null,"Maskiner","$U$47","Maskiner","$U$47"]
[null,"Maskiner","$W$47","Maskiner","$W$47"]
[null,"Maskiner","$L$48","Maskiner","$L$48"]
[null,"Maskiner","$M$48","Maskiner","$M$48"]
[null,"Maskiner","$N$48","Maskiner","$N$48"]
[null,"Maskiner","$O$48","Maskiner","$O$48"]
[null,"Maskiner","$P$48","Maskiner","$P$48"]
[null,"Maskiner","$Q$48","Maskiner","$Q$48"]
[null,"Maskiner","$U$48","Maskiner","$U$48"]
[null,"Maskiner","$W$48","Maskiner","$W$48"]
[null,"Maskiner","$L$49","Maskiner","$L$49"]
[null,"Maskiner","$M$49","Maskiner","$M$49"]
[null,"Maskiner","$N$49","Maskiner","$N$49"]
[null,"Maskiner","$O$49","Maskiner","$O$49"]
[null,"Maskiner","$P$49","Maskiner","$P$49"]
[null,"Maskiner","$Q$49","Maskiner","$Q$49"]
[null,"Maskiner","$U$49","Maskiner","$U$49"]
[null,"Maskiner","$W$49","Maskiner","$W$49"]
[null,"Maskiner","$L$50","Maskiner","$L$50"]
[null,"Maskiner","$M$50","Maskiner","$M$50"]
[null,"Maskiner","$N$50","Maskiner","$N$50"]
[null,"Maskiner","$O$50","Maskiner","$O$50"]
[null,"Maskiner","$P$50","Maskiner","$P$50"]
[null,"Maskiner","$Q$50","Maskiner","$Q$50"]
[null,"Maskiner","$U$50","Maskiner","$U$50"]
[null,"Maskiner","$W$50","Maskiner","$W$50"]
[null,"Maskiner","$L$51","Maskiner","$L$51"]
[null,"Maskiner","$M$51","Maskiner","$M$51"]
[null,"Maskiner","$N$51","Maskiner","$N$51"]
[null,"Maskiner","$O$51","Maskiner","$O$51"]
[null,"Maskiner","$P$51","Maskiner","$P$51"]
[null,"Maskiner","$Q$51","Maskiner","$Q$51"]
[null,"Maskiner","$U$51","Maskiner","$U$51"]
[null,"Maskiner","$W$51","Maskiner","$W$51"]
[null,"Maskiner","$L$52","Maskiner","$L$52"]
[null,"Maskiner","$M$52","Maskiner","$M$52"]
[null,"Maskiner","$N$52","Maskiner","$N$52"]
[null,"Maskiner","$O$52","Maskiner","$O$52"]
[null,"Maskiner","$P$52","Maskiner","$P$52"]
[null,"Maskiner","$Q$52","Maskiner","$Q$52"]
[null,"Maskiner","$U$52","Maskiner","$U$52"]
[null,"Maskiner","$W$52","Maskiner","$W$52"]
[null,"Maskiner","$L$53","Maskiner","$L$53"]
[null,"Maskiner","$M$53","Maskiner","$M$53"]
[null,"Maskiner","$N$53","Maskiner","$N$53"]
[null,"Maskiner","$O$53","Maskiner","$O$53"]
[null,"Maskiner","$P$53","Maskiner","$P$53"]
[null,"Maskiner","$Q$53","Maskiner","$Q$53"]
[null,"Maskiner","$U$53","Maskiner","$U$53"]
[null,"Maskiner","$W$53","Maskiner","$W$53"]
[null,"Maskiner","$L$54","Maskiner","$L$54"]
[null,"Maskiner","$M$54","Maskiner","$M$54"]
[null,"Maskiner","$N$54","Maskiner","$N$54"]
[null,"Maskiner","$O$54","Maskiner","$O$54"]
[null,"Maskiner","$P$54","Maskiner","$P$54"]
[null,"Maskiner","$Q$54","Maskiner","$Q$54"]
[null,"Maskiner","$U$54","Maskiner","$U$54"]
[null,"Maskiner","$W$54","Maskiner","$W$54"]
[null,"Maskiner","$L$55","Maskiner","$L$55"]
[null,"Maskiner","$M$55","Maskiner","$M$55"]
[null,"Maskiner","$N$55","Maskiner","$N$55"]
[null,"Maskiner","$O$55","Maskiner","$O$55"]
[null,"Maskiner","$P$55","Maskiner","$P$55"]
[null,"Maskiner","$Q$55","Maskiner","$Q$55"]
[null,"Maskiner","$U$55","Maskiner","$U$55"]
[null,"Maskiner","$W$55","Maskiner","$W$55"]
[null,"Maskiner","$L$56","Maskiner","$L$56"]
[null,"Maskiner","$M$56","Maskiner","$M$56"]
[null,"Maskiner","$N$56","Maskiner","$N$56"]
[null,"Maskiner","$O$56","Maskiner","$O$56"]
[null,"Maskiner","$P$56","Maskiner","$P$56"]
[null,"Maskiner","$Q$56","Maskiner","$Q$56"]
[null,"Maskiner","$U$56","Maskiner","$U$56"]
[null,"Maskiner","$W$56","Maskiner","$W$56"]
[null,"Maskiner","$L$57","Maskiner","$L$57"]
[null,"Maskiner","$M$57","Maskiner","$M$57"]
[null,"Maskiner","$N$57","Maskiner","$N$57"]
[null,"Maskiner","$O$57","Maskiner","$O$57"]
[null,"Maskiner","$P$57","Maskiner","$P$57"]
[null,"Maskiner","$Q$57","Maskiner","$Q$57"]
[null,"Maskiner","$U$57","Maskiner","$U$57"]
[null,"Maskiner","$W$57","Maskiner","$W$57"]
[null,"Maskiner","$L$58","Maskiner","$L$58"]
[null,"Maskiner","$M$58","Maskiner","$M$58"]
[null,"Maskiner","$N$58","Maskiner","$N$58"]
[null,"Maskiner","$O$58","Maskiner","$O$58"]
[null,"Maskiner","$P$58","Maskiner","$P$58"]
[null,"Maskiner","$Q$58","Maskiner","$Q$58"]
[null,"Maskiner","$U$58","Maskiner","$U$58"]
[null,"Maskiner","$W$58","Maskiner","$W$58"]
[null,"Maskiner","$L$59","Maskiner","$L$59"]
[null,"Maskiner","$M$59","Maskiner","$M$59"]
[null,"Maskiner","$N$59","Maskiner","$N$59"]
[null,"Maskiner","$O$59","Maskiner","$O$59"]
[null,"Maskiner","$P$59","Maskiner","$P$59"]
[null,"Maskiner","$Q$59","Maskiner","$Q$59"]
[null,"Maskiner","$U$59","Maskiner","$U$59"]
[null,"Maskiner","$W$59","Maskiner","$W$59"]
[null,"Maskiner","$L$60","Maskiner","$L$60"]
[null,"Maskiner","$M$60","Maskiner","$M$60"]
[null,"Maskiner","$N$60","Maskiner","$N$60"]
[null,"Maskiner","$O$60","Maskiner","$O$60"]
[null,"Maskiner","$P$60","Maskiner","$P$60"]
[null,"Maskiner","$Q$60","Maskiner","$Q$60"]
[null,"Maskiner","$U$60","Maskiner","$U$60"]
[null,"Maskiner","$W$60","Maskiner","$W$60"]
[null,"Maskiner","$L$61","Maskiner","$L$61"]
[null,"Maskiner","$M$61","Maskiner","$M$61"]
[null,"Maskiner","$N$61","Maskiner","$N$61"]
[null,"Maskiner","$O$61","Maskiner","$O$61"]
[null,"Maskiner","$P$61","Maskiner","$P$61"]
[null,"Maskiner","$Q$61","Maskiner","$Q$61"]
[null,"Maskiner","$U$61","Maskiner","$U$61"]
[null,"Maskiner","$W$61","Maskiner","$W$61"]
[null,"Maskiner","$L$62","Maskiner","$L$62"]
[null,"Maskiner","$M$62","Maskiner","$M$62"]
[null,"Maskiner","$N$62","Maskiner","$N$62"]
[null,"Maskiner","$O$62","Maskiner","$O$62"]
[null,"Maskiner","$P$62","Maskiner","$P$62"]
[null,"Maskiner","$Q$62","Maskiner","$Q$62"]
[null,"Maskiner","$U$62","Maskiner","$U$62"]
[null,"Maskiner","$W$62","Maskiner","$W$62"]
[null,"Maskiner","$L$63","Maskiner","$L$63"]
[null,"Maskiner","$M$63","Maskiner","$M$63"]
[null,"Maskiner","$N$63","Maskiner","$N$63"]
[null,"Maskiner","$O$63","Maskiner","$O$63"]
[null,"Maskiner","$P$63","Maskiner","$P$63"]
[null,"Maskiner","$Q$63","Maskiner","$Q$63"]
[null,"Maskiner","$U$63","Maskiner","$U$63"]
[null,"Maskiner","$W$63","Maskiner","$W$63"]
[null,"Maskiner","$L$64","Maskiner","$L$64"]
[null,"Maskiner","$M$64","Maskiner","$M$64"]
[null,"Maskiner","$N$64","Maskiner","$N$64"]
[null,"Maskiner","$O$64","Maskiner","$O$64"]
[null,"Maskiner","$P$64","Maskiner","$P$64"]
[null,"Maskiner","$Q$64","Maskiner","$Q$64"]
[null,"Maskiner","$U$64","Maskiner","$U$64"]
[null,"Maskiner","$W$64","Maskiner","$W$64"]
[null,"Maskiner","$L$65","Maskiner","$L$65"]
[null,"Maskiner","$M$65","Maskiner","$M$65"]
[null,"Maskiner","$N$65","Maskiner","$N$65"]
[null,"Maskiner","$O$65","Maskiner","$O$65"]
[null,"Maskiner","$P$65","Maskiner","$P$65"]
[null,"Maskiner","$Q$65","Maskiner","$Q$65"]
[null,"Maskiner","$U$65","Maskiner","$U$65"]
[null,"Maskiner","$W$65","Maskiner","$W$65"]
[null,"Maskiner","$L$66","Maskiner","$L$66"]
[null,"Maskiner","$M$66","Maskiner","$M$66"]
[null,"Maskiner","$N$66","Maskiner","$N$66"]
[null,"Maskiner","$O$66","Maskiner","$O$66"]
[null,"Maskiner","$P$66","Maskiner","$P$66"]
[null,"Maskiner","$Q$66","Maskiner","$Q$66"]
[null,"Maskiner","$U$66","Maskiner","$U$66"]
[null,"Maskiner","$W$66","Maskiner","$W$66"]
[null,"Maskiner","$L$67","Maskiner","$L$67"]
[null,"Maskiner","$M$67","Maskiner","$M$67"]
[null,"Maskiner","$N$67","Maskiner","$N$67"]
[null,"Maskiner","$O$67","Maskiner","$O$67"]
[null,"Maskiner","$P$67","Maskiner","$P$67"]
[null,"Maskiner","$Q$67","Maskiner","$Q$67"]
[null,"Maskiner","$U$67","Maskiner","$U$67"]
[null,"Maskiner","$W$67","Maskiner","$W$67"]
[null,"Maskiner","$L$68","Maskiner","$L$68"]
[null,"Maskiner","$M$68","Maskiner","$M$68"]
[null,"Maskiner","$N$68","Maskiner","$N$68"]
[null,"Maskiner","$O$68","Maskiner","$O$68"]
[null,"Maskiner","$P$68","Maskiner","$P$68"]
[null,"Maskiner","$Q$68","Maskiner","$Q$68"]
[null,"Maskiner","$U$68","Maskiner","$U$68"]
[null,"Maskiner","$W$68","Maskiner","$W$68"]
[null,"Maskiner","$L$69","Maskiner","$L$69"]
[null,"Maskiner","$M$69","Maskiner","$M$69"]
[null,"Maskiner","$N$69","Maskiner","$N$69"]
[null,"Maskiner","$O$69","Maskiner","$O$69"]
[null,"Maskiner","$P$69","Maskiner","$P$69"]
[null,"Maskiner","$Q$69","Maskiner","$Q$69"]
[null,"Maskiner","$U$69","Maskiner","$U$69"]
[null,"Maskiner","$W$69","Maskiner","$W$69"]
[null,"Maskiner","$L$70","Maskiner","$L$70"]
[null,"Maskiner","$M$70","Maskiner","$M$70"]
[null,"Maskiner","$N$70","Maskiner","$N$70"]
[null,"Maskiner","$O$70","Maskiner","$O$70"]
[null,"Maskiner","$P$70","Maskiner","$P$70"]
[null,"Maskiner","$Q$70","Maskiner","$Q$70"]
[null,"Maskiner","$U$70","Maskiner","$U$70"]
[null,"Maskiner","$W$70","Maskiner","$W$70"]
[null,"Maskiner","$L$71","Maskiner","$L$71"]
[null,"Maskiner","$M$71","Maskiner","$M$71"]
[null,"Maskiner","$N$71","Maskiner","$N$71"]
[null,"Maskiner","$O$71","Maskiner","$O$71"]
[null,"Maskiner","$P$71","Maskiner","$P$71"]
[null,"Maskiner","$Q$71","Maskiner","$Q$71"]
[null,"Maskiner","$U$71","Maskiner","$U$71"]
[null,"Maskiner","$W$71","Maskiner","$W$71"]
[null,"Maskiner","$L$72","Maskiner","$L$72"]
[null,"Maskiner","$M$72","Maskiner","$M$72"]
[null,"Maskiner","$N$72","Maskiner","$N$72"]
[null,"Maskiner","$O$72","Maskiner","$O$72"]
[null,"Maskiner","$P$72","Maskiner","$P$72"]
[null,"Maskiner","$Q$72","Maskiner","$Q$72"]
[null,"Maskiner","$U$72","Maskiner","$U$72"]
[null,"Maskiner","$W$72","Maskiner","$W$72"]
[null,"Maskiner","$L$73","Maskiner","$L$73"]
[null,"Maskiner","$M$73","Maskiner","$M$73"]
[null,"Maskiner","$N$73","Maskiner","$N$73"]
[null,"Maskiner","$O$73","Maskiner","$O$73"]
[null,"Maskiner","$P$73","Maskiner","$P$73"]
[null,"Maskiner","$Q$73","Maskiner","$Q$73"]
[null,"Maskiner","$U$73","Maskiner","$U$73"]
[null,"Maskiner","$W$73","Maskiner","$W$73"]
[null,"Maskiner","$L$74","Maskiner","$L$74"]
[null,"Maskiner","$M$74","Maskiner","$M$74"]
[null,"Maskiner","$N$74","Maskiner","$N$74"]
[null,"Maskiner","$O$74","Maskiner","$O$74"]
[null,"Maskiner","$P$74","Maskiner","$P$74"]
[null,"Maskiner","$Q$74","Maskiner","$Q$74"]
[null,"Maskiner","$U$74","Maskiner","$U$74"]
[null,"Maskiner","$W$74","Maskiner","$W$74"]
[null,"Maskiner","$L$75","Maskiner","$L$75"]
[null,"Maskiner","$M$75","Maskiner","$M$75"]
[null,"Maskiner","$N$75","Maskiner","$N$75"]
[null,"Maskiner","$O$75","Maskiner","$O$75"]
[null,"Maskiner","$P$75","Maskiner","$P$75"]
[null,"Maskiner","$Q$75","Maskiner","$Q$75"]
[null,"Maskiner","$U$75","Maskiner","$U$75"]
[null,"Maskiner","$W$75","Maskiner","$W$75"]
[null,"Maskiner","$L$76","Maskiner","$L$76"]
[null,"Maskiner","$M$76","Maskiner","$M$76"]
[null,"Maskiner","$N$76","Maskiner","$N$76"]
[null,"Maskiner","$O$76","Maskiner","$O$76"]
[null,"Maskiner","$P$76","Maskiner","$P$76"]
[null,"Maskiner","$Q$76","Maskiner","$Q$76"]
[null,"Maskiner","$U$76","Maskiner","$U$76"]
[null,"Maskiner","$W$76","Maskiner","$W$76"]
[null,"Maskiner","$T$77","Maskiner","$T$77"]
[null,"Maskiner","$L$86","Maskiner","$L$86"]
[null,"Maskiner","$M$86","Maskiner","$M$86"]
[null,"Maskiner","$N$86","Maskiner","$N$86"]
[null,"Maskiner","$O$86","Maskiner","$O$86"]
[null,"Maskiner","$P$86","Maskiner","$P$86"]
[null,"Maskiner","$W$86","Maskiner","$W$86"]
[null,"Maskiner","$Z$86","Maskiner","$Z$86"]
[null,"Maskiner","$AA$86","Maskiner","$AA$86"]
[null,"Maskiner","$AB$86","Maskiner","$AB$86"]
[null,"Maskiner","$AC$86","Maskiner","$AC$86"]
[null,"Maskiner","$AD$86","Maskiner","$AD$86"]
[null,"Maskiner","$AE$86","Maskiner","$AE$86"]
[null,"Maskiner","$AF$86","Maskiner","$AF$86"]
[null,"Maskiner","$AG$86","Maskiner","$AG$86"]
[null,"Maskiner","$AH$86","Maskiner","$AH$86"]
[null,"Maskiner","$AI$86","Maskiner","$AI$86"]
[null,"Maskiner","$AJ$86","Maskiner","$AJ$86"]
[null,"Maskiner","$AK$86","Maskiner","$AK$86"]
[null,"Maskiner","$AP$86","Maskiner","$AP$86"]
[null,"Maskiner","$L$87","Maskiner","$L$87"]
[null,"Maskiner","$M$87","Maskiner","$M$87"]
[null,"Maskiner","$N$87","Maskiner","$N$87"]
[null,"Maskiner","$O$87","Maskiner","$O$87"]
[null,"Maskiner","$P$87","Maskiner","$P$87"]
[null,"Maskiner","$W$87","Maskiner","$W$87"]
[null,"Maskiner","$Z$87","Maskiner","$Z$87"]
[null,"Maskiner","$AA$87","Maskiner","$AA$87"]
[null,"Maskiner","$AB$87","Maskiner","$AB$87"]
[null,"Maskiner","$AC$87","Maskiner","$AC$87"]
[null,"Maskiner","$AD$87","Maskiner","$AD$87"]
[null,"Maskiner","$AE$87","Maskiner","$AE$87"]
[null,"Maskiner","$AF$87","Maskiner","$AF$87"]
[null,"Maskiner","$AG$87","Maskiner","$AG$87"]
[null,"Maskiner","$AH$87","Maskiner","$AH$87"]
[null,"Maskiner","$AI$87","Maskiner","$AI$87"]
[null,"Maskiner","$AJ$87","Maskiner","$AJ$87"]
[null,"Maskiner","$AK$87","Maskiner","$AK$87"]
[null,"Maskiner","$AP$87","Maskiner","$AP$87"]
[null,"Maskiner","$L$88","Maskiner","$L$88"]
[null,"Maskiner","$M$88","Maskiner","$M$88"]
[null,"Maskiner","$N$88","Maskiner","$N$88"]
[null,"Maskiner","$O$88","Maskiner","$O$88"]
[null,"Maskiner","$P$88","Maskiner","$P$88"]
[null,"Maskiner","$W$88","Maskiner","$W$88"]
[null,"Maskiner","$Z$88","Maskiner","$Z$88"]
[null,"Maskiner","$AA$88","Maskiner","$AA$88"]
[null,"Maskiner","$AB$88","Maskiner","$AB$88"]
[null,"Maskiner","$AC$88","Maskiner","$AC$88"]
[null,"Maskiner","$AD$88","Maskiner","$AD$88"]
[null,"Maskiner","$AE$88","Maskiner","$AE$88"]
[null,"Maskiner","$AF$88","Maskiner","$AF$88"]
[null,"Maskiner","$AG$88","Maskiner","$AG$88"]
[null,"Maskiner","$AH$88","Maskiner","$AH$88"]
[null,"Maskiner","$AI$88","Maskiner","$AI$88"]
[null,"Maskiner","$AJ$88","Maskiner","$AJ$88"]
[null,"Maskiner","$AK$88","Maskiner","$AK$88"]
[null,"Maskiner","$AP$88","Maskiner","$AP$88"]
[null,"Maskiner","$L$89","Maskiner","$L$89"]
[null,"Maskiner","$M$89","Maskiner","$M$89"]
[null,"Maskiner","$N$89","Maskiner","$N$89"]
[null,"Maskiner","$O$89","Maskiner","$O$89"]
[null,"Maskiner","$P$89","Maskiner","$P$89"]
[null,"Maskiner","$W$89","Maskiner","$W$89"]
[null,"Maskiner","$Z$89","Maskiner","$Z$89"]
[null,"Maskiner","$AA$89","Maskiner","$AA$89"]
[null,"Maskiner","$AB$89","Maskiner","$AB$89"]
[null,"Maskiner","$AC$89","Maskiner","$AC$89"]
[null,"Maskiner","$AD$89","Maskiner","$AD$89"]
[null,"Maskiner","$AE$89","Maskiner","$AE$89"]
[null,"Maskiner","$AF$89","Maskiner","$AF$89"]
[null,"Maskiner","$AG$89","Maskiner","$AG$89"]
[null,"Maskiner","$AH$89","Maskiner","$AH$89"]
[null,"Maskiner","$AI$89","Maskiner","$AI$89"]
[null,"Maskiner","$AJ$89","Maskiner","$AJ$89"]
[null,"Maskiner","$AK$89","Maskiner","$AK$89"]
[null,"Maskiner","$AP$89","Maskiner","$AP$89"]
[null,"Maskiner","$L$90","Maskiner","$L$90"]
[null,"Maskiner","$M$90","Maskiner","$M$90"]
[null,"Maskiner","$N$90","Maskiner","$N$90"]
[null,"Maskiner","$O$90","Maskiner","$O$90"]
[null,"Maskiner","$P$90","Maskiner","$P$90"]
[null,"Maskiner","$W$90","Maskiner","$W$90"]
[null,"Maskiner","$Z$90","Maskiner","$Z$90"]
[null,"Maskiner","$AA$90","Maskiner","$AA$90"]
[null,"Maskiner","$AB$90","Maskiner","$AB$90"]
[null,"Maskiner","$AC$90","Maskiner","$AC$90"]
[null,"Maskiner","$AD$90","Maskiner","$AD$90"]
[null,"Maskiner","$AE$90","Maskiner","$AE$90"]
[null,"Maskiner","$AF$90","Maskiner","$AF$90"]
[null,"Maskiner","$AG$90","Maskiner","$AG$90"]
[null,"Maskiner","$AH$90","Maskiner","$AH$90"]
[null,"Maskiner","$AI$90","Maskiner","$AI$90"]
[null,"Maskiner","$AJ$90","Maskiner","$AJ$90"]
[null,"Maskiner","$AK$90","Maskiner","$AK$90"]
[null,"Maskiner","$AP$90","Maskiner","$AP$90"]
[null,"Maskiner","$L$91","Maskiner","$L$91"]
[null,"Maskiner","$M$91","Maskiner","$M$91"]
[null,"Maskiner","$N$91","Maskiner","$N$91"]
[null,"Maskiner","$O$91","Maskiner","$O$91"]
[null,"Maskiner","$P$91","Maskiner","$P$91"]
[null,"Maskiner","$W$91","Maskiner","$W$91"]
[null,"Maskiner","$Z$91","Maskiner","$Z$91"]
[null,"Maskiner","$AA$91","Maskiner","$AA$91"]
[null,"Maskiner","$AB$91","Maskiner","$AB$91"]
[null,"Maskiner","$AC$91","Maskiner","$AC$91"]
[null,"Maskiner","$AD$91","Maskiner","$AD$91"]
[null,"Maskiner","$AE$91","Maskiner","$AE$91"]
[null,"Maskiner","$AF$91","Maskiner","$AF$91"]
[null,"Maskiner","$AG$91","Maskiner","$AG$91"]
[null,"Maskiner","$AH$91","Maskiner","$AH$91"]
[null,"Maskiner","$AI$91","Maskiner","$AI$91"]
[null,"Maskiner","$AJ$91","Maskiner","$AJ$91"]
[null,"Maskiner","$AK$91","Maskiner","$AK$91"]
[null,"Maskiner","$AP$91","Maskiner","$AP$91"]
[null,"Maskiner","$L$92","Maskiner","$L$92"]
[null,"Maskiner","$M$92","Maskiner","$M$92"]
[null,"Maskiner","$N$92","Maskiner","$N$92"]
[null,"Maskiner","$O$92","Maskiner","$O$92"]
[null,"Maskiner","$P$92","Maskiner","$P$92"]
[null,"Maskiner","$W$92","Maskiner","$W$92"]
[null,"Maskiner","$Z$92","Maskiner","$Z$92"]
[null,"Maskiner","$AA$92","Maskiner","$AA$92"]
[null,"Maskiner","$AB$92","Maskiner","$AB$92"]
[null,"Maskiner","$AC$92","Maskiner","$AC$92"]
[null,"Maskiner","$AD$92","Maskiner","$AD$92"]
[null,"Maskiner","$AE$92","Maskiner","$AE$92"]
[null,"Maskiner","$AF$92","Maskiner","$AF$92"]
[null,"Maskiner","$AG$92","Maskiner","$AG$92"]
[null,"Maskiner","$AH$92","Maskiner","$AH$92"]
[null,"Maskiner","$AI$92","Maskiner","$AI$92"]
[null,"Maskiner","$AJ$92","Maskiner","$AJ$92"]
[null,"Maskiner","$AK$92","Maskiner","$AK$92"]
[null,"Maskiner","$AP$92","Maskiner","$AP$92"]
[null,"Maskiner","$L$93","Maskiner","$L$93"]
[null,"Maskiner","$M$93","Maskiner","$M$93"]
[null,"Maskiner","$N$93","Maskiner","$N$93"]
[null,"Maskiner","$O$93","Maskiner","$O$93"]
[null,"Maskiner","$P$93","Maskiner","$P$93"]
[null,"Maskiner","$W$93","Maskiner","$W$93"]
[null,"Maskiner","$Z$93","Maskiner","$Z$93"]
[null,"Maskiner","$AA$93","Maskiner","$AA$93"]
[null,"Maskiner","$AB$93","Maskiner","$AB$93"]
[null,"Maskiner","$AC$93","Maskiner","$AC$93"]
[null,"Maskiner","$AD$93","Maskiner","$AD$93"]
[null,"Maskiner","$AE$93","Maskiner","$AE$93"]
[null,"Maskiner","$AF$93","Maskiner","$AF$93"]
[null,"Maskiner","$AG$93","Maskiner","$AG$93"]
[null,"Maskiner","$AH$93","Maskiner","$AH$93"]
[null,"Maskiner","$AI$93","Maskiner","$AI$93"]
[null,"Maskiner","$AJ$93","Maskiner","$AJ$93"]
[null,"Maskiner","$AK$93","Maskiner","$AK$93"]
[null,"Maskiner","$AP$93","Maskiner","$AP$93"]
[null,"Maskiner","$L$94","Maskiner","$L$94"]
[null,"Maskiner","$M$94","Maskiner","$M$94"]
[null,"Maskiner","$N$94","Maskiner","$N$94"]
[null,"Maskiner","$O$94","Maskiner","$O$94"]
[null,"Maskiner","$P$94","Maskiner","$P$94"]
[null,"Maskiner","$W$94","Maskiner","$W$94"]
[null,"Maskiner","$Z$94","Maskiner","$Z$94"]
[null,"Maskiner","$AA$94","Maskiner","$AA$94"]
[null,"Maskiner","$AB$94","Maskiner","$AB$94"]
[null,"Maskiner","$AC$94","Maskiner","$AC$94"]
[null,"Maskiner","$AD$94","Maskiner","$AD$94"]
[null,"Maskiner","$AE$94","Maskiner","$AE$94"]
[null,"Maskiner","$AF$94","Maskiner","$AF$94"]
[null,"Maskiner","$AG$94","Maskiner","$AG$94"]
[null,"Maskiner","$AH$94","Maskiner","$AH$94"]
[null,"Maskiner","$AI$94","Maskiner","$AI$94"]
[null,"Maskiner","$AJ$94","Maskiner","$AJ$94"]
[null,"Maskiner","$AK$94","Maskiner","$AK$94"]
[null,"Maskiner","$AP$94","Maskiner","$AP$94"]
[null,"Maskiner","$L$95","Maskiner","$L$95"]
[null,"Maskiner","$M$95","Maskiner","$M$95"]
[null,"Maskiner","$N$95","Maskiner","$N$95"]
[null,"Maskiner","$O$95","Maskiner","$O$95"]
[null,"Maskiner","$P$95","Maskiner","$P$95"]
[null,"Maskiner","$W$95","Maskiner","$W$95"]
[null,"Maskiner","$Z$95","Maskiner","$Z$95"]
[null,"Maskiner","$AA$95","Maskiner","$AA$95"]
[null,"Maskiner","$AB$95","Maskiner","$AB$95"]
[null,"Maskiner","$AC$95","Maskiner","$AC$95"]
[null,"Maskiner","$AD$95","Maskiner","$AD$95"]
[null,"Maskiner","$AE$95","Maskiner","$AE$95"]
[null,"Maskiner","$AF$95","Maskiner","$AF$95"]
[null,"Maskiner","$AG$95","Maskiner","$AG$95"]
[null,"Maskiner","$AH$95","Maskiner","$AH$95"]
[null,"Maskiner","$AI$95","Maskiner","$AI$95"]
[null,"Maskiner","$AJ$95","Maskiner","$AJ$95"]
[null,"Maskiner","$AK$95","Maskiner","$AK$95"]
[null,"Maskiner","$AP$95","Maskiner","$AP$95"]
[null,"Maskiner","$L$96","Maskiner","$L$96"]
[null,"Maskiner","$M$96","Maskiner","$M$96"]
[null,"Maskiner","$N$96","Maskiner","$N$96"]
[null,"Maskiner","$O$96","Maskiner","$O$96"]
[null,"Maskiner","$P$96","Maskiner","$P$96"]
[null,"Maskiner","$W$96","Maskiner","$W$96"]
[null,"Maskiner","$Z$96","Maskiner","$Z$96"]
[null,"Maskiner","$AA$96","Maskiner","$AA$96"]
[null,"Maskiner","$AB$96","Maskiner","$AB$96"]
[null,"Maskiner","$AC$96","Maskiner","$AC$96"]
[null,"Maskiner","$AD$96","Maskiner","$AD$96"]
[null,"Maskiner","$AE$96","Maskiner","$AE$96"]
[null,"Maskiner","$AF$96","Maskiner","$AF$96"]
[null,"Maskiner","$AG$96","Maskiner","$AG$96"]
[null,"Maskiner","$AH$96","Maskiner","$AH$96"]
[null,"Maskiner","$AI$96","Maskiner","$AI$96"]
[null,"Maskiner","$AJ$96","Maskiner","$AJ$96"]
[null,"Maskiner","$AK$96","Maskiner","$AK$96"]
[null,"Maskiner","$AP$96","Maskiner","$AP$96"]
[null,"Maskiner","$L$97","Maskiner","$L$97"]
[null,"Maskiner","$M$97","Maskiner","$M$97"]
[null,"Maskiner","$N$97","Maskiner","$N$97"]
[null,"Maskiner","$O$97","Maskiner","$O$97"]
[null,"Maskiner","$P$97","Maskiner","$P$97"]
[null,"Maskiner","$W$97","Maskiner","$W$97"]
[null,"Maskiner","$Z$97","Maskiner","$Z$97"]
[null,"Maskiner","$AA$97","Maskiner","$AA$97"]
[null,"Maskiner","$AB$97","Maskiner","$AB$97"]
[null,"Maskiner","$AC$97","Maskiner","$AC$97"]
[null,"Maskiner","$AD$97","Maskiner","$AD$97"]
[null,"Maskiner","$AE$97","Maskiner","$AE$97"]
[null,"Maskiner","$AF$97","Maskiner","$AF$97"]
[null,"Maskiner","$AG$97","Maskiner","$AG$97"]
[null,"Maskiner","$AH$97","Maskiner","$AH$97"]
[null,"Maskiner","$AI$97","Maskiner","$AI$97"]
[null,"Maskiner","$AJ$97","Maskiner","$AJ$97"]
[null,"Maskiner","$AK$97","Maskiner","$AK$97"]
[null,"Maskiner","$AP$97","Maskiner","$AP$97"]
[null,"Maskiner","$L$98","Maskiner","$L$98"]
[null,"Maskiner","$M$98","Maskiner","$M$98"]
[null,"Maskiner","$N$98","Maskiner","$N$98"]
[null,"Maskiner","$O$98","Maskiner","$O$98"]
[null,"Maskiner","$P$98","Maskiner","$P$98"]
[null,"Maskiner","$W$98","Maskiner","$W$98"]
[null,"Maskiner","$Z$98","Maskiner","$Z$98"]
[null,"Maskiner","$AA$98","Maskiner","$AA$98"]
[null,"Maskiner","$AB$98","Maskiner","$AB$98"]
[null,"Maskiner","$AC$98","Maskiner","$AC$98"]
[null,"Maskiner","$AD$98","Maskiner","$AD$98"]
[null,"Maskiner","$AE$98","Maskiner","$AE$98"]
[null,"Maskiner","$AF$98","Maskiner","$AF$98"]
[null,"Maskiner","$AG$98","Maskiner","$AG$98"]
[null,"Maskiner","$AH$98","Maskiner","$AH$98"]
[null,"Maskiner","$AI$98","Maskiner","$AI$98"]
[null,"Maskiner","$AJ$98","Maskiner","$AJ$98"]
[null,"Maskiner","$AK$98","Maskiner","$AK$98"]
[null,"Maskiner","$AP$98","Maskiner","$AP$98"]
[null,"Maskiner","$L$99","Maskiner","$L$99"]
[null,"Maskiner","$M$99","Maskiner","$M$99"]
[null,"Maskiner","$N$99","Maskiner","$N$99"]
[null,"Maskiner","$O$99","Maskiner","$O$99"]
[null,"Maskiner","$P$99","Maskiner","$P$99"]
[null,"Maskiner","$W$99","Maskiner","$W$99"]
[null,"Maskiner","$Z$99","Maskiner","$Z$99"]
[null,"Maskiner","$AA$99","Maskiner","$AA$99"]
[null,"Maskiner","$AB$99","Maskiner","$AB$99"]
[null,"Maskiner","$AC$99","Maskiner","$AC$99"]
[null,"Maskiner","$AD$99","Maskiner","$AD$99"]
[null,"Maskiner","$AE$99","Maskiner","$AE$99"]
[null,"Maskiner","$AF$99","Maskiner","$AF$99"]
[null,"Maskiner","$AG$99","Maskiner","$AG$99"]
[null,"Maskiner","$AH$99","Maskiner","$AH$99"]
[null,"Maskiner","$AI$99","Maskiner","$AI$99"]
[null,"Maskiner","$AJ$99","Maskiner","$AJ$99"]
[null,"Maskiner","$AK$99","Maskiner","$AK$99"]
[null,"Maskiner","$AP$99","Maskiner","$AP$99"]
[null,"Maskiner","$L$100","Maskiner","$L$100"]
[null,"Maskiner","$M$100","Maskiner","$M$100"]
[null,"Maskiner","$N$100","Maskiner","$N$100"]
[null,"Maskiner","$O$100","Maskiner","$O$100"]
[null,"Maskiner","$P$100","Maskiner","$P$100"]
[null,"Maskiner","$W$100","Maskiner","$W$100"]
[null,"Maskiner","$Z$100","Maskiner","$Z$100"]
[null,"Maskiner","$AA$100","Maskiner","$AA$100"]
[null,"Maskiner","$AB$100","Maskiner","$AB$100"]
[null,"Maskiner","$AC$100","Maskiner","$AC$100"]
[null,"Maskiner","$AD$100","Maskiner","$AD$100"]
[null,"Maskiner","$AE$100","Maskiner","$AE$100"]
[null,"Maskiner","$AF$100","Maskiner","$AF$100"]
[null,"Maskiner","$AG$100","Maskiner","$AG$100"]
[null,"Maskiner","$AH$100","Maskiner","$AH$100"]
[null,"Maskiner","$AI$100","Maskiner","$AI$100"]
[null,"Maskiner","$AJ$100","Maskiner","$AJ$100"]
[null,"Maskiner","$AK$100","Maskiner","$AK$100"]
[null,"Maskiner","$AP$100","Maskiner","$AP$100"]
[null,"Maskiner","$L$101","Maskiner","$L$101"]
[null,"Maskiner","$M$101","Maskiner","$M$101"]
[null,"Maskiner","$N$101","Maskiner","$N$101"]
[null,"Maskiner","$O$101","Maskiner","$O$101"]
[null,"Maskiner","$P$101","Maskiner","$P$101"]
[null,"Maskiner","$W$101","Maskiner","$W$101"]
[null,"Maskiner","$Z$101","Maskiner","$Z$101"]
[null,"Maskiner","$AA$101","Maskiner","$AA$101"]
[null,"Maskiner","$AB$101","Maskiner","$AB$101"]
[null,"Maskiner","$AC$101","Maskiner","$AC$101"]
[null,"Maskiner","$AD$101","Maskiner","$AD$101"]
[null,"Maskiner","$AE$101","Maskiner","$AE$101"]
[null,"Maskiner","$AF$101","Maskiner","$AF$101"]
[null,"Maskiner","$AG$101","Maskiner","$AG$101"]
[null,"Maskiner","$AH$101","Maskiner","$AH$101"]
[null,"Maskiner","$AI$101","Maskiner","$AI$101"]
[null,"Maskiner","$AJ$101","Maskiner","$AJ$101"]
[null,"Maskiner","$AK$101","Maskiner","$AK$101"]
[null,"Maskiner","$AP$101","Maskiner","$AP$101"]
[null,"Maskiner","$L$102","Maskiner","$L$102"]
[null,"Maskiner","$M$102","Maskiner","$M$102"]
[null,"Maskiner","$N$102","Maskiner","$N$102"]
[null,"Maskiner","$O$102","Maskiner","$O$102"]
[null,"Maskiner","$P$102","Maskiner","$P$102"]
[null,"Maskiner","$W$102","Maskiner","$W$102"]
[null,"Maskiner","$Z$102","Maskiner","$Z$102"]
[null,"Maskiner","$AA$102","Maskiner","$AA$102"]
[null,"Maskiner","$AB$102","Maskiner","$AB$102"]
[null,"Maskiner","$AC$102","Maskiner","$AC$102"]
[null,"Maskiner","$AD$102","Maskiner","$AD$102"]
[null,"Maskiner","$AE$102","Maskiner","$AE$102"]
[null,"Maskiner","$AF$102","Maskiner","$AF$102"]
[null,"Maskiner","$AG$102","Maskiner","$AG$102"]
[null,"Maskiner","$AH$102","Maskiner","$AH$102"]
[null,"Maskiner","$AI$102","Maskiner","$AI$102"]
[null,"Maskiner","$AJ$102","Maskiner","$AJ$102"]
[null,"Maskiner","$AK$102","Maskiner","$AK$102"]
[null,"Maskiner","$AP$102","Maskiner","$AP$102"]
[null,"Maskiner","$L$103","Maskiner","$L$103"]
[null,"Maskiner","$M$103","Maskiner","$M$103"]
[null,"Maskiner","$N$103","Maskiner","$N$103"]
[null,"Maskiner","$O$103","Maskiner","$O$103"]
[null,"Maskiner","$P$103","Maskiner","$P$103"]
[null,"Maskiner","$W$103","Maskiner","$W$103"]
[null,"Maskiner","$Z$103","Maskiner","$Z$103"]
[null,"Maskiner","$AA$103","Maskiner","$AA$103"]
[null,"Maskiner","$AB$103","Maskiner","$AB$103"]
[null,"Maskiner","$AC$103","Maskiner","$AC$103"]
[null,"Maskiner","$AD$103","Maskiner","$AD$103"]
[null,"Maskiner","$AE$103","Maskiner","$AE$103"]
[null,"Maskiner","$AF$103","Maskiner","$AF$103"]
[null,"Maskiner","$AG$103","Maskiner","$AG$103"]
[null,"Maskiner","$AH$103","Maskiner","$AH$103"]
[null,"Maskiner","$AI$103","Maskiner","$AI$103"]
[null,"Maskiner","$AJ$103","Maskiner","$AJ$103"]
[null,"Maskiner","$AK$103","Maskiner","$AK$103"]
[null,"Maskiner","$AP$103","Maskiner","$AP$103"]
[null,"Maskiner","$L$104","Maskiner","$L$104"]
[null,"Maskiner","$M$104","Maskiner","$M$104"]
[null,"Maskiner","$N$104","Maskiner","$N$104"]
[null,"Maskiner","$O$104","Maskiner","$O$104"]
[null,"Maskiner","$P$104","Maskiner","$P$104"]
[null,"Maskiner","$W$104","Maskiner","$W$104"]
[null,"Maskiner","$Z$104","Maskiner","$Z$104"]
[null,"Maskiner","$AA$104","Maskiner","$AA$104"]
[null,"Maskiner","$AB$104","Maskiner","$AB$104"]
[null,"Maskiner","$AC$104","Maskiner","$AC$104"]
[null,"Maskiner","$AD$104","Maskiner","$AD$104"]
[null,"Maskiner","$AE$104","Maskiner","$AE$104"]
[null,"Maskiner","$AF$104","Maskiner","$AF$104"]
[null,"Maskiner","$AG$104","Maskiner","$AG$104"]
[null,"Maskiner","$AH$104","Maskiner","$AH$104"]
[null,"Maskiner","$AI$104","Maskiner","$AI$104"]
[null,"Maskiner","$AJ$104","Maskiner","$AJ$104"]
[null,"Maskiner","$AK$104","Maskiner","$AK$104"]
[null,"Maskiner","$AP$104","Maskiner","$AP$104"]
[null,"Maskiner","$L$105","Maskiner","$L$105"]
[null,"Maskiner","$M$105","Maskiner","$M$105"]
[null,"Maskiner","$N$105","Maskiner","$N$105"]
[null,"Maskiner","$O$105","Maskiner","$O$105"]
[null,"Maskiner","$P$105","Maskiner","$P$105"]
[null,"Maskiner","$W$105","Maskiner","$W$105"]
[null,"Maskiner","$Z$105","Maskiner","$Z$105"]
[null,"Maskiner","$AA$105","Maskiner","$AA$105"]
[null,"Maskiner","$AB$105","Maskiner","$AB$105"]
[null,"Maskiner","$AC$105","Maskiner","$AC$105"]
[null,"Maskiner","$AD$105","Maskiner","$AD$105"]
[null,"Maskiner","$AE$105","Maskiner","$AE$105"]
[null,"Maskiner","$AF$105","Maskiner","$AF$105"]
[null,"Maskiner","$AG$105","Maskiner","$AG$105"]
[null,"Maskiner","$AH$105","Maskiner","$AH$105"]
[null,"Maskiner","$AI$105","Maskiner","$AI$105"]
[null,"Maskiner","$AJ$105","Maskiner","$AJ$105"]
[null,"Maskiner","$AK$105","Maskiner","$AK$105"]
[null,"Maskiner","$AP$105","Maskiner","$AP$105"]
[null,"Maskiner","$L$106","Maskiner","$L$106"]
[null,"Maskiner","$M$106","Maskiner","$M$106"]
[null,"Maskiner","$N$106","Maskiner","$N$106"]
[null,"Maskiner","$O$106","Maskiner","$O$106"]
[null,"Maskiner","$P$106","Maskiner","$P$106"]
[null,"Maskiner","$W$106","Maskiner","$W$106"]
[null,"Maskiner","$Z$106","Maskiner","$Z$106"]
[null,"Maskiner","$AA$106","Maskiner","$AA$106"]
[null,"Maskiner","$AB$106","Maskiner","$AB$106"]
[null,"Maskiner","$AC$106","Maskiner","$AC$106"]
[null,"Maskiner","$AD$106","Maskiner","$AD$106"]
[null,"Maskiner","$AE$106","Maskiner","$AE$106"]
[null,"Maskiner","$AF$106","Maskiner","$AF$106"]
[null,"Maskiner","$AG$106","Maskiner","$AG$106"]
[null,"Maskiner","$AH$106","Maskiner","$AH$106"]
[null,"Maskiner","$AI$106","Maskiner","$AI$106"]
[null,"Maskiner","$AJ$106","Maskiner","$AJ$106"]
[null,"Maskiner","$AK$106","Maskiner","$AK$106"]
[null,"Maskiner","$AP$106","Maskiner","$AP$106"]
[null,"Maskiner","$L$107","Maskiner","$L$107"]
[null,"Maskiner","$M$107","Maskiner","$M$107"]
[null,"Maskiner","$N$107","Maskiner","$N$107"]
[null,"Maskiner","$O$107","Maskiner","$O$107"]
[null,"Maskiner","$P$107","Maskiner","$P$107"]
[null,"Maskiner","$W$107","Maskiner","$W$107"]
[null,"Maskiner","$Z$107","Maskiner","$Z$107"]
[null,"Maskiner","$AA$107","Maskiner","$AA$107"]
[null,"Maskiner","$AB$107","Maskiner","$AB$107"]
[null,"Maskiner","$AC$107","Maskiner","$AC$107"]
[null,"Maskiner","$AD$107","Maskiner","$AD$107"]
[null,"Maskiner","$AE$107","Maskiner","$AE$107"]
[null,"Maskiner","$AF$107","Maskiner","$AF$107"]
[null,"Maskiner","$AG$107","Maskiner","$AG$107"]
[null,"Maskiner","$AH$107","Maskiner","$AH$107"]
[null,"Maskiner","$AI$107","Maskiner","$AI$107"]
[null,"Maskiner","$AJ$107","Maskiner","$AJ$107"]
[null,"Maskiner","$AK$107","Maskiner","$AK$107"]
[null,"Maskiner","$AP$107","Maskiner","$AP$107"]
[null,"Maskiner","$L$108","Maskiner","$L$108"]
[null,"Maskiner","$M$108","Maskiner","$M$108"]
[null,"Maskiner","$N$108","Maskiner","$N$108"]
[null,"Maskiner","$O$108","Maskiner","$O$108"]
[null,"Maskiner","$P$108","Maskiner","$P$108"]
[null,"Maskiner","$W$108","Maskiner","$W$108"]
[null,"Maskiner","$Z$108","Maskiner","$Z$108"]
[null,"Maskiner","$AA$108","Maskiner","$AA$108"]
[null,"Maskiner","$AB$108","Maskiner","$AB$108"]
[null,"Maskiner","$AC$108","Maskiner","$AC$108"]
[null,"Maskiner","$AD$108","Maskiner","$AD$108"]
[null,"Maskiner","$AE$108","Maskiner","$AE$108"]
[null,"Maskiner","$AF$108","Maskiner","$AF$108"]
[null,"Maskiner","$AG$108","Maskiner","$AG$108"]
[null,"Maskiner","$AH$108","Maskiner","$AH$108"]
[null,"Maskiner","$AI$108","Maskiner","$AI$108"]
[null,"Maskiner","$AJ$108","Maskiner","$AJ$108"]
[null,"Maskiner","$AK$108","Maskiner","$AK$108"]
[null,"Maskiner","$AP$108","Maskiner","$AP$108"]
[null,"Maskiner","$L$109","Maskiner","$L$109"]
[null,"Maskiner","$M$109","Maskiner","$M$109"]
[null,"Maskiner","$N$109","Maskiner","$N$109"]
[null,"Maskiner","$O$109","Maskiner","$O$109"]
[null,"Maskiner","$P$109","Maskiner","$P$109"]
[null,"Maskiner","$W$109","Maskiner","$W$109"]
[null,"Maskiner","$Z$109","Maskiner","$Z$109"]
[null,"Maskiner","$AA$109","Maskiner","$AA$109"]
[null,"Maskiner","$AB$109","Maskiner","$AB$109"]
[null,"Maskiner","$AC$109","Maskiner","$AC$109"]
[null,"Maskiner","$AD$109","Maskiner","$AD$109"]
[null,"Maskiner","$AE$109","Maskiner","$AE$109"]
[null,"Maskiner","$AF$109","Maskiner","$AF$109"]
[null,"Maskiner","$AG$109","Maskiner","$AG$109"]
[null,"Maskiner","$AH$109","Maskiner","$AH$109"]
[null,"Maskiner","$AI$109","Maskiner","$AI$109"]
[null,"Maskiner","$AJ$109","Maskiner","$AJ$109"]
[null,"Maskiner","$AK$109","Maskiner","$AK$109"]
[null,"Maskiner","$AP$109","Maskiner","$AP$109"]
[null,"Maskiner","$L$110","Maskiner","$L$110"]
[null,"Maskiner","$M$110","Maskiner","$M$110"]
[null,"Maskiner","$N$110","Maskiner","$N$110"]
[null,"Maskiner","$O$110","Maskiner","$O$110"]
[null,"Maskiner","$P$110","Maskiner","$P$110"]
[null,"Maskiner","$W$110","Maskiner","$W$110"]
[null,"Maskiner","$Z$110","Maskiner","$Z$110"]
[null,"Maskiner","$AA$110","Maskiner","$AA$110"]
[null,"Maskiner","$AB$110","Maskiner","$AB$110"]
[null,"Maskiner","$AC$110","Maskiner","$AC$110"]
[null,"Maskiner","$AD$110","Maskiner","$AD$110"]
[null,"Maskiner","$AE$110","Maskiner","$AE$110"]
[null,"Maskiner","$AF$110","Maskiner","$AF$110"]
[null,"Maskiner","$AG$110","Maskiner","$AG$110"]
[null,"Maskiner","$AH$110","Maskiner","$AH$110"]
[null,"Maskiner","$AI$110","Maskiner","$AI$110"]
[null,"Maskiner","$AJ$110","Maskiner","$AJ$110"]
[null,"Maskiner","$AK$110","Maskiner","$AK$110"]
[null,"Maskiner","$AP$110","Maskiner","$AP$110"]
[null,"Maskiner","$L$111","Maskiner","$L$111"]
[null,"Maskiner","$M$111","Maskiner","$M$111"]
[null,"Maskiner","$N$111","Maskiner","$N$111"]
[null,"Maskiner","$O$111","Maskiner","$O$111"]
[null,"Maskiner","$P$111","Maskiner","$P$111"]
[null,"Maskiner","$W$111","Maskiner","$W$111"]
[null,"Maskiner","$Z$111","Maskiner","$Z$111"]
[null,"Maskiner","$AA$111","Maskiner","$AA$111"]
[null,"Maskiner","$AB$111","Maskiner","$AB$111"]
[null,"Maskiner","$AC$111","Maskiner","$AC$111"]
[null,"Maskiner","$AD$111","Maskiner","$AD$111"]
[null,"Maskiner","$AE$111","Maskiner","$AE$111"]
[null,"Maskiner","$AF$111","Maskiner","$AF$111"]
[null,"Maskiner","$AG$111","Maskiner","$AG$111"]
[null,"Maskiner","$AH$111","Maskiner","$AH$111"]
[null,"Maskiner","$AI$111","Maskiner","$AI$111"]
[null,"Maskiner","$AJ$111","Maskiner","$AJ$111"]
[null,"Maskiner","$AK$111","Maskiner","$AK$111"]
[null,"Maskiner","$AP$111","Maskiner","$AP$111"]
[null,"Maskiner","$L$112","Maskiner","$L$112"]
[null,"Maskiner","$M$112","Maskiner","$M$112"]
[null,"Maskiner","$N$112","Maskiner","$N$112"]
[null,"Maskiner","$O$112","Maskiner","$O$112"]
[null,"Maskiner","$P$112","Maskiner","$P$112"]
[null,"Maskiner","$W$112","Maskiner","$W$112"]
[null,"Maskiner","$Z$112","Maskiner","$Z$112"]
[null,"Maskiner","$AA$112","Maskiner","$AA$112"]
[null,"Maskiner","$AB$112","Maskiner","$AB$112"]
[null,"Maskiner","$AC$112","Maskiner","$AC$112"]
[null,"Maskiner","$AD$112","Maskiner","$AD$112"]
[null,"Maskiner","$AE$112","Maskiner","$AE$112"]
[null,"Maskiner","$AF$112","Maskiner","$AF$112"]
[null,"Maskiner","$AG$112","Maskiner","$AG$112"]
[null,"Maskiner","$AH$112","Maskiner","$AH$112"]
[null,"Maskiner","$AI$112","Maskiner","$AI$112"]
[null,"Maskiner","$AJ$112","Maskiner","$AJ$112"]
[null,"Maskiner","$AK$112","Maskiner","$AK$112"]
[null,"Maskiner","$AP$112","Maskiner","$AP$112"]
[null,"Maskiner","$L$113","Maskiner","$L$113"]
[null,"Maskiner","$M$113","Maskiner","$M$113"]
[null,"Maskiner","$N$113","Maskiner","$N$113"]
[null,"Maskiner","$O$113","Maskiner","$O$113"]
[null,"Maskiner","$P$113","Maskiner","$P$113"]
[null,"Maskiner","$W$113","Maskiner","$W$113"]
[null,"Maskiner","$Z$113","Maskiner","$Z$113"]
[null,"Maskiner","$AA$113","Maskiner","$AA$113"]
[null,"Maskiner","$AB$113","Maskiner","$AB$113"]
[null,"Maskiner","$AC$113","Maskiner","$AC$113"]
[null,"Maskiner","$AD$113","Maskiner","$AD$113"]
[null,"Maskiner","$AE$113","Maskiner","$AE$113"]
[null,"Maskiner","$AF$113","Maskiner","$AF$113"]
[null,"Maskiner","$AG$113","Maskiner","$AG$113"]
[null,"Maskiner","$AH$113","Maskiner","$AH$113"]
[null,"Maskiner","$AI$113","Maskiner","$AI$113"]
[null,"Maskiner","$AJ$113","Maskiner","$AJ$113"]
[null,"Maskiner","$AK$113","Maskiner","$AK$113"]
[null,"Maskiner","$AP$113","Maskiner","$AP$113"]
[null,"Maskiner","$L$114","Maskiner","$L$114"]
[null,"Maskiner","$M$114","Maskiner","$M$114"]
[null,"Maskiner","$N$114","Maskiner","$N$114"]
[null,"Maskiner","$O$114","Maskiner","$O$114"]
[null,"Maskiner","$P$114","Maskiner","$P$114"]
[null,"Maskiner","$W$114","Maskiner","$W$114"]
[null,"Maskiner","$Z$114","Maskiner","$Z$114"]
[null,"Maskiner","$AA$114","Maskiner","$AA$114"]
[null,"Maskiner","$AB$114","Maskiner","$AB$114"]
[null,"Maskiner","$AC$114","Maskiner","$AC$114"]
[null,"Maskiner","$AD$114","Maskiner","$AD$114"]
[null,"Maskiner","$AE$114","Maskiner","$AE$114"]
[null,"Maskiner","$AF$114","Maskiner","$AF$114"]
[null,"Maskiner","$AG$114","Maskiner","$AG$114"]
[null,"Maskiner","$AH$114","Maskiner","$AH$114"]
[null,"Maskiner","$AI$114","Maskiner","$AI$114"]
[null,"Maskiner","$AJ$114","Maskiner","$AJ$114"]
[null,"Maskiner","$AK$114","Maskiner","$AK$114"]
[null,"Maskiner","$AP$114","Maskiner","$AP$114"]
[null,"Maskiner","$L$115","Maskiner","$L$115"]
[null,"Maskiner","$M$115","Maskiner","$M$115"]
[null,"Maskiner","$N$115","Maskiner","$N$115"]
[null,"Maskiner","$O$115","Maskiner","$O$115"]
[null,"Maskiner","$P$115","Maskiner","$P$115"]
[null,"Maskiner","$W$115","Maskiner","$W$115"]
[null,"Maskiner","$Z$115","Maskiner","$Z$115"]
[null,"Maskiner","$AA$115","Maskiner","$AA$115"]
[null,"Maskiner","$AB$115","Maskiner","$AB$115"]
[null,"Maskiner","$AC$115","Maskiner","$AC$115"]
[null,"Maskiner","$AD$115","Maskiner","$AD$115"]
[null,"Maskiner","$AE$115","Maskiner","$AE$115"]
[null,"Maskiner","$AF$115","Maskiner","$AF$115"]
[null,"Maskiner","$AG$115","Maskiner","$AG$115"]
[null,"Maskiner","$AH$115","Maskiner","$AH$115"]
[null,"Maskiner","$AI$115","Maskiner","$AI$115"]
[null,"Maskiner","$AJ$115","Maskiner","$AJ$115"]
[null,"Maskiner","$AK$115","Maskiner","$AK$115"]
[null,"Maskiner","$AP$115","Maskiner","$AP$115"]
[null,"Maskiner","$L$116","Maskiner","$L$116"]
[null,"Maskiner","$M$116","Maskiner","$M$116"]
[null,"Maskiner","$N$116","Maskiner","$N$116"]
[null,"Maskiner","$O$116","Maskiner","$O$116"]
[null,"Maskiner","$P$116","Maskiner","$P$116"]
[null,"Maskiner","$W$116","Maskiner","$W$116"]
[null,"Maskiner","$Z$116","Maskiner","$Z$116"]
[null,"Maskiner","$AA$116","Maskiner","$AA$116"]
[null,"Maskiner","$AB$116","Maskiner","$AB$116"]
[null,"Maskiner","$AC$116","Maskiner","$AC$116"]
[null,"Maskiner","$AD$116","Maskiner","$AD$116"]
[null,"Maskiner","$AE$116","Maskiner","$AE$116"]
[null,"Maskiner","$AF$116","Maskiner","$AF$116"]
[null,"Maskiner","$AG$116","Maskiner","$AG$116"]
[null,"Maskiner","$AH$116","Maskiner","$AH$116"]
[null,"Maskiner","$AI$116","Maskiner","$AI$116"]
[null,"Maskiner","$AJ$116","Maskiner","$AJ$116"]
[null,"Maskiner","$AK$116","Maskiner","$AK$116"]
[null,"Maskiner","$AP$116","Maskiner","$AP$116"]
[null,"Maskiner","$L$117","Maskiner","$L$117"]
[null,"Maskiner","$M$117","Maskiner","$M$117"]
[null,"Maskiner","$N$117","Maskiner","$N$117"]
[null,"Maskiner","$O$117","Maskiner","$O$117"]
[null,"Maskiner","$P$117","Maskiner","$P$117"]
[null,"Maskiner","$W$117","Maskiner","$W$117"]
[null,"Maskiner","$Z$117","Maskiner","$Z$117"]
[null,"Maskiner","$AA$117","Maskiner","$AA$117"]
[null,"Maskiner","$AB$117","Maskiner","$AB$117"]
[null,"Maskiner","$AC$117","Maskiner","$AC$117"]
[null,"Maskiner","$AD$117","Maskiner","$AD$117"]
[null,"Maskiner","$AE$117","Maskiner","$AE$117"]
[null,"Maskiner","$AF$117","Maskiner","$AF$117"]
[null,"Maskiner","$AG$117","Maskiner","$AG$117"]
[null,"Maskiner","$AH$117","Maskiner","$AH$117"]
[null,"Maskiner","$AI$117","Maskiner","$AI$117"]
[null,"Maskiner","$AJ$117","Maskiner","$AJ$117"]
[null,"Maskiner","$AK$117","Maskiner","$AK$117"]
[null,"Maskiner","$AP$117","Maskiner","$AP$117"]
[null,"Maskiner","$L$118","Maskiner","$L$118"]
[null,"Maskiner","$M$118","Maskiner","$M$118"]
[null,"Maskiner","$N$118","Maskiner","$N$118"]
[null,"Maskiner","$O$118","Maskiner","$O$118"]
[null,"Maskiner","$P$118","Maskiner","$P$118"]
[null,"Maskiner","$W$118","Maskiner","$W$118"]
[null,"Maskiner","$Z$118","Maskiner","$Z$118"]
[null,"Maskiner","$AA$118","Maskiner","$AA$118"]
[null,"Maskiner","$AB$118","Maskiner","$AB$118"]
[null,"Maskiner","$AC$118","Maskiner","$AC$118"]
[null,"Maskiner","$AD$118","Maskiner","$AD$118"]
[null,"Maskiner","$AE$118","Maskiner","$AE$118"]
[null,"Maskiner","$AF$118","Maskiner","$AF$118"]
[null,"Maskiner","$AG$118","Maskiner","$AG$118"]
[null,"Maskiner","$AH$118","Maskiner","$AH$118"]
[null,"Maskiner","$AI$118","Maskiner","$AI$118"]
[null,"Maskiner","$AJ$118","Maskiner","$AJ$118"]
[null,"Maskiner","$AK$118","Maskiner","$AK$118"]
[null,"Maskiner","$AP$118","Maskiner","$AP$118"]
[null,"Maskiner","$L$119","Maskiner","$L$119"]
[null,"Maskiner","$M$119","Maskiner","$M$119"]
[null,"Maskiner","$N$119","Maskiner","$N$119"]
[null,"Maskiner","$O$119","Maskiner","$O$119"]
[null,"Maskiner","$P$119","Maskiner","$P$119"]
[null,"Maskiner","$W$119","Maskiner","$W$119"]
[null,"Maskiner","$Z$119","Maskiner","$Z$119"]
[null,"Maskiner","$AA$119","Maskiner","$AA$119"]
[null,"Maskiner","$AB$119","Maskiner","$AB$119"]
[null,"Maskiner","$AC$119","Maskiner","$AC$119"]
[null,"Maskiner","$AD$119","Maskiner","$AD$119"]
[null,"Maskiner","$AE$119","Maskiner","$AE$119"]
[null,"Maskiner","$AF$119","Maskiner","$AF$119"]
[null,"Maskiner","$AG$119","Maskiner","$AG$119"]
[null,"Maskiner","$AH$119","Maskiner","$AH$119"]
[null,"Maskiner","$AI$119","Maskiner","$AI$119"]
[null,"Maskiner","$AJ$119","Maskiner","$AJ$119"]
[null,"Maskiner","$AK$119","Maskiner","$AK$119"]
[null,"Maskiner","$AP$119","Maskiner","$AP$119"]
[null,"Maskiner","$L$120","Maskiner","$L$120"]
[null,"Maskiner","$M$120","Maskiner","$M$120"]
[null,"Maskiner","$N$120","Maskiner","$N$120"]
[null,"Maskiner","$O$120","Maskiner","$O$120"]
[null,"Maskiner","$P$120","Maskiner","$P$120"]
[null,"Maskiner","$W$120","Maskiner","$W$120"]
[null,"Maskiner","$Z$120","Maskiner","$Z$120"]
[null,"Maskiner","$AA$120","Maskiner","$AA$120"]
[null,"Maskiner","$AB$120","Maskiner","$AB$120"]
[null,"Maskiner","$AC$120","Maskiner","$AC$120"]
[null,"Maskiner","$AD$120","Maskiner","$AD$120"]
[null,"Maskiner","$AE$120","Maskiner","$AE$120"]
[null,"Maskiner","$AF$120","Maskiner","$AF$120"]
[null,"Maskiner","$AG$120","Maskiner","$AG$120"]
[null,"Maskiner","$AH$120","Maskiner","$AH$120"]
[null,"Maskiner","$AI$120","Maskiner","$AI$120"]
[null,"Maskiner","$AJ$120","Maskiner","$AJ$120"]
[null,"Maskiner","$AK$120","Maskiner","$AK$120"]
[null,"Maskiner","$AP$120","Maskiner","$AP$120"]
[null,"Maskiner","$L$121","Maskiner","$L$121"]
[null,"Maskiner","$M$121","Maskiner","$M$121"]
[null,"Maskiner","$N$121","Maskiner","$N$121"]
[null,"Maskiner","$O$121","Maskiner","$O$121"]
[null,"Maskiner","$P$121","Maskiner","$P$121"]
[null,"Maskiner","$W$121","Maskiner","$W$121"]
[null,"Maskiner","$Z$121","Maskiner","$Z$121"]
[null,"Maskiner","$AA$121","Maskiner","$AA$121"]
[null,"Maskiner","$AB$121","Maskiner","$AB$121"]
[null,"Maskiner","$AC$121","Maskiner","$AC$121"]
[null,"Maskiner","$AD$121","Maskiner","$AD$121"]
[null,"Maskiner","$AE$121","Maskiner","$AE$121"]
[null,"Maskiner","$AF$121","Maskiner","$AF$121"]
[null,"Maskiner","$AG$121","Maskiner","$AG$121"]
[null,"Maskiner","$AH$121","Maskiner","$AH$121"]
[null,"Maskiner","$AI$121","Maskiner","$AI$121"]
[null,"Maskiner","$AJ$121","Maskiner","$AJ$121"]
[null,"Maskiner","$AK$121","Maskiner","$AK$121"]
[null,"Maskiner","$AP$121","Maskiner","$AP$121"]
[null,"Maskiner","$L$122","Maskiner","$L$122"]
[null,"Maskiner","$M$122","Maskiner","$M$122"]
[null,"Maskiner","$N$122","Maskiner","$N$122"]
[null,"Maskiner","$O$122","Maskiner","$O$122"]
[null,"Maskiner","$P$122","Maskiner","$P$122"]
[null,"Maskiner","$W$122","Maskiner","$W$122"]
[null,"Maskiner","$Z$122","Maskiner","$Z$122"]
[null,"Maskiner","$AA$122","Maskiner","$AA$122"]
[null,"Maskiner","$AB$122","Maskiner","$AB$122"]
[null,"Maskiner","$AC$122","Maskiner","$AC$122"]
[null,"Maskiner","$AD$122","Maskiner","$AD$122"]
[null,"Maskiner","$AE$122","Maskiner","$AE$122"]
[null,"Maskiner","$AF$122","Maskiner","$AF$122"]
[null,"Maskiner","$AG$122","Maskiner","$AG$122"]
[null,"Maskiner","$AH$122","Maskiner","$AH$122"]
[null,"Maskiner","$AI$122","Maskiner","$AI$122"]
[null,"Maskiner","$AJ$122","Maskiner","$AJ$122"]
[null,"Maskiner","$AK$122","Maskiner","$AK$122"]
[null,"Maskiner","$AP$122","Maskiner","$AP$122"]
[null,"Maskiner","$L$123","Maskiner","$L$123"]
[null,"Maskiner","$M$123","Maskiner","$M$123"]
[null,"Maskiner","$N$123","Maskiner","$N$123"]
[null,"Maskiner","$O$123","Maskiner","$O$123"]
[null,"Maskiner","$P$123","Maskiner","$P$123"]
[null,"Maskiner","$W$123","Maskiner","$W$123"]
[null,"Maskiner","$Z$123","Maskiner","$Z$123"]
[null,"Maskiner","$AA$123","Maskiner","$AA$123"]
[null,"Maskiner","$AB$123","Maskiner","$AB$123"]
[null,"Maskiner","$AC$123","Maskiner","$AC$123"]
[null,"Maskiner","$AD$123","Maskiner","$AD$123"]
[null,"Maskiner","$AE$123","Maskiner","$AE$123"]
[null,"Maskiner","$AF$123","Maskiner","$AF$123"]
[null,"Maskiner","$AG$123","Maskiner","$AG$123"]
[null,"Maskiner","$AH$123","Maskiner","$AH$123"]
[null,"Maskiner","$AI$123","Maskiner","$AI$123"]
[null,"Maskiner","$AJ$123","Maskiner","$AJ$123"]
[null,"Maskiner","$AK$123","Maskiner","$AK$123"]
[null,"Maskiner","$AP$123","Maskiner","$AP$123"]
[null,"Maskiner","$L$124","Maskiner","$L$124"]
[null,"Maskiner","$M$124","Maskiner","$M$124"]
[null,"Maskiner","$N$124","Maskiner","$N$124"]
[null,"Maskiner","$O$124","Maskiner","$O$124"]
[null,"Maskiner","$P$124","Maskiner","$P$124"]
[null,"Maskiner","$W$124","Maskiner","$W$124"]
[null,"Maskiner","$Z$124","Maskiner","$Z$124"]
[null,"Maskiner","$AA$124","Maskiner","$AA$124"]
[null,"Maskiner","$AB$124","Maskiner","$AB$124"]
[null,"Maskiner","$AC$124","Maskiner","$AC$124"]
[null,"Maskiner","$AD$124","Maskiner","$AD$124"]
[null,"Maskiner","$AE$124","Maskiner","$AE$124"]
[null,"Maskiner","$AF$124","Maskiner","$AF$124"]
[null,"Maskiner","$AG$124","Maskiner","$AG$124"]
[null,"Maskiner","$AH$124","Maskiner","$AH$124"]
[null,"Maskiner","$AI$124","Maskiner","$AI$124"]
[null,"Maskiner","$AJ$124","Maskiner","$AJ$124"]
[null,"Maskiner","$AK$124","Maskiner","$AK$124"]
[null,"Maskiner","$AP$124","Maskiner","$AP$124"]
[null,"Maskiner","$L$125","Maskiner","$L$125"]
[null,"Maskiner","$M$125","Maskiner","$M$125"]
[null,"Maskiner","$N$125","Maskiner","$N$125"]
[null,"Maskiner","$O$125","Maskiner","$O$125"]
[null,"Maskiner","$P$125","Maskiner","$P$125"]
[null,"Maskiner","$W$125","Maskiner","$W$125"]
[null,"Maskiner","$Z$125","Maskiner","$Z$125"]
[null,"Maskiner","$AA$125","Maskiner","$AA$125"]
[null,"Maskiner","$AB$125","Maskiner","$AB$125"]
[null,"Maskiner","$AC$125","Maskiner","$AC$125"]
[null,"Maskiner","$AD$125","Maskiner","$AD$125"]
[null,"Maskiner","$AE$125","Maskiner","$AE$125"]
[null,"Maskiner","$AF$125","Maskiner","$AF$125"]
[null,"Maskiner","$AG$125","Maskiner","$AG$125"]
[null,"Maskiner","$AH$125","Maskiner","$AH$125"]
[null,"Maskiner","$AI$125","Maskiner","$AI$125"]
[null,"Maskiner","$AJ$125","Maskiner","$AJ$125"]
[null,"Maskiner","$AK$125","Maskiner","$AK$125"]
[null,"Maskiner","$AP$125","Maskiner","$AP$125"]
[null,"Maskiner","$L$126","Maskiner","$L$126"]
[null,"Maskiner","$M$126","Maskiner","$M$126"]
[null,"Maskiner","$N$126","Maskiner","$N$126"]
[null,"Maskiner","$O$126","Maskiner","$O$126"]
[null,"Maskiner","$P$126","Maskiner","$P$126"]
[null,"Maskiner","$W$126","Maskiner","$W$126"]
[null,"Maskiner","$Z$126","Maskiner","$Z$126"]
[null,"Maskiner","$AA$126","Maskiner","$AA$126"]
[null,"Maskiner","$AB$126","Maskiner","$AB$126"]
[null,"Maskiner","$AC$126","Maskiner","$AC$126"]
[null,"Maskiner","$AD$126","Maskiner","$AD$126"]
[null,"Maskiner","$AE$126","Maskiner","$AE$126"]
[null,"Maskiner","$AF$126","Maskiner","$AF$126"]
[null,"Maskiner","$AG$126","Maskiner","$AG$126"]
[null,"Maskiner","$AH$126","Maskiner","$AH$126"]
[null,"Maskiner","$AI$126","Maskiner","$AI$126"]
[null,"Maskiner","$AJ$126","Maskiner","$AJ$126"]
[null,"Maskiner","$AK$126","Maskiner","$AK$126"]
[null,"Maskiner","$AP$126","Maskiner","$AP$126"]
[null,"Maskiner","$L$127","Maskiner","$L$127"]
[null,"Maskiner","$M$127","Maskiner","$M$127"]
[null,"Maskiner","$N$127","Maskiner","$N$127"]
[null,"Maskiner","$O$127","Maskiner","$O$127"]
[null,"Maskiner","$P$127","Maskiner","$P$127"]
[null,"Maskiner","$W$127","Maskiner","$W$127"]
[null,"Maskiner","$Z$127","Maskiner","$Z$127"]
[null,"Maskiner","$AA$127","Maskiner","$AA$127"]
[null,"Maskiner","$AB$127","Maskiner","$AB$127"]
[null,"Maskiner","$AC$127","Maskiner","$AC$127"]
[null,"Maskiner","$AD$127","Maskiner","$AD$127"]
[null,"Maskiner","$AE$127","Maskiner","$AE$127"]
[null,"Maskiner","$AF$127","Maskiner","$AF$127"]
[null,"Maskiner","$AG$127","Maskiner","$AG$127"]
[null,"Maskiner","$AH$127","Maskiner","$AH$127"]
[null,"Maskiner","$AI$127","Maskiner","$AI$127"]
[null,"Maskiner","$AJ$127","Maskiner","$AJ$127"]
[null,"Maskiner","$AK$127","Maskiner","$AK$127"]
[null,"Maskiner","$AP$127","Maskiner","$AP$127"]
[null,"Maskiner","$L$128","Maskiner","$L$128"]
[null,"Maskiner","$M$128","Maskiner","$M$128"]
[null,"Maskiner","$N$128","Maskiner","$N$128"]
[null,"Maskiner","$O$128","Maskiner","$O$128"]
[null,"Maskiner","$P$128","Maskiner","$P$128"]
[null,"Maskiner","$W$128","Maskiner","$W$128"]
[null,"Maskiner","$Z$128","Maskiner","$Z$128"]
[null,"Maskiner","$AA$128","Maskiner","$AA$128"]
[null,"Maskiner","$AB$128","Maskiner","$AB$128"]
[null,"Maskiner","$AC$128","Maskiner","$AC$128"]
[null,"Maskiner","$AD$128","Maskiner","$AD$128"]
[null,"Maskiner","$AE$128","Maskiner","$AE$128"]
[null,"Maskiner","$AF$128","Maskiner","$AF$128"]
[null,"Maskiner","$AG$128","Maskiner","$AG$128"]
[null,"Maskiner","$AH$128","Maskiner","$AH$128"]
[null,"Maskiner","$AI$128","Maskiner","$AI$128"]
[null,"Maskiner","$AJ$128","Maskiner","$AJ$128"]
[null,"Maskiner","$AK$128","Maskiner","$AK$128"]
[null,"Maskiner","$AP$128","Maskiner","$AP$128"]
[null,"Maskiner","$L$129","Maskiner","$L$129"]
[null,"Maskiner","$M$129","Maskiner","$M$129"]
[null,"Maskiner","$N$129","Maskiner","$N$129"]
[null,"Maskiner","$O$129","Maskiner","$O$129"]
[null,"Maskiner","$P$129","Maskiner","$P$129"]
[null,"Maskiner","$W$129","Maskiner","$W$129"]
[null,"Maskiner","$Z$129","Maskiner","$Z$129"]
[null,"Maskiner","$AA$129","Maskiner","$AA$129"]
[null,"Maskiner","$AB$129","Maskiner","$AB$129"]
[null,"Maskiner","$AC$129","Maskiner","$AC$129"]
[null,"Maskiner","$AD$129","Maskiner","$AD$129"]
[null,"Maskiner","$AE$129","Maskiner","$AE$129"]
[null,"Maskiner","$AF$129","Maskiner","$AF$129"]
[null,"Maskiner","$AG$129","Maskiner","$AG$129"]
[null,"Maskiner","$AH$129","Maskiner","$AH$129"]
[null,"Maskiner","$AI$129","Maskiner","$AI$129"]
[null,"Maskiner","$AJ$129","Maskiner","$AJ$129"]
[null,"Maskiner","$AK$129","Maskiner","$AK$129"]
[null,"Maskiner","$AP$129","Maskiner","$AP$129"]
[null,"Maskiner","$L$130","Maskiner","$L$130"]
[null,"Maskiner","$M$130","Maskiner","$M$130"]
[null,"Maskiner","$N$130","Maskiner","$N$130"]
[null,"Maskiner","$O$130","Maskiner","$O$130"]
[null,"Maskiner","$P$130","Maskiner","$P$130"]
[null,"Maskiner","$W$130","Maskiner","$W$130"]
[null,"Maskiner","$Z$130","Maskiner","$Z$130"]
[null,"Maskiner","$AA$130","Maskiner","$AA$130"]
[null,"Maskiner","$AB$130","Maskiner","$AB$130"]
[null,"Maskiner","$AC$130","Maskiner","$AC$130"]
[null,"Maskiner","$AD$130","Maskiner","$AD$130"]
[null,"Maskiner","$AE$130","Maskiner","$AE$130"]
[null,"Maskiner","$AF$130","Maskiner","$AF$130"]
[null,"Maskiner","$AG$130","Maskiner","$AG$130"]
[null,"Maskiner","$AH$130","Maskiner","$AH$130"]
[null,"Maskiner","$AI$130","Maskiner","$AI$130"]
[null,"Maskiner","$AJ$130","Maskiner","$AJ$130"]
[null,"Maskiner","$AK$130","Maskiner","$AK$130"]
[null,"Maskiner","$AP$130","Maskiner","$AP$130"]
[null,"Maskiner","$L$131","Maskiner","$L$131"]
[null,"Maskiner","$M$131","Maskiner","$M$131"]
[null,"Maskiner","$N$131","Maskiner","$N$131"]
[null,"Maskiner","$O$131","Maskiner","$O$131"]
[null,"Maskiner","$P$131","Maskiner","$P$131"]
[null,"Maskiner","$W$131","Maskiner","$W$131"]
[null,"Maskiner","$Z$131","Maskiner","$Z$131"]
[null,"Maskiner","$AA$131","Maskiner","$AA$131"]
[null,"Maskiner","$AB$131","Maskiner","$AB$131"]
[null,"Maskiner","$AC$131","Maskiner","$AC$131"]
[null,"Maskiner","$AD$131","Maskiner","$AD$131"]
[null,"Maskiner","$AE$131","Maskiner","$AE$131"]
[null,"Maskiner","$AF$131","Maskiner","$AF$131"]
[null,"Maskiner","$AG$131","Maskiner","$AG$131"]
[null,"Maskiner","$AH$131","Maskiner","$AH$131"]
[null,"Maskiner","$AI$131","Maskiner","$AI$131"]
[null,"Maskiner","$AJ$131","Maskiner","$AJ$131"]
[null,"Maskiner","$AK$131","Maskiner","$AK$131"]
[null,"Maskiner","$AP$131","Maskiner","$AP$131"]
[null,"Maskiner","$L$132","Maskiner","$L$132"]
[null,"Maskiner","$M$132","Maskiner","$M$132"]
[null,"Maskiner","$N$132","Maskiner","$N$132"]
[null,"Maskiner","$O$132","Maskiner","$O$132"]
[null,"Maskiner","$P$132","Maskiner","$P$132"]
[null,"Maskiner","$W$132","Maskiner","$W$132"]
[null,"Maskiner","$Z$132","Maskiner","$Z$132"]
[null,"Maskiner","$AA$132","Maskiner","$AA$132"]
[null,"Maskiner","$AB$132","Maskiner","$AB$132"]
[null,"Maskiner","$AC$132","Maskiner","$AC$132"]
[null,"Maskiner","$AD$132","Maskiner","$AD$132"]
[null,"Maskiner","$AE$132","Maskiner","$AE$132"]
[null,"Maskiner","$AF$132","Maskiner","$AF$132"]
[null,"Maskiner","$AG$132","Maskiner","$AG$132"]
[null,"Maskiner","$AH$132","Maskiner","$AH$132"]
[null,"Maskiner","$AI$132","Maskiner","$AI$132"]
[null,"Maskiner","$AJ$132","Maskiner","$AJ$132"]
[null,"Maskiner","$AK$132","Maskiner","$AK$132"]
[null,"Maskiner","$AP$132","Maskiner","$AP$132"]
[null,"Maskiner","$L$133","Maskiner","$L$133"]
[null,"Maskiner","$M$133","Maskiner","$M$133"]
[null,"Maskiner","$N$133","Maskiner","$N$133"]
[null,"Maskiner","$O$133","Maskiner","$O$133"]
[null,"Maskiner","$P$133","Maskiner","$P$133"]
[null,"Maskiner","$W$133","Maskiner","$W$133"]
[null,"Maskiner","$Z$133","Maskiner","$Z$133"]
[null,"Maskiner","$AA$133","Maskiner","$AA$133"]
[null,"Maskiner","$AB$133","Maskiner","$AB$133"]
[null,"Maskiner","$AC$133","Maskiner","$AC$133"]
[null,"Maskiner","$AD$133","Maskiner","$AD$133"]
[null,"Maskiner","$AE$133","Maskiner","$AE$133"]
[null,"Maskiner","$AF$133","Maskiner","$AF$133"]
[null,"Maskiner","$AG$133","Maskiner","$AG$133"]
[null,"Maskiner","$AH$133","Maskiner","$AH$133"]
[null,"Maskiner","$AI$133","Maskiner","$AI$133"]
[null,"Maskiner","$AJ$133","Maskiner","$AJ$133"]
[null,"Maskiner","$AK$133","Maskiner","$AK$133"]
[null,"Maskiner","$AP$133","Maskiner","$AP$133"]
[null,"Maskiner","$L$134","Maskiner","$L$134"]
[null,"Maskiner","$M$134","Maskiner","$M$134"]
[null,"Maskiner","$N$134","Maskiner","$N$134"]
[null,"Maskiner","$O$134","Maskiner","$O$134"]
[null,"Maskiner","$P$134","Maskiner","$P$134"]
[null,"Maskiner","$W$134","Maskiner","$W$134"]
[null,"Maskiner","$Z$134","Maskiner","$Z$134"]
[null,"Maskiner","$AA$134","Maskiner","$AA$134"]
[null,"Maskiner","$AB$134","Maskiner","$AB$134"]
[null,"Maskiner","$AC$134","Maskiner","$AC$134"]
[null,"Maskiner","$AD$134","Maskiner","$AD$134"]
[null,"Maskiner","$AE$134","Maskiner","$AE$134"]
[null,"Maskiner","$AF$134","Maskiner","$AF$134"]
[null,"Maskiner","$AG$134","Maskiner","$AG$134"]
[null,"Maskiner","$AH$134","Maskiner","$AH$134"]
[null,"Maskiner","$AI$134","Maskiner","$AI$134"]
[null,"Maskiner","$AJ$134","Maskiner","$AJ$134"]
[null,"Maskiner","$AK$134","Maskiner","$AK$134"]
[null,"Maskiner","$AP$134","Maskiner","$AP$134"]
[null,"Maskiner","$L$135","Maskiner","$L$135"]
[null,"Maskiner","$M$135","Maskiner","$M$135"]
[null,"Maskiner","$N$135","Maskiner","$N$135"]
[null,"Maskiner","$O$135","Maskiner","$O$135"]
[null,"Maskiner","$P$135","Maskiner","$P$135"]
[null,"Maskiner","$W$135","Maskiner","$W$135"]
[null,"Maskiner","$Z$135","Maskiner","$Z$135"]
[null,"Maskiner","$AA$135","Maskiner","$AA$135"]
[null,"Maskiner","$AB$135","Maskiner","$AB$135"]
[null,"Maskiner","$AC$135","Maskiner","$AC$135"]
[null,"Maskiner","$AD$135","Maskiner","$AD$135"]
[null,"Maskiner","$AE$135","Maskiner","$AE$135"]
[null,"Maskiner","$AF$135","Maskiner","$AF$135"]
[null,"Maskiner","$AG$135","Maskiner","$AG$135"]
[null,"Maskiner","$AH$135","Maskiner","$AH$135"]
[null,"Maskiner","$AI$135","Maskiner","$AI$135"]
[null,"Maskiner","$AJ$135","Maskiner","$AJ$135"]
[null,"Maskiner","$AK$135","Maskiner","$AK$135"]
[null,"Maskiner","$AP$135","Maskiner","$AP$135"]

{"sheet":"Ark1","index":12,"n_rows":5,"n_cols":1,"rows_kept":5,"cut":false,"hidden":false,"merged":[]}
[]
[]
[]
[]
["Skjul tomme rækker"]